{"text_format":"1","workbook":"xlsx","n_sheets":36,"sheets":["Form","Menu","HF","HS","HL","HK","HKS","HKXS","HFwa","HFw","HFw_wa","HFwa_w","HFna","HFw_na","HFna_w","HSw","HSwa","HSna","HLw","HLwa","HLna","HKw","HKwa","HKna","HKSw","HKSwa","HKSna","HKXSw","HKXSwa","HKXSna","Ord","Acs","Cab","List","Cen","Price"],"not_rendered":{"charts":0,"images":71,"macros":1,"external_links":0,"defined_names":56,"comments":0,"pivot_tables":0},"unopened":[],"bounds":{"document_bytes":16777216,"sheet_cells":100000,"rows_first":2000,"rows_last":500,"rows_between":2000,"halvings":0,"cell_chars":16384,"cell_head_chars":4096},"cells_cut":0,"cells_raw":0,"read":"whole","date_system":"1900"}

{"sheet":"Form","index":0,"n_rows":427,"n_cols":10,"rows_kept":427,"cut":false,"hidden":false,"merged":[[114,2,114,3],[115,2,115,4],[124,2,124,3],[124,7,124,9],[25,1,27,2],[110,2,110,3],[25,4,27,5],[26,8,26,9],[109,2,109,3],[99,2,99,4],[101,2,101,4],[102,2,102,4],[103,2,103,4],[21,1,22,9],[24,1,24,2],[24,4,24,5],[24,7,24,9],[394,0,439,0],[426,6,426,7],[96,0,131,0],[106,2,106,4],[107,2,107,4],[296,4,296,5],[105,2,105,4],[223,7,223,9],[111,2,111,3],[113,2,113,3],[294,0,305,0],[296,1,296,2],[296,7,296,8],[196,0,231,0],[223,4,223,5],[204,3,204,9],[216,3,216,9]]}
[]
[]
[]
[]
[]
[]
[]
[]
[]
[]
[]
[]
[]
[]
[]
[]
[]
[]
[]
[null,{"$f":"List!$C$254","v":"Vítejte v aplikaci AVENTPLAN"},null,null,null,null,null,null,{"$f":"List!$C$204&\": \"","v":"Verze: "},"2.8.2"]
[]
[null,{"$f":"List!$C$364","v":"Před prvním použitím doporučujeme zadat identifikační údaje pro objednávky a nastavit hmotnosti materiálů "}]
[]
[]
[null,{"$f":"\" \"&List!$C$145","v":" Základní údaje"},null,null,{"$f":"\" \"&List!$C$370","v":" Tabulka hmotností"},null,null,{"$f":"\" \"&List!$C$381","v":" Přejít k plánování výklopů"}]
[null,{"$f":"List!$C$365","v":"Údaje pro objednávku, zadání slevy od prodejce"},null,null,{"$f":"List!$C$366","v":"Hmotnosti materiálů, skla a alurámečků"}]
[null,null,null,null,null,null,null,null,{"$f":"\" \"&List!$C$137","v":" Nápověda"}]
[]
[]
[]
[]
[]
[]
[]
[]
[]
[]
[]
[]
[]
[]
[]
[]
[]
[]
[]
[]
[]
[]
[]
[]
[]
[]
[]
[]
[]
[]
[]
[]
[]
[]
[]
[]
[]
[]
[]
[]
[]
[]
[]
[]
[]
[]
[]
[]
[]
[]
[]
[]
[]
[]
[]
[]
[]
[]
[]
[]
[]
[]
[]
[]
[]
[]
[]
[]
[]
[]
[null,null,{"$f":"List!$C$234","v":"Formulář pro identifikační údaje"}]
[null,null,{"$f":"List!$C$235","v":"Odběratel"}]
[]
[null,null,{"$f":"List!$C$236","v":"Adresa"}]
[]
[]
[]
[null,null,{"$f":"List!$C$237","v":"Dodací adresa"}]
[]
[]
[]
[null,null,{"$f":"List!$C$238","v":"IČO, DIČ"}]
[]
[]
[]
[null,null,{"$f":"List!$C$239","v":"Telefon, fax, e-mail"}]
[]
[]
[]
[]
[null,null,null,{"$f":"List!$C$208&\" [%]: \"","v":"Sleva od prodejce [%]: "}]
[]
[]
[null,null,{"$f":"List!$C$257","v":"Vyplňte identifikační údaje a výši slevy od prodejce."}]
[null,null,{"$f":"List!$C$259","v":"Identifikační údaje se budou zobrazovat v objednávkách"}]
[null,null,{"$f":"List!$C$258","v":"Po vyplnění se vraťte na úvod a subor uložte nebo zavřete s potvrzením změn."}]
[]
[null,null,{"$f":"List!$C$150","v":"Zpět na úvod"},null,null,null,null,{"$f":"\" \"&List!$C$151","v":" Zpět na plánování"}]
[]
[]
[]
[]
[]
[]
[]
[]
[]
[]
[]
[]
[]
[]
[]
[]
[]
[]
[]
[]
[]
[]
[]
[]
[]
[]
[]
[]
[]
[]
[]
[]
[]
[]
[]
[]
[]
[]
[]
[]
[]
[]
[]
[]
[]
[]
[]
[]
[]
[]
[]
[]
[]
[]
[]
[]
[]
[]
[]
[]
[]
[]
[]
[]
[]
[]
[]
[]
[]
[]
[]
[]
[null,null,null,null,null,null,null,null,null,{"$f":"List!$C$370","v":"Tabulka hmotností"}]
[null,null,null,null,null,null,null,null,null,{"$f":"List!$C$379&\"        \"","v":"Můžete nastavit hodnoty pro všechny výklopy nebo můžete měnit nastavení až při plánování jednotlivých výklopů.        "}]
[null,null,null,null,null,null,null,null,null,{"$f":"List!$C$222&\" [kg/m3]\"","v":"Objemová hmotnost materiálu [kg/m3]"}]
[null,null,null,null,null,null,null,null,{"$f":"List!$C$367","v":"Přednastavená"},{"$f":"List!$C$369","v":"Vlastní"}]
[null,null,null,null,null,null,null,{"$f":"List!$C$84&\" \"","v":"MDF "},{"$f":"Price!$G230","v":760}]
[null,null,null,null,null,null,null,{"$f":"List!$C$85&\" \"","v":"Dřevotříska "},{"$f":"Price!$G231","v":680}]
[null,null,null,null,null,null,null,{"$f":"List!$C$363&\" \"","v":"Sklo "},{"$f":"Price!$G232","v":2500}]
[null,null,null,{"$f":"List!$C$98","v":"Pro přesné hodnoty se obraťte na dodavatele materiálu"}]
[]
[null,null,null,null,null,null,null,null,null,"Hmotnost alurámečků [kg/bm]"]
[null,null,null,null,null,null,null,null,{"$f":"List!$C$367","v":"Přednastavená"},{"$f":"List!$C$369","v":"Vlastní"}]
[null,null,null,null,null,null,{"$f":"List!$C$17&\" \"&List!$C$373&\"  \"","v":"Široké alurámečky S vloženým sklem  "},null,{"$f":"Price!$G238","v":0.62}]
[null,null,null,null,null,null,{"$f":"List!$C$17&\" \"&List!$C$374&\"  \"","v":"Široké alurámečky S naloženým nebo nalepeným sklem  "},null,{"$f":"Price!$G239","v":0.63}]
[null,null,null,null,null,null,null,{"$f":"List!$C$377&\" [kg/set] *  \"","v":"Hmotnost spojovacího materiálu [kg/set] *  "},{"$f":"Price!$G240","v":0.61}]
[]
[]
[null,null,null,null,null,null,{"$f":"List!$C$19&\" \"&List!$C$375&\"  \"","v":"Úzké alurámečky S vloženým sklem  "},null,{"$f":"Price!$G243","v":0.31}]
[null,null,null,null,null,null,{"$f":"List!$C$19&\" \"&List!$C$376&\"  \"","v":"Úzké alurámečky S naloženým nebo nalepeným sklem  "},null,{"$f":"Price!$G244","v":0.32}]
[null,null,null,null,null,null,null,{"$f":"List!$C$377&\" [kg/set] *  \"","v":"Hmotnost spojovacího materiálu [kg/set] *  "},{"$f":"Price!$G245","v":0.46}]
[null,null,null,{"$f":"List!$C$98","v":"Pro přesné hodnoty se obraťte na dodavatele materiálu"}]
[]
[null,null,null,null,null,{"$f":"\"        * \"& List!$C$378&\"  \"","v":"        * Rohové spojky, šrouby, těsnění pro jeden rámeček  "}]
[]
[null,null,null,null,null,null,null,null,null,{"$f":"List!$C$380&\"        \"","v":"Chcete-li změny zachovat i pro příští použití, vraťte se na úvod a soubor uložte.        "}]
[]
[]
[null,null,null,null,{"$f":"List!$C$150","v":"Zpět na úvod"},null,null,{"$f":"\" \"&List!$C$151","v":" Zpět na plánování"}]
[]
[]
[]
[]
[]
[]
[]
[]
[]
[]
[]
[]
[]
[]
[]
[]
[]
[]
[]
[]
[]
[]
[]
[]
[]
[]
[]
[]
[]
[]
[]
[]
[]
[]
[]
[]
[]
[]
[]
[]
[]
[]
[]
[]
[]
[]
[]
[]
[]
[]
[]
[]
[]
[]
[]
[]
[]
[]
[]
[]
[]
[]
[]
[]
[]
[]
[]
[]
[]
[]
[]
[]
[null,{"$f":"List!C209","v":"Ceník"},null,null,"List",null,null,{"$f":"List!$C$150","v":"Zpět na úvod"}]
[]
[]
[]
[]
[]
[]
[]
[]
[]
[]
[]
[]
[]
[]
[]
[]
[]
[]
[]
[]
[]
[]
[]
[]
[]
[]
[]
[]
[]
[]
[]
[]
[]
[]
[]
[]
[]
[]
[]
[]
[]
[]
[]
[]
[]
[]
[]
[]
[]
[]
[]
[]
[]
[]
[]
[]
[]
[]
[]
[]
[]
[]
[]
[]
[]
[]
[]
[]
[]
[]
[]
[]
[]
[]
[]
[]
[]
[]
[]
[]
[]
[]
[]
[]
[]
[]
[]
[]
[]
[]
[]
[]
[]
[]
[]
[]
[]
[]
[]
[null,null,{"$f":"\"      \"&List!C136","v":"      Úvod plánování"}]
[]
[null,null,{"$f":"List!$C$364&\":\"","v":"Před prvním použitím doporučujeme zadat identifikační údaje pro objednávky a nastavit hmotnosti materiálů :"}]
[null,null,{"$f":"\"1. \"&List!$C$256&\" ' \"&List!$C$145&\" ' \"","v":"1. Přejděte na  ' Základní údaje ' "}]
[null,null,{"$f":"\"2. \"&List!$C$257","v":"2. Vyplňte identifikační údaje a výši slevy od prodejce."}]
[null,null,{"$f":"\"3. \"&List!$C$258","v":"3. Po vyplnění se vraťte na úvod a subor uložte nebo zavřete s potvrzením změn."}]
[null,null,{"$f":"\"     \"&List!$C$259","v":"     Identifikační údaje se budou zobrazovat v objednávkách"}]
[]
[]
[]
[]
[]
[]
[]
[null,null,{"$f":"List!$C$270&\":\"","v":"Legenda:"}]
[]
[null,null,{"$f":"\"         \"&List!C271","v":"         Změna zobrazovaných hodnot"}]
[null,null,{"$f":"\"         \"&List!C272","v":"         Výpočet hmotnosti"}]
[]
[null,null,{"$f":"\"         \"&List!C273","v":"         Upozornění"}]
[null,null,{"$f":"\"         \"&List!C274","v":"         Informace a vysvětlivky"}]
[null,null,{"$f":"\"         \"&List!C275","v":"         Tip"}]
[null,null,{"$f":"\"         \"&List!C276","v":"         Nápověda"}]
[null,null,{"$f":"\"         \"&List!C277","v":"         Odkazy na brožury, montážní návody a instrukážní videa"}]
[]
[null,null,{"$f":"\"           \"&List!C278","v":"           Soubory PDF"}]
[]
[]
[]
[]
[null,null,null,null,null,null,{"$f":"List!$C$149","v":"Zpět"}]

{"sheet":"Menu","index":1,"n_rows":496,"n_cols":19,"rows_kept":496,"cut":false,"hidden":false,"merged":[[5,10,5,11],[12,10,14,11],[7,10,7,11],[14,1,14,2],[11,10,11,11],[14,3,14,4],[493,0,504,0],[495,1,495,2],[301,0,312,0],[400,0,439,0],[26,1,26,2],[196,0,232,0],[303,1,303,2],[107,0,138,0],[42,2,44,9],[27,2,27,5],[432,6,432,7],[146,0,188,0],[20,10,22,11],[8,10,10,11],[17,10,17,11],[15,10,15,11],[24,1,24,2],[14,5,14,6],[24,5,24,6],[24,3,24,4],[226,10,226,11],[26,7,26,9],[150,4,150,5],[40,4,40,5],[132,7,132,9]]}
[]
[]
[null,{"$f":"\"  AVENTOS\"&\" - \"&List!C3","v":"  AVENTOS - systém výklopů"}]
[]
[]
[null,null,null,null,null,null,null,null,null,null,{"$f":"\" \"&List!$C$150","v":" Zpět na úvod"}]
[]
[null,null,null,null,null,null,null,null,null,null,{"$f":"\" \"&List!$C$145","v":" Základní údaje"}]
[null,null,null,null,null,null,null,null,null,null,{"$f":"List!$C$365","v":"Údaje pro objednávku, zadání slevy od prodejce"}]
[]
[]
[null,null,null,null,null,null,null,null,null,null,{"$f":"\" \"&List!$C$370","v":" Tabulka hmotností"}]
[null,null,null,null,null,null,null,null,null,null,{"$f":"List!$C$366","v":"Hmotnosti materiálů, skla a alurámečků"}]
[]
[null,"AVENTOS HF",null,"AVENTOS HS",null,"AVENTOS HL"]
[null,null,null,null,null,null,null,null,null,null,{"$f":"\" \"&List!$C$141","v":" Doplňky"}]
[]
[null,null,null,null,null,null,null,null,null,null,{"$f":"\" \"&List!$C$137","v":" Nápověda"}]
[]
[]
[]
[]
[]
[]
[null,"AVENTOS HK top",null,"AVENTOS HK-S",null,"AVENTOS HK-XS"]
[]
[null,{"$f":"List!$C$40&\" \"","v":"Cenová hladina "},null,null,null,{"$f":"IF($S$27=1,0,IF($S$27=2,Cen!$K$1,IF($S$27=3,$F$147,0)))","v":0},null,{"$f":"List!$C$127&\" * \"","v":"Barva krytek * "},null,null,null,null,null,null,null,null,3,null,1]
[null,null,{"$f":"IF(S27=2,List!$C$46&\" [\"&List!$C$145&\"]  \",IF(S27=3,IF(F27=0,List!$C$44&\"  \",List!$C$45&\"  \"),\" \"))","v":" "}]
[null,null,null,null,null,{"$f":"IF($S$27=3,List!$C$47&\"      \",\" \")","v":" "},null,null,null,null,null,{"$f":"List!$C$222&\" [kg/m3]\"","v":"Objemová hmotnost materiálu [kg/m3]"},null,null,null,null,"kryt.",null,"ceny"]
[null,{"$f":"List!$C$207&\":\"","v":"Prodejce:"},null,null,null,null,null,null,null,null,{"$f":"Form!H202","v":"MDF "},{"$f":"Q203","v":760},null,null,null,null,{"$f":"List!$C$128","v":"Světle šedá (HG/T)"},null,{"$f":"List!$C$41","v":"Základní ceny"}]
[null,{"$f":"IF(Price!I7<>0,\" \"&Price!I7,\" \")","v":" "},null,null,null,null,null,null,null,null,{"$f":"Form!H203","v":"Dřevotříska "},{"$f":"Q204","v":680},null,null,null,null,{"$f":"List!$C$129","v":"Tmavě šedá (TGR)"},null,{"$f":"List!$C$42","v":"Nákupní ceny"}]
[null,{"$f":"IF(Price!I8<>0,\" \"&Price!I8,\" \")","v":" "},null,null,null,null,null,null,null,null,{"$f":"Form!H204","v":"Sklo "},{"$f":"Q205","v":2500},null,null,null,null,{"$f":"List!$C$130","v":"Hedvábně bílá (SW/T)"},null,{"$f":"List!$C$43","v":"Se slevou"}]
[null,{"$f":"IF(Price!I9<>0,\" \"&Price!I9,\" \")","v":" "},null,null,null,null,null,null,null,null,null,{"$f":"List!$C$180&\"      \"","v":"Změnit      "}]
[null,{"$f":"IF(Price!I10<>0,\" \"&Price!I10,\" \")","v":" "}]
[null,{"$f":"IF(Price!I11<>0,\" \"&Price!I11,\" \")","v":" "},null,null,null,null,null,null,null,null,null,{"$f":"List!$C$17&\" / \"&List!$C$19","v":"Široké alurámečky / Úzké alurámečky"}]
[null,{"$f":"IF(Price!I12<>0,\" \"&Price!I12,\" \")","v":" "},null,null,null,null,null,null,null,null,null,{"$f":"List!$C$47&\"      \"","v":"Nastavit      "},null,null,null,null,2]
[null,{"$f":"IF(Price!I13<>0,\" \"&Price!I13,\" \")","v":" "}]
[null,{"$f":"IF(Price!I14<>0,\" \"&Price!I14,\" \")","v":" "}]
[]
[]
[null,null,null,{"$f":"List!$C$205&\": \"","v":"Platnost ceníku od: "},{"$f":"Price!$I$4","v":0},null,null,null,null,null,{"$f":"List!$C$204&\": \"","v":"Verze: "},{"$f":"Form!J20","v":"2.8.2"}]
[]
[null,null,{"$f":"List!$C$10&\" \"&List!$C$11&\" \"&List!$C$218","v":"Tato aplikace slouží k snadnějšímu objednávání kování AVENTOS. Výsledky nemusí být přesné, zvláště při použití výpočtu hmotnosti. Firma Blum ani prodejci neručí za jejich správnost."}]
[]
[]
[null,null,{"$f":"\"* \"&List!C388","v":"* Výběr barvy ovlivní i barvu pístů, popř. adaptérů TIP-ON"}]
[]
[]
[]
[]
[]
[]
[]
[]
[]
[]
[]
[]
[]
[]
[]
[]
[]
[]
[]
[]
[]
[]
[]
[]
[]
[]
[]
[]
[]
[]
[]
[]
[]
[]
[]
[]
[]
[]
[]
[]
[]
[]
[]
[]
[]
[]
[]
[]
[]
[]
[]
[]
[]
[]
[]
[]
[]
[]
[]
[]
[]
[]
[]
[]
[]
[]
[]
[]
[]
[]
[]
[]
[]
[]
[]
[]
[]
[]
[]
[]
[]
[]
[]
[]
[]
[]
[]
[]
[]
[]
[]
[]
[]
[]
[]
[]
[]
[]
[]
[]
[null,null,null,null,{"$f":"List!$C$44&\" [%] \"","v":"Zadejte výši slevy [%] "}]
[]
[]
[]
[null,null,null,null,{"$f":"List!$C$150","v":"Zpět na úvod"}]
[]
[]
[]
[]
[]
[]
[]
[]
[]
[]
[]
[]
[]
[]
[]
[]
[]
[]
[]
[]
[]
[]
[]
[]
[]
[]
[]
[]
[]
[]
[]
[]
[]
[]
[]
[]
[]
[]
[]
[]
[]
[]
[]
[]
[]
[]
[]
[]
[]
[]
[]
[null,null,null,null,null,null,null,null,null,null,null,null,null,null,null,null,{"$f":"IF(Form!$J202>0,Form!$J202,Form!$I202)","v":760}]
[null,null,null,null,null,null,null,null,null,null,null,null,null,null,null,null,{"$f":"IF(Form!$J203>0,Form!$J203,Form!$I203)","v":680}]
[null,null,null,null,null,null,null,null,null,null,null,null,null,null,null,null,{"$f":"IF(Form!$J204>0,Form!$J204,Form!$I204)","v":2500}]
[]
[]
[]
[]
[]
[]
[]
[]
[]
[null,null,null,null,null,null,null,null,null,null,null,null,null,null,null,null,{"$f":"IF(Form!$J209>0,Form!$J209,Form!$I209)","v":0.62}]
[null,null,null,null,null,null,null,null,null,null,null,null,null,null,null,null,{"$f":"IF(Form!$J210>0,Form!$J210,Form!$I210)","v":0.63}]
[null,null,null,null,null,null,null,null,null,null,null,null,null,null,null,null,{"$f":"IF(Form!$J211>0,Form!$J211,Form!$I211)","v":0.61}]
[]
[]
[null,null,null,null,null,null,null,null,null,null,null,null,null,null,null,null,{"$f":"IF(Form!$J214>0,Form!$J214,Form!$I214)","v":0.31}]
[null,null,null,null,null,null,null,null,null,null,null,null,null,null,null,null,{"$f":"IF(Form!$J215>0,Form!$J215,Form!$I215)","v":0.32}]
[null,null,null,null,null,null,null,null,null,null,null,null,null,null,null,null,{"$f":"IF(Form!$J216>0,Form!$J216,Form!$I216)","v":0.46}]
[]
[]
[]
[]
[]
[]
[]
[]
[]
[]
[]
[]
[]
[]
[]
[]
[]
[]
[]
[]
[]
[]
[]
[]
[]
[]
[]
[]
[]
[]
[]
[]
[]
[]
[]
[]
[]
[]
[]
[]
[]
[]
[]
[]
[]
[]
[]
[]
[]
[]
[]
[]
[]
[]
[]
[]
[]
[]
[]
[]
[]
[]
[]
[]
[]
[]
[]
[]
[]
[]
[]
[]
[]
[]
[]
[]
[]
[]
[]
[]
[]
[]
[]
[]
[]
[]
[]
[]
[]
[]
[]
[]
[]
[]
[]
[]
[]
[]
[]
[]
[]
[]
[]
[]
[]
[]
[]
[]
[]
[]
[]
[]
[]
[]
[]
[]
[]
[]
[]
[]
[]
[]
[]
[]
[]
[]
[]
[]
[]
[]
[]
[]
[]
[]
[]
[]
[]
[]
[]
[]
[]
[]
[]
[]
[]
[]
[]
[]
[]
[]
[]
[]
[]
[]
[]
[]
[]
[]
[]
[]
[]
[]
[]
[]
[]
[]
[]
[]
[]
[]
[]
[]
[]
[]
[]
[]
[]
[]
[]
[]
[null,null,{"$f":"\"      \"&List!C136","v":"      Úvod plánování"}]
[]
[null,null,{"$f":"List!C261","v":"Na úvodní obrazovce vyberte, jaké ceny se budou zobrazovat:"}]
[null,null,{"$f":"\" - \"&List!C262","v":" - Základní (ceníkové) ceny bez slevy"}]
[null,null,{"$f":"\" - \"&List!$C$42&\" (\"&List!$C$46&\")\"","v":" - Nákupní ceny (Ceny se slevou od prodejce)"}]
[null,null,{"$f":"\" - \"&List!$C$45","v":" - Ceny s volitelnou slevou"}]
[null,null,{"$f":"\"       \"&List!$C$263","v":"       Zadáte-li slevu s mínusovým znamínkem, zobrazí se ceny o tuto hodnotu vyšší. "}]
[]
[null,null,{"$f":"List!C265","v":"Proveďte volbu barvy krytek"}]
[null,null,{"$f":"List!C266","v":"Volba ovlivní barvu krytek u všech vybraných zdvihačů."}]
[]
[null,null,{"$f":"List!C268","v":"Kliknutím na obrázek nebo popis přejděte na požadovaný typ zdvihače."}]
[]
[]
[null,null,{"$f":"List!$C$270&\":\"","v":"Legenda:"}]
[]
[null,null,{"$f":"\"         \"&List!C271","v":"         Změna zobrazovaných hodnot"}]
[null,null,{"$f":"\"         \"&List!C272","v":"         Výpočet hmotnosti"}]
[]
[null,null,{"$f":"\"         \"&List!C273","v":"         Upozornění"}]
[null,null,{"$f":"\"         \"&List!C274","v":"         Informace a vysvětlivky"}]
[null,null,{"$f":"\"         \"&List!C275","v":"         Tip"}]
[null,null,{"$f":"\"         \"&List!C276","v":"         Nápověda"}]
[]
[]
[]
[]
[]
[]
[]
[null,null,null,null,null,null,{"$f":"List!$C$149","v":"Zpět"}]
[]
[]
[]
[]
[]
[]
[]
[]
[]
[]
[]
[]
[]
[]
[]
[]
[]
[]
[]
[]
[]
[]
[]
[]
[]
[]
[]
[]
[]
[]
[]
[]
[]
[]
[]
[]
[]
[]
[]
[]
[]
[]
[]
[]
[]
[]
[]
[]
[]
[]
[]
[]
[]
[]
[]
[]
[]
[]
[]
[]
[]
[]
[null,{"$f":"List!$C$135& \" List\"","v":"Jdi na List"},null,null,{"$f":"List!$C$150","v":"Zpět na úvod"}]

{"sheet":"HF","index":2,"n_rows":415,"n_cols":18,"rows_kept":415,"cut":false,"hidden":false,"merged":[[22,7,22,8],[23,7,23,8],[33,1,33,2],[33,4,33,5],[33,7,33,8],[22,4,22,5],[398,0,439,0],[23,4,23,5],[414,9,414,10],[414,7,414,8],[34,7,34,8],[34,4,34,5],[6,4,6,5],[37,1,37,3],[38,1,38,3],[39,1,39,3],[12,1,12,2],[22,1,22,2]]}
[]
[]
[null,"   AVENTOS HF",null,null,null,null,null,null,null,null,null,null,null,null,null,null,null,{"$f":"List!$C$135","v":"Jdi na"}]
[]
[null,null,null,null,null,null,null,null,null,null,null,null,null,null,null,null,null,{"$f":"\" \"&List!$C$136","v":" Úvod plánování"}]
[null,null,null,null,{"$f":"\" \"&List!$C$72&\" (KB)\"","v":" Šířka korpusu (KB)"},null,null,null,null,null,null,null,null,null,null,null,null,{"$f":"\" \"&List!$C$137","v":" Nápověda"}]
[null,null,null,null,{"$f":"\" \"&List!$C$152&\" 1800 mm\"","v":" do 1800 mm"}]
[null,null,null,null,{"$f":"\" \"&List!$C$73&\" (KH)\"","v":" Výška korpusu (KH)"},null,null,null,null,null,null,null,null,null,null,null,null," AVENTOS HF"]
[null,null,null,null," 480 - 1040 mm",null,null,null,null,null,null,null,null,null,null,null,null," AVENTOS HS"]
[null,null,null,null,null,null,null,null,null,null,null,null,null,null,null,null,null," AVENTOS HL"]
[null,null,null,null,null,null,null,null,null,null,null,null,null,null,null,null,null," AVENTOS HK top"]
[null,null,null,null,null,null,null,null,null,null,null,null,null,null,null,null,null," AVENTOS HK-S"]
[null,{"$f":"List!$C$14","v":"Dřevěná čela"},null,null,null,null,null,null,null,null,null,null,null,null,null,null,null," AVENTOS HK-XS"]
[]
[]
[null,null,null,null,null,null,null,null,null,null,null,null,null,null,null,null,null,{"$f":"List!$C$141","v":"Doplňky"}]
[]
[null,null,null,null,null,null,null,null,null,null,null,null,null,null,null,null,null,{"$f":"\" \"&List!$C$139","v":" Přehled korpusů"}]
[null,null,null,null,null,null,null,null,null,null,null,null,null,null,null,null,null,{"$f":"\" \"&List!$C$140","v":" Objednávka"}]
[]
[]
[]
[null,{"$f":"List!$C$17","v":"Široké alurámečky"},null,null,{"$f":"List!$C$15","v":"Dřevěné čelo"},null,null,{"$f":"List!$C$18","v":"Široký alurámeček"}]
[null,null,null,null,{"$f":"List!$C$18","v":"Široký alurámeček"},null,null,{"$f":"List!$C$15","v":"Dřevěné čelo"}]
[]
[]
[]
[]
[]
[]
[]
[]
[]
[null,{"$f":"List!$C$19","v":"Úzké alurámečky"},null,null,{"$f":"List!$C$15","v":"Dřevěné čelo"},null,null,{"$f":"List!$C$20","v":"Úzký alurámeček"}]
[null,null,null,null,{"$f":"List!$C$20","v":"Úzký alurámeček"},null,null,{"$f":"List!$C$15","v":"Dřevěné čelo"}]
[]
[null,null,null,null,null,null,null,null,null,null,null,2,null,2,null,2]
[null,{"$f":"List!$C$115&\" \"","v":"Horní závěsy "},null,null,null,null,null,null,null,null,null,"záv.",null,"střed.",null,"podl."]
[null,{"$f":"List!$C$118&\" \"","v":"Středové závěsy "},null,null,null,null,null,null,null,null,null,"EXPANDO",null,"EXPANDO",null,"EXPANDO"]
[null,{"$f":"List!$C$121&\" \"","v":"Montážní podložky "},null,null,null,null,null,null,null,null,null,{"$f":"List!$C$117","v":"na vruty"},null,{"$f":"List!$C$120","v":"na vruty"},null,{"$f":"List!$C$123","v":"na vruty"}]
[]
[]
[]
[]
[]
[]
[]
[]
[]
[]
[]
[]
[]
[]
[]
[]
[]
[]
[]
[]
[]
[]
[]
[]
[]
[]
[]
[]
[]
[]
[]
[]
[]
[]
[]
[]
[]
[]
[]
[]
[]
[]
[]
[]
[]
[]
[]
[]
[]
[]
[]
[]
[]
[]
[]
[]
[]
[]
[]
[]
[]
[]
[]
[]
[]
[]
[]
[]
[]
[]
[]
[]
[]
[]
[]
[]
[]
[]
[]
[]
[]
[]
[]
[]
[]
[]
[]
[]
[]
[]
[]
[]
[]
[]
[]
[]
[]
[]
[]
[]
[]
[]
[]
[]
[]
[]
[]
[]
[]
[]
[]
[]
[]
[]
[]
[]
[]
[]
[]
[]
[]
[]
[]
[]
[]
[]
[]
[]
[]
[]
[]
[]
[]
[]
[]
[]
[]
[]
[]
[]
[]
[]
[]
[]
[]
[]
[]
[]
[]
[]
[]
[]
[]
[]
[]
[]
[]
[]
[]
[]
[]
[]
[]
[]
[]
[]
[]
[]
[]
[]
[]
[]
[]
[]
[]
[]
[]
[]
[]
[]
[]
[]
[]
[]
[]
[]
[]
[]
[]
[]
[]
[]
[]
[]
[]
[]
[]
[]
[]
[]
[]
[]
[]
[]
[]
[]
[]
[]
[]
[]
[]
[]
[]
[]
[]
[]
[]
[]
[]
[]
[]
[]
[]
[]
[]
[]
[]
[]
[]
[]
[]
[]
[]
[]
[]
[]
[]
[]
[]
[]
[]
[]
[]
[]
[]
[]
[]
[]
[]
[]
[]
[]
[]
[]
[]
[]
[]
[]
[]
[]
[]
[]
[]
[]
[]
[]
[]
[]
[]
[]
[]
[]
[]
[]
[]
[]
[]
[]
[]
[]
[]
[]
[]
[]
[]
[]
[]
[]
[]
[]
[]
[]
[]
[]
[]
[]
[]
[]
[]
[]
[]
[]
[]
[]
[]
[]
[]
[]
[]
[]
[]
[]
[]
[]
[]
[]
[]
[]
[]
[]
[]
[]
[]
[]
[]
[]
[]
[]
[]
[]
[]
[]
[]
[]
[]
[]
[]
[]
[]
[]
[]
[]
[]
[]
[]
[]
[]
[]
[]
[]
[]
[]
[]
[]
[]
[]
[]
[]
[]
[null,null,"      AVENTOS HF"]
[]
[]
[null,null,{"$f":"List!$C$280","v":"Vyberte požadovanou montážní techniku pro závěsy a podložky"}]
[]
[null,null,{"$f":"List!$C$268","v":"Kliknutím na obrázek nebo popis přejděte na požadovaný typ zdvihače."}]
[]
[]
[]
[]
[]
[]
[]
[]
[]
[null,null,null,null,null,null,null,{"$f":"List!$C$149","v":"Zpět"},null,{"$f":"List!$C$149","v":"Zpět"}]

{"sheet":"HS","index":3,"n_rows":416,"n_cols":18,"rows_kept":416,"cut":false,"hidden":false,"merged":[[415,7,415,8],[399,0,440,0],[415,9,415,10],[23,7,23,8],[6,3,6,4],[6,1,6,2],[7,1,7,2],[26,1,26,3],[23,1,23,2],[23,4,23,5]]}
[]
[]
[null,"   AVENTOS HS",null,null,null,null,null,null,null,null,null,null,null,null,null,null,null,{"$f":"List!$C$135","v":"Jdi na"}]
[]
[null,null,null,null,null,null,null,null,null,null,null,null,null,null,null,null,null,{"$f":"\" \"&List!$C$136","v":" Úvod plánování"}]
[null,null,null,null,null,null,null,null,null,null,null,null,null,null,null,null,null,{"$f":"\" \"&List!$C$137","v":" Nápověda"}]
[null,{"$f":"List!$C$72&\" (KB) \"","v":"Šířka korpusu (KB) "},null,{"$f":"\" \"&List!$C$152&\" 1800 mm\"","v":" do 1800 mm"}]
[null,{"$f":"List!$C$73&\" (KH) \"","v":"Výška korpusu (KH) "},null," 350 - 800 mm",null,null,null,null,null,null,null,null,null,null,null,null,null," AVENTOS HF"]
[null,null,null,null,null,null,null,null,null,null,null,null,null,null,null,null,null," AVENTOS HS"]
[null,null,null,null,null,null,null,null,null,null,null,null,null,null,null,null,null," AVENTOS HL"]
[null,null,null,null,null,null,null,null,null,null,null,null,null,null,null,null,null," AVENTOS HK top"]
[null,null,null,null,null,null,null,null,null,null,null,null,null,null,null,null,null," AVENTOS HK-S"]
[null,null,null,null,null,null,null,null,null,null,null,null,null,null,null,null,null," AVENTOS HK-XS"]
[]
[null,null,null,null,null,null,null,null,null,null,null,null,null,null,null,null,null,{"$f":"List!$C$141","v":"Doplňky"}]
[]
[null,null,null,null,null,null,null,null,null,null,null,null,null,null,null,null,null,{"$f":"\" \"&List!$C$139","v":" Přehled korpusů"}]
[null,null,null,null,null,null,null,null,null,null,null,null,null,null,null,null,null,{"$f":"\" \"&List!$C$140","v":" Objednávka"}]
[]
[]
[]
[]
[]
[null,{"$f":"List!$C$15","v":"Dřevěné čelo"},null,null,{"$f":"List!$C$18","v":"Široký alurámeček"},null,null,{"$f":"List!$C$20","v":"Úzký alurámeček"}]
[]
[]
[null,{"$f":"List!$C$124&\" \"","v":"Čelní kování "},null,null,null,null,null,null,null,null,1]
[null,null,null,null,null,null,null,null,null,null,"čelní kování"]
[null,null,null,null,null,null,null,null,null,null,"EXPANDO"]
[null,null,null,null,null,null,null,null,null,null,{"$f":"List!$C$126","v":"na vruty"}]
[]
[]
[]
[]
[]
[]
[]
[]
[]
[]
[]
[]
[]
[]
[]
[]
[]
[]
[]
[]
[]
[]
[]
[]
[]
[]
[]
[]
[]
[]
[]
[]
[]
[]
[]
[]
[]
[]
[]
[]
[]
[]
[]
[]
[]
[]
[]
[]
[]
[]
[]
[]
[]
[]
[]
[]
[]
[]
[]
[]
[]
[]
[]
[]
[]
[]
[]
[]
[]
[]
[]
[]
[]
[]
[]
[]
[]
[]
[]
[]
[]
[]
[]
[]
[]
[]
[]
[]
[]
[]
[]
[]
[]
[]
[]
[]
[]
[]
[]
[]
[]
[]
[]
[]
[]
[]
[]
[]
[]
[]
[]
[]
[]
[]
[]
[]
[]
[]
[]
[]
[]
[]
[]
[]
[]
[]
[]
[]
[]
[]
[]
[]
[]
[]
[]
[]
[]
[]
[]
[]
[]
[]
[]
[]
[]
[]
[]
[]
[]
[]
[]
[]
[]
[]
[]
[]
[]
[]
[]
[]
[]
[]
[]
[]
[]
[]
[]
[]
[]
[]
[]
[]
[]
[]
[]
[]
[]
[]
[]
[]
[]
[]
[]
[]
[]
[]
[]
[]
[]
[]
[]
[]
[]
[]
[]
[]
[]
[]
[]
[]
[]
[]
[]
[]
[]
[]
[]
[]
[]
[]
[]
[]
[]
[]
[]
[]
[]
[]
[]
[]
[]
[]
[]
[]
[]
[]
[]
[]
[]
[]
[]
[]
[]
[]
[]
[]
[]
[]
[]
[]
[]
[]
[]
[]
[]
[]
[]
[]
[]
[]
[]
[]
[]
[]
[]
[]
[]
[]
[]
[]
[]
[]
[]
[]
[]
[]
[]
[]
[]
[]
[]
[]
[]
[]
[]
[]
[]
[]
[]
[]
[]
[]
[]
[]
[]
[]
[]
[]
[]
[]
[]
[]
[]
[]
[]
[]
[]
[]
[]
[]
[]
[]
[]
[]
[]
[]
[]
[]
[]
[]
[]
[]
[]
[]
[]
[]
[]
[]
[]
[]
[]
[]
[]
[]
[]
[]
[]
[]
[]
[]
[]
[]
[]
[]
[]
[]
[]
[]
[]
[]
[]
[]
[]
[]
[]
[]
[]
[]
[]
[]
[]
[]
[]
[]
[]
[]
[]
[]
[]
[]
[]
[]
[]
[]
[]
[]
[]
[]
[]
[]
[null,null,"      AVENTOS HS"]
[]
[]
[null,null,{"$f":"List!$C$310","v":"Vyberte požadovanou montážní techniku pro čelní kování"}]
[]
[null,null,{"$f":"List!$C$268","v":"Kliknutím na obrázek nebo popis přejděte na požadovaný typ zdvihače."}]
[]
[]
[]
[]
[]
[]
[]
[]
[]
[null,null,null,null,null,null,null,{"$f":"List!$C$149","v":"Zpět"},null,{"$f":"List!$C$149","v":"Zpět"}]

{"sheet":"HL","index":4,"n_rows":414,"n_cols":18,"rows_kept":414,"cut":false,"hidden":false,"merged":[[413,9,413,10],[301,2,301,3],[413,7,413,8],[300,2,300,3],[307,2,307,3],[304,2,304,3],[306,2,306,3],[302,2,302,3],[397,0,438,0],[308,2,308,3],[305,2,305,3],[23,7,23,8],[298,0,338,0],[314,4,314,5],[303,2,303,3],[6,1,6,2],[6,3,6,4],[7,1,7,2],[26,1,26,3],[23,1,23,2],[23,4,23,5]]}
[]
[]
[null,"   AVENTOS HL",null,null,null,null,null,null,null,null,null,null,null,null,null,null,null,{"$f":"List!$C$135","v":"Jdi na"}]
[]
[null,null,null,null,null,null,null,null,null,null,null,null,null,null,null,null,null,{"$f":"\" \"&List!$C$136","v":" Úvod plánování"}]
[null,null,null,null,null,null,null,null,null,null,null,null,null,null,null,null,null,{"$f":"\" \"&List!$C$137","v":" Nápověda"}]
[null,{"$f":"List!$C$72&\" (KB) \"","v":"Šířka korpusu (KB) "},null,{"$f":"\" \"&List!$C$152&\" 1800 mm\"","v":" do 1800 mm"}]
[null,{"$f":"List!$C$73&\" (KH) \"","v":"Výška korpusu (KH) "},null," 300 - 580 mm",null,null,null,null,null,null,null,null,null,null,null,null,null," AVENTOS HF"]
[null,null,null,null,null,null,null,null,null,null,null,null,null,null,null,null,null," AVENTOS HS"]
[null,null,null,null,null,null,null,null,null,null,null,null,null,null,null,null,null," AVENTOS HL"]
[null,null,null,null,null,null,null,null,null,null,null,null,null,null,null,null,null," AVENTOS HK top"]
[null,null,null,null,null,null,null,null,null,null,null,null,null,null,null,null,null," AVENTOS HK-S"]
[null,null,null,null,null,null,null,null,null,null,null,null,null,null,null,null,null," AVENTOS HK-XS"]
[]
[null,null,null,null,null,null,null,null,null,null,null,null,null,null,null,null,null,{"$f":"List!$C$141","v":"Doplňky"}]
[]
[null,null,null,null,null,null,null,null,null,null,null,null,null,null,null,null,null,{"$f":"\" \"&List!$C$139","v":" Přehled korpusů"}]
[null,null,null,null,null,null,null,null,null,null,null,null,null,null,null,null,null,{"$f":"\" \"&List!$C$140","v":" Objednávka"}]
[]
[null,null,null,null,null,null,null,null,null,null,null,null,null,null,null,null,null,{"$f":"\" \"&List!$C$356","v":" Odstup čela"}]
[]
[]
[]
[null,{"$f":"List!$C$15","v":"Dřevěné čelo"},null,null,{"$f":"List!$C$18","v":"Široký alurámeček"},null,null,{"$f":"List!$C$20","v":"Úzký alurámeček"}]
[]
[]
[null,{"$f":"List!$C$124&\" \"","v":"Čelní kování "},null,null,null,null,null,null,null,null,1]
[null,null,null,null,null,null,null,null,null,null,"čelní kování"]
[null,null,null,null,null,null,null,null,null,null,"EXPANDO"]
[null,null,null,null,null,null,null,null,null,null,{"$f":"List!$C$126","v":"na vruty"}]
[]
[]
[]
[]
[]
[]
[]
[]
[]
[]
[]
[]
[]
[]
[]
[]
[]
[]
[]
[]
[]
[]
[]
[]
[]
[]
[]
[]
[]
[]
[]
[]
[]
[]
[]
[]
[]
[]
[]
[]
[]
[]
[]
[]
[]
[]
[]
[]
[]
[]
[]
[]
[]
[]
[]
[]
[]
[]
[]
[]
[]
[]
[]
[]
[]
[]
[]
[]
[]
[]
[]
[]
[]
[]
[]
[]
[]
[]
[]
[]
[]
[]
[]
[]
[]
[]
[]
[]
[]
[]
[]
[]
[]
[]
[]
[]
[]
[]
[]
[]
[]
[]
[]
[]
[]
[]
[]
[]
[]
[]
[]
[]
[]
[]
[]
[]
[]
[]
[]
[]
[]
[]
[]
[]
[]
[]
[]
[]
[]
[]
[]
[]
[]
[]
[]
[]
[]
[]
[]
[]
[]
[]
[]
[]
[]
[]
[]
[]
[]
[]
[]
[]
[]
[]
[]
[]
[]
[]
[]
[]
[]
[]
[]
[]
[]
[]
[]
[]
[]
[]
[]
[]
[]
[]
[]
[]
[]
[]
[]
[]
[]
[]
[]
[]
[]
[]
[]
[]
[]
[]
[]
[]
[]
[]
[]
[]
[]
[]
[]
[]
[]
[]
[]
[]
[]
[]
[]
[]
[]
[]
[]
[]
[]
[]
[]
[]
[]
[]
[]
[]
[]
[]
[]
[]
[]
[]
[]
[]
[]
[]
[]
[]
[]
[]
[]
[]
[]
[]
[]
[]
[]
[]
[]
[]
[]
[]
[]
[]
[]
[]
[]
[]
[]
[]
[]
[]
[]
[]
[]
[]
[]
[]
[]
[]
[]
[]
[]
[]
[]
[null,{"$f":"List!$C$356","v":"Odstup čela"}]
[null,{"$f":"List!$C$73","v":"Výška korpusu"},{"$f":"List!$C$354","v":"Sada ramen"},null,"A","B"]
[null,300,"20L3200",null,159,140.5]
[null,349,"20L3200",null,159,189.5]
[null,350,"20L3500",null,209,140.5]
[null,399,"20L3500",null,209,189.5]
[null,400,"20L3800",null,259,140.5]
[null,550,"20L3800",null,259,189.5]
[null,450,"20L3900",null,309.5,140.5]
[null,580,"20L3900",null,309.5,189.5]
[]
[]
[]
[]
[]
[null,null,null,null,{"$f":"List!$C$149","v":"Zpět"}]
[]
[]
[]
[]
[]
[]
[]
[]
[]
[]
[]
[]
[]
[]
[]
[]
[]
[]
[]
[]
[]
[]
[]
[]
[]
[]
[]
[]
[]
[]
[]
[]
[]
[]
[]
[]
[]
[]
[]
[]
[]
[]
[]
[]
[]
[]
[]
[]
[]
[]
[]
[]
[]
[]
[]
[]
[]
[]
[]
[]
[]
[]
[]
[]
[]
[]
[]
[]
[]
[]
[]
[]
[]
[]
[]
[]
[]
[]
[]
[]
[]
[]
[]
[null,null,"      AVENTOS HL"]
[]
[]
[null,null,{"$f":"List!$C$310","v":"Vyberte požadovanou montážní techniku pro čelní kování"}]
[]
[null,null,{"$f":"List!$C$268","v":"Kliknutím na obrázek nebo popis přejděte na požadovaný typ zdvihače."}]
[]
[]
[]
[]
[]
[]
[]
[]
[]
[null,null,null,null,null,null,null,{"$f":"List!$C$149","v":"Zpět"},null,{"$f":"List!$C$149","v":"Zpět"}]

{"sheet":"HK","index":5,"n_rows":416,"n_cols":18,"rows_kept":416,"cut":false,"hidden":false,"merged":[[415,7,415,8],[399,0,440,0],[415,9,415,10],[23,7,23,8],[26,1,26,3],[27,1,27,3],[23,1,23,2],[23,4,23,5],[6,1,6,2],[6,3,6,4],[7,1,7,2],[7,3,7,4],[11,1,15,6]]}
[]
[]
[null,"   AVENTOS HK top",null,null,null,null,null,null,null,null,null,null,null,null,null,null,null,{"$f":"List!$C$135","v":"Jdi na"}]
[]
[null,null,null,null,null,null,null,null,null,null,null,null,null,null,null,null,null,{"$f":"\" \"&List!$C$136","v":" Úvod plánování"}]
[null,null,null,null,null,null,null,null,null,null,null,null,null,null,null,null,null,{"$f":"\" \"&List!$C$137","v":" Nápověda"}]
[null,{"$f":"List!$C$72&\" (KB) \"","v":"Šířka korpusu (KB) "},null,{"$f":"\" \"&List!$C$152&\" 1800 mm\"","v":" do 1800 mm"}]
[null,{"$f":"List!$C$73&\" (KH) \"","v":"Výška korpusu (KH) "},null,{"$f":"\" \"&List!$C$152&\" 600 mm *\"","v":" do 600 mm *"},null,null,null,null,null,null,null,null,null,null,null,null,null," AVENTOS HF"]
[null,null,null,null,null,null,null,null,null,null,null,null,null,null,null,null,null," AVENTOS HS"]
[null,null,null,null,null,null,null,null,null,null,null,null,null,null,null,null,null," AVENTOS HL"]
[null,null,null,null,null,null,null,null,null,null,null,null,null,null,null,null,null," AVENTOS HK top"]
[null,{"$f":"\"* \"&List!$C$211","v":"* Z ergonomického hlediska doporučujeme maximální výšku korpusu 600mm. Dodržíte-li však hranici faktoru výkonnosti, můžete realizovat i vyšší výklopy."},null,null,null,null,null,null,null,null,null,null,null,null,null,null,null," AVENTOS HK-S"]
[null,null,null,null,null,null,null,null,null,null,null,null,null,null,null,null,null," AVENTOS HK-XS"]
[]
[null,null,null,null,null,null,null,null,null,null,null,null,null,null,null,null,null,{"$f":"List!$C$141","v":"Doplňky"}]
[]
[null,null,null,null,null,null,null,null,null,null,null,null,null,null,null,null,null,{"$f":"\" \"&List!$C$139","v":" Přehled korpusů"}]
[null,null,null,null,null,null,null,null,null,null,null,null,null,null,null,null,null,{"$f":"\" \"&List!$C$140","v":" Objednávka"}]
[]
[]
[]
[]
[]
[null,{"$f":"List!$C$15","v":"Dřevěné čelo"},null,null,{"$f":"List!$C$18","v":"Široký alurámeček"},null,null,{"$f":"List!$C$20","v":"Úzký alurámeček"}]
[]
[]
[null,{"$f":"List!$C$124&\" \"","v":"Čelní kování "},null,null,null,null,null,null,null,null,2,null,1]
[null,"Provedení zdvihače** ",null,null,null,null,null,null,null,null,"čelní kování",null,"provedení"]
[null,null,null,null,null,null,null,null,null,null,"EXPANDO",null,"vruty"]
[null," ** Zvolte, jaký způsob montáže chcete: ",null,null,null,null,null,null,null,null,{"$f":"List!$C$126","v":"na vruty"},null,"šrouby"]
[null,"    \"vruty\" - zdvihače s integrovanou šablonou (bez nutnosti rozměřování)"]
[null,"    \"šrouby\" - zdvihače s přednotovanými šrouby (nutné předvrtání)"]
[]
[]
[]
[]
[]
[]
[]
[]
[]
[]
[]
[]
[]
[]
[]
[]
[]
[]
[]
[]
[]
[]
[]
[]
[]
[]
[]
[]
[]
[]
[]
[]
[]
[]
[]
[]
[]
[]
[]
[]
[]
[]
[]
[]
[]
[]
[]
[]
[]
[]
[]
[]
[]
[]
[]
[]
[]
[]
[]
[]
[]
[]
[]
[]
[]
[]
[]
[]
[]
[]
[]
[]
[]
[]
[]
[]
[]
[]
[]
[]
[]
[]
[]
[]
[]
[]
[]
[]
[]
[]
[]
[]
[]
[]
[]
[]
[]
[]
[]
[]
[]
[]
[]
[]
[]
[]
[]
[]
[]
[]
[]
[]
[]
[]
[]
[]
[]
[]
[]
[]
[]
[]
[]
[]
[]
[]
[]
[]
[]
[]
[]
[]
[]
[]
[]
[]
[]
[]
[]
[]
[]
[]
[]
[]
[]
[]
[]
[]
[]
[]
[]
[]
[]
[]
[]
[]
[]
[]
[]
[]
[]
[]
[]
[]
[]
[]
[]
[]
[]
[]
[]
[]
[]
[]
[]
[]
[]
[]
[]
[]
[]
[]
[]
[]
[]
[]
[]
[]
[]
[]
[]
[]
[]
[]
[]
[]
[]
[]
[]
[]
[]
[]
[]
[]
[]
[]
[]
[]
[]
[]
[]
[]
[]
[]
[]
[]
[]
[]
[]
[]
[]
[]
[]
[]
[]
[]
[]
[]
[]
[]
[]
[]
[]
[]
[]
[]
[]
[]
[]
[]
[]
[]
[]
[]
[]
[]
[]
[]
[]
[]
[]
[]
[]
[]
[]
[]
[]
[]
[]
[]
[]
[]
[]
[]
[]
[]
[]
[]
[]
[]
[]
[]
[]
[]
[]
[]
[]
[]
[]
[]
[]
[]
[]
[]
[]
[]
[]
[]
[]
[]
[]
[]
[]
[]
[]
[]
[]
[]
[]
[]
[]
[]
[]
[]
[]
[]
[]
[]
[]
[]
[]
[]
[]
[]
[]
[]
[]
[]
[]
[]
[]
[]
[]
[]
[]
[]
[]
[]
[]
[]
[]
[]
[]
[]
[]
[]
[]
[]
[]
[]
[]
[]
[]
[]
[]
[]
[]
[]
[]
[]
[]
[]
[]
[]
[]
[]
[]
[]
[]
[]
[]
[]
[]
[]
[]
[]
[]
[]
[null,null,"      AVENTOS HK"]
[]
[]
[null,null,{"$f":"List!$C$310","v":"Vyberte požadovanou montážní techniku pro čelní kování"}]
[]
[null,null,{"$f":"List!$C$268","v":"Kliknutím na obrázek nebo popis přejděte na požadovaný typ zdvihače."}]
[]
[]
[]
[]
[]
[]
[]
[]
[]
[null,null,null,null,null,null,null,{"$f":"List!$C$149","v":"Zpět"},null,{"$f":"List!$C$149","v":"Zpět"}]

{"sheet":"HKS","index":6,"n_rows":416,"n_cols":18,"rows_kept":416,"cut":false,"hidden":false,"merged":[[415,9,415,10],[26,1,26,3],[23,1,23,2],[23,4,23,5],[23,7,23,8],[399,0,440,0],[9,1,11,5],[6,1,6,2],[6,3,6,4],[7,1,7,2],[7,3,7,4]]}
[]
[]
[null,"   AVENTOS HK-S",null,null,null,null,null,null,null,null,null,null,null,null,null,null,null,{"$f":"List!$C$135","v":"Jdi na"}]
[]
[null,null,null,null,null,null,null,null,null,null,null,null,null,null,null,null,null,{"$f":"\" \"&List!$C$136","v":" Úvod plánování"}]
[null,null,null,null,null,null,null,null,null,null,null,null,null,null,null,null,null,{"$f":"\" \"&List!$C$137","v":" Nápověda"}]
[null,{"$f":"List!$C$72&\" (KB) \"","v":"Šířka korpusu (KB) "},null,{"$f":"\" *\"","v":" *"}]
[null,{"$f":"List!$C$73&\" (KH) \"","v":"Výška korpusu (KH) "},null," 190 - 600 mm",null,null,null,null,null,null,null,null,null,null,null,null,null," AVENTOS HF"]
[null,null,null,null,null,null,null,null,null,null,null,null,null,null,null,null,null," AVENTOS HS"]
[null,{"$f":"\"* \"&List!$C$214","v":"* Vše záleží na hodnotě faktoru výkonnosti"},null,null,null,null,null,null,null,null,null,null,null,null,null,null,null," AVENTOS HL"]
[null,null,null,null,null,null,null,null,null,null,null,null,null,null,null,null,null," AVENTOS HK top"]
[null,null,null,null,null,null,null,null,null,null,null,null,null,null,null,null,null," AVENTOS HK-S"]
[null,null,null,null,null,null,null,null,null,null,null,null,null,null,null,null,null," AVENTOS HK-XS"]
[]
[null,null,null,null,null,null,null,null,null,null,null,null,null,null,null,null,null,{"$f":"List!$C$141","v":"Doplňky"}]
[]
[null,null,null,null,null,null,null,null,null,null,null,null,null,null,null,null,null,{"$f":"\" \"&List!$C$139","v":" Přehled korpusů"}]
[null,null,null,null,null,null,null,null,null,null,null,null,null,null,null,null,null,{"$f":"\" \"&List!$C$140","v":" Objednávka"}]
[]
[]
[]
[]
[]
[null,{"$f":"List!$C$15","v":"Dřevěné čelo"},null,null,{"$f":"List!$C$18","v":"Široký alurámeček"},null,null,{"$f":"List!$C$20","v":"Úzký alurámeček"}]
[]
[]
[null,{"$f":"List!$C$124&\" \"","v":"Čelní kování "},null,null,null,null,null,null,null,null,2,null,null,2]
[null,null,null,null,null,null,null,null,null,null,"čelní kování",null,null,"kryt."]
[null,null,null,null,null,null,null,null,null,null,"EXPANDO",null,null,{"$f":"IF(Menu!$Q$27=3,List!$C128,\" \")","v":"Světle šedá (HG/T)"}]
[null,null,null,null,null,null,null,null,null,null,{"$f":"List!$C$126","v":"na vruty"},null,null,{"$f":"IF(Menu!$Q$27=3,List!$C130,\" \")","v":"Hedvábně bílá (SW/T)"}]
[]
[]
[]
[]
[]
[]
[]
[]
[]
[]
[]
[]
[]
[]
[]
[]
[]
[]
[]
[]
[]
[]
[]
[]
[]
[]
[]
[]
[]
[]
[]
[]
[]
[]
[]
[]
[]
[]
[]
[]
[]
[]
[]
[]
[]
[]
[]
[]
[]
[]
[]
[]
[]
[]
[]
[]
[]
[]
[]
[]
[]
[]
[]
[]
[]
[]
[]
[]
[]
[]
[]
[]
[]
[]
[]
[]
[]
[]
[]
[]
[]
[]
[]
[]
[]
[]
[]
[]
[]
[]
[]
[]
[]
[]
[]
[]
[]
[]
[]
[]
[]
[]
[]
[]
[]
[]
[]
[]
[]
[]
[]
[]
[]
[]
[]
[]
[]
[]
[]
[]
[]
[]
[]
[]
[]
[]
[]
[]
[]
[]
[]
[]
[]
[]
[]
[]
[]
[]
[]
[]
[]
[]
[]
[]
[]
[]
[]
[]
[]
[]
[]
[]
[]
[]
[]
[]
[]
[]
[]
[]
[]
[]
[]
[]
[]
[]
[]
[]
[]
[]
[]
[]
[]
[]
[]
[]
[]
[]
[]
[]
[]
[]
[]
[]
[]
[]
[]
[]
[]
[]
[]
[]
[]
[]
[]
[]
[]
[]
[]
[]
[]
[]
[]
[]
[]
[]
[]
[]
[]
[]
[]
[]
[]
[]
[]
[]
[]
[]
[]
[]
[]
[]
[]
[]
[]
[]
[]
[]
[]
[]
[]
[]
[]
[]
[]
[]
[]
[]
[]
[]
[]
[]
[]
[]
[]
[]
[]
[]
[]
[]
[]
[]
[]
[]
[]
[]
[]
[]
[]
[]
[]
[]
[]
[]
[]
[]
[]
[]
[]
[]
[]
[]
[]
[]
[]
[]
[]
[]
[]
[]
[]
[]
[]
[]
[]
[]
[]
[]
[]
[]
[]
[]
[]
[]
[]
[]
[]
[]
[]
[]
[]
[]
[]
[]
[]
[]
[]
[]
[]
[]
[]
[]
[]
[]
[]
[]
[]
[]
[]
[]
[]
[]
[]
[]
[]
[]
[]
[]
[]
[]
[]
[]
[]
[]
[]
[]
[]
[]
[]
[]
[]
[]
[]
[]
[]
[]
[]
[]
[]
[]
[]
[]
[]
[]
[]
[]
[]
[]
[]
[]
[]
[]
[]
[]
[]
[]
[]
[]
[]
[]
[null,null,"      AVENTOS HK-S"]
[]
[]
[null,null,{"$f":"List!$C$310","v":"Vyberte požadovanou montážní techniku pro čelní kování"}]
[]
[null,null,{"$f":"List!$C$268","v":"Kliknutím na obrázek nebo popis přejděte na požadovaný typ zdvihače."}]
[]
[]
[]
[]
[]
[]
[]
[]
[]
[null,null,null,null,null,null,null,null,null,{"$f":"List!$C$149","v":"Zpět"}]

{"sheet":"HKXS","index":7,"n_rows":415,"n_cols":18,"rows_kept":415,"cut":false,"hidden":false,"merged":[[6,1,6,2],[6,3,6,4],[7,1,7,2],[7,3,7,4],[9,1,11,5],[398,0,439,0],[414,9,414,10],[25,1,25,3],[22,1,22,2],[22,4,22,5],[22,7,22,8],[27,1,27,3],[28,1,28,3],[26,1,26,3]]}
[]
[]
[null,"   AVENTOS HK-XS",null,null,null,null,null,null,null,null,null,null,null,null,null,null,null,{"$f":"List!$C$135","v":"Jdi na"}]
[]
[null,null,null,null,null,null,null,null,null,null,null,null,null,null,null,null,null,{"$f":"\" \"&List!$C$136","v":" Úvod plánování"}]
[null,null,null,null,null,null,null,null,null,null,null,null,null,null,null,null,null,{"$f":"\" \"&List!$C$137","v":" Nápověda"}]
[null,{"$f":"List!$C$72&\" (KB) \"","v":"Šířka korpusu (KB) "},null,{"$f":"\" do 1800 mm*\"","v":" do 1800 mm*"}]
[null,{"$f":"List!$C$73&\" (KH) \"","v":"Výška korpusu (KH) "},null," 240 - 600 mm",null,null,null,null,null,null,null,null,null,null,null,null,null," AVENTOS HF"]
[null,null,null,null,null,null,null,null,null,null,null,null,null,null,null,null,null," AVENTOS HS"]
[null,{"$f":"\"* \"&List!$C$214","v":"* Vše záleží na hodnotě faktoru výkonnosti"},null,null,null,null,null,null,null,null,null,null,null,null,null,null,null," AVENTOS HL"]
[null,null,null,null,null,null,null,null,null,null,null,null,null,null,null,null,null," AVENTOS HK top"]
[null,null,null,null,null,null,null,null,null,null,null,null,null,null,null,null,null," AVENTOS HK-S"]
[null,null,null,null,null,null,null,null,null,null,null,null,null,null,null,null,null," AVENTOS HK-XS"]
[]
[null,null,null,null,null,null,null,null,null,null,null,null,null,null,null,null,null,{"$f":"List!$C$141","v":"Doplňky"}]
[]
[null,null,null,null,null,null,null,null,null,null,null,null,null,null,null,null,null,{"$f":"\" \"&List!$C$139","v":" Přehled korpusů"}]
[null,null,null,null,null,null,null,null,null,null,null,null,null,null,null,null,null,{"$f":"\" \"&List!$C$140","v":" Objednávka"}]
[]
[]
[]
[]
[null,{"$f":"List!$C$15","v":"Dřevěné čelo"},null,null,{"$f":"List!$C$18","v":"Široký alurámeček"},null,null,{"$f":"List!$C$20","v":"Úzký alurámeček"}]
[]
[]
[null,{"$f":"List!$C$124&\" \"","v":"Čelní kování "},null,null,null,null,null,null,null,null,2,2,2,2]
[null,{"$f":"List!$C$133&\" \"","v":"Boční čep "},null,null,null,null,null,null,null,null,"čelní kování","boční čep","Závěsy","Podložky"]
[null,{"$f":"List!$C$115&\" \"","v":"Horní závěsy "},null,null,null,null,null,null,null,null,"EXPANDO","EXPANDO","EXPANDO","EXPANDO"]
[null,{"$f":"List!$C$121&\" \"","v":"Montážní podložky "},null,null,null,null,null,null,null,null,{"$f":"List!$C$126","v":"na vruty"},{"$f":"List!$C$126","v":"na vruty"},{"$f":"List!$C$126","v":"na vruty"},{"$f":"List!$C$126","v":"na vruty"}]
[]
[]
[]
[]
[]
[]
[]
[]
[]
[]
[]
[]
[]
[]
[]
[]
[]
[]
[]
[]
[]
[]
[]
[]
[]
[]
[]
[]
[]
[]
[]
[]
[]
[]
[]
[]
[]
[]
[]
[]
[]
[]
[]
[]
[]
[]
[]
[]
[]
[]
[]
[]
[]
[]
[]
[]
[]
[]
[]
[]
[]
[]
[]
[]
[]
[]
[]
[]
[]
[]
[]
[]
[]
[]
[]
[]
[]
[]
[]
[]
[]
[]
[]
[]
[]
[]
[]
[]
[]
[]
[]
[]
[]
[]
[]
[]
[]
[]
[]
[]
[]
[]
[]
[]
[]
[]
[]
[]
[]
[]
[]
[]
[]
[]
[]
[]
[]
[]
[]
[]
[]
[]
[]
[]
[]
[]
[]
[]
[]
[]
[]
[]
[]
[]
[]
[]
[]
[]
[]
[]
[]
[]
[]
[]
[]
[]
[]
[]
[]
[]
[]
[]
[]
[]
[]
[]
[]
[]
[]
[]
[]
[]
[]
[]
[]
[]
[]
[]
[]
[]
[]
[]
[]
[]
[]
[]
[]
[]
[]
[]
[]
[]
[]
[]
[]
[]
[]
[]
[]
[]
[]
[]
[]
[]
[]
[]
[]
[]
[]
[]
[]
[]
[]
[]
[]
[]
[]
[]
[]
[]
[]
[]
[]
[]
[]
[]
[]
[]
[]
[]
[]
[]
[]
[]
[]
[]
[]
[]
[]
[]
[]
[]
[]
[]
[]
[]
[]
[]
[]
[]
[]
[]
[]
[]
[]
[]
[]
[]
[]
[]
[]
[]
[]
[]
[]
[]
[]
[]
[]
[]
[]
[]
[]
[]
[]
[]
[]
[]
[]
[]
[]
[]
[]
[]
[]
[]
[]
[]
[]
[]
[]
[]
[]
[]
[]
[]
[]
[]
[]
[]
[]
[]
[]
[]
[]
[]
[]
[]
[]
[]
[]
[]
[]
[]
[]
[]
[]
[]
[]
[]
[]
[]
[]
[]
[]
[]
[]
[]
[]
[]
[]
[]
[]
[]
[]
[]
[]
[]
[]
[]
[]
[]
[]
[]
[]
[]
[]
[]
[]
[]
[]
[]
[]
[]
[]
[]
[]
[]
[]
[]
[]
[]
[]
[]
[]
[]
[]
[]
[]
[]
[]
[]
[]
[]
[]
[]
[]
[]
[]
[]
[null,null,"      AVENTOS HK-S"]
[]
[]
[null,null,{"$f":"List!$C$310","v":"Vyberte požadovanou montážní techniku pro čelní kování"}]
[]
[null,null,{"$f":"List!$C$268","v":"Kliknutím na obrázek nebo popis přejděte na požadovaný typ zdvihače."}]
[]
[]
[]
[]
[]
[]
[]
[]
[]
[null,null,null,null,null,null,null,null,null,{"$f":"List!$C$149","v":"Zpět"}]

{"sheet":"HFwa","index":8,"n_rows":436,"n_cols":46,"rows_kept":436,"cut":false,"hidden":false,"merged":[[303,8,303,9],[312,8,312,9],[304,8,304,9],[216,1,216,6],[307,1,307,9],[302,8,302,9],[218,1,218,6],[223,6,223,7],[309,1,309,5],[312,1,312,7],[303,1,303,7],[305,1,305,7],[304,1,304,7],[314,1,314,7],[314,8,314,9],[315,1,315,7],[315,8,315,9],[305,8,305,9],[297,0,351,0],[316,1,316,7],[242,6,242,7],[217,1,217,6],[308,1,308,5],[302,1,302,7],[308,6,308,9],[310,1,310,5],[316,8,316,9],[300,1,300,9],[301,1,301,7],[301,8,301,9],[226,2,228,10],[323,8,323,9],[313,1,313,7],[313,8,313,9],[8,19,8,20],[9,1,9,6],[10,1,10,3],[18,1,18,6],[26,1,28,9],[8,3,8,7],[20,1,20,6],[19,1,19,3],[1,1,1,2],[1,3,1,4],[1,5,1,6],[1,7,1,8],[13,1,13,6],[3,5,3,10],[1,9,1,10],[397,0,437,0],[404,4,404,11],[5,6,5,10],[197,0,230,0],[231,0,258,0],[6,1,6,2],[6,6,6,7],[11,1,11,6],[12,1,12,6],[97,0,154,0],[204,1,204,4],[204,5,204,7],[21,1,21,6],[214,1,214,6],[215,1,215,6],[208,1,208,6],[11,43,12,46],[0,43,0,51],[5,43,6,44],[5,45,6,45],[5,46,6,46],[7,43,7,44],[8,43,8,44],[9,43,9,44],[206,20,206,21],[215,20,215,21],[14,1,14,6],[17,19,17,20],[17,3,17,7],[22,1,22,6],[23,1,23,6],[206,1,206,6],[205,1,205,6],[207,1,207,6],[26,19,26,20],[209,1,209,6],[213,5,213,7]]}
[]
[null,"AVENTOS HF",null,"AVENTOS HS",null,"AVENTOS HL",null,"AVENTOS HK top",null,"AVENTOS HK-S",null,"AVENTOS HK-XS",null,null,"rámeček",null,null,null,3,null,null,null,null,null,null,{"$f":"List!$C$135","v":"Jdi na"}]
[]
[null,{"$f":"List!$C$17&\" ***\"","v":"Široké alurámečky ***"},null,null,null,{"$f":"N200&\"       \"","v":"Alurámečky s 4mm sklem       "},null,null,null,null,null,null,null,null,1,null,null,null,{"$f":"\" \"&List!$C$39&\" A \"","v":" Cena za korpus A "},null,null,null,null,null,null,{"$f":"List!$C$136","v":"Úvod plánování"}]
[null,null,null,null,null,null,null,null,null,null,null,null,null,null,"A = 1",null,null,null,{"$f":"\" \"&List!$C$39&\" B \"","v":" Cena za korpus B "},null,null,null,null,null,null,{"$f":"List!$C$137","v":"Nápověda"}]
[null,null,null,null,null,null,{"$f":"List!$C$47&\" \"&List!$C$22&\"       \"","v":"Nastavit hmotnost alurámečků       "},null,null,null,null,null,null,null,"B = 2",null,null,null,{"$f":"\" \"&List!$C$59","v":" Cena celkem bez DPH"},null,null,null,null,null,null,null,null,null,null,null,null,null,null,null,null,null,null,null,null,null,null,null,null,{"$f":"\"  \"&List!$C$80&\" LF \"","v":"  Ukazatel výkonnosti LF "},null,{"$f":"List!$C$79","v":"Zdvihací mechanizmus"}]
[null,{"$f":"List!$C$142","v":"Soupis kování"},null,null,null,null,{"$f":"IF(S2=1,$N$138,IF($S$2=2,$P$138,IF($S$2=3,$L$138,0)))","v":0},null,null,null,null,null,null,null,null,null,null,null,null,null,null,null,null,null,null,{"$f":"List!$C$141","v":"Doplňky"}]
[null,null,null,null,null,null,null,{"$f":"IF(AND(OR($S$9=1, $S$18=1), $L$138>0), $N$32, \" \")","v":" "},null,null,null,null,null,null,null,null,null,null,null,null,null,null,null,null,null,null,null,null,null,null,null,null,null,null,null,null,null,null,null,null,null,null,null,{"$f":"\"  2.600 -  5.500 (1 \"&List!$C$153&\" LF 960 - 2.650)\"","v":"  2.600 -  5.500 (1 ks LF 960 - 2.650)"},null,"20F2200.05"]
[null,"SERVO-DRIVE",null,{"$f":"List!$C$62&\" A\"","v":"Korpus A"},null,null,null,null,null,null,null,null,null,"zdvih A",null,"teleskop",null,null,{"$f":"IF($T$9=TRUE,1,2)","v":2},false,null," - SRVDRV",null,null,null,{"$f":"List!$C$139","v":"Přehled korpusů"},null,null,null,null,null,null,null,null,null,null,null,null,null,null,null,null,null,"  5.350 - 10.150",null,"20F2500.05"]
[null,{"$f":"List!$C$72&\" KB [mm] \"","v":"Šířka korpusu KB [mm] "},null,null,null,null,null,null,{"$f":"IF(H10=0,\" \",IF($H10<220,\" min. 220mm\",IF($H10>1800,\" max. 1 800mm\",\" \")))&IF(H15>0,IF(H10=0,\"● \"&List!$C$111,\" \"),\" \")","v":"  "},null,null,null,null,"F22",{"$f":"IF($H14<Cen!$F$240,0.5,IF($H14<Cen!$F$241,1,0))","v":0.5},"F32",{"$f":"SUM(IF($P14<Cen!$F$248,IF($H14<Cen!$F$240,0.5,1),0))","v":0.5},null,null,"Závěs A",null,"Závěs As",null,null,null,{"$f":"List!$C$140","v":"Objednávka"},null,null,null,null,null,null,null,null,null,null,null,null,null,null,null,null,null,"  9.000 -  17.250",null,"20F2800.05"]
[null,{"$f":"List!$C$73&\" [mm]\"","v":"Výška korpusu [mm]"},null,null,"TKH * ",null,"KH ",null,{"$f":"IF(H11=0,\" \",IF($H11<480,\" min. 480mm\",IF($H11>1040,\" max. 1 040mm\",\" \")))&IF(H15>0,IF(H11=0,\"● \"&List!$C$111,\" \"),\" \")","v":"  "},null,null,null,null,"F25",{"$f":"IF($H14<Cen!$E$242,0,IF($H14<Cen!$F$242,1,0))","v":0},"F35",{"$f":"IF($P14<Cen!$F$249,IF($P14>Cen!$E$249,IF($H14<Cen!$F$240,0.5,1),0),0)","v":0},null,null,"T558E",{"$f":"IF($O$42=1,IF($H10>1199,3,IF($T15>11.9,3,2)),0)+IF(O$42=1,IF($H10>1799,1,IF($T15>19.9,1,0)),0)","v":0},"Z553E",{"$f":"IF($Q$42=1,IF($H10>1199,3,IF($T15>11.9,3,2)),0)+IF($Q$42=1,IF($H10>1799,1,IF($T15>19.9,1,0)),0)","v":0}]
[null,{"$f":"List!$C$74&\" [kg] ** \"","v":"Hmotnost čela včetně úchytky [kg] ** "},null,null,null,null,null,null,{"$f":"IF($H15=0,\" \",IF(SUM($H12,$H13)=0,$N$34,\" \"))&IF($H15>0,IF($H12>0,$N$35,\" \"),\" \")","v":"  "},null,null,null,null,"F28",{"$f":"IF($H14<Cen!$E$243,0,IF($H14<Cen!$F$243,1,IF($H14>Cen!$E$244,0,0)))","v":0},"F38",{"$f":"IF($P14<Cen!$F$250,IF($P14>Cen!$E$250,IF($H14<Cen!$F$240,0.5,1),0),0)","v":0},null,null,"T5550",{"$f":"IF($O$42=2,IF($H10>1199,3,IF($T15>11.9,3,2)),0)+IF($O$42=2,IF($H10>1799,1,IF($T15>19.9,1,0)),0)","v":2},"Z5500",{"$f":"IF($Q$42=2,IF($H10>1199,3,IF($T15>11.9,3,2)),0)+IF($Q$42=2,IF($H10>1799,1,IF($T15>19.9,1,0)),0)","v":2},null,null,null,null,null,null,null,null,null,null,null,null,null,null,null,null,null,null,null,null,{"$f":"List!$C$80&\" LF = \"&List!$C$298&\" [kg]\"","v":"Ukazatel výkonnosti LF = výška korpusu KH [mm] x hmotnost obou čel včetně úchytky [kg]"}]
[null,{"$f":"List!$C$76&\" [kg]       \"","v":"Vypočtená hmotnost čela [kg]       "},null,null,null,null,null,{"$f":"$H$210","v":0},{"$f":"IF($H15>0,IF($H13>0,IF($H12=0,$N$35,\" \"),\" \"),\" \")","v":" "},null,null,null,null,null,null,"F39",{"$f":"IF($P14<Cen!$F$251,IF($P14>Cen!$E$251,IF($H14<Cen!$F$240,0.5,1),0),0)","v":0},null,null,null,null,null,null,null,null,{"$f":"\" \"&List!$C$177&\" A\"","v":" Výpočet hmotnosti A"}]
[null,{"$f":"List!$C$80&\" LF \"","v":"Ukazatel výkonnosti LF "},null,null,null,null,null,{"$f":"IF(H11<1041,IF(H11>479,IF(H12>0,H11*H12,H11*H13),0),0)","v":0},{"$f":"IF(AND(H14>0,H14<960), $T$38, IF($H14>17250,$N$38,\" \"))","v":" "},null,null,null,null,null,"výška korpusu",{"$f":"IF(F11>0,IF(F11>=H11,F11,0),H11)","v":0}]
[null,{"$f":"List!$C$69&\" \"","v":"Počet skříněk "},null,null,null,null,null,null,{"$f":"IF(AND(M15>0, H14>959, O10=0.5), $U$39, \" \")","v":" "},null,null,null,{"$f":"IF($H10*$P14=0,0,IF(SUM($H12,$H13)=0,0,IF($P14>Cen!$F$252,0,IF(P14<Cen!$E$248,0,IF(OR(H14<Cen!$E$240, H14>Cen!$F$243),0,$H15)))))","v":0},"← Hlavní údaj",null,null,null,null,"hmot =",{"$f":"IF(H12>0,H12,H13)","v":0},{"$f":"IF(SUM(H12,H13)=0,0,IF(H12>0,1,2))","v":0},"zadaná / vypočtená",null,null,null,{"$f":"\" \"&List!$C$176","v":" Výpočet asymetrických čel"},null,null,null,null,null,null,null,null,null,null,null,null,null,null,null,null,null,{"$f":"List!$C$149","v":"Zpět"}]
[null,{"$f":"IF(H15>0,IF(U15=0,\" \",IF(U15=1,$N$47,$N$48)),\" \")&IF(H15>0,IF(U15=0,\" \",IF(U15=1,$N$49,$N$50)),\" \")","v":"  "}]
[null,{"$f":"IF(F11=0,\" \",IF(F11>1040,\"TKH = max. 1040!\",IF(F11<480,\"TKH = min. 480!\",IF(F11<H11,$N$53,IF(H15>0,IF(F11=0,\" \",IF(F11>0,$N$52,\" \")),\" \")))))","v":" "}]
[null,"SERVO-DRIVE",null,{"$f":"List!$C$62&\" B\"","v":"Korpus B"},null,null,null,null,null,null,null,null,null,"zdvih B",null,"teleskop",null,null,{"$f":"IF($T$18=TRUE,1,2)","v":2},false,null," - SRVDRV",null,null,null,{"$f":"\" \"&List!$C$361","v":" Ověření síly zdvihače"}]
[null,{"$f":"List!$C$72&\" KB [mm] \"","v":"Šířka korpusu KB [mm] "},null,null,null,null,null,null,{"$f":"IF(H19=0,\" \",IF($H19<220,\" min. 220mm\",IF($H19>1800,\" max. 1 800mm\",\" \")))&IF(H24>0,IF(H19=0,\"● \"&List!$C$111,\" \"),\" \")","v":"  "},null,null,null,null,"F22",{"$f":"IF($H23<Cen!$F$240,0.5,IF($H23<Cen!$F$241,1,0))","v":0.5},"F32",{"$f":"SUM(IF($P23<Cen!$F$248,IF($H23<Cen!$F$240,0.5,1),0))","v":0.5},null,null,"Závěs B",null,"Závěs Bs"]
[null,{"$f":"List!$C$73&\" [mm]\"","v":"Výška korpusu [mm]"},null,null,"TKH * ",null,"KH ",null,{"$f":"IF(H20=0,\" \",IF($H20<480,\" min. 480mm\",IF($H20>1040,\" max. 1 040mm\",\" \")))&IF(H24>0,IF(H20=0,\"● \"&List!$C$111,\" \"),\" \")","v":"  "},null,null,null,null,"F25",{"$f":"IF($H23<Cen!$E$242,0,IF($H23<Cen!$F$242,1,0))","v":0},"F35",{"$f":"IF($P23<Cen!$F$249,IF($P23>Cen!$E$249,IF($H23<Cen!$F$240,0.5,1),0),0)","v":0},null,null,"T558E",{"$f":"IF($O$42=1,IF($H19>1199,3,IF($T24>11.9,3,2)),0)+IF(O$42=1,IF($H19>1799,1,IF($T24>19.9,1,0)),0)","v":0},"Z553E",{"$f":"IF($Q$42=1,IF($H19>1199,3,IF($T24>11.9,3,2)),0)+IF($Q$42=1,IF($H19>1799,1,IF($T24>19.9,1,0)),0)","v":0}]
[null,{"$f":"List!$C$74&\" [kg] ** \"","v":"Hmotnost čela včetně úchytky [kg] ** "},null,null,null,null,null,null,{"$f":"IF($H24=0,\" \",IF(SUM($H21,$H22)=0,$N$34,\" \"))&IF($H24>0,IF($H21>0,$N$35,\" \"),\" \")","v":"  "},null,null,null,null,"F28",{"$f":"IF($H23<Cen!$E$243,0,IF($H23<Cen!$F$243,1,IF($H23>Cen!$E$244,0,0)))","v":0},"F38",{"$f":"IF($P23<Cen!$F$250,IF($P23>Cen!$E$250,IF($H23<Cen!$F$240,0.5,1),0),0)","v":0},null,null,"T5550",{"$f":"IF($O$42=2,IF($H19>1199,3,IF($T24>11.9,3,2)),0)+IF($O$42=2,IF($H19>1799,1,IF($T24>19.9,1,0)),0)","v":2},"Z5500",{"$f":"IF($Q$42=2,IF($H19>1199,3,IF($T24>11.9,3,2)),0)+IF($Q$42=2,IF($H19>1799,1,IF($T24>19.9,1,0)),0)","v":2}]
[null,{"$f":"List!$C$76&\" [kg]       \"","v":"Vypočtená hmotnost čela [kg]       "},null,null,null,null,null,{"$f":"$H$219","v":0},{"$f":"IF($H24>0,IF($H22>0,IF($H21=0,$N$35,\" \"),\" \"),\" \")","v":" "},null,null,null,null,null,null,"F39",{"$f":"IF($P23<Cen!$F$251,IF($P23>Cen!$E$251,IF($H23<Cen!$F$240,0.5,1),0),0)","v":0},null,null,null,null,null,null,null,null,{"$f":"\" \"&List!$C$177&\" B\"","v":" Výpočet hmotnosti B"}]
[null,{"$f":"List!$C$80&\" LF \"","v":"Ukazatel výkonnosti LF "},null,null,null,null,null,{"$f":"IF(H20<1041,IF(H20>479,IF(H21>0,H20*H21,H20*H22),0),0)","v":0},{"$f":"IF(AND(H23>0,H23<960), $T$38, IF($H23>17250,$N$38,\" \"))","v":" "},null,null,null,null,null,"výška korpusu",{"$f":"IF(F20>0,IF(F20>=H20,F20,0),H20)","v":0}]
[null,{"$f":"List!$C$69&\" \"","v":"Počet skříněk "},null,null,null,null,null,null,{"$f":"IF(AND(M24>0, H23>959, O19=0.5), $U$39, \" \")","v":" "},null,null,null,{"$f":"IF($H19*$P23=0,0,IF(SUM($H21,$H22)=0,0,IF($P23>Cen!$F$252,0,IF(P23<Cen!$E$248,0,IF(OR(H23<Cen!$E$240, H23>Cen!$F$243),0,$H24)))))","v":0},"← Hlavní údaj",null,null,null,null,"hmot =",{"$f":"IF(H21>0,H21,H22)","v":0},{"$f":"IF(SUM(H21,H22)=0,0,IF(H21>0,1,2))","v":0},"zadaná / vypočtená",null,null,null,{"$f":"\" \"&List!$C$176","v":" Výpočet asymetrických čel"}]
[null,{"$f":"IF(H24>0,IF(U24=0,\" \",IF(U24=1,$N$47,$N$48)),\" \")&IF(H24>0,IF(U24=0,\" \",IF(U24=1,$N$49,$N$50)),\" \")","v":"  "}]
[null,{"$f":"IF(F20=0,\" \",IF(F20>1040,\"TKH = max. 1040!\",IF(F20<480,\"TKH = min. 480!\",IF(F20<H20,$N$53,IF(H24>0,IF(F20=0,\" \",IF(F20>0,$N$52,\" \")),\" \")))))","v":" "}]
[null,{"$f":"IF(OR(AND($S$9=1, $M$15>0), AND($S$18=1, $M$24>0)), List!$C$157, \" \")","v":" "},null,null,null,null,null,null,null,null,null,null,null,null,null,null,null,null,{"$f":"IF($T$27=FALSE,2,1)","v":1},true,null," - Zdroj"]
[null,null,null,null,null,null,null,null,null,null,null,null,null,null,null,2]
[]
[]
[]
[null,null,null,null,null,null,null,null,null,null,null,null,null,{"$f":"List!C158","v":"Cena bez napájecího zdroje!"}]
[null,null,{"$f":"\"*  \"&List!$C$165","v":"*  Pouze pro asymetrická čela: zadejte teoretickou výšku TKH."}]
[null,null,{"$f":"\" ( \"&List!$C$166&\")\"","v":" ( TKH = dvojnásobná výška horního čela včetně mezer)"},null,null,null,null,null,null,null,null,null,null,{"$f":"\" \"&List!$C$103","v":" Doplňte nebo použijte \"Výpočet hmotnosti\" "}]
[null,null,{"$f":"\"** \"&List!$C$168","v":"** Pokud znáte hmotnost a nechcete využít výpočtu hmotnosti"},null,null,null,null,null,null,null,null,null,null,{"$f":"\"◄ \"&List!$C$100","v":"◄ hodnota bude použita pro výpočet LF"}]
[null,null,{"$f":"\"*** \"&List!$C$371","v":"*** Vyberte typ alurámečku!"},null,null,null,null,null,null,null,null,null,null,{"$f":"\" * \"&List!$C$110","v":" * Doplňte hodnoty"}]
[null,null,{"$f":"\"      \"&List!$C$372","v":"      Více informací k výběru alurámečků v Nápovědě"}]
[null,null,null,null,null,null,null,null,null,null,null,null,null,{"$f":"\" max. 17.250! \"&List!$C$105","v":" max. 17.250! Upravte hmotnost nebo výšku"},null,null,null,null,null,{"$f":"\" min. 960! \"&List!$C$105","v":" min. 960! Upravte hmotnost nebo výšku"}]
[null,null,null,null,null,null,null,null,null,null,null,null,null,{"$f":"\" \"&List!$C$104","v":" Přídavný třetí zdvihač"},null,null,null,null,null,null,{"$f":"\" \"&List!C109","v":" Použijte pouze jeden zdvihač"}]
[null,null,null,null,null,null,null,null,null,null,null,null,null,{"$f":"List!$C$163","v":"Přídavný třetí zdvihač může být použit pouze s plným spodním čelem!"}]
[]
[null,null,null,null,null,null,null,null,null,null,null,null,null,{"$f":"HF!$L$37","v":2},2,{"$f":"HF!$N$37","v":2},2,{"$f":"HF!$P$37","v":2},null,{"$f":"Menu!$Q$27","v":3}]
[null,null,null,null,null,null,null,null,null,null,null,null,null,"záv.","alu","střed.","alu","podl.",null,"kryt."]
[null,null,null,null,null,null,null,null,null,null,null,null,null,{"$f":"List!$C$116","v":"Expando"},null,{"$f":"List!$C$116","v":"Expando"},null,{"$f":"List!$C$116","v":"Expando"},null,{"$f":"List!$C$128","v":"Světle šedá (HG/T)"}]
[null,null,null,null,null,null,null,null,null,null,null,null,null,{"$f":"List!$C$117","v":"na vruty"},null,{"$f":"List!$C$117","v":"na vruty"},null,{"$f":"List!$C$117","v":"na vruty"},null,{"$f":"List!$C$129","v":"Tmavě šedá (TGR)"}]
[null,null,null,null,null,null,null,null,null,null,null,null,null,null,null,null,null,null,null,{"$f":"List!$C$130","v":"Hedvábně bílá (SW/T)"}]
[null,null,null,null,null,null,null,null,null,null,null,null,null,{"$f":"List!C169","v":"Pro určení typu zdvihače bude použita zadaná hmotnost"}]
[null,null,null,null,null,null,null,null,null,null,null,null,null,{"$f":"List!C170","v":"Pro určení typu zdvihače bude použita vypočtená hmotnost"}]
[null,null,null,null,null,null,null,null,null,null,null,null,null,{"$f":"\". \"&List!$C$171","v":". Chcete-li použít vypočtenou hmotnost, smažte zadanou hodnotu"}]
[null,null,null,null,null,null,null,null,null,null,null,null,null,{"$f":"\". \"&List!$C$172","v":". Chcete-li použít zadanou hmotnost, zadejte ji do políčka"}]
[null,null,null,null,null,null,null,null,null,null,null,null,null,{"$f":"List!C173","v":0}]
[null,null,null,null,null,null,null,null,null,null,null,null,null,{"$f":"List!C174","v":"Pro výběr teleskopů bude použita teoretická výška TKH"}]
[null,null,null,null,null,null,null,null,null,null,null,null,null,{"$f":"List!C175","v":"Teoretická výška TKH nesmí být menší než KH"}]
[]
[]
[]
[]
[]
[]
[]
[]
[]
[]
[]
[]
[]
[]
[]
[]
[]
[]
[]
[]
[]
[]
[]
[]
[]
[]
[]
[]
[]
[]
[]
[]
[]
[]
[]
[]
[]
[]
[]
[]
[]
[]
[]
[]
[null,{"$f":"List!C142","v":"Soupis kování"}]
[]
[null,{"$f":"$B$2","v":"AVENTOS HF"},null,{"$f":"B4","v":"Široké alurámečky ***"}]
[null,{"$f":"List!C50","v":"Název"},null,null,null,null,{"$f":"List!$C$51","v":"Číslo artiklu"},null,{"$f":"List!C52","v":"Barva"},{"$f":"List!C54","v":"Ks"},{"$f":"List!C56","v":"Jednotková cena"},{"$f":"List!C57","v":"Celkem"},"A","Cena","B","Cena",null,null,"Filtr"]
[null,{"$f":"Cen!A2","v":"Sada zdvihačů HF"},null,null,null,null,{"$f":"Cen!E2","v":"20F2200.05"},null,{"$f":"Cen!G2","v":"ZN"},{"$f":"ROUNDUP($M$15*O10+$M$24*O19,0)","v":0},{"$f":"Cen!I2","v":0},{"$f":"J102*K102","v":0},{"$f":"ROUNDUP($M$15*O10,0)","v":0},{"$f":"$K102*M102","v":0},{"$f":"ROUNDUP($M$24*O19,0)","v":0},{"$f":"$K102*O102","v":0},null,null,"x"]
[null,{"$f":"Cen!A3","v":"Sada zdvihačů HF"},null,null,null,null,{"$f":"Cen!E3","v":"20F2500.05"},null,{"$f":"Cen!G3","v":"ZN"},{"$f":"ROUNDUP($M$15*O11+$M$24*O20,0)","v":0},{"$f":"Cen!I3","v":0},0,{"$f":"ROUNDUP($M$15*O11,0)","v":0},0,{"$f":"ROUNDUP($M$24*O20,0)","v":0},0,null,null,"x"]
[null,{"$f":"Cen!A4","v":"Sada zdvihačů HF"},null,null,null,null,{"$f":"Cen!E4","v":"20F2800.05"},null,{"$f":"Cen!G4","v":"ZN"},{"$f":"ROUNDUP($M$15*O12+$M$24*O21,0)","v":0},{"$f":"Cen!I4","v":0},0,{"$f":"ROUNDUP($M$15*O12,0)","v":0},0,{"$f":"ROUNDUP($M$24*O21,0)","v":0},0,null,null,"x"]
[null,{"$f":"Cen!A5","v":"Sada teleskopů (480-570mm)"},null,null,null,null,{"$f":"Cen!E5","v":"20F3200.01"},null,{"$f":"Cen!G5","v":"NI"},{"$f":"ROUNDUP($M$15*Q10+$M$24*Q19,0)","v":0},{"$f":"Cen!I5","v":0},0,{"$f":"ROUNDUP($M$15*Q10,0)","v":0},0,{"$f":"ROUNDUP($M$24*Q19,0)","v":0},0,null,null,"x"]
[null,{"$f":"Cen!A6","v":"Sada teleskopů (560-710mm)"},null,null,null,null,{"$f":"Cen!E6","v":"20F3500.01"},null,{"$f":"Cen!G6","v":"NI"},{"$f":"ROUNDUP($M$15*Q11+$M$24*Q20,0)","v":0},{"$f":"Cen!I6","v":0},0,{"$f":"ROUNDUP($M$15*Q11,0)","v":0},0,{"$f":"ROUNDUP($M$24*Q20,0)","v":0},0,null,null,"x"]
[null,{"$f":"Cen!A7","v":"Sada teleskopů (700-900mm)"},null,null,null,null,{"$f":"Cen!E7","v":"20F3800.01"},null,{"$f":"Cen!G7","v":"NI"},{"$f":"ROUNDUP($M$15*Q12+$M$24*Q21,0)","v":0},{"$f":"Cen!I7","v":0},0,{"$f":"ROUNDUP($M$15*Q12,0)","v":0},0,{"$f":"ROUNDUP($M$24*Q21,0)","v":0},0,null,null,"x"]
[null,{"$f":"Cen!A8","v":"Sada teleskopů (760-1040mm)"},null,null,null,null,{"$f":"Cen!E8","v":"20F3900.01"},null,{"$f":"Cen!G8","v":"NI"},{"$f":"ROUNDUP($M$15*Q13+$M$24*Q22,0)","v":0},{"$f":"Cen!I8","v":0},0,{"$f":"ROUNDUP($M$15*Q13,0)","v":0},0,{"$f":"ROUNDUP($M$24*Q22,0)","v":0},0,null,null,"x"]
[null,{"$f":"Cen!A9","v":"Sada krytek HF SERVO-DRIVE, sv.šedá"},null,null,null,null,{"$f":"Cen!E9","v":"21F8000"},null,{"$f":"Cen!G9","v":"HG/T"},{"$f":"SUM(M109,O109,Q109)","v":0},{"$f":"Cen!I9","v":0},0,{"$f":"IF($S$9=2,0,IF($T$42=1,$M$134,0))","v":0},0,{"$f":"IF($S$18=2,0,IF($T$42=1,$O$134,0))","v":0},0,null,null,"x"]
[null,{"$f":"Cen!A10","v":"Sada krytek HF SERVO-DRIVE, tm.šedá"},null,null,null,null,{"$f":"Cen!E10","v":"21F8000"},null,{"$f":"Cen!G10","v":"TGR"},{"$f":"SUM(M110,O110,Q110)","v":0},{"$f":"Cen!I10","v":0},{"$f":"J110*K110","v":0},{"$f":"IF($S$9=2,0,IF($T$42=2,$M$134,0))","v":0},{"$f":"$K110*M110","v":0},{"$f":"IF($S$18=2,0,IF($T$42=2,$O$134,0))","v":0},{"$f":"$K110*O110","v":0},null,null,"x"]
[null,{"$f":"Cen!A11","v":"Sada krytek HF SERVO-DRIVE, bílá"},null,null,null,null,{"$f":"Cen!E11","v":"21F8000"},null,{"$f":"Cen!G11","v":"SW/T"},0,{"$f":"Cen!I11","v":0},0,{"$f":"IF($S$9=2,0,IF($T$42=3,$M$134,0))","v":0},0,{"$f":"IF($S$18=2,0,IF($T$42=3,$O$134,0))","v":0},0,null,null,"x"]
[]
[null,{"$f":"Cen!A12","v":"Sada krytek HF, světle šedá"},null,null,null,null,{"$f":"Cen!E12","v":"20F8000"},null,{"$f":"Cen!G12","v":"HG/T"},0,{"$f":"Cen!I12","v":0},0,{"$f":"IF($S$9=1,0,IF($T$42=1,SUM($M$102:$M$104,0),0))","v":0},0,{"$f":"IF($S$18=1,0,IF($T$42=1,SUM($O$102:$O$104,0),0))","v":0},0,null,null,"x"]
[null,{"$f":"Cen!A13","v":"Sada krytek HF, tmavě šedá"},null,null,null,null,{"$f":"Cen!E13","v":"20F8000"},null,{"$f":"Cen!G13","v":"TGR"},{"$f":"SUM(M114,O114,Q114)","v":0},{"$f":"Cen!I13","v":0},{"$f":"J114*K114","v":0},{"$f":"IF($S$9=1,0,IF($T$42=2,SUM($M$102:$M$104,0),0))","v":0},{"$f":"$K114*M114","v":0},{"$f":"IF($S$18=1,0,IF($T$42=2,SUM($O$102:$O$104,0),0))","v":0},{"$f":"$K114*O114","v":0},null,null,"x"]
[null,{"$f":"Cen!A14","v":"Sada krytek HF, bílá"},null,null,null,null,{"$f":"Cen!E14","v":"20F8000"},null,{"$f":"Cen!G14","v":"SW/T"},0,{"$f":"Cen!I14","v":0},0,{"$f":"IF($S$9=1,0,IF($T$42=3,SUM($M$102:$M$104,0),0))","v":0},0,{"$f":"IF($S$18=1,0,IF($T$42=3,SUM($O$102:$O$104,0),0))","v":0},0,null,null,"x"]
[]
[null,{"$f":"Cen!A15","v":"Závěs CLIP top 120° "},null,null,null,null,{"$f":"Cen!E15","v":"70T5550.TL"},null,{"$f":"Cen!G15","v":"NI"},0,{"$f":"Cen!I15","v":0},0,{"$f":"$M$15*$U$12","v":0},0,{"$f":"$M$24*$U$21","v":0},0,null,null,"x"]
[null,{"$f":"Cen!A16","v":"Závěs CLIP top 120° EXPANDO"},null,null,null,null,{"$f":"Cen!E16","v":"70T558E"},null,{"$f":"Cen!G16","v":"NI"},0,{"$f":"Cen!I16","v":0},0,{"$f":"$M$15*$U$11","v":0},0,{"$f":"$M$24*$U$20","v":0},0]
[null,{"$f":"Cen!A17","v":"Středový závěs CLIP top "},null,null,null,null,{"$f":"Cen!E17","v":"78Z5500T"},null,{"$f":"Cen!G17","v":"NI"},0,{"$f":"Cen!I17","v":0},0,{"$f":"$M$15*$W$12","v":0},0,{"$f":"$M$24*$W$21","v":0},0,null,null,"x"]
[null,{"$f":"Cen!A18","v":"Středový závěs CLIP top EXPANDO"},null,null,null,null,{"$f":"Cen!E18","v":"78Z553ET"},null,{"$f":"Cen!G18","v":"NI"},0,{"$f":"Cen!I18","v":0},0,{"$f":"$M$15*$W$11","v":0},0,{"$f":"$M$24*$W$20","v":0},0]
[null,{"$f":"Cen!A19","v":"Závěs CLIP top pro alurámečky"},null,null,null,null,{"$f":"Cen!E19","v":"72T550A.TL"},null,{"$f":"Cen!G19","v":"NI"},null,{"$f":"Cen!I19","v":0},0,null,0,null,0]
[null,{"$f":"Cen!A20","v":"Střed. závěs CLIP top pro alurámečky"},null,null,null,null,{"$f":"Cen!E20","v":"78Z550AT"},null,{"$f":"Cen!G20","v":"NI"},null,{"$f":"Cen!I20","v":0},0,null,0,null,0]
[null,{"$f":"Cen!A21","v":"Přímá montážní podložka"},null,null,null,null,{"$f":"Cen!E21","v":"175H3100"},null,{"$f":"Cen!G21","v":"NI"},{"$f":"SUM(M123,O123,Q123)","v":0},{"$f":"Cen!I21","v":0},0,{"$f":"SUM($Q$10*2,$Q$11*2,$Q$12*2,$Q$13*2,IF($R$42=2,$U$12,0))*$M$15","v":0},0,{"$f":"SUM($Q$19*2,$Q$20*2,$Q$21*2,$Q$22*2,IF($R$42=2,$U$21,0))*$M$24","v":0},0,null,null,"x"]
[null,{"$f":"Cen!A22","v":"Přímá montážní podložka, EXPANDO"},null,null,null,null,{"$f":"Cen!E22","v":"177H3100E"},null,{"$f":"Cen!G22","v":"NI"},{"$f":"SUM(M124,O124,Q124)","v":0},{"$f":"Cen!I22","v":0},0,{"$f":"IF($R$42=1,$U$12*$M$15,0)","v":0},0,{"$f":"IF($R$42=1,$U$21*$M$24,0)","v":0},0,null,null,"x"]
[null,{"$f":"Cen!A23","v":"Podložka CLIP excentrická"},null,null,null,null,{"$f":"Cen!E23","v":"173H7100"},null,{"$f":"Cen!G23","v":"NI"},{"$f":"SUM(M125,O125,Q125)","v":0},{"$f":"Cen!I23","v":0},0,{"$f":"$M$15*$W$12","v":0},0,{"$f":"$M$24*$W$21","v":0},0,null,null,"x"]
[null,{"$f":"Cen!A24","v":"Adaptér CLIP k teleskopům P"},null,null,null,null,{"$f":"Cen!E24","v":"175H5B00   R"},null,{"$f":"Cen!G24","v":"NI"},null,{"$f":"Cen!I24","v":0},0,null,0,null,0]
[null,{"$f":"Cen!A25","v":"Adaptér CLIP k teleskopům L"},null,null,null,null,{"$f":"Cen!E25","v":"175H5B00   L"},null,{"$f":"Cen!G25","v":"NI"},null,{"$f":"Cen!I25","v":0},0,null,0,null,0]
[null,{"$f":"Cen!A26","v":"Adaptér CLIP ke středovým závěsům"},null,null,null,null,{"$f":"Cen!E26","v":"175H5A00"},null,{"$f":"Cen!G26","v":"NI"},null,{"$f":"Cen!I26","v":0},0,null,0,null,0]
[null,{"$f":"Cen!A27","v":"Omezovač úhlu otevření na 83° "},null,null,null,null,{"$f":"Cen!E27","v":"20F7011"},null,{"$f":"Cen!G27","v":"TGR"},null,{"$f":"Cen!I27","v":0},0,null,0,null,0]
[null,{"$f":"Cen!A28","v":"Omezovač úhlu otevření na 104° "},null,null,null,null,{"$f":"Cen!E28","v":"20F7051"},null,{"$f":"Cen!G28","v":"TGR"},null,{"$f":"Cen!I28","v":0},0,null,0,null,0]
[null,{"$f":"Cen!A151","v":"CLIP top krytka raménka Nikl"},null,null,null,null,{"$f":"Cen!E151","v":"70.1503"},null,{"$f":"Cen!G151","v":"NI"},{"$f":"SUM(M131,O131,Q131)","v":0},{"$f":"Cen!I151","v":0},0,{"$f":"SUM(M$117:M$122)","v":0},0,{"$f":"SUM(O$117:O$122)","v":0},0,null,null,"x"]
[null,{"$f":"Cen!A195","v":"Samořezný vrut do alurámečků"},null,null,null,null,{"$f":"Cen!E195","v":"660.0950"},null,{"$f":"Cen!G195","v":"NI"},{"$f":"SUM(M132,O132,Q132)","v":0},{"$f":"Cen!I195","v":0},{"$f":"J132*K132","v":0},{"$f":"SUM(SUM(M117:M125)*2, -M117*2)","v":0},{"$f":"$K132*M132","v":0},{"$f":"SUM(SUM(O117:O125)*2, -O117*2)","v":0},{"$f":"$K132*O132","v":0},null,null,"x"]
[null,null,null,null,null,null,null,null,null,null,null,{"$f":"J133*K133","v":0},null,0,null,0]
[null,{"$f":"Cen!A199","v":"SERVO-DRIVE jednotka (sada)"},null,null,null,null,{"$f":"Cen!E199","v":"21FA000"},null,{"$f":"Cen!G199","v":"HGR"},{"$f":"SUM(M134,O134,Q134)","v":0},{"$f":"Cen!I199","v":0},{"$f":"J134*K134","v":0},{"$f":"IF($S$9=2,0,$M$15)","v":0},0,{"$f":"IF($S$18=2,0,$M$24)","v":0},0,null,null,"x"]
[null,{"$f":"Cen!A200","v":"SERVO-DRIVE jednotka (sada) pro HK top"},null,null,null,null,{"$f":"Cen!E200","v":"23KA000"},null,{"$f":"Cen!G200","v":"HGR"},null,{"$f":"Cen!I200","v":0},{"$f":"J135*K135","v":0},null,0,null,0]
[]
[]
[null,null,null,null,null,null,null,null,null,null,{"$f":"List!$C$59&\" \"","v":"Cena celkem bez DPH "},{"$f":"SUM(L102:L136)","v":0},null,{"$f":"SUM(N102:N137)","v":0},null,{"$f":"SUM(P102:P137)","v":0},null,{"$f":"SUM(R102:R137)","v":0}]
[]
[null,null,null,null,null,null,null,null,null,null,null,{"$f":"List!$C$149","v":"Zpět"}]
[]
[]
[]
[]
[]
[]
[]
[]
[]
[]
[]
[]
[]
[]
[]
[]
[]
[]
[]
[]
[]
[]
[]
[]
[]
[]
[]
[]
[]
[]
[]
[]
[]
[]
[]
[]
[]
[]
[]
[]
[]
[]
[]
[]
[]
[]
[]
[]
[]
[]
[]
[]
[]
[]
[]
[]
[]
[]
[null,{"$f":"List!$C$71","v":"Výpočet hmotnosti čel"}]
[null,null,{"$f":"List!$C$161&\"  \"","v":"Provedení čel  "},null,null,null,null,null,{"$f":"IF(U206=3,IF(H200=0,N203,\" \"),IF(H200>0,N204,\" \"))","v":" "},null,null,null,null,{"$f":"IF($U$206=1,$U$227,IF($U$206=2,$U$228,$U$229&\" - \"&$N$210&\"mm\"))","v":"Alurámečky s 4mm sklem"},null,null,null,null,{"$f":"Menu!$Q$205","v":2500}]
[null,null,null,null,null,null,null,null,null,null,null,null,null,{"$f":"\" \"&List!$C$224","v":" Změnit objemovou hmotnost "}]
[null,null,null,null,null,null,null,null,null,null,null,null,null,{"$f":"\" \"&List!$C$225&\" [kg/m3]\"","v":" Zadejte objemovou hmotnost  [kg/m3]"}]
[null,null,null,null,null,null,null,null,null,null,null,null,null,{"$f":"\" \"&List!$C$226&\" [mm]\"","v":" Zadejte sílu skla [mm]"}]
[null,null,null,null,null,null,null,null,null,null,null,null,null,{"$f":"\" \"&List!$C$221&\" '\"&List!$C$89&\"'\"","v":" Hodnota platí jen pro volbu 'Alurámečky s jiným sklem'"}]
[null,null,null,null,null,{"$f":"D9","v":"Korpus A"},null,null,null,null,null,null,null,null,null,null,null,null,null,"váha spoj.","tl. skla","typ alu"]
[null,{"$f":"List!$C$72&\" KB [mm]       \"","v":"Šířka korpusu KB [mm]       "},null,null,null,null,null,{"$f":"H10","v":0},null,null,null,null,null,{"$f":"H206*H207*H208","v":0},null,null,null,null,{"$f":"IF($V$206=1,$M$236,$M$237)","v":0.62},{"$f":"$M$238*2","v":1.22},1,{"$f":"$O$4","v":1}]
[null,{"$f":"List!$C$73&\" KH [mm]       \"","v":"Výška korpusu KH [mm]       "},null,null,null,null,null,{"$f":"H11","v":0},null,null,null,null,null,{"$f":"N206/1000000000","v":0},3,null,null,null,"váha alu",{"$f":"SUM(H206*4,(H207-180)*2)*S206/1000","v":-0.22319999999999998},"A plocha B"]
[null,{"$f":"List!$C$77&\" TS [mm] \"","v":"Síla čela TS [mm] "},null,null,null,null,null,null,null,null,null,null,null,{"$f":"Menu!$L$30","v":760},{"$f":"List!$C$84&\" (\"&N208&\" kg/m3)\"","v":"MDF (760 kg/m3)"},null,null,null,{"$f":"$S$200*4/1000","v":10},{"$f":"IF($V$206=1,U208*S208,V208*S208)","v":0.128},{"$f":"SUM(($H$206-80)*($H$207-160)/1000000)","v":1.2800000000000001E-2},{"$f":"SUM(($H$206-6)*($H$207-15)/1000000)","v":9.0000000000000006E-5},"4mm"]
[null,{"$f":"List!$C$78&\" [kg] \"","v":"Hmotnost úchytky [kg] "},null,null,null,null,null,null,{"$f":"IF(SUM(H206,H207)=0,\" \",IF(H209=0,\" ● \"&List!$C$112,\" \"))","v":" "},null,null,null,null,{"$f":"Menu!$L$31","v":680},{"$f":"List!$C$85&\" (\"&N209&\" kg/m3)\"","v":"Dřevotříska (680 kg/m3)"},null,null,null,{"$f":"$S$200*5/1000","v":12.5},{"$f":"IF($V$206=1,U209*S209,V209*S209)","v":0.16},{"$f":"SUM(($H$206-80)*($H$207-160)/1000000)","v":1.2800000000000001E-2},{"$f":"SUM(($H$206-6)*($H$207-15)/1000000)","v":9.0000000000000006E-5},"5mm"]
[null,{"$f":"List!$C$76&\" [kg] \"","v":"Vypočtená hmotnost čela [kg] "},null,null,null,null,null,{"$f":"IF(S211=0,0,S211+H209)","v":0},null,null,null,null,{"$f":"IF(H206*H207*H208=0,0,IF(O207=1,N207*N208+H209,IF(O207=2,N207*N209+H209,N207*N210+H209)))","v":0},{"$f":"$H$200","v":0},{"$f":"List!$C$86","v":"Jiné - volitelná hustota"},null,null,null,{"$f":"$S$200*$H$200/1000","v":0},{"$f":"IF($V$206=1,U210*S210,V210*S210)","v":0},{"$f":"SUM(($H$206-80)*($H$207-160)/1000000)","v":1.2800000000000001E-2},{"$f":"SUM(($H$206-6)*($H$207-15)/1000000)","v":9.0000000000000006E-5},"jiné"]
[null,null,{"$f":"IF(H210>0,IF(H209=0,$N$227,\" \"),\" \")","v":" "},null,null,null,null,null,null,null,null,null,null,null,null,null,null,null,{"$f":"IF(OR(AND(U206=3, $H$200=0), H206*H207=0), 0, SUM(IF(U206=1,T208,IF(U206=2,T209,T210)),T207,T206))","v":0}]
[]
[]
[null,null,null,null,null,{"$f":"D18","v":"Korpus B"},null,null,null,null,null,null,null,null,null,null,null,null,null,"váha spoj.","tl. skla","typ alu"]
[null,{"$f":"List!$C$72&\" KB [mm]       \"","v":"Šířka korpusu KB [mm]       "},null,null,null,null,null,{"$f":"H19","v":0},null,null,null,null,null,{"$f":"H215*H216*H217","v":0},null,null,null,null,{"$f":"IF($V$206=1,$M$236,$M$237)","v":0.62},{"$f":"$M$238*2","v":1.22},{"$f":"$U$206","v":1},{"$f":"$V$206","v":1}]
[null,{"$f":"List!$C$73&\" KH [mm]       \"","v":"Výška korpusu KH [mm]       "},null,null,null,null,null,{"$f":"H20","v":0},null,null,null,null,null,{"$f":"N215/1000000000","v":0},{"$f":"O207","v":3},null,null,null,"váha alu",{"$f":"SUM(H215*4,(H216-180)*2)*S215/1000","v":-0.22319999999999998},"A plocha B"]
[null,{"$f":"List!$C$77&\" TS [mm] \"","v":"Síla čela TS [mm] "},null,null,null,null,null,null,null,null,null,null,null,{"$f":"$N$208","v":760},{"$f":"$O$208","v":"MDF (760 kg/m3)"},null,null,null,{"$f":"S208","v":10},{"$f":"IF($V$206=1,U217*S217,V217*S217)","v":0.128},{"$f":"SUM(($H$215-80)*($H$216-160)/1000000)","v":1.2800000000000001E-2},{"$f":"SUM(($H$215-6)*($H$216-15)/1000000)","v":9.0000000000000006E-5},"4mm"]
[null,{"$f":"List!$C$78&\" [kg] \"","v":"Hmotnost úchytky [kg] "},null,null,null,null,null,null,{"$f":"IF(SUM(H215,H216)=0,\" \",IF(H218=0,\" ● \"&List!$C$112,\" \"))","v":" "},null,null,null,null,{"$f":"$N$209","v":680},{"$f":"$O$209","v":"Dřevotříska (680 kg/m3)"},null,null,null,{"$f":"S209","v":12.5},{"$f":"IF($V$206=1,U218*S218,V218*S218)","v":0.16},{"$f":"SUM(($H$215-80)*($H$216-160)/1000000)","v":1.2800000000000001E-2},{"$f":"SUM(($H$215-6)*($H$216-15)/1000000)","v":9.0000000000000006E-5},"5mm"]
[null,{"$f":"List!$C$76&\" [kg] \"","v":"Vypočtená hmotnost čela [kg] "},null,null,null,null,null,{"$f":"IF(S220=0,0,S220+H218)","v":0},null,null,null,null,{"$f":"IF(H215*H216*H217=0,0,IF(O216=1,N216*N217+H218,IF(O216=2,N216*N218+H218,N216*N219+H218)))","v":0},{"$f":"$N$210","v":0},{"$f":"$O$210","v":"Jiné - volitelná hustota"},null,null,null,{"$f":"S210","v":0},{"$f":"IF($V$206=1,U219*S219,V219*S219)","v":0},{"$f":"SUM(($H$215-80)*($H$216-160)/1000000)","v":1.2800000000000001E-2},{"$f":"SUM(($H$215-6)*($H$216-15)/1000000)","v":9.0000000000000006E-5},"jiné"]
[null,null,{"$f":"IF(H219>0,IF(H218=0,$N$227,\" \"),\" \")","v":" "},null,null,null,null,null,null,null,null,null,null,null,null,null,null,null,{"$f":"IF(OR(AND(U215=3, $H$200=0), H215*H216=0), 0, SUM(IF(U215=1,T217,IF(U215=2,T218,T219)),T216,T215))","v":0}]
[]
[]
[]
[null,null,null,null,null,null,{"$f":"List!$C$149","v":"Zpět"}]
[]
[]
[null,null,{"$f":"List!$C$217&\" \"&List!$C$218","v":"Upozornění: Vypočtené hodnoty jsou pouze orientační.  Firma Blum ani prodejci neručí za jejich správnost."},null,null,null,null,null,null,null,null,null,null,{"$f":"List!$C$95&\"!\"","v":"Není započtena hmotnost úchytky!"},null,null,null,null,null,null,{"$f":"List!$C$87","v":"Alurámečky s 4mm sklem"}]
[null,null,null,null,null,null,null,null,null,null,null,null,null,null,null,null,null,null,null,null,{"$f":"List!$C$88","v":"Alurámečky s 5mm sklem"}]
[null,null,null,null,null,null,null,null,null,null,null,null,null,null,null,null,null,null,null,null,{"$f":"List!$C$89","v":"Alurámečky s jiným sklem"}]
[]
[]
[]
[]
[]
[null,null,null,null,"Hmotnost alurámečků [kg/bm]",null,{"$f":"List!$C$368","v":"Podle Úvodu"},{"$f":"List!$C$58","v":"Změna"}]
[null,null,null,null,null,{"$f":"List!$C$373&\"  \"","v":"S vloženým sklem  "},{"$f":"Menu!$Q215","v":0.62},null,null,null,null,null,{"$f":"IF($H236>0,$H236,$G236)","v":0.62}]
[null,null,null,null,null,{"$f":"List!$C$374&\"  \"","v":"S naloženým nebo nalepeným sklem  "},0.65,null,null,null,null,null,{"$f":"IF($H237>0,$H237,$G237)","v":0.65}]
[null,null,null,null,null,{"$f":"List!$C$377&\" [kg/set] *  \"","v":"Hmotnost spojovacího materiálu [kg/set] *  "},0.61,null,null,null,null,null,{"$f":"IF($H238>0,$H238,$G238)","v":0.61}]
[]
[null,null,{"$f":"\"        * \"& List!$C$378&\"  \"","v":"        * Rohové spojky, šrouby, těsnění pro jeden rámeček  "}]
[]
[]
[null,null,null,null,null,null,{"$f":"List!$C$149","v":"Zpět"}]
[]
[]
[]
[]
[]
[]
[]
[]
[]
[]
[]
[]
[]
[]
[]
[]
[]
[]
[]
[]
[]
[]
[]
[]
[]
[]
[]
[]
[]
[]
[]
[]
[]
[]
[]
[]
[]
[]
[]
[]
[]
[]
[]
[]
[]
[]
[]
[]
[]
[]
[]
[]
[]
[]
[]
[null,{"$f":"List!$C$176","v":"Výpočet asymetrických čel"}]
[]
[null,{"$f":"\"   \"&List!$C$179","v":"   Parametry korpusu"}]
[null,{"$f":"List!$C$73&\" KH [mm] \"","v":"Výška korpusu KH [mm] "},null,null,null,null,null,null,null,null,{"$f":"IF(SUM($I$303:$J$306,$I$313)<>0,IF($I$302=0,\" \"&List!$C$111,\" \"),\" \")","v":" "}]
[null,{"$f":"List!$C$182&\" [mm] \"","v":"Mezera nahoře [mm] "}]
[null,{"$f":"List!$C$183&\" [mm] \"","v":"Mezera mezi čely [mm] "},null,null,null,null,null,null,null,null,{"$f":"IF($I$302=0,\" \",IF($I$304<1.5,\" min. 1,5 mm!\",\" \"))","v":" "}]
[null,{"$f":"List!$C$184&\" [mm] \"","v":"Mezera dole [mm] "}]
[null,{"$f":"List!$C$185&\" [mm] \"","v":"Síla dna korpusu [mm] "}]
[]
[null,{"$f":"\"   \"&List!$C$187","v":"   Výsledky plánování"}]
[null,null,null,null,null,null,{"$f":"List!$C$188&\" [mm] \"","v":"Možné výšky čel [mm] "},null,null,null,null,null,null,null,null,{"$f":"ROUNDUP((+$I$302-$I$303-$I$304-$I$305)/2,0)","v":0},{"$f":"IF($P$309<272,70,47)","v":70}]
[null,{"$f":"List!$C$189","v":"Vrchní čelo (FHo) v rozmezí"},null,null,null,null,"min.",{"$f":"IF($P$309=0,0,IF($P$309<236,$Q$314,IF($P$309>516,$Q$314,$P$309)))","v":0},"max.",{"$f":"IF($P$309=0,0,IF($Q$314=$H$310,$Q$314,IF($P$314<$P$313,$P$314,$P$313)))","v":0},null,null,null,null,null,{"$f":"ROUNDDOWN(($I$302-$I$303-$I$304-$I$305-$Q$309-19-$I$306+$I$305)/1.5,0)","v":-59},{"$f":"IF($P$309<272,70,47)","v":70}]
[null,{"$f":"List!$C$190","v":"Spodní čelo (FHu) v rozmezí"},null,null,null,null,"min.",{"$f":"IF($J$311=$Q$314,$Q$314,SUM($I$302-$I$303-$I$304-$I$305-$J$310))","v":0},"max.",{"$f":"IF($Q$314=$H$310,$Q$314,(+$I$302-$I$303-$I$304-$I$305)/2)","v":0},null,null,null,null,null,{"$f":"ROUNDDOWN(($I$302-$I$303-$I$304-$I$305-$Q$310-19-$I$306+$I$305)/1.5,0)","v":-59},{"$f":"IF($P$309<272,70,47)","v":70}]
[null,null,null,null,null,null,null,null,null,null,null,null,null,null,null,{"$f":"ROUNDDOWN(($I$302-$I$303-$I$304-$I$305-$Q$311-19-$I$306+$I$305)/1.5,0)","v":-59},{"$f":"IF($P$309<272,70,47)","v":70}]
[null,{"$f":"List!$C$196&\" FHo [mm] \"","v":"Výška vrchního čela FHo [mm] "},null,null,null,null,null,null,null,null,{"$f":"IF($I$302=0,\" \",IF($I$313>$J$310,V313,IF($I$313<$H$310,$S$313,\" \")))","v":" "},null,null,null,null,{"$f":"ROUNDDOWN(($I$302-$I$303-$I$304-$I$305-$Q$312-19-$I$306+$I$305)/1.5,0)","v":-59},null,null,{"$f":"\" min. \"&TEXT($H$310,\"#\")&\" mm!\"","v":" min.  mm!"},null,null,{"$f":"\" max. \"&TEXT($J$310,\"#\")&\" mm!\"","v":" max.  mm!"}]
[null,{"$f":"List!$C$197&\" FHu [mm] \"","v":"Výška spodního čela FHu [mm] "},null,null,null,null,null,null,{"$f":"IF($I$313<$H$310,$Q$314,IF($I$313>$J$310,$Q$314,+$I$302-$I$303-$I$304-$I$305-$I$313))","v":0},null,null,null,null,null,null,{"$f":"+(1040-$I$303-$I$304-$I$305)/2","v":520},{"$f":"List!C193","v":"nelze"}]
[null,{"$f":"List!$C$198&\" H [mm] \"","v":"Pozice zdvihače H [mm] "},null,null,null,null,null,null,{"$f":"IF($P$309=0,0,IF($I$314=$Q$314, $Q$314,$I$313*0.6-$Q$315+$I$303))","v":0},null,null,null,null,null,null,null,{"$f":"IF($I$313<272,28,57)","v":28}]
[null,{"$f":"List!$C$199&\" X [mm] \"","v":"Pozice mont. podložky pro teleskopy X [mm] "},null,null,null,null,null,null,{"$f":"IF($P$309=0,0,IF($I$314=$Q$314,$Q$314,$I$313*0.5+$Q$316))","v":0},null,null,null,null,null,null,null,{"$f":"IF($I$313<272,70,47)","v":70}]
[null,{"$f":"List!$C$200&\" TKH [mm] * \"","v":"Teoretická výška korpusu TKH [mm] * "},null,null,null,null,null,null,{"$f":"IF($I$314=$Q$314,$Q$314,IF($Q$317>479.99,IF($Q$317<1040.01,$Q$317,$Q$314),\" \"))","v":" "},null,null,null,null,null,null,"TKH",{"$f":"SUM($I$313*2+$I$303+$I$304+$I$305)","v":0}]
[]
[null," *",{"$f":"List!$C$202","v":"Tuto výšku zadejte do tabulky pro plánování výklopů"}]
[]
[]
[]
[]
[null,null,null,null,null,null,null,null,{"$f":"List!$C$149","v":"Zpět"}]
[]
[]
[]
[]
[]
[]
[]
[]
[]
[]
[]
[]
[]
[]
[]
[]
[]
[]
[]
[]
[]
[]
[]
[]
[]
[]
[]
[]
[]
[]
[]
[]
[]
[]
[]
[]
[]
[]
[]
[]
[]
[]
[]
[]
[]
[]
[]
[]
[]
[]
[]
[]
[]
[]
[]
[]
[]
[]
[]
[]
[]
[]
[]
[]
[]
[]
[]
[]
[]
[]
[]
[]
[]
[]
[null,"      AVENTOS HF"]
[]
[null,{"$f":"List!$C$281","v":"Potřebný zdvihač se určí pomocí ukazatele výkonnosti."}]
[null,{"$f":"List!$C$282","v":"Ukazatel výkonnosti závisí na hmotnosti dolního i horního čílka, a rovněž na výšce korpusu."}]
[]
[null,{"$f":"\" \"&List!$C$295","v":" Tak se to dělá:"}]
[null,null,null,{"$f":"List!$C$80&\" = \"","v":"Ukazatel výkonnosti = "},{"$f":"List!$C$298&\" [kg]\"","v":"výška korpusu KH [mm] x hmotnost obou čel včetně úchytky [kg]"}]
[]
[]
[]
[]
[]
[null,{"$f":"List!$C$289","v":"Pokud znáte hmotnost čela, můžete ji zadat, jinak použijte \"Výpočet hmotnosti\"."}]
[null,{"$f":"List!$C$290","v":"V tabulce má přednost zadaná hodnota. Chcete-li použít vypočtenou hmotnost, smažte zadanou hodnotu."}]
[]
[null,{"$f":"List!$C$301&\". \"&List!$C$302&\".\"","v":"Délka teleskopů závisí na výšce korpusu KH. U asymetrických čel se použije teoretická výška TKH."}]
[]
[null,{"$f":"\" \"&List!$C$144&\":\"","v":" Asymetrická čela:"}]
[null,{"$f":"\" \"&List!$C$299","v":" Teoretická výška korpusu (TKH) = výška horního čela (FHo) x 2 (včetně mezer)"}]
[]
[null,{"$f":"List!$C$293","v":"U asymetrických čel musí být větší čelo nahoře!"}]
[]
[null,{"$f":"List!$C$304","v":"Pokud zadáte hodnotu TKH, použije se pro určení délky teleskopů"}]
[null,{"$f":"List!$C$305","v":"Nemáte-li asymetrická čela, nechte políčko prázdné."}]
[null,{"$f":"List!$C$306&\" ' \"&List!$C$176&\"' \"","v":"Pro výpočet TKH můžete použít ' Výpočet asymetrických čel' "}]
[]
[]
[null,{"$f":"List!$C$284","v":"Chcete-li změnit barvu krytek, přejděte na \"Úvod\""}]
[]
[null,{"$f":"List!$C$383","v":"Věnujte pozornost výběru alurámečků."}]
[null,{"$f":"List!$C$384","v":"Vyberte, který typ lépe odpovídá tvaru použitého alurámečku."}]
[null,{"$f":"List!$C$385","v":"Způsob osazení skla do rámečku výrazně ovlivňuje plochu skla a tím i hmotnost!"}]
[]
[null,null,{"$f":"\"  \"&List!$C$373&\"  \"","v":"  S vloženým sklem  "}]
[]
[null,null,{"$f":"\"  \"&List!$C$374&\"  \"","v":"  S naloženým nebo nalepeným sklem  "}]
[]
[null,null,null,null,null,null,null,null,null,null,null,{"$f":"List!$C$149","v":"Zpět"}]

{"sheet":"HFw","index":9,"n_rows":435,"n_cols":46,"rows_kept":435,"cut":false,"hidden":false,"merged":[[8,19,8,20],[14,1,14,6],[17,19,17,20],[9,43,9,44],[11,43,12,46],[0,43,0,48],[5,43,6,44],[7,43,7,44],[8,43,8,44],[5,45,6,45],[5,46,6,46],[316,8,316,9],[314,8,314,9],[315,8,315,9],[207,1,207,6],[216,1,216,6],[313,8,313,9],[309,6,309,9],[223,6,223,7],[209,1,209,6],[308,1,308,9],[306,8,306,9],[305,1,305,7],[226,2,228,10],[302,8,302,9],[305,8,305,9],[302,1,302,7],[97,0,156,0],[10,1,10,3],[17,3,17,7],[303,1,303,7],[303,8,303,9],[197,0,248,0],[208,1,208,6],[205,1,205,6],[217,1,217,6],[218,1,218,6],[298,0,352,0],[206,1,206,6],[313,1,313,7],[309,1,309,5],[314,1,314,7],[301,1,301,9],[26,19,26,20],[12,1,12,6],[13,1,13,6],[22,1,22,6],[23,1,23,6],[20,1,20,6],[21,1,21,6],[18,1,18,6],[19,1,19,3],[26,1,28,9],[1,9,1,10],[1,1,1,2],[1,3,1,4],[1,5,1,6],[1,7,1,8],[3,5,3,10],[8,3,8,7],[6,1,6,2],[11,1,11,6],[405,4,405,11],[324,8,324,9],[6,6,6,7],[9,1,9,6],[204,5,204,7],[204,1,204,4],[200,3,200,7],[311,1,311,5],[304,1,304,7],[317,8,317,9],[317,1,317,7],[304,8,304,9],[398,0,439,0],[213,5,213,7],[214,1,214,6],[215,1,215,6],[306,1,306,7],[316,1,316,7],[315,1,315,7],[310,1,310,5]]}
[]
[null,"AVENTOS HF",null,"AVENTOS HS",null,"AVENTOS HL",null,"AVENTOS HK top",null,"AVENTOS HK-S",null,"AVENTOS HK-XS",null,null,null,null,null,null,3,null,null,null,null,null,null,{"$f":"List!$C$135","v":"Jdi na"}]
[]
[null,{"$f":"List!$C$15","v":"Dřevěné čelo"},null,null,null,{"$f":"N200&\"       \"","v":"Dřevotříska (680 kg/m3) A~18/ B~18mm       "},null,null,null,null,null,null,null,null,null,null,null,null,{"$f":"\" \"&List!$C$39&\" A \"","v":" Cena za korpus A "},null,null,null,null,null,null,{"$f":"List!$C$136","v":"Úvod plánování"}]
[null,null,null,null,null,null,null,null,null,null,null,null,null,null,null,null,null,null,{"$f":"\" \"&List!$C$39&\" B \"","v":" Cena za korpus B "},null,null,null,null,null,null,{"$f":"List!$C$137","v":"Nápověda"}]
[null,null,null,null,null,null,null,null,null,null,null,null,null,null,null,null,null,null,{"$f":"\" \"&List!$C$59","v":" Cena celkem bez DPH"},null,null,null,null,null,null,null,null,null,null,null,null,null,null,null,null,null,null,null,null,null,null,null,null,{"$f":"\"  \"&List!$C$80&\" LF \"","v":"  Ukazatel výkonnosti LF "},null,{"$f":"List!$C$79","v":"Zdvihací mechanizmus"}]
[null,{"$f":"List!$C$142","v":"Soupis kování"},null,null,null,null,{"$f":"IF(S2=1,$N$138,IF($S$2=2,$P$138,IF($S$2=3,$L$138,0)))","v":0},null,null,null,null,null,null,null,null,null,null,null,null,null,null,null,null,null,null,{"$f":"List!$C$141","v":"Doplňky"}]
[null,null,null,null,null,null,null,{"$f":"IF(AND(OR($S$9=1, $S$18=1), $L$138>0), $N$32, \" \")","v":" "},null,null,null,null,null,null,null,null,null,null,null,null,null,null,null,null,null,null,null,null,null,null,null,null,null,null,null,null,null,null,null,null,null,null,null,{"$f":"\"  2.600 -  5.500 (1 \"&List!$C$153&\" LF 960 - 2.650)\"","v":"  2.600 -  5.500 (1 ks LF 960 - 2.650)"},null,"20F2200.05"]
[null,"SERVO-DRIVE  ",null,{"$f":"List!$C$62&\" A\"","v":"Korpus A"},null,null,null,null,null,null,null,null,null,"zdvih A",null,"teleskop",null,null,{"$f":"IF($T$9=TRUE,1,2)","v":1},true,null," - SRVDRV",null,null,null,{"$f":"List!$C$139","v":"Přehled korpusů"},null,null,null,null,null,null,null,null,null,null,null,null,null,null,null,null,null,"  5.350 - 10.150",null,"20F2500.05"]
[null,{"$f":"List!$C$72&\" KB [mm] \"","v":"Šířka korpusu KB [mm] "},null,null,null,null,null,null,{"$f":"IF(H10=0,\" \",IF($H10<220,\" min. 220mm\",IF($H10>1800,\" max. 1 800mm\",\" \")))&IF(H15>0,IF(H10=0,\"● \"&List!$C$111,\" \"),\" \")","v":"  "},null,null,null,null,"F22",{"$f":"IF($H14<Cen!$F$240,0.5,IF($H14<Cen!$F$241,1,0))","v":0.5},"F32",{"$f":"SUM(IF($P14<Cen!$F$248,IF($H14<Cen!$F$240,0.5,1),0),IF($P14<Cen!$F$248,IF($H14>Cen!$E$244,0.5,0),0))*IF($P14<480,0,1)","v":0},null,null,"Závěs A",null,"Závěs As",null,null,null,{"$f":"List!$C$140","v":"Objednávka"},null,null,null,null,null,null,null,null,null,null,null,null,null,null,null,null,null,{"$f":"\"  9.000 -  17.250 (3 \"&List!$C$153&\" LF 13.500 - 25.900)\"","v":"  9.000 -  17.250 (3 ks LF 13.500 - 25.900)"},null,"20F2800.05"]
[null,{"$f":"List!$C$73&\" [mm]\"","v":"Výška korpusu [mm]"},null,null,"TKH * ",null,"KH ",null,{"$f":"IF(H11=0,\" \",IF($H11<480,\" min. 480mm\",IF($H11>1040,\" max. 1 040mm\",\" \")))&IF(H15>0,IF(H11=0,\"● \"&List!$C$111,\" \"),\" \")","v":"  "},null,null,null,null,"F25",{"$f":"IF($H14<Cen!$E$242,0,IF($H14<Cen!$F$242,1,0))","v":0},"F35",{"$f":"IF($P14<Cen!$F$249,IF($P14>Cen!$E$249,IF($H14<Cen!$F$240,0.5,1),0),0)+IF($P14<Cen!$F$249,IF($P14>Cen!$E$249,IF($H14>Cen!$E$244,0.5,0),0),0)","v":0},null,null,"T558E",{"$f":"IF($N$42=1,IF($H10>1199,3,IF($T15>11.9,3,2)),0)+IF(N$42=1,IF($H10>1799,1,IF($T15>19.9,1,0)),0)","v":0},"Z553E",{"$f":"IF($P$42=1,IF($H10>1199,3,IF($T15>11.9,3,2)),0)+IF($P$42=1,IF($H10>1799,1,IF($T15>19.9,1,0)),0)","v":0}]
[null,{"$f":"List!$C$74&\" [kg] ** \"","v":"Hmotnost čela včetně úchytky [kg] ** "},null,null,null,null,null,null,{"$f":"IF($H15=0,\" \",IF(SUM($H12,$H13)=0,$N$34,\" \"))&IF($H15>0,IF($H12>0,$N$35,\" \"),\" \")","v":"  "},null,null,null,null,"F28",{"$f":"IF($H14<Cen!$E$243,0,IF($H14<Cen!$F$243,1,IF($H14>Cen!$E$244,1.5,0)))","v":0},"F38",{"$f":"IF($P14<Cen!$F$250,IF($P14>Cen!$E$250,IF($H14<Cen!$F$240,0.5,1),0),0)+IF($P14<Cen!$F$250,IF($P14>Cen!$E$250,IF($H14>Cen!$E$244,0.5,0),0),0)","v":0},null,null,"T5550",{"$f":"IF($N$42=2,IF($H10>1199,3,IF($T15>11.9,3,2)),0)+IF($N$42=2,IF($H10>1799,1,IF($T15>19.9,1,0)),0)","v":2},"Z5500",{"$f":"IF($P$42=2,IF($H10>1199,3,IF($T15>11.9,3,2)),0)+IF($P$42=2,IF($H10>1799,1,IF($T15>19.9,1,0)),0)","v":2},null,null,null,null,null,null,null,null,null,null,null,null,null,null,null,null,null,null,null,null,{"$f":"List!$C$80&\" LF = \"&List!$C$298&\" [kg]\"","v":"Ukazatel výkonnosti LF = výška korpusu KH [mm] x hmotnost obou čel včetně úchytky [kg]"}]
[null,{"$f":"List!$C$76&\" [kg]       \"","v":"Vypočtená hmotnost čela [kg]       "},null,null,null,null,null,{"$f":"$H$210","v":0},{"$f":"IF($H15>0,IF($H13>0,IF($H12=0,$N$35,\" \"),\" \"),\" \")","v":" "},null,null,null,null,null,null,"F39",{"$f":"IF($P14<Cen!$F$251,IF($P14>Cen!$E$251,IF($H14<Cen!$F$240,0.5,1),0),0)+IF($P14<Cen!$F$251,IF($P14>Cen!$E$251,IF($H14>Cen!$E$244,0.5,0),0),0)","v":0},null,null,null,null,null,null,null,null,{"$f":"\" \"&List!$C$177&\" A\"","v":" Výpočet hmotnosti A"}]
[null,{"$f":"List!$C$80&\" LF \"","v":"Ukazatel výkonnosti LF "},null,null,null,null,null,{"$f":"IF(H11<1041,IF(H11>479,IF(H12>0,H11*H12,H11*H13),0),0)","v":0},{"$f":"IF(AND(H14>0, H14<960), $T$38, IF($H14>25900,$N$38,IF($H14>17250,$N$39,\" \"))&IF(H14>25900,\" \",IF(AND($S9=1,$H14>17250),$Q$39,\"  \")))","v":"   "},null,null,null,null,null,"výška korpusu",{"$f":"IF(F11>0,IF(F11>=H11,F11,0),H11)","v":0}]
[null,{"$f":"List!$C$69&\" \"","v":"Počet skříněk "},null,null,null,null,null,null,{"$f":"IF(AND(M15>0, H14>959, O10=0.5), $U$39, \" \")","v":" "},null,null,null,{"$f":"IF($H10*$P14=0,0,IF(SUM($H12,$H13)=0,0,IF($P14>Cen!$F$252,0,IF(P14<Cen!$E$248,0,IF(OR(H14<Cen!$E$240, H14>Cen!$F$244),0,$H15)))))","v":0},"← Hlavní údaj",null,null,null,null,"hmot =",{"$f":"IF(H12>0,H12,H13)","v":0},{"$f":"IF(SUM(H12,H13)=0,0,IF(H12>0,1,2))","v":0},"zadaná / vypočtená",null,null,null,{"$f":"\" \"&List!$C$176","v":" Výpočet asymetrických čel"},null,null,null,null,null,null,null,null,null,null,null,null,null,null,null,null,null,{"$f":"List!$C$149","v":"Zpět"}]
[null,{"$f":"IF(H15>0,IF(U15=0,\" \",IF(U15=1,$N$47,$N$48)),\" \")&IF(H15>0,IF(U15=0,\" \",IF(U15=1,$N$49,$N$50)),\" \")","v":"  "}]
[null,{"$f":"IF(F11=0,\" \",IF(F11>1040,\"TKH = max. 1040!\",IF(F11<480,\"TKH = min. 480!\",IF(F11<H11,$N$53,IF(H15>0,IF(F11=0,\" \",IF(F11>0,$N$52,\" \")),\" \")))))","v":" "}]
[null,"SERVO-DRIVE  ",null,{"$f":"List!$C$62&\" B\"","v":"Korpus B"},null,null,null,null,null,null,null,null,null,"zdvih B",null,"teleskop",null,null,{"$f":"IF($T$18=TRUE,1,2)","v":2},false,null," - SRVDRV",null,null,null,{"$f":"\" \"&List!$C$361","v":" Ověření síly zdvihače"}]
[null,{"$f":"List!$C$72&\" KB [mm] \"","v":"Šířka korpusu KB [mm] "},null,null,null,null,null,null,{"$f":"IF(H19=0,\" \",IF($H19<220,\" min. 220mm\",IF($H19>1800,\" max. 1 800mm\",\" \")))&IF(H24>0,IF(H19=0,\"● \"&List!$C$111,\" \"),\" \")","v":"  "},null,null,null,null,"F22",{"$f":"IF($H23<Cen!$F$240,0.5,IF($H23<Cen!$F$241,1,0))","v":0.5},"F32",{"$f":"SUM(IF($P23<Cen!$F$248,IF($H23<Cen!$F$240,0.5,1),0),IF($P23<Cen!$F$248,IF($H23>Cen!$E$244,0.5,0),0))*IF($P23<480,0,1)","v":0},null,null,"Závěs B",null,"Závěs Bs"]
[null,{"$f":"List!$C$73&\" [mm]\"","v":"Výška korpusu [mm]"},null,null,"TKH * ",null,"KH ",null,{"$f":"IF(H20=0,\" \",IF($H20<480,\" min. 480mm\",IF($H20>1040,\" max. 1 040mm\",\" \")))&IF(H24>0,IF(H20=0,\"● \"&List!$C$111,\" \"),\" \")","v":"  "},null,null,null,null,"F25",{"$f":"IF($H23<Cen!$E$242,0,IF($H23<Cen!$F$242,1,0))","v":0},"F35",{"$f":"IF($P23<Cen!$F$249,IF($P23>Cen!$E$249,IF($H23<Cen!$F$240,0.5,1),0),0)+IF($P23<Cen!$F$249,IF($P23>Cen!$E$249,IF($H23>Cen!$E$244,0.5,0),0),0)","v":0},null,null,"T558E",{"$f":"IF($N$42=1,IF($H19>1199,3,IF($T24>11.9,3,2)),0)+IF(N$42=1,IF($H19>1799,1,IF($T24>19.9,1,0)),0)","v":0},"Z553E",{"$f":"IF($P$42=1,IF($H19>1199,3,IF($T24>11.9,3,2)),0)+IF($P$42=1,IF($H19>1799,1,IF($T24>19.9,1,0)),0)","v":0}]
[null,{"$f":"List!$C$74&\" [kg] ** \"","v":"Hmotnost čela včetně úchytky [kg] ** "},null,null,null,null,null,null,{"$f":"IF($H24=0,\" \",IF(SUM($H21,$H22)=0,$N$34,\" \"))&IF($H24>0,IF($H21>0,$N$35,\" \"),\" \")","v":"  "},null,null,null,null,"F28",{"$f":"IF($H23<Cen!$E$243,0,IF($H23<Cen!$F$243,1,IF($H23>Cen!$E$244,1.5,0)))","v":0},"F38",{"$f":"IF($P23<Cen!$F$250,IF($P23>Cen!$E$250,IF($H23<Cen!$F$240,0.5,1),0),0)+IF($P23<Cen!$F$250,IF($P23>Cen!$E$250,IF($H23>Cen!$E$244,0.5,0),0),0)","v":0},null,null,"T5550",{"$f":"IF($N$42=2,IF($H19>1199,3,IF($T24>11.9,3,2)),0)+IF($N$42=2,IF($H19>1799,1,IF($T24>19.9,1,0)),0)","v":2},"Z5500",{"$f":"IF($P$42=2,IF($H19>1199,3,IF($T24>11.9,3,2)),0)+IF($P$42=2,IF($H19>1799,1,IF($T24>19.9,1,0)),0)","v":2}]
[null,{"$f":"List!$C$76&\" [kg]       \"","v":"Vypočtená hmotnost čela [kg]       "},null,null,null,null,null,{"$f":"$H$219","v":0},{"$f":"IF($H24>0,IF($H22>0,IF($H21=0,$N$35,\" \"),\" \"),\" \")","v":" "},null,null,null,null,null,null,"F39",{"$f":"IF($P23<Cen!$F$251,IF($P23>Cen!$E$251,IF($H23<Cen!$F$240,0.5,1),0),0)+IF($P23<Cen!$F$251,IF($P23>Cen!$E$251,IF($H23>Cen!$E$244,0.5,0),0),0)","v":0},null,null,null,null,null,null,null,null,{"$f":"\" \"&List!$C$177&\" B\"","v":" Výpočet hmotnosti B"}]
[null,{"$f":"List!$C$80&\" LF \"","v":"Ukazatel výkonnosti LF "},null,null,null,null,null,{"$f":"IF(H20<1041,IF(H20>479,IF(H21>0,H20*H21,H20*H22),0),0)","v":0},{"$f":"IF(AND(H23>0, H23<960), $T$38, IF($H23>25900,$N$38,IF($H23>17250,$N$39,\" \"))&IF(H23>25900,\" \",IF(AND($S18=1,$H23>17250),$Q$39,\"  \")))","v":"   "},null,null,null,null,null,"výška korpusu",{"$f":"IF(F20>0,IF(F20>=H20,F20,0),H20)","v":0}]
[null,{"$f":"List!$C$69&\" \"","v":"Počet skříněk "},null,null,null,null,null,null,{"$f":"IF(AND(M24>0, H23>959, O19=0.5), $U$39, \" \")","v":" "},null,null,null,{"$f":"IF($H19*$P23=0,0,IF(SUM($H21,$H22)=0,0,IF($P23>Cen!$F$252,0,IF(P23<Cen!$E$248,0,IF(OR(H23<Cen!$E$240, H23>Cen!$F$244),0,$H24)))))","v":0},"← Hlavní údaj",null,null,null,null,"hmot =",{"$f":"IF(H21>0,H21,H22)","v":0},{"$f":"IF(SUM(H21,H22)=0,0,IF(H21>0,1,2))","v":0},"zadaná / vypočtená",null,null,null,{"$f":"\" \"&List!$C$176","v":" Výpočet asymetrických čel"}]
[null,{"$f":"IF(H24>0,IF(U24=0,\" \",IF(U24=1,$N$47,$N$48)),\" \")&IF(H24>0,IF(U24=0,\" \",IF(U24=1,$N$49,$N$50)),\" \")","v":"  "}]
[null,{"$f":"IF(F20=0,\" \",IF(F20>1040,\"TKH = max. 1040!\",IF(F20<480,\"TKH = min. 480!\",IF(F20<H20,$N$53,IF(H24>0,IF(F20=0,\" \",IF(F20>0,$N$52,\" \")),\" \")))))","v":" "}]
[null,{"$f":"IF(OR(AND($S$9=1, $M$15>0), AND($S$18=1, $M$24>0)), List!$C$157, \" \")","v":" "},null,null,null,null,null,null,null,null,null,null,null,null,null,null,null,null,{"$f":"IF($T$27=FALSE,2,1)","v":1},true,null," - Zdroj"]
[]
[]
[]
[null,null,{"$f":"IF($H14>25900,\" \",IF($H14>17250,$N$40,IF($H23>25900,\" \",IF($H23>17250,$N$40,\" \"))))","v":" "}]
[null,null,null,null,null,null,null,null,null,null,null,null,null,{"$f":"List!C158","v":"Cena bez napájecího zdroje!"}]
[null,null,{"$f":"\"*  \"&List!$C$165","v":"*  Pouze pro asymetrická čela: zadejte teoretickou výšku TKH."}]
[null,null,{"$f":"\" ( \"&List!$C$166&\")\"","v":" ( TKH = dvojnásobná výška horního čela včetně mezer)"},null,null,null,null,null,null,null,null,null,null,{"$f":"\" \"&List!$C$103","v":" Doplňte nebo použijte \"Výpočet hmotnosti\" "}]
[null,null,null,null,null,null,null,null,null,null,null,null,null,{"$f":"\"◄ \"&List!$C$100","v":"◄ hodnota bude použita pro výpočet LF"}]
[null,null,{"$f":"\"** \"&List!$C$168","v":"** Pokud znáte hmotnost a nechcete využít výpočtu hmotnosti"},null,null,null,null,null,null,null,null,null,null,{"$f":"\" * \"&List!$C$110","v":" * Doplňte hodnoty"}]
[]
[null,null,null,null,null,null,null,null,null,null,null,null,null,{"$f":"\" max. 25.900! \"&List!$C$105","v":" max. 25.900! Upravte hmotnost nebo výšku"},null,null,null,null,null,{"$f":"\" min. 960! \"&List!$C$105","v":" min. 960! Upravte hmotnost nebo výšku"}]
[null,null,null,null,null,null,null,null,null,null,null,null,null,{"$f":"\" \"&List!$C$104&\"!\"","v":" Přídavný třetí zdvihač!"},null,null,{"$f":"\" \"&List!$C$108&\"!\"","v":" Druhá pohonná jednotka!"},null,null,null,{"$f":"\" \"&List!C109","v":" Použijte pouze jeden zdvihač"}]
[null,null,null,null,null,null,null,null,null,null,null,null,null,{"$f":"List!$C$163","v":"Přídavný třetí zdvihač může být použit pouze s plným spodním čelem!"}]
[]
[null,null,null,null,null,null,null,null,null,null,null,null,null,{"$f":"HF!$L$37","v":2},null,{"$f":"HF!$N$37","v":2},null,{"$f":"HF!$P$37","v":2},null,{"$f":"Menu!$Q$27","v":3}]
[null,null,null,null,null,null,null,null,null,null,null,null,null,"záv.",null,"střed.",null,"podl.",null,"kryt."]
[null,null,null,null,null,null,null,null,null,null,null,null,null,{"$f":"List!$C$116","v":"Expando"},null,{"$f":"List!$C$116","v":"Expando"},null,{"$f":"List!$C$116","v":"Expando"},null,{"$f":"List!$C$128","v":"Světle šedá (HG/T)"}]
[null,null,null,null,null,null,null,null,null,null,null,null,null,{"$f":"List!$C$117","v":"na vruty"},null,{"$f":"List!$C$117","v":"na vruty"},null,{"$f":"List!$C$117","v":"na vruty"},null,{"$f":"List!$C$129","v":"Tmavě šedá (TGR)"}]
[null,null,null,null,null,null,null,null,null,null,null,null,null,null,null,null,null,null,null,{"$f":"List!$C$130","v":"Hedvábně bílá (SW/T)"}]
[null,null,null,null,null,null,null,null,null,null,null,null,null,{"$f":"List!C169&\". \"","v":"Pro určení typu zdvihače bude použita zadaná hmotnost. "}]
[null,null,null,null,null,null,null,null,null,null,null,null,null,{"$f":"List!C170&\". \"","v":"Pro určení typu zdvihače bude použita vypočtená hmotnost. "}]
[null,null,null,null,null,null,null,null,null,null,null,null,null,{"$f":"List!C171","v":"Chcete-li použít vypočtenou hmotnost, smažte zadanou hodnotu"}]
[null,null,null,null,null,null,null,null,null,null,null,null,null,{"$f":"List!C172","v":"Chcete-li použít zadanou hmotnost, zadejte ji do políčka"}]
[null,null,null,null,null,null,null,null,null,null,null,null,null,{"$f":"List!C173","v":0}]
[null,null,null,null,null,null,null,null,null,null,null,null,null,{"$f":"List!C174","v":"Pro výběr teleskopů bude použita teoretická výška TKH"}]
[null,null,null,null,null,null,null,null,null,null,null,null,null,{"$f":"List!C175","v":"Teoretická výška TKH nesmí být menší než KH"}]
[]
[]
[]
[]
[]
[]
[]
[]
[]
[]
[]
[]
[]
[]
[]
[]
[]
[]
[]
[]
[]
[]
[]
[]
[]
[]
[]
[]
[]
[]
[]
[]
[]
[]
[]
[]
[]
[]
[]
[]
[]
[]
[]
[]
[null,{"$f":"List!C142","v":"Soupis kování"}]
[]
[null,{"$f":"$B$2","v":"AVENTOS HF"},null,{"$f":"B4","v":"Dřevěné čelo"}]
[null,{"$f":"List!C50","v":"Název"},null,null,null,null,{"$f":"List!$C$51","v":"Číslo artiklu"},null,{"$f":"List!C52","v":"Barva"},{"$f":"List!C54","v":"Ks"},{"$f":"List!C56","v":"Jednotková cena"},{"$f":"List!C57","v":"Celkem"},"A","Cena","B","Cena","C","Cena","Filtr"]
[null,{"$f":"Cen!A2","v":"Sada zdvihačů HF"},null,null,null,null,{"$f":"Cen!E2","v":"20F2200.05"},null,{"$f":"Cen!G2","v":"ZN"},{"$f":"ROUNDUP($M$15*O10+$M$24*O19,0)","v":0},{"$f":"Cen!I2","v":0},{"$f":"J102*K102","v":0},{"$f":"ROUNDUP($M$15*O10,0)","v":0},{"$f":"$K102*M102","v":0},{"$f":"ROUNDUP($M$24*O19,0)","v":0},{"$f":"$K102*O102","v":0},null,{"$f":"$K102*Q102","v":0},"x"]
[null,{"$f":"Cen!A3","v":"Sada zdvihačů HF"},null,null,null,null,{"$f":"Cen!E3","v":"20F2500.05"},null,{"$f":"Cen!G3","v":"ZN"},{"$f":"ROUNDUP($M$15*O11+$M$24*O20,0)","v":0},{"$f":"Cen!I3","v":0},{"$f":"J103*K103","v":0},{"$f":"ROUNDUP($M$15*O11,0)","v":0},0,{"$f":"ROUNDUP($M$24*O20,0)","v":0},0,null,0,"x"]
[null,{"$f":"Cen!A4","v":"Sada zdvihačů HF"},null,null,null,null,{"$f":"Cen!E4","v":"20F2800.05"},null,{"$f":"Cen!G4","v":"ZN"},{"$f":"ROUNDUP($M$15*O12+$M$24*O21,0)","v":0},{"$f":"Cen!I4","v":0},0,{"$f":"ROUNDUP($M$15*O12,0)","v":0},0,{"$f":"ROUNDUP($M$24*O21,0)","v":0},0,null,0,"x"]
[null,{"$f":"Cen!A5","v":"Sada teleskopů (480-570mm)"},null,null,null,null,{"$f":"Cen!E5","v":"20F3200.01"},null,{"$f":"Cen!G5","v":"NI"},{"$f":"ROUNDUP($M$15*Q10+$M$24*Q19,0)","v":0},{"$f":"Cen!I5","v":0},0,{"$f":"ROUNDUP($M$15*Q10,0)","v":0},0,{"$f":"ROUNDUP($M$24*Q19,0)","v":0},0,null,0,"x"]
[null,{"$f":"Cen!A6","v":"Sada teleskopů (560-710mm)"},null,null,null,null,{"$f":"Cen!E6","v":"20F3500.01"},null,{"$f":"Cen!G6","v":"NI"},{"$f":"ROUNDUP($M$15*Q11+$M$24*Q20,0)","v":0},{"$f":"Cen!I6","v":0},0,{"$f":"ROUNDUP($M$15*Q11,0)","v":0},0,{"$f":"ROUNDUP($M$24*Q20,0)","v":0},0,null,0,"x"]
[null,{"$f":"Cen!A7","v":"Sada teleskopů (700-900mm)"},null,null,null,null,{"$f":"Cen!E7","v":"20F3800.01"},null,{"$f":"Cen!G7","v":"NI"},{"$f":"ROUNDUP($M$15*Q12+$M$24*Q21,0)","v":0},{"$f":"Cen!I7","v":0},0,{"$f":"ROUNDUP($M$15*Q12,0)","v":0},0,{"$f":"ROUNDUP($M$24*Q21,0)","v":0},0,null,0,"x"]
[null,{"$f":"Cen!A8","v":"Sada teleskopů (760-1040mm)"},null,null,null,null,{"$f":"Cen!E8","v":"20F3900.01"},null,{"$f":"Cen!G8","v":"NI"},{"$f":"ROUNDUP($M$15*Q13+$M$24*Q22,0)","v":0},{"$f":"Cen!I8","v":0},0,{"$f":"ROUNDUP($M$15*Q13,0)","v":0},0,{"$f":"ROUNDUP($M$24*Q22,0)","v":0},0,null,0,"x"]
[null,{"$f":"Cen!A9","v":"Sada krytek HF SERVO-DRIVE, sv.šedá"},null,null,null,null,{"$f":"Cen!E9","v":"21F8000"},null,{"$f":"Cen!G9","v":"HG/T"},{"$f":"SUM(M109,O109,Q109)","v":0},{"$f":"Cen!I9","v":0},0,{"$f":"IF($S$9=2,0,IF($T$42=1,$M$134,0))","v":0},0,{"$f":"IF($S$18=2,0,IF($T$42=1,$O$134,0))","v":0},0,null,0,"x"]
[null,{"$f":"Cen!A10","v":"Sada krytek HF SERVO-DRIVE, tm.šedá"},null,null,null,null,{"$f":"Cen!E10","v":"21F8000"},null,{"$f":"Cen!G10","v":"TGR"},0,{"$f":"Cen!I10","v":0},0,{"$f":"IF($S$9=2,0,IF($T$42=2,$M$134,0))","v":0},0,{"$f":"IF($S$18=2,0,IF($T$42=2,$O$134,0))","v":0},0,null,null,"x"]
[null,{"$f":"Cen!A11","v":"Sada krytek HF SERVO-DRIVE, bílá"},null,null,null,null,{"$f":"Cen!E11","v":"21F8000"},null,{"$f":"Cen!G11","v":"SW/T"},0,{"$f":"Cen!I11","v":0},0,{"$f":"IF($S$9=2,0,IF($T$42=3,$M$134,0))","v":0},0,{"$f":"IF($S$18=2,0,IF($T$42=3,$O$134,0))","v":0},0,null,0,"x"]
[]
[null,{"$f":"Cen!A12","v":"Sada krytek HF, světle šedá"},null,null,null,null,{"$f":"Cen!E12","v":"20F8000"},null,{"$f":"Cen!G12","v":"HG/T"},0,{"$f":"Cen!I12","v":0},0,{"$f":"IF($S$9=1,0,IF($T$42=1,SUM($M$102:$M$104,0),0))","v":0},0,{"$f":"IF($S$18=1,0,IF($T$42=1,SUM($O$102:$O$104,0),0))","v":0},0,null,0,"x"]
[null,{"$f":"Cen!A13","v":"Sada krytek HF, tmavě šedá"},null,null,null,null,{"$f":"Cen!E13","v":"20F8000"},null,{"$f":"Cen!G13","v":"TGR"},0,{"$f":"Cen!I13","v":0},0,{"$f":"IF($S$9=1,0,IF($T$42=2,SUM($M$102:$M$104,0),0))","v":0},0,{"$f":"IF($S$18=1,0,IF($T$42=2,SUM($O$102:$O$104,0),0))","v":0},null,null,null,"x"]
[null,{"$f":"Cen!A14","v":"Sada krytek HF, bílá"},null,null,null,null,{"$f":"Cen!E14","v":"20F8000"},null,{"$f":"Cen!G14","v":"SW/T"},0,{"$f":"Cen!I14","v":0},0,{"$f":"IF($S$9=1,0,IF($T$42=3,SUM($M$102:$M$104,0),0))","v":0},0,{"$f":"IF($S$18=1,0,IF($T$42=3,SUM($O$102:$O$104,0),0))","v":0},0,null,0,"x"]
[]
[null,{"$f":"Cen!A15","v":"Závěs CLIP top 120° "},null,null,null,null,{"$f":"Cen!E15","v":"70T5550.TL"},null,{"$f":"Cen!G15","v":"NI"},0,{"$f":"Cen!I15","v":0},0,{"$f":"$M$15*$U$12","v":0},0,{"$f":"$M$24*$U$21","v":0},0,null,0,"x"]
[null,{"$f":"Cen!A16","v":"Závěs CLIP top 120° EXPANDO"},null,null,null,null,{"$f":"Cen!E16","v":"70T558E"},null,{"$f":"Cen!G16","v":"NI"},0,{"$f":"Cen!I16","v":0},0,{"$f":"$M$15*$U$11","v":0},0,{"$f":"$M$24*$U$20","v":0},0,null,0,"x"]
[null,{"$f":"Cen!A17","v":"Středový závěs CLIP top "},null,null,null,null,{"$f":"Cen!E17","v":"78Z5500T"},null,{"$f":"Cen!G17","v":"NI"},0,{"$f":"Cen!I17","v":0},0,{"$f":"$M$15*$W$12","v":0},0,{"$f":"$M$24*$W$21","v":0},0,null,0,"x"]
[null,{"$f":"Cen!A18","v":"Středový závěs CLIP top EXPANDO"},null,null,null,null,{"$f":"Cen!E18","v":"78Z553ET"},null,{"$f":"Cen!G18","v":"NI"},0,{"$f":"Cen!I18","v":0},0,{"$f":"$M$15*$W$11","v":0},0,{"$f":"$M$24*$W$20","v":0},0,null,0,"x"]
[null,{"$f":"Cen!A19","v":"Závěs CLIP top pro alurámečky"},null,null,null,null,{"$f":"Cen!E19","v":"72T550A.TL"},null,{"$f":"Cen!G19","v":"NI"},null,{"$f":"Cen!I19","v":0},0,null,0,null,0,null,0]
[null,{"$f":"Cen!A20","v":"Střed. závěs CLIP top pro alurámečky"},null,null,null,null,{"$f":"Cen!E20","v":"78Z550AT"},null,{"$f":"Cen!G20","v":"NI"},null,{"$f":"Cen!I20","v":0},0,null,0,null,0,null,0]
[null,{"$f":"Cen!A21","v":"Přímá montážní podložka"},null,null,null,null,{"$f":"Cen!E21","v":"175H3100"},null,{"$f":"Cen!G21","v":"NI"},{"$f":"SUM(M123,O123,Q123)","v":0},{"$f":"Cen!I21","v":0},0,{"$f":"IF($R$42=2,SUM($U$11,$U$12,$W$11,$W$12,$Q$10*2,$Q$11*2,$Q$12*2,$Q$13*2)*$M$15,0)","v":0},0,{"$f":"IF($R$42=2,SUM($U$20,$U$21,$W$20,$W$21,$Q$19*2,$Q$20*2,$Q$21*2,$Q$22*2)*$M$24,0)","v":0},0,null,0,"x"]
[null,{"$f":"Cen!A22","v":"Přímá montážní podložka, EXPANDO"},null,null,null,null,{"$f":"Cen!E22","v":"177H3100E"},null,{"$f":"Cen!G22","v":"NI"},{"$f":"SUM(M124,O124,Q124)","v":0},{"$f":"Cen!I22","v":0},0,{"$f":"IF($R$42=1,SUM($U$11,$U$12,$W$11,$W$12,$Q$10*2,$Q$11*2,$Q$12*2,$Q$13*2)*$M$15,0)","v":0},0,{"$f":"IF($R$42=1,SUM($U$20,$U$21,$W$20,$W$21,$Q$19*2,$Q$20*2,$Q$21*2,$Q$22*2)*$M$24,0)","v":0},0,null,0,"x"]
[null,{"$f":"Cen!A23","v":"Podložka CLIP excentrická"},null,null,null,null,{"$f":"Cen!E23","v":"173H7100"},null,{"$f":"Cen!G23","v":"NI"},null,{"$f":"Cen!I23","v":0},0,null,0,null,0,null,0]
[null,{"$f":"Cen!A24","v":"Adaptér CLIP k teleskopům P"},null,null,null,null,{"$f":"Cen!E24","v":"175H5B00   R"},null,{"$f":"Cen!G24","v":"NI"},null,{"$f":"Cen!I24","v":0},0,null,0,null,0]
[null,{"$f":"Cen!A25","v":"Adaptér CLIP k teleskopům L"},null,null,null,null,{"$f":"Cen!E25","v":"175H5B00   L"},null,{"$f":"Cen!G25","v":"NI"},null,{"$f":"Cen!I25","v":0},0,null,0,null,0]
[null,{"$f":"Cen!A26","v":"Adaptér CLIP ke středovým závěsům"},null,null,null,null,{"$f":"Cen!E26","v":"175H5A00"},null,{"$f":"Cen!G26","v":"NI"},null,{"$f":"Cen!I26","v":0},0,null,0,null,0]
[null,{"$f":"Cen!A27","v":"Omezovač úhlu otevření na 83° "},null,null,null,null,{"$f":"Cen!E27","v":"20F7011"},null,{"$f":"Cen!G27","v":"TGR"},null,{"$f":"Cen!I27","v":0},0,null,0,null,0]
[null,{"$f":"Cen!A28","v":"Omezovač úhlu otevření na 104° "},null,null,null,null,{"$f":"Cen!E28","v":"20F7051"},null,{"$f":"Cen!G28","v":"TGR"},null,{"$f":"Cen!I28","v":0},0,null,0,null,0]
[null,{"$f":"Cen!A151","v":"CLIP top krytka raménka Nikl"},null,null,null,null,{"$f":"Cen!E151","v":"70.1503"},null,{"$f":"Cen!G151","v":"NI"},{"$f":"SUM(M131,O131,Q131)","v":0},{"$f":"Cen!I151","v":0},0,{"$f":"SUM(M$117:M$122)","v":0},0,{"$f":"SUM(O$117:O$122)","v":0},0,null,null,"x"]
[]
[null,null,null,null,null,null,null,null,null,null,null,0,null,0,null,0]
[null,{"$f":"Cen!A199","v":"SERVO-DRIVE jednotka (sada)"},null,null,null,null,{"$f":"Cen!E199","v":"21FA000"},null,{"$f":"Cen!G199","v":"HGR"},{"$f":"SUM(M134,O134,Q134)","v":0},{"$f":"Cen!I199","v":0},0,{"$f":"IF($S$9=2,0,$M$15)+IF(AND($S$9=1,$H$14>17250),$M$15,0)","v":0},0,{"$f":"IF($S$18=2,0,$M$24)+IF(AND($S$18=1,$H$23>17250),$M$24,0)","v":0},0,null,null,"x"]
[null,{"$f":"Cen!A200","v":"SERVO-DRIVE jednotka (sada) pro HK top"},null,null,null,null,{"$f":"Cen!E200","v":"23KA000"},null,{"$f":"Cen!G200","v":"HGR"},null,{"$f":"Cen!I200","v":0},0,null,0,null,0]
[null,null,null,null,null,null,null,null,null,null,null,0,null,0,null,0]
[]
[null,null,null,null,null,null,null,null,null,null,{"$f":"List!$C$59&\" \"","v":"Cena celkem bez DPH "},{"$f":"SUM(L102:L136)","v":0},null,{"$f":"SUM(N102:N137)","v":0},null,{"$f":"SUM(P102:P137)","v":0},null,{"$f":"SUM(R102:R137)","v":0}]
[]
[null,null,null,null,null,null,null,null,null,null,null,{"$f":"List!$C$149","v":"Zpět"}]
[]
[]
[]
[]
[]
[]
[]
[]
[]
[]
[]
[]
[]
[]
[]
[]
[]
[]
[]
[]
[]
[]
[]
[]
[]
[]
[]
[]
[]
[]
[]
[]
[]
[]
[]
[]
[]
[]
[]
[]
[]
[]
[]
[]
[]
[]
[]
[]
[]
[]
[]
[]
[]
[]
[]
[]
[]
[]
[null,{"$f":"List!$C$71","v":"Výpočet hmotnosti čel"}]
[null,null,{"$f":"List!$C$161&\"  \"","v":"Provedení čel  "},null,null,null,null,null,{"$f":"IF(O207=3,IF(H200=0,N203,\" \"),IF(H200>0,N204,\" \"))","v":" "},null,null,null,null,{"$f":"IF($O$207=1,$O$208,IF($O$207=2,$O$209,$O$210&\" \"&$N$210&\"kg/m3\"))&\" A~\"&$H$208&\"/ B~\"&$H$217&\"mm\"","v":"Dřevotříska (680 kg/m3) A~18/ B~18mm"}]
[null,null,null,{"$f":"IF($O$207<>3,$N$202,\" \")&\"      \"","v":" Změnit hodnoty můžete v Úvodu plánování      "}]
[null,null,null,null,null,null,null,null,null,null,null,null,null,{"$f":"\" \"&List!$C$382","v":" Změnit hodnoty můžete v Úvodu plánování"}]
[null,null,null,null,null,null,null,null,null,null,null,null,null,{"$f":"\" \"&List!$C$225&\" [kg/m3]\"","v":" Zadejte objemovou hmotnost  [kg/m3]"}]
[null,null,null,null,null,null,null,null,null,null,null,null,null,{"$f":"\" \"&List!$C$221&\" '\"&List!$C$86&\"'\"","v":" Hodnota platí jen pro volbu 'Jiné - volitelná hustota'"}]
[null,null,null,null,null,{"$f":"D9","v":"Korpus A"}]
[null,{"$f":"List!$C$72&\" KB [mm]       \"","v":"Šířka korpusu KB [mm]       "},null,null,null,null,null,{"$f":"H10","v":0},null,null,null,null,null,{"$f":"H206*H207*H208","v":0}]
[null,{"$f":"List!$C$73&\" KH [mm]       \"","v":"Výška korpusu KH [mm]       "},null,null,null,null,null,{"$f":"H11","v":0},null,null,null,null,null,{"$f":"N206/1000000000","v":0},2]
[null,{"$f":"List!$C$77&\" TS [mm] \"","v":"Síla čela TS [mm] "},null,null,null,null,null,18,{"$f":"IF(SUM(H206,H207)=0,\" \",IF(H208=0,\" ● \"&List!$C$111,\" \"))","v":" "},null,null,null,null,{"$f":"Menu!$L$30","v":760},{"$f":"List!$C$84&\" (\"&N208&\" kg/m3)\"","v":"MDF (760 kg/m3)"}]
[null,{"$f":"List!$C$78&\" [kg] \"","v":"Hmotnost úchytky [kg] "},null,null,null,null,null,null,{"$f":"IF(SUM(H206,H207)=0,\" \",IF(H209=0,\" ● \"&List!$C$112,\" \"))","v":" "},null,null,null,null,{"$f":"Menu!$L$31","v":680},{"$f":"List!$C$85&\" (\"&N209&\" kg/m3)\"","v":"Dřevotříska (680 kg/m3)"}]
[null,{"$f":"List!$C$76&\" [kg] \"","v":"Vypočtená hmotnost čela [kg] "},null,null,null,null,null,{"$f":"IF(M210=0,0,M210+H209)","v":0},null,null,null,null,{"$f":"IF(H206*H207*H208=0,0,IF(O207=1,N207*N208,IF(O207=2,N207*N209,N207*N210)))","v":0},{"$f":"$H$200","v":0},{"$f":"List!$C$86","v":"Jiné - volitelná hustota"}]
[null,null,{"$f":"IF(H210>0,IF(H209=0,$N$227,\" \"),\" \")","v":" "}]
[]
[]
[null,null,null,null,null,{"$f":"D18","v":"Korpus B"}]
[null,{"$f":"List!$C$72&\" KB [mm]       \"","v":"Šířka korpusu KB [mm]       "},null,null,null,null,null,{"$f":"H19","v":0},null,null,null,null,null,{"$f":"H215*H216*H217","v":0}]
[null,{"$f":"List!$C$73&\" KH [mm]       \"","v":"Výška korpusu KH [mm]       "},null,null,null,null,null,{"$f":"H20","v":0},null,null,null,null,null,{"$f":"N215/1000000000","v":0},{"$f":"O207","v":2}]
[null,{"$f":"List!$C$77&\" TS [mm] \"","v":"Síla čela TS [mm] "},null,null,null,null,null,18,{"$f":"IF(SUM(H215,H216)=0,\" \",IF(H217=0,\" ● \"&List!$C$111,\" \"))","v":" "},null,null,null,null,{"$f":"$N$208","v":760},{"$f":"$O$208","v":"MDF (760 kg/m3)"}]
[null,{"$f":"List!$C$78&\" [kg] \"","v":"Hmotnost úchytky [kg] "},null,null,null,null,null,0.5,{"$f":"IF(SUM(H215,H216)=0,\" \",IF(H218=0,\" ● \"&List!$C$112,\" \"))","v":" "},null,null,null,null,{"$f":"$N$209","v":680},{"$f":"$O$209","v":"Dřevotříska (680 kg/m3)"}]
[null,{"$f":"List!$C$76&\" [kg] \"","v":"Vypočtená hmotnost čela [kg] "},null,null,null,null,null,{"$f":"IF(M219=0,0,M219+H218)","v":0},null,null,null,null,{"$f":"IF(H215*H216*H217=0,0,IF(O216=1,N216*N217,IF(O216=2,N216*N218,N216*N219)))","v":0},{"$f":"$N$210","v":0},{"$f":"$O$210","v":"Jiné - volitelná hustota"}]
[null,null,{"$f":"IF(H219>0,IF(H218=0,$N$227,\" \"),\" \")","v":" "}]
[]
[]
[]
[null,null,null,null,null,null,{"$f":"List!$C$149","v":"Zpět"}]
[]
[]
[null,null,{"$f":"List!$C$217&\" \"&List!$C$218","v":"Upozornění: Vypočtené hodnoty jsou pouze orientační.  Firma Blum ani prodejci neručí za jejich správnost."},null,null,null,null,null,null,null,null,null,null,{"$f":"List!$C$95&\"!\"","v":"Není započtena hmotnost úchytky!"}]
[]
[]
[]
[]
[]
[]
[]
[]
[]
[]
[]
[]
[]
[]
[]
[]
[]
[]
[]
[]
[]
[]
[]
[]
[]
[]
[]
[]
[]
[]
[]
[]
[]
[]
[]
[]
[]
[]
[]
[]
[]
[]
[]
[]
[]
[]
[]
[]
[]
[]
[]
[]
[]
[]
[]
[]
[]
[]
[]
[]
[]
[]
[]
[]
[]
[]
[]
[]
[]
[]
[]
[]
[null,{"$f":"List!$C$176","v":"Výpočet asymetrických čel"}]
[]
[null,{"$f":"\"   \"&List!$C$179","v":"   Parametry korpusu"}]
[null,{"$f":"List!$C$73&\" KH [mm] \"","v":"Výška korpusu KH [mm] "},null,null,null,null,null,null,null,null,{"$f":"IF(SUM($I$304:$J$307,$I$314)<>0,IF($I$303=0,\" \"&List!$C$111,\" \"),\" \")","v":" "}]
[null,{"$f":"List!$C$182&\" [mm] \"","v":"Mezera nahoře [mm] "}]
[null,{"$f":"List!$C$183&\" [mm] \"","v":"Mezera mezi čely [mm] "},null,null,null,null,null,null,null,null,{"$f":"IF($I$303=0,\" \",IF($I$305<1.5,\" min. 1,5 mm!\",\" \"))","v":" "}]
[null,{"$f":"List!$C$184&\" [mm] \"","v":"Mezera dole [mm] "}]
[null,{"$f":"List!$C$185&\" [mm] \"","v":"Síla dna korpusu [mm] "}]
[]
[null,{"$f":"\"   \"&List!$C$187","v":"   Výsledky plánování"}]
[null,null,null,null,null,null,{"$f":"List!$C$188&\" [mm] \"","v":"Možné výšky čel [mm] "},null,null,null,null,null,null,null,null,{"$f":"ROUNDUP((+$I$303-$I$304-$I$305-$I$306)/2,0)","v":0},{"$f":"IF($P$310<272,70,47)","v":70}]
[null,{"$f":"List!$C$189","v":"Vrchní čelo (FHo) v rozmezí"},null,null,null,null,"min.",{"$f":"IF($P$310=0,0,IF($P$310<236,$Q$315,IF($P$310>516,$Q$315,$P$310)))","v":0},"max.",{"$f":"IF($P$310=0,0,IF($Q$315=$H$311,$Q$315,IF($P$315<$P$314,$P$315,$P$314)))","v":0},null,null,null,null,null,{"$f":"ROUNDDOWN(($I$303-$I$304-$I$305-$I$306-$Q$310-19-$I$307+$I$306)/1.5,0)","v":-59},{"$f":"IF($P$310<272,70,47)","v":70}]
[null,{"$f":"List!$C$190","v":"Spodní čelo (FHu) v rozmezí"},null,null,null,null,"min.",{"$f":"IF($J$312=$Q$315,$Q$315,SUM($I$303-$I$304-$I$305-$I$306-$J$311))","v":0},"max.",{"$f":"IF($Q$315=$H$311,$Q$315,(+$I$303-$I$304-$I$305-$I$306)/2)","v":0},null,null,null,null,null,{"$f":"ROUNDDOWN(($I$303-$I$304-$I$305-$I$306-$Q$311-19-$I$307+$I$306)/1.5,0)","v":-59},{"$f":"IF($P$310<272,70,47)","v":70}]
[null,null,null,null,null,null,null,null,null,null,null,null,null,null,null,{"$f":"ROUNDDOWN(($I$303-$I$304-$I$305-$I$306-$Q$312-19-$I$307+$I$306)/1.5,0)","v":-59},{"$f":"IF($P$310<272,70,47)","v":70}]
[null,{"$f":"List!$C$196&\" FHo [mm] \"","v":"Výška vrchního čela FHo [mm] "},null,null,null,null,null,null,null,null,{"$f":"IF($I$303=0,\" \",IF($I$314>$J$311,V314,IF($I$314<$H$311,$S$314,\" \")))","v":" "},null,null,null,null,{"$f":"ROUNDDOWN(($I$303-$I$304-$I$305-$I$306-$Q$313-19-$I$307+$I$306)/1.5,0)","v":-59},null,null,{"$f":"\" min. \"&TEXT($H$311,\"#\")&\" mm!\"","v":" min.  mm!"},null,null,{"$f":"\" max. \"&TEXT($J$311,\"#\")&\" mm!\"","v":" max.  mm!"}]
[null,{"$f":"List!$C$197&\" FHu [mm] \"","v":"Výška spodního čela FHu [mm] "},null,null,null,null,null,null,{"$f":"IF($I$314<$H$311,$Q$315,IF($I$314>$J$311,$Q$315,+$I$303-$I$304-$I$305-$I$306-$I$314))","v":0},null,null,null,null,null,null,{"$f":"+(1040-$I$304-$I$305-$I$306)/2","v":520},{"$f":"List!C193","v":"nelze"}]
[null,{"$f":"List!$C$198&\" H [mm] \"","v":"Pozice zdvihače H [mm] "},null,null,null,null,null,null,{"$f":"IF($P$310=0,0,IF($I$315=$Q$315, $Q$315,$I$314*0.6-$Q$316+$I$304))","v":0},null,null,null,null,null,null,null,{"$f":"IF($I$314<272,28,57)","v":28}]
[null,{"$f":"List!$C$199&\" X [mm] \"","v":"Pozice mont. podložky pro teleskopy X [mm] "},null,null,null,null,null,null,{"$f":"IF($P$310=0,0,IF($I$315=$Q$315,$Q$315,$I$314*0.5+$Q$317))","v":0},null,null,null,null,null,null,null,{"$f":"IF($I$314<272,70,47)","v":70}]
[null,{"$f":"List!$C$200&\" TKH [mm] * \"","v":"Teoretická výška korpusu TKH [mm] * "},null,null,null,null,null,null,{"$f":"IF($I$315=$Q$315,$Q$315,IF($Q$318>479.99,IF($Q$318<1040.01,$Q$318,$Q$315),\" \"))","v":" "},null,null,null,null,null,null,"TKH",{"$f":"SUM($I$314*2+$I$304+$I$305+$I$306)","v":0}]
[]
[null," *",{"$f":"List!$C$202","v":"Tuto výšku zadejte do tabulky pro plánování výklopů"}]
[]
[]
[]
[]
[null,null,null,null,null,null,null,null,{"$f":"List!$C$149","v":"Zpět"}]
[]
[]
[]
[]
[]
[]
[]
[]
[]
[]
[]
[]
[]
[]
[]
[]
[]
[]
[]
[]
[]
[]
[]
[]
[]
[]
[]
[]
[]
[]
[]
[]
[]
[]
[]
[]
[]
[]
[]
[]
[]
[]
[]
[]
[]
[]
[]
[]
[]
[]
[]
[]
[]
[]
[]
[]
[]
[]
[]
[]
[]
[]
[]
[]
[]
[]
[]
[]
[]
[]
[]
[]
[]
[]
[null,"      AVENTOS HF"]
[]
[null,{"$f":"List!$C$281","v":"Potřebný zdvihač se určí pomocí ukazatele výkonnosti."}]
[null,{"$f":"List!$C$282","v":"Ukazatel výkonnosti závisí na hmotnosti dolního i horního čílka, a rovněž na výšce korpusu."}]
[]
[null,{"$f":"\" \"&List!$C$295","v":" Tak se to dělá:"}]
[null,null,null,{"$f":"List!$C$80&\" = \"","v":"Ukazatel výkonnosti = "},{"$f":"List!$C$298&\" [kg]\"","v":"výška korpusu KH [mm] x hmotnost obou čel včetně úchytky [kg]"}]
[]
[null,{"$f":"List!$C$286","v":"Je-li ukazatel výkonnosti větší než 17.250, přidá se třetí zdvihač."}]
[null,{"$f":"List!$C$287","v":"Pokud je zvolen SERVO-DRIVE, přidá se rovněž druhá pohonná jednotka."}]
[null,{"$f":"List!$C$163","v":"Přídavný třetí zdvihač může být použit pouze s plným spodním čelem!"}]
[]
[null,{"$f":"List!$C$289","v":"Pokud znáte hmotnost čela, můžete ji zadat, jinak použijte \"Výpočet hmotnosti\"."}]
[null,{"$f":"List!$C$290","v":"V tabulce má přednost zadaná hodnota. Chcete-li použít vypočtenou hmotnost, smažte zadanou hodnotu."}]
[]
[null,{"$f":"List!$C$301&\". \"&List!$C$302&\".\"","v":"Délka teleskopů závisí na výšce korpusu KH. U asymetrických čel se použije teoretická výška TKH."}]
[]
[null,{"$f":"\" \"&List!$C$144&\":\"","v":" Asymetrická čela:"}]
[null,{"$f":"\" \"&List!$C$299","v":" Teoretická výška korpusu (TKH) = výška horního čela (FHo) x 2 (včetně mezer)"}]
[]
[null,{"$f":"List!$C$293","v":"U asymetrických čel musí být větší čelo nahoře!"}]
[]
[null,{"$f":"List!$C$304","v":"Pokud zadáte hodnotu TKH, použije se pro určení délky teleskopů"}]
[null,{"$f":"List!$C$305","v":"Nemáte-li asymetrická čela, nechte políčko prázdné."}]
[null,{"$f":"List!$C$306&\" ' \"&List!$C$176&\"' \"","v":"Pro výpočet TKH můžete použít ' Výpočet asymetrických čel' "}]
[]
[]
[null,{"$f":"List!$C$284","v":"Chcete-li změnit barvu krytek, přejděte na \"Úvod\""}]
[]
[]
[]
[]
[]
[]
[]
[null,null,null,null,null,null,null,null,null,null,null,{"$f":"List!$C$149","v":"Zpět"}]

{"sheet":"HFw_wa","index":10,"n_rows":436,"n_cols":46,"rows_kept":436,"cut":false,"hidden":false,"merged":[[26,19,26,20],[397,0,438,0],[404,4,404,11],[23,1,23,6],[21,1,21,6],[22,1,22,6],[305,1,305,7],[298,0,352,0],[301,1,301,9],[302,8,302,9],[311,1,311,5],[313,1,313,7],[313,8,313,9],[324,8,324,9],[316,1,316,7],[316,8,316,9],[305,8,305,9],[204,5,204,7],[304,8,304,9],[303,1,303,7],[309,6,309,9],[317,8,317,9],[314,8,314,9],[317,1,317,7],[314,1,314,7],[315,1,315,7],[315,8,315,9],[310,1,310,5],[308,1,308,9],[18,1,18,6],[12,1,12,6],[13,1,13,6],[26,1,28,9],[205,1,205,6],[19,1,19,3],[20,1,20,6],[302,1,302,7],[303,8,303,9],[204,1,204,4],[306,1,306,7],[309,1,309,5],[306,8,306,9],[304,1,304,7],[97,0,154,0],[213,5,213,7],[214,1,214,6],[215,1,215,6],[200,3,200,7],[197,0,230,0],[206,1,206,6],[207,1,207,6],[217,1,217,6],[209,1,209,6],[223,6,223,7],[226,2,228,10],[4,5,4,10],[5,6,5,10],[17,19,17,20],[17,3,17,7],[6,1,6,2],[6,6,6,7],[8,3,8,7],[11,1,11,6],[8,19,8,20],[9,1,9,6],[14,1,14,6],[10,1,10,3],[3,5,3,10],[1,1,1,2],[1,3,1,4],[1,5,1,6],[1,7,1,8],[1,9,1,10],[0,43,0,51],[5,43,6,44],[5,45,6,45],[5,46,6,46],[11,43,12,46],[9,43,9,44],[7,43,7,44],[8,43,8,44],[231,0,258,0],[242,6,242,7],[206,20,206,21],[215,20,215,21],[218,1,218,6],[216,1,216,6],[208,1,208,6]]}
[]
[null,"AVENTOS HF",null,"AVENTOS HS",null,"AVENTOS HL",null,"AVENTOS HK top",null,"AVENTOS HK-S",null,"AVENTOS HK-XS",null,null,"rámeček",null,null,null,3,null,null,null,null,null,null,{"$f":"List!$C$135","v":"Jdi na"}]
[]
[null,{"$f":"List!$C$15","v":"Dřevěné čelo"},null,null,null,{"$f":"$N$200&\"       \"","v":"MDF (760 kg/m3) A~/ B~mm       "},null,null,null,null,null,null,null,null,1,null,null,null,{"$f":"\" \"&List!$C$39&\" A \"","v":" Cena za korpus A "},null,null,null,null,null,null,{"$f":"List!$C$136","v":"Úvod plánování"}]
[null,{"$f":"List!$C$18&\" ***\"","v":"Široký alurámeček ***"},null,null,null,{"$f":"$N$201&\"       \"","v":"Alurámečky s 4mm sklem       "},null,null,null,null,null,null,null,null,"A = 1",null,null,null,{"$f":"\" \"&List!$C$39&\" B \"","v":" Cena za korpus B "},null,null,null,null,null,null,{"$f":"List!$C$137","v":"Nápověda"}]
[null,null,null,null,null,null,{"$f":"List!$C$47&\" \"&List!$C$22&\"       \"","v":"Nastavit hmotnost alurámečků       "},null,null,null,null,null,null,null,"B = 2",null,null,null,{"$f":"\" \"&List!$C$59","v":" Cena celkem bez DPH"},null,null,null,null,null,null,null,null,null,null,null,null,null,null,null,null,null,null,null,null,null,null,null,null,{"$f":"\"  \"&List!$C$80&\" LF \"","v":"  Ukazatel výkonnosti LF "},null,{"$f":"List!$C$79","v":"Zdvihací mechanizmus"}]
[null,{"$f":"List!$C$142","v":"Soupis kování"},null,null,null,null,{"$f":"IF(S2=1,$N$138,IF($S$2=2,$P$138,IF($S$2=3,$L$138,0)))","v":0},null,null,null,null,null,null,null,null,null,null,null,null,null,null,null,null,null,null,{"$f":"List!$C$141","v":"Doplňky"}]
[null,null,null,null,null,null,null,{"$f":"IF(AND(OR($S$9=1, $S$18=1), $L$138>0), $N$32, \" \")","v":" "},null,null,null,null,null,null,null,null,null,null,null,null,null,null,null,null,null,null,null,null,null,null,null,null,null,null,null,null,null,null,null,null,null,null,null,{"$f":"\"  2.600 -  5.500 (1 \"&List!$C$153&\" LF 960 - 2.650)\"","v":"  2.600 -  5.500 (1 ks LF 960 - 2.650)"},null,"20F2200.05"]
[null,"SERVO-DRIVE",null,{"$f":"List!$C$62&\" A\"","v":"Korpus A"},null,null,null,null,null,null,null,null,null,"zdvih A",null,"teleskop",null,null,{"$f":"IF($T$9=TRUE,1,2)","v":2},false,null," - SRVDRV",null,null,null,{"$f":"List!$C$139","v":"Přehled korpusů"},null,null,null,null,null,null,null,null,null,null,null,null,null,null,null,null,null,"  5.350 - 10.150",null,"20F2500.05"]
[null,{"$f":"List!$C$72&\" KB [mm] \"","v":"Šířka korpusu KB [mm] "},null,null,null,null,null,null,{"$f":"IF(H10=0,\" \",IF($H10<220,\" min. 220mm\",IF($H10>1800,\" max. 1 800mm\",\" \")))&IF(H15>0,IF(H10=0,\"● \"&List!$C$111,\" \"),\" \")","v":"  "},null,null,null,null,"F22",{"$f":"IF($H14<Cen!$F$240,0.5,IF($H14<Cen!$F$241,1,0))","v":0.5},"F32",{"$f":"SUM(IF($P14<Cen!$F$248,IF($H14<Cen!$F$240,0.5,1),0))","v":0.5},null,null,"Závěs A",null,"Závěs As",null,null,null,{"$f":"List!$C$140","v":"Objednávka"},null,null,null,null,null,null,null,null,null,null,null,null,null,null,null,null,null,"  9.000 -  17.250",null,"20F2800.05"]
[null,{"$f":"List!$C$73&\" [mm]\"","v":"Výška korpusu [mm]"},null,null,"TKH * ",null,"KH ",null,{"$f":"IF(H11=0,\" \",IF($H11<480,\" min. 480mm\",IF($H11>1040,\" max. 1 040mm\",\" \")))&IF(H15>0,IF(H11=0,\"● \"&List!$C$111,\" \"),\" \")","v":"  "},null,null,null,null,"F25",{"$f":"IF($H14<Cen!$E$242,0,IF($H14<Cen!$F$242,1,0))","v":0},"F35",{"$f":"IF($P14<Cen!$F$249,IF($P14>Cen!$E$249,IF($H14<Cen!$F$240,0.5,1),0),0)","v":0},null,null,"T558E",{"$f":"IF($N$42=1,IF($H10>1199,3,IF($T15>11.9,3,2)),0)+IF(N$42=1,IF($H10>1799,1,IF($T15>19.9,1,0)),0)","v":0},"Z553E",{"$f":"IF($Q$42=1,IF($H10>1199,3,IF($T15>11.9,3,2)),0)+IF($Q$42=1,IF($H10>1799,1,IF($T15>19.9,1,0)),0)","v":0}]
[null,{"$f":"List!$C$74&\" [kg] ** \"","v":"Hmotnost čela včetně úchytky [kg] ** "},null,null,null,null,null,null,{"$f":"IF($H15=0,\" \",IF(SUM($H12,$H13)=0,$N$34,\" \"))&IF($H15>0,IF($H12>0,$N$35,\" \"),\" \")","v":"  "},null,null,null,null,"F28",{"$f":"IF($H14<Cen!$E$243,0,IF($H14<Cen!$F$243,1,IF($H14>Cen!$E$244,0,0)))","v":0},"F38",{"$f":"IF($P14<Cen!$F$250,IF($P14>Cen!$E$250,IF($H14<Cen!$F$240,0.5,1),0),0)","v":0},null,null,"T5550",{"$f":"IF($N$42=2,IF($H10>1199,3,IF($T15>11.9,3,2)),0)+IF($N$42=2,IF($H10>1799,1,IF($T15>19.9,1,0)),0)","v":2},"Z5500",{"$f":"IF($Q$42=2,IF($H10>1199,3,IF($T15>11.9,3,2)),0)+IF($Q$42=2,IF($H10>1799,1,IF($T15>19.9,1,0)),0)","v":2},null,null,null,null,null,null,null,null,null,null,null,null,null,null,null,null,null,null,null,null,{"$f":"List!$C$80&\" LF = \"&List!$C$298&\" [kg]\"","v":"Ukazatel výkonnosti LF = výška korpusu KH [mm] x hmotnost obou čel včetně úchytky [kg]"}]
[null,{"$f":"List!$C$76&\" [kg]       \"","v":"Vypočtená hmotnost čela [kg]       "},null,null,null,null,null,{"$f":"$H$210","v":0},{"$f":"IF($H15>0,IF($H13>0,IF($H12=0,$N$35,\" \"),\" \"),\" \")","v":" "},null,null,null,null,null,null,"F39",{"$f":"IF($P14<Cen!$F$251,IF($P14>Cen!$E$251,IF($H14<Cen!$F$240,0.5,1),0),0)","v":0},null,null,null,null,null,null,null,null,{"$f":"\" \"&List!$C$177&\" A\"","v":" Výpočet hmotnosti A"}]
[null,{"$f":"List!$C$80&\" LF \"","v":"Ukazatel výkonnosti LF "},null,null,null,null,null,{"$f":"IF(H11<1041,IF(H11>479,IF(H12>0,H11*H12,H11*H13),0),0)","v":0},{"$f":"IF(AND(H14>0,H14<960), $T$38, IF($H14>17250,$N$38,\" \"))","v":" "},null,null,null,null,null,"výška korpusu",{"$f":"IF(F11>0,IF(F11>=H11,F11,0),H11)","v":0}]
[null,{"$f":"List!$C$69&\" \"","v":"Počet skříněk "},null,null,null,null,null,null,{"$f":"IF(AND(M15>0, H14>959, O10=0.5), $U$39, \" \")","v":" "},null,null,null,{"$f":"IF($H10*$P14=0,0,IF(SUM($H12,$H13)=0,0,IF($P14>Cen!$F$252,0,IF(P14<Cen!$E$248,0,IF(OR(H14<Cen!$E$240, H14>Cen!$F$243),0,$H15)))))","v":0},"← Hlavní údaj",null,null,null,null,"hmot =",{"$f":"IF(H12>0,H12,H13)","v":0},{"$f":"IF(SUM(H12,H13)=0,0,IF(H12>0,1,2))","v":0},"zadaná / vypočtená",null,null,null,{"$f":"\" \"&List!$C$176","v":" Výpočet asymetrických čel"},null,null,null,null,null,null,null,null,null,null,null,null,null,null,null,null,null,{"$f":"List!$C$149","v":"Zpět"}]
[null,{"$f":"IF(H15>0,IF(U15=0,\" \",IF(U15=1,$N$47,$N$48)),\" \")&IF(H15>0,IF(U15=0,\" \",IF(U15=1,$N$49,$N$50)),\" \")","v":"  "}]
[null,{"$f":"IF(F11=0,\" \",IF(F11>1040,\"TKH = max. 1040!\",IF(F11<480,\"TKH = min. 480!\",IF(F11<H11,$N$53,IF(H15>0,IF(F11=0,\" \",IF(F11>0,$N$52,\" \")),\" \")))))","v":" "}]
[null,"SERVO-DRIVE",null,{"$f":"List!$C$62&\" B\"","v":"Korpus B"},null,null,null,null,null,null,null,null,null,"zdvih B",null,"teleskop",null,null,{"$f":"IF($T$18=TRUE,1,2)","v":2},false,null," - SRVDRV",null,null,null,{"$f":"\" \"&List!$C$361","v":" Ověření síly zdvihače"}]
[null,{"$f":"List!$C$72&\" KB [mm] \"","v":"Šířka korpusu KB [mm] "},null,null,null,null,null,null,{"$f":"IF(H19=0,\" \",IF($H19<220,\" min. 220mm\",IF($H19>1800,\" max. 1 800mm\",\" \")))&IF(H24>0,IF(H19=0,\"● \"&List!$C$111,\" \"),\" \")","v":"  "},null,null,null,null,"F22",{"$f":"IF($H23<Cen!$F$240,0.5,IF($H23<Cen!$F$241,1,0))","v":0.5},"F32",{"$f":"SUM(IF($P23<Cen!$F$248,IF($H23<Cen!$F$240,0.5,1),0))","v":0.5},null,null,"Závěs B",null,"Závěs Bs"]
[null,{"$f":"List!$C$73&\" [mm]\"","v":"Výška korpusu [mm]"},null,null,"TKH * ",null,"KH ",null,{"$f":"IF(H20=0,\" \",IF($H20<480,\" min. 480mm\",IF($H20>1040,\" max. 1 040mm\",\" \")))&IF(H24>0,IF(H20=0,\"● \"&List!$C$111,\" \"),\" \")","v":"  "},null,null,null,null,"F25",{"$f":"IF($H23<Cen!$E$242,0,IF($H23<Cen!$F$242,1,0))","v":0},"F35",{"$f":"IF($P23<Cen!$F$249,IF($P23>Cen!$E$249,IF($H23<Cen!$F$240,0.5,1),0),0)","v":0},null,null,"T558E",{"$f":"IF($N$42=1,IF($H19>1199,3,IF($T24>11.9,3,2)),0)+IF(N$42=1,IF($H19>1799,1,IF($T24>19.9,1,0)),0)","v":0},"Z553E",{"$f":"IF($Q$42=1,IF($H19>1199,3,IF($T24>11.9,3,2)),0)+IF($Q$42=1,IF($H19>1799,1,IF($T24>19.9,1,0)),0)","v":0}]
[null,{"$f":"List!$C$74&\" [kg] ** \"","v":"Hmotnost čela včetně úchytky [kg] ** "},null,null,null,null,null,null,{"$f":"IF($H24=0,\" \",IF(SUM($H21,$H22)=0,$N$34,\" \"))&IF($H24>0,IF($H21>0,$N$35,\" \"),\" \")","v":"  "},null,null,null,null,"F28",{"$f":"IF($H23<Cen!$E$243,0,IF($H23<Cen!$F$243,1,IF($H23>Cen!$E$244,0,0)))","v":0},"F38",{"$f":"IF($P23<Cen!$F$250,IF($P23>Cen!$E$250,IF($H23<Cen!$F$240,0.5,1),0),0)","v":0},null,null,"T5550",{"$f":"IF($N$42=2,IF($H19>1199,3,IF($T24>11.9,3,2)),0)+IF($N$42=2,IF($H19>1799,1,IF($T24>19.9,1,0)),0)","v":2},"Z5500",{"$f":"IF($Q$42=2,IF($H19>1199,3,IF($T24>11.9,3,2)),0)+IF($Q$42=2,IF($H19>1799,1,IF($T24>19.9,1,0)),0)","v":2}]
[null,{"$f":"List!$C$76&\" [kg]       \"","v":"Vypočtená hmotnost čela [kg]       "},null,null,null,null,null,{"$f":"$H$219","v":0},{"$f":"IF($H24>0,IF($H22>0,IF($H21=0,$N$35,\" \"),\" \"),\" \")","v":" "},null,null,null,null,null,null,"F39",{"$f":"IF($P23<Cen!$F$251,IF($P23>Cen!$E$251,IF($H23<Cen!$F$240,0.5,1),0),0)","v":0},null,null,null,null,null,null,null,null,{"$f":"\" \"&List!$C$177&\" B\"","v":" Výpočet hmotnosti B"}]
[null,{"$f":"List!$C$80&\" LF \"","v":"Ukazatel výkonnosti LF "},null,null,null,null,null,{"$f":"IF(H20<1041,IF(H20>479,IF(H21>0,H20*H21,H20*H22),0),0)","v":0},{"$f":"IF(AND(H23>0,H23<960), $T$38, IF($H23>17250,$N$38,\" \"))","v":" "},null,null,null,null,null,"výška korpusu",{"$f":"IF(F20>0,IF(F20>=H20,F20,0),H20)","v":0}]
[null,{"$f":"List!$C$69&\" \"","v":"Počet skříněk "},null,null,null,null,null,null,{"$f":"IF(AND(M24>0, H23>959, O19=0.5), $U$39, \" \")","v":" "},null,null,null,{"$f":"IF($H19*$P23=0,0,IF(SUM($H21,$H22)=0,0,IF($P23>Cen!$F$252,0,IF(P23<Cen!$E$248,0,IF(OR(H23<Cen!$E$240, H23>Cen!$F$243),0,$H24)))))","v":0},"← Hlavní údaj",null,null,null,null,"hmot =",{"$f":"IF(H21>0,H21,H22)","v":0},{"$f":"IF(SUM(H21,H22)=0,0,IF(H21>0,1,2))","v":0},"zadaná / vypočtená",null,null,null,{"$f":"\" \"&List!$C$176","v":" Výpočet asymetrických čel"}]
[null,{"$f":"IF(H24>0,IF(U24=0,\" \",IF(U24=1,$N$47,$N$48)),\" \")&IF(H24>0,IF(U24=0,\" \",IF(U24=1,$N$49,$N$50)),\" \")","v":"  "}]
[null,{"$f":"IF(F20=0,\" \",IF(F20>1040,\"TKH = max. 1040!\",IF(F20<480,\"TKH = min. 480!\",IF(F20<H20,$N$53,IF(H24>0,IF(F20=0,\" \",IF(F20>0,$N$52,\" \")),\" \")))))","v":" "}]
[null,{"$f":"IF(OR(AND($S$9=1, $M$15>0), AND($S$18=1, $M$24>0)), List!$C$157, \" \")","v":" "},null,null,null,null,null,null,null,null,null,null,null,null,null,null,null,null,{"$f":"IF($T$27=FALSE,2,1)","v":1},true,null," - Zdroj"]
[]
[]
[]
[]
[null,null,null,null,null,null,null,null,null,null,null,null,null,{"$f":"List!C158","v":"Cena bez napájecího zdroje!"}]
[null,null,{"$f":"\"*  \"&List!$C$165","v":"*  Pouze pro asymetrická čela: zadejte teoretickou výšku TKH."}]
[null,null,{"$f":"\" ( \"&List!$C$166&\")\"","v":" ( TKH = dvojnásobná výška horního čela včetně mezer)"},null,null,null,null,null,null,null,null,null,null,{"$f":"\" \"&List!$C$103","v":" Doplňte nebo použijte \"Výpočet hmotnosti\" "}]
[null,null,{"$f":"\"** \"&List!$C$168","v":"** Pokud znáte hmotnost a nechcete využít výpočtu hmotnosti"},null,null,null,null,null,null,null,null,null,null,{"$f":"\"◄ \"&List!$C$100","v":"◄ hodnota bude použita pro výpočet LF"}]
[null,null,{"$f":"\"*** \"&List!$C$371","v":"*** Vyberte typ alurámečku!"},null,null,null,null,null,null,null,null,null,null,{"$f":"\" * \"&List!$C$110","v":" * Doplňte hodnoty"}]
[null,null,{"$f":"\"      \"&List!$C$372","v":"      Více informací k výběru alurámečků v Nápovědě"}]
[null,null,null,null,null,null,null,null,null,null,null,null,null,{"$f":"\" max. 17.250! \"&List!$C$105","v":" max. 17.250! Upravte hmotnost nebo výšku"},null,null,null,null,null,{"$f":"\" min. 960! \"&List!$C$105","v":" min. 960! Upravte hmotnost nebo výšku"}]
[null,null,null,null,null,null,null,null,null,null,null,null,null,{"$f":"\" \"&List!$C$104","v":" Přídavný třetí zdvihač"},null,null,null,null,null,null,{"$f":"\" \"&List!C109","v":" Použijte pouze jeden zdvihač"}]
[null,null,null,null,null,null,null,null,null,null,null,null,null,{"$f":"List!$C$163","v":"Přídavný třetí zdvihač může být použit pouze s plným spodním čelem!"}]
[]
[null,null,null,null,null,null,null,null,null,null,null,null,null,{"$f":"HF!$L$37","v":2},2,{"$f":"HF!$N$37","v":2},2,{"$f":"HF!$P$37","v":2},null,{"$f":"Menu!$Q$27","v":3}]
[null,null,null,null,null,null,null,null,null,null,null,null,null,"záv.","alu","střed.","alu","podl.",null,"kryt."]
[null,null,null,null,null,null,null,null,null,null,null,null,null,{"$f":"List!$C$116","v":"Expando"},null,{"$f":"List!$C$116","v":"Expando"},null,{"$f":"List!$C$116","v":"Expando"},null,{"$f":"List!$C$128","v":"Světle šedá (HG/T)"}]
[null,null,null,null,null,null,null,null,null,null,null,null,null,{"$f":"List!$C$117","v":"na vruty"},null,{"$f":"List!$C$117","v":"na vruty"},null,{"$f":"List!$C$117","v":"na vruty"},null,{"$f":"List!$C$130","v":"Hedvábně bílá (SW/T)"}]
[null,null,null,null,null,null,null,null,null,null,null,null,null,null,null,null,null,null,null,{"$f":"List!$C$131","v":0}]
[null,null,null,null,null,null,null,null,null,null,null,null,null,{"$f":"List!C169","v":"Pro určení typu zdvihače bude použita zadaná hmotnost"}]
[null,null,null,null,null,null,null,null,null,null,null,null,null,{"$f":"List!C170","v":"Pro určení typu zdvihače bude použita vypočtená hmotnost"}]
[null,null,null,null,null,null,null,null,null,null,null,null,null,{"$f":"\". \"&List!$C$171","v":". Chcete-li použít vypočtenou hmotnost, smažte zadanou hodnotu"}]
[null,null,null,null,null,null,null,null,null,null,null,null,null,{"$f":"\". \"&List!$C$172","v":". Chcete-li použít zadanou hmotnost, zadejte ji do políčka"}]
[null,null,null,null,null,null,null,null,null,null,null,null,null,{"$f":"List!C173","v":0}]
[null,null,null,null,null,null,null,null,null,null,null,null,null,{"$f":"List!C174","v":"Pro výběr teleskopů bude použita teoretická výška TKH"}]
[null,null,null,null,null,null,null,null,null,null,null,null,null,{"$f":"List!C175","v":"Teoretická výška TKH nesmí být menší než KH"}]
[]
[]
[]
[]
[]
[]
[]
[]
[]
[]
[]
[]
[]
[]
[]
[]
[]
[]
[]
[]
[]
[]
[]
[]
[]
[]
[]
[]
[]
[]
[]
[]
[]
[]
[]
[]
[]
[]
[]
[]
[]
[]
[]
[]
[null,{"$f":"List!C142","v":"Soupis kování"}]
[]
[null,{"$f":"$B$2","v":"AVENTOS HF"},null,{"$f":"B4","v":"Dřevěné čelo"},null," -",{"$f":"B5","v":"Široký alurámeček ***"}]
[null,{"$f":"List!C50","v":"Název"},null,null,null,null,{"$f":"List!$C$51","v":"Číslo artiklu"},null,{"$f":"List!C52","v":"Barva"},{"$f":"List!C54","v":"Ks"},{"$f":"List!C56","v":"Jednotková cena"},{"$f":"List!C57","v":"Celkem"},"A","Cena","B","Cena",null,null,"Filtr"]
[null,{"$f":"Cen!A2","v":"Sada zdvihačů HF"},null,null,null,null,{"$f":"Cen!E2","v":"20F2200.05"},null,{"$f":"Cen!G2","v":"ZN"},{"$f":"ROUNDUP($M$15*O10+$M$24*O19,0)","v":0},{"$f":"Cen!I2","v":0},{"$f":"J102*K102","v":0},{"$f":"ROUNDUP($M$15*O10,0)","v":0},{"$f":"$K102*M102","v":0},{"$f":"ROUNDUP($M$24*O19,0)","v":0},{"$f":"$K102*O102","v":0},null,null,"x"]
[null,{"$f":"Cen!A3","v":"Sada zdvihačů HF"},null,null,null,null,{"$f":"Cen!E3","v":"20F2500.05"},null,{"$f":"Cen!G3","v":"ZN"},{"$f":"ROUNDUP($M$15*O11+$M$24*O20,0)","v":0},{"$f":"Cen!I3","v":0},{"$f":"J103*K103","v":0},{"$f":"ROUNDUP($M$15*O11,0)","v":0},0,{"$f":"ROUNDUP($M$24*O20,0)","v":0},0,null,null,"x"]
[null,{"$f":"Cen!A4","v":"Sada zdvihačů HF"},null,null,null,null,{"$f":"Cen!E4","v":"20F2800.05"},null,{"$f":"Cen!G4","v":"ZN"},{"$f":"ROUNDUP($M$15*O12+$M$24*O21,0)","v":0},{"$f":"Cen!I4","v":0},0,{"$f":"ROUNDUP($M$15*O12,0)","v":0},0,{"$f":"ROUNDUP($M$24*O21,0)","v":0},0,null,null,"x"]
[null,{"$f":"Cen!A5","v":"Sada teleskopů (480-570mm)"},null,null,null,null,{"$f":"Cen!E5","v":"20F3200.01"},null,{"$f":"Cen!G5","v":"NI"},{"$f":"ROUNDUP($M$15*Q10+$M$24*Q19,0)","v":0},{"$f":"Cen!I5","v":0},0,{"$f":"ROUNDUP($M$15*Q10,0)","v":0},0,{"$f":"ROUNDUP($M$24*Q19,0)","v":0},0,null,null,"x"]
[null,{"$f":"Cen!A6","v":"Sada teleskopů (560-710mm)"},null,null,null,null,{"$f":"Cen!E6","v":"20F3500.01"},null,{"$f":"Cen!G6","v":"NI"},{"$f":"ROUNDUP($M$15*Q11+$M$24*Q20,0)","v":0},{"$f":"Cen!I6","v":0},0,{"$f":"ROUNDUP($M$15*Q11,0)","v":0},0,{"$f":"ROUNDUP($M$24*Q20,0)","v":0},0,null,null,"x"]
[null,{"$f":"Cen!A7","v":"Sada teleskopů (700-900mm)"},null,null,null,null,{"$f":"Cen!E7","v":"20F3800.01"},null,{"$f":"Cen!G7","v":"NI"},{"$f":"ROUNDUP($M$15*Q12+$M$24*Q21,0)","v":0},{"$f":"Cen!I7","v":0},0,{"$f":"ROUNDUP($M$15*Q12,0)","v":0},0,{"$f":"ROUNDUP($M$24*Q21,0)","v":0},0,null,null,"x"]
[null,{"$f":"Cen!A8","v":"Sada teleskopů (760-1040mm)"},null,null,null,null,{"$f":"Cen!E8","v":"20F3900.01"},null,{"$f":"Cen!G8","v":"NI"},{"$f":"ROUNDUP($M$15*Q13+$M$24*Q22,0)","v":0},{"$f":"Cen!I8","v":0},0,{"$f":"ROUNDUP($M$15*Q13,0)","v":0},0,{"$f":"ROUNDUP($M$24*Q22,0)","v":0},0,null,null,"x"]
[null,{"$f":"Cen!A9","v":"Sada krytek HF SERVO-DRIVE, sv.šedá"},null,null,null,null,{"$f":"Cen!E9","v":"21F8000"},null,{"$f":"Cen!G9","v":"HG/T"},{"$f":"SUM(M109,O109,Q109)","v":0},{"$f":"Cen!I9","v":0},0,{"$f":"IF($S$9=2,0,IF($T$42=1,$M$134,0))","v":0},0,{"$f":"IF($S$18=2,0,IF($T$42=1,$O$134,0))","v":0},0,null,null,"x"]
[null,{"$f":"Cen!A10","v":"Sada krytek HF SERVO-DRIVE, tm.šedá"},null,null,null,null,{"$f":"Cen!E10","v":"21F8000"},null,{"$f":"Cen!G10","v":"TGR"},{"$f":"SUM(M110,O110,Q110)","v":0},{"$f":"Cen!I10","v":0},{"$f":"J110*K110","v":0},{"$f":"IF($S$9=2,0,IF($T$42=2,$M$134,0))","v":0},{"$f":"$K110*M110","v":0},{"$f":"IF($S$18=2,0,IF($T$42=2,$O$134,0))","v":0},{"$f":"$K110*O110","v":0},null,null,"x"]
[null,{"$f":"Cen!A11","v":"Sada krytek HF SERVO-DRIVE, bílá"},null,null,null,null,{"$f":"Cen!E11","v":"21F8000"},null,{"$f":"Cen!G11","v":"SW/T"},0,{"$f":"Cen!I11","v":0},0,{"$f":"IF($S$9=2,0,IF($T$42=3,$M$134,0))","v":0},0,{"$f":"IF($S$18=2,0,IF($T$42=3,$O$134,0))","v":0},0,null,null,"x"]
[]
[null,{"$f":"Cen!A12","v":"Sada krytek HF, světle šedá"},null,null,null,null,{"$f":"Cen!E12","v":"20F8000"},null,{"$f":"Cen!G12","v":"HG/T"},0,{"$f":"Cen!I12","v":0},0,{"$f":"IF($S$9=1,0,IF($T$42=1,SUM($M$102:$M$104,0),0))","v":0},0,{"$f":"IF($S$18=1,0,IF($T$42=1,SUM($O$102:$O$104,0),0))","v":0},0,null,null,"x"]
[null,{"$f":"Cen!A13","v":"Sada krytek HF, tmavě šedá"},null,null,null,null,{"$f":"Cen!E13","v":"20F8000"},null,{"$f":"Cen!G13","v":"TGR"},{"$f":"SUM(M114,O114,Q114)","v":0},{"$f":"Cen!I13","v":0},{"$f":"J114*K114","v":0},{"$f":"IF($S$9=1,0,IF($T$42=2,SUM($M$102:$M$104,0),0))","v":0},{"$f":"$K114*M114","v":0},{"$f":"IF($S$18=1,0,IF($T$42=2,SUM($O$102:$O$104,0),0))","v":0},{"$f":"$K114*O114","v":0},null,null,"x"]
[null,{"$f":"Cen!A14","v":"Sada krytek HF, bílá"},null,null,null,null,{"$f":"Cen!E14","v":"20F8000"},null,{"$f":"Cen!G14","v":"SW/T"},0,{"$f":"Cen!I14","v":0},0,{"$f":"IF($S$9=1,0,IF($T$42=3,SUM($M$102:$M$104,0),0))","v":0},0,{"$f":"IF($S$18=1,0,IF($T$42=3,SUM($O$102:$O$104,0),0))","v":0},0,null,null,"x"]
[]
[null,{"$f":"Cen!A15","v":"Závěs CLIP top 120° "},null,null,null,null,{"$f":"Cen!E15","v":"70T5550.TL"},null,{"$f":"Cen!G15","v":"NI"},0,{"$f":"Cen!I15","v":0},0,{"$f":"$M$15*$U$12","v":0},0,{"$f":"$M$24*$U$21","v":0},0,null,null,"x"]
[null,{"$f":"Cen!A16","v":"Závěs CLIP top 120° EXPANDO"},null,null,null,null,{"$f":"Cen!E16","v":"70T558E"},null,{"$f":"Cen!G16","v":"NI"},0,{"$f":"Cen!I16","v":0},0,{"$f":"$M$15*$U$11","v":0},0,{"$f":"$M$24*$U$20","v":0},0,null,null,"x"]
[null,{"$f":"Cen!A17","v":"Středový závěs CLIP top "},null,null,null,null,{"$f":"Cen!E17","v":"78Z5500T"},null,{"$f":"Cen!G17","v":"NI"},0,{"$f":"Cen!I17","v":0},0,{"$f":"$M$15*$W$12","v":0},0,{"$f":"$M$24*$W$21","v":0},0,null,null,"x"]
[null,{"$f":"Cen!A18","v":"Středový závěs CLIP top EXPANDO"},null,null,null,null,{"$f":"Cen!E18","v":"78Z553ET"},null,{"$f":"Cen!G18","v":"NI"},0,{"$f":"Cen!I18","v":0},0,{"$f":"$M$15*$W$11","v":0},0,{"$f":"$M$24*$W$20","v":0},0]
[null,{"$f":"Cen!A19","v":"Závěs CLIP top pro alurámečky"},null,null,null,null,{"$f":"Cen!E19","v":"72T550A.TL"},null,{"$f":"Cen!G19","v":"NI"},null,{"$f":"Cen!I19","v":0},0,null,0,null,0]
[null,{"$f":"Cen!A20","v":"Střed. závěs CLIP top pro alurámečky"},null,null,null,null,{"$f":"Cen!E20","v":"78Z550AT"},null,{"$f":"Cen!G20","v":"NI"},null,{"$f":"Cen!I20","v":0},0,null,0,null,0]
[null,{"$f":"Cen!A21","v":"Přímá montážní podložka"},null,null,null,null,{"$f":"Cen!E21","v":"175H3100"},null,{"$f":"Cen!G21","v":"NI"},{"$f":"SUM(M123,O123,Q123)","v":0},{"$f":"Cen!I21","v":0},0,{"$f":"SUM($Q$10*2,$Q$11*2,$Q$12*2,$Q$13*2,IF($R$42=2,SUM($U$11:$U$12,$W$11:$W$12),0))*$M$15","v":0},0,{"$f":"SUM($Q$19*2,$Q$20*2,$Q$21*2,$Q$22*2,IF($R$42=2,SUM($U$20:$U$21,$W$20:$W$21),0))*$M$24","v":0},0,null,null,"x"]
[null,{"$f":"Cen!A22","v":"Přímá montážní podložka, EXPANDO"},null,null,null,null,{"$f":"Cen!E22","v":"177H3100E"},null,{"$f":"Cen!G22","v":"NI"},{"$f":"SUM(M124,O124,Q124)","v":0},{"$f":"Cen!I22","v":0},0,{"$f":"IF($R$42=1,SUM($U$11,$U$12,$W$11,$W$12)*$M$15,0)","v":0},0,{"$f":"IF($R$42=1,SUM($U$20,$U$21,$W$20,$W$21)*$M$24,0)","v":0},0,null,null,"x"]
[null,{"$f":"Cen!A23","v":"Podložka CLIP excentrická"},null,null,null,null,{"$f":"Cen!E23","v":"173H7100"},null,{"$f":"Cen!G23","v":"NI"},null,{"$f":"Cen!I23","v":0},0,null,0,null,0]
[null,{"$f":"Cen!A24","v":"Adaptér CLIP k teleskopům P"},null,null,null,null,{"$f":"Cen!E24","v":"175H5B00   R"},null,{"$f":"Cen!G24","v":"NI"},null,{"$f":"Cen!I24","v":0},0,null,0,null,0]
[null,{"$f":"Cen!A25","v":"Adaptér CLIP k teleskopům L"},null,null,null,null,{"$f":"Cen!E25","v":"175H5B00   L"},null,{"$f":"Cen!G25","v":"NI"},null,{"$f":"Cen!I25","v":0},0,null,0,null,0]
[null,{"$f":"Cen!A26","v":"Adaptér CLIP ke středovým závěsům"},null,null,null,null,{"$f":"Cen!E26","v":"175H5A00"},null,{"$f":"Cen!G26","v":"NI"},null,{"$f":"Cen!I26","v":0},0,null,0,null,0]
[null,{"$f":"Cen!A27","v":"Omezovač úhlu otevření na 83° "},null,null,null,null,{"$f":"Cen!E27","v":"20F7011"},null,{"$f":"Cen!G27","v":"TGR"},null,{"$f":"Cen!I27","v":0},0,null,0,null,0]
[null,{"$f":"Cen!A28","v":"Omezovač úhlu otevření na 104° "},null,null,null,null,{"$f":"Cen!E28","v":"20F7051"},null,{"$f":"Cen!G28","v":"TGR"},null,{"$f":"Cen!I28","v":0},0,null,0,null,0]
[null,{"$f":"Cen!A151","v":"CLIP top krytka raménka Nikl"},null,null,null,null,{"$f":"Cen!E151","v":"70.1503"},null,{"$f":"Cen!G151","v":"NI"},{"$f":"SUM(M131,O131,Q131)","v":0},{"$f":"Cen!I151","v":0},0,{"$f":"SUM(M$117:M$122)","v":0},0,{"$f":"SUM(O$117:O$122)","v":0},0,null,null,"x"]
[null,{"$f":"Cen!A195","v":"Samořezný vrut do alurámečků"},null,null,null,null,{"$f":"Cen!E195","v":"660.0950"},null,{"$f":"Cen!G195","v":"NI"},{"$f":"SUM(M132,O132,Q132)","v":0},{"$f":"Cen!I195","v":0},0,{"$f":"SUM(SUM(M119:M125)*2, -M119*4)","v":0},{"$f":"$K132*M132","v":0},{"$f":"SUM(SUM(O119:O125)*2, -O119*4)","v":0},{"$f":"$K132*O132","v":0},null,null,"x"]
[null,null,null,null,null,null,null,null,null,null,null,0,null,0,null,0]
[null,{"$f":"Cen!A199","v":"SERVO-DRIVE jednotka (sada)"},null,null,null,null,{"$f":"Cen!E199","v":"21FA000"},null,{"$f":"Cen!G199","v":"HGR"},{"$f":"SUM(M134,O134,Q134)","v":0},{"$f":"Cen!I199","v":0},0,{"$f":"IF($S$9=2,0,$M$15)","v":0},0,{"$f":"IF($S$18=2,0,$M$24)","v":0},0,null,null,"x"]
[null,{"$f":"Cen!A200","v":"SERVO-DRIVE jednotka (sada) pro HK top"},null,null,null,null,{"$f":"Cen!E200","v":"23KA000"},null,{"$f":"Cen!G200","v":"HGR"},null,{"$f":"Cen!I200","v":0},0,null,0,null,0]
[]
[]
[null,null,null,null,null,null,null,null,null,null,{"$f":"List!$C$59&\" \"","v":"Cena celkem bez DPH "},{"$f":"SUM(L102:L136)","v":0},null,{"$f":"SUM(N102:N137)","v":0},null,{"$f":"SUM(P102:P137)","v":0},null,{"$f":"SUM(R102:R137)","v":0}]
[]
[null,null,null,null,null,null,null,null,null,null,null,{"$f":"List!$C$149","v":"Zpět"}]
[]
[]
[]
[]
[]
[]
[]
[]
[]
[]
[]
[]
[]
[]
[]
[]
[]
[]
[]
[]
[]
[]
[]
[]
[]
[]
[]
[]
[]
[]
[]
[]
[]
[]
[]
[]
[]
[]
[]
[]
[]
[]
[]
[]
[]
[]
[]
[]
[]
[]
[]
[]
[]
[]
[]
[]
[]
[]
[null,{"$f":"List!$C$71","v":"Výpočet hmotnosti čel"}]
[null,null,{"$f":"List!$C$33&\"  \"","v":"horní čelo  "},null,null,null,null,null,{"$f":"IF(O207=3,IF(H200=0,N203,\" \"),IF(H200>0,N204,\" \"))","v":" "},null,null,null,null,{"$f":"IF($O$207=1,$O$208,IF($O$207=2,$O$209,$O$210&\" \"&$N$210&\"kg/m3\"))&\" A~\"&$H$208&\"/ B~\"&$H$217&\"mm\"","v":"MDF (760 kg/m3) A~/ B~mm"},null,null,null,null,{"$f":"Menu!$Q$205","v":2500}]
[null,null,null,{"$f":"IF($O$207<>3,$N$202,\" \")&\"      \"","v":" Změnit hodnoty můžete v Úvodu plánování      "},null,null,null,null,null,null,null,null,null,{"$f":"IF($U$206=1,$U$227,IF($U$206=2,$U$228,$U$229&\" -  \"&$H$202&\"mm\"))","v":"Alurámečky s 4mm sklem"}]
[null,null,{"$f":"List!$C$34&\"  \"","v":"dolní čelo  "},null,null,null,null,null,{"$f":"IF(U206=3,IF(H202=0,T203,\" \"),IF(H202>0,T204,\" \"))","v":" "},null,null,null,null,{"$f":"\" \"&List!$C$382","v":" Změnit hodnoty můžete v Úvodu plánování"}]
[null,null,null,null,null,null,null,null,null,null,null,null,null,{"$f":"\" \"&List!$C$225&\" [kg/m3]\"","v":" Zadejte objemovou hmotnost  [kg/m3]"},null,null,null,null,null,{"$f":"\" \"&List!$C$226&\" [mm]\"","v":" Zadejte sílu skla [mm]"}]
[null,null,null,null,null,null,null,null,null,null,null,null,null,{"$f":"\" \"&List!$C$221&\" '\"&List!$C$86&\"'\"","v":" Hodnota platí jen pro volbu 'Jiné - volitelná hustota'"},null,null,null,null,null,{"$f":"\" \"&List!$C$221&\" '\"&List!$C$89&\"'\"","v":" Hodnota platí jen pro volbu 'Alurámečky s jiným sklem'"}]
[null,null,null,null,null,{"$f":"D9","v":"Korpus A"},null,null,null,null,null,null,null,null,null,null,null,null,null,"váha spoj.","tl. skla","typ alu"]
[null,{"$f":"List!$C$72&\" KB [mm]       \"","v":"Šířka korpusu KB [mm]       "},null,null,null,null,null,{"$f":"H10","v":0},null,null,null,null,null,{"$f":"H206*H207*H208/2","v":0},null,null,null,null,{"$f":"IF($V$206=1,$M$236,$M$237)","v":0.62},{"$f":"$M$238","v":0.61},1,{"$f":"$O$4","v":1}]
[null,{"$f":"List!$C$73&\" KH [mm]       \"","v":"Výška korpusu KH [mm]       "},null,null,null,null,null,{"$f":"H11","v":0},null,null,null,null,null,{"$f":"N206/1000000000","v":0},1,null,null,null,"váha alu",{"$f":"SUM(H206*2,(H207/2-90)*2)*S206/1000","v":-0.11159999999999999},"A plocha B"]
[null,{"$f":"List!$C$77&\" TS [mm] \"","v":"Síla čela TS [mm] "},null,null,null,null,null,null,{"$f":"IF(SUM(H206,H207)=0,\" \",IF(H208=0,\" ● \"&List!$C$111,\" \"))","v":" "},null,null,null,null,{"$f":"Menu!$L$30","v":760},{"$f":"List!$C$84&\" (\"&N208&\" kg/m3)\"","v":"MDF (760 kg/m3)"},null,null,null,{"$f":"$S$200*4/1000","v":10},{"$f":"IF($V$206=1,U208*S208,V208*S208)","v":6.4000000000000001E-2},{"$f":"SUM(($H$206-80)*($H$207/2-80)/1000000)","v":6.4000000000000003E-3},{"$f":"SUM(($H$206-6)*($H$207/2-6)/1000000)","v":3.6000000000000001E-5},"4mm"]
[null,{"$f":"List!$C$78&\" [kg] \"","v":"Hmotnost úchytky [kg] "},null,null,null,null,null,null,{"$f":"IF(SUM(H206,H207)=0,\" \",IF(H209=0,\" ● \"&List!$C$112,\" \"))","v":" "},null,null,null,null,{"$f":"Menu!$L$31","v":680},{"$f":"List!$C$85&\" (\"&N209&\" kg/m3)\"","v":"Dřevotříska (680 kg/m3)"},null,null,null,{"$f":"$S$200*5/1000","v":12.5},{"$f":"IF($V$206=1,U209*S209,V209*S209)","v":0.08},{"$f":"SUM(($H$206-80)*($H$207/2-80)/1000000)","v":6.4000000000000003E-3},{"$f":"SUM(($H$206-6)*($H$207/2-6)/1000000)","v":3.6000000000000001E-5},"5mm"]
[null,{"$f":"List!$C$76&\" [kg] \"","v":"Vypočtená hmotnost čela [kg] "},null,null,null,null,null,{"$f":"IF(M210*S211<>0,SUM(M210,S211,H209),0)","v":0},null,null,null,null,{"$f":"IF(H206*H207*H208=0,0,IF(O207=1,N207*N208,IF(O207=2,N207*N209,N207*N210)))","v":0},{"$f":"$H$200","v":0},{"$f":"List!$C$86","v":"Jiné - volitelná hustota"},null,null,null,{"$f":"$S$200*$H$202/1000","v":0},{"$f":"IF($V$206=1,U210*S210,V210*S210)","v":0},{"$f":"SUM(($H$206-80)*($H$207/2-80)/1000000)","v":6.4000000000000003E-3},{"$f":"SUM(($H$206-6)*($H$207/2-6)/1000000)","v":3.6000000000000001E-5},"jiné"]
[null,null,{"$f":"IF(H210>0,IF(H209=0,$N$227,\" \"),\" \")","v":" "},null,null,null,null,null,null,null,null,null,null,null,null,null,null,null,{"$f":"IF(OR(AND(U206=3, $H$202=0), H206*H207=0), 0, SUM(IF(U206=1,T208,IF(U206=2,T209,T210)),T207,T206))","v":0}]
[]
[]
[null,null,null,null,null,{"$f":"D18","v":"Korpus B"},null,null,null,null,null,null,null,null,null,null,null,null,null,"váha spoj.","tl. skla","typ alu"]
[null,{"$f":"List!$C$72&\" KB [mm]       \"","v":"Šířka korpusu KB [mm]       "},null,null,null,null,null,{"$f":"H19","v":0},null,null,null,null,null,{"$f":"H215*H216*H217","v":0},null,null,null,null,{"$f":"IF($V$206=1,$M$236,$M$237)","v":0.62},{"$f":"$M$238","v":0.61},{"$f":"$U$206","v":1},{"$f":"$V$206","v":1}]
[null,{"$f":"List!$C$73&\" KH [mm]       \"","v":"Výška korpusu KH [mm]       "},null,null,null,null,null,{"$f":"H20","v":0},null,null,null,null,null,{"$f":"N215/1000000000/2","v":0},{"$f":"O207","v":1},null,null,null,"váha alu",{"$f":"SUM(H215*2,(H216/2-90)*2)*S215/1000","v":-0.11159999999999999},"A plocha B"]
[null,{"$f":"List!$C$77&\" TS [mm] \"","v":"Síla čela TS [mm] "},null,null,null,null,null,null,{"$f":"IF(SUM(H215,H216)=0,\" \",IF(H217=0,\" ● \"&List!$C$111,\" \"))","v":" "},null,null,null,null,{"$f":"$N$208","v":760},{"$f":"$O$208","v":"MDF (760 kg/m3)"},null,null,null,{"$f":"S208","v":10},{"$f":"IF($V$206=1,U217*S217,V217*S217)","v":6.4000000000000001E-2},{"$f":"SUM(($H$215-80)*($H$216/2-80)/1000000)","v":6.4000000000000003E-3},{"$f":"SUM(($H$215-6)*($H$216/2-6)/1000000)","v":3.6000000000000001E-5},"4mm"]
[null,{"$f":"List!$C$78&\" [kg] \"","v":"Hmotnost úchytky [kg] "},null,null,null,null,null,null,{"$f":"IF(SUM(H215,H216)=0,\" \",IF(H218=0,\" ● \"&List!$C$112,\" \"))","v":" "},null,null,null,null,{"$f":"$N$209","v":680},{"$f":"$O$209","v":"Dřevotříska (680 kg/m3)"},null,null,null,{"$f":"S209","v":12.5},{"$f":"IF($V$206=1,U218*S218,V218*S218)","v":0.08},{"$f":"SUM(($H$215-80)*($H$216/2-80)/1000000)","v":6.4000000000000003E-3},{"$f":"SUM(($H$215-6)*($H$216/2-6)/1000000)","v":3.6000000000000001E-5},"5mm"]
[null,{"$f":"List!$C$76&\" [kg] \"","v":"Vypočtená hmotnost čela [kg] "},null,null,null,null,null,{"$f":"IF(M219*S220<>0,SUM(M219,S220,H218),0)","v":0},null,null,null,null,{"$f":"IF(H215*H216*H217=0,0,IF(O216=1,N216*N217,IF(O216=2,N216*N218,N216*N219)))","v":0},{"$f":"$N$210","v":0},{"$f":"$O$210","v":"Jiné - volitelná hustota"},null,null,null,{"$f":"S210","v":0},{"$f":"IF($V$206=1,U219*S219,V219*S219)","v":0},{"$f":"SUM(($H$215-80)*($H$216/2-80)/1000000)","v":6.4000000000000003E-3},{"$f":"SUM(($H$215-6)*($H$216/2-6)/1000000)","v":3.6000000000000001E-5},"jiné"]
[null,null,{"$f":"IF(H219>0,IF(H218=0,$N$227,\" \"),\" \")","v":" "},null,null,null,null,null,null,null,null,null,null,null,null,null,null,null,{"$f":"IF(OR(AND(U215=3, $H$202=0), H215*H216=0), 0, SUM(IF(U215=1,T217,IF(U215=2,T218,T219)),T216,T215))","v":0}]
[]
[]
[null,null,null,null,null,null,null,null,null,null,{"$f":"IF(SUM(J221,J222)=0,\" \",IF(J223=0,\" * \"&List!$C$111,\" \"))","v":" "}]
[null,null,null,null,null,null,{"$f":"List!$C$149","v":"Zpět"}]
[]
[]
[null,null,{"$f":"List!$C$217&\" \"&List!$C$218","v":"Upozornění: Vypočtené hodnoty jsou pouze orientační.  Firma Blum ani prodejci neručí za jejich správnost."},null,null,null,null,null,null,null,null,null,null,{"$f":"List!$C$95&\"!\"","v":"Není započtena hmotnost úchytky!"},null,null,null,null,null,null,{"$f":"List!$C$87","v":"Alurámečky s 4mm sklem"}]
[null,null,null,null,null,null,null,null,null,null,null,null,null,null,null,null,null,null,null,null,{"$f":"List!$C$88","v":"Alurámečky s 5mm sklem"}]
[null,null,null,null,null,null,null,null,null,null,null,null,null,null,null,null,null,null,null,null,{"$f":"List!$C$89","v":"Alurámečky s jiným sklem"}]
[]
[]
[]
[]
[]
[null,null,null,null,"Hmotnost alurámečků [kg/bm]",null,{"$f":"List!$C$368","v":"Podle Úvodu"},{"$f":"List!$C$58","v":"Změna"}]
[null,null,null,null,null,{"$f":"List!$C$373&\"  \"","v":"S vloženým sklem  "},{"$f":"Menu!$Q215","v":0.62},null,null,null,null,null,{"$f":"IF($H236>0,$H236,$G236)","v":0.62}]
[null,null,null,null,null,{"$f":"List!$C$374&\"  \"","v":"S naloženým nebo nalepeným sklem  "},0.65,null,null,null,null,null,{"$f":"IF($H237>0,$H237,$G237)","v":0.65}]
[null,null,null,null,null,{"$f":"List!$C$377&\" [kg/set] *  \"","v":"Hmotnost spojovacího materiálu [kg/set] *  "},0.61,null,null,null,null,null,{"$f":"IF($H238>0,$H238,$G238)","v":0.61}]
[]
[null,null,{"$f":"\"        * \"& List!$C$378&\"  \"","v":"        * Rohové spojky, šrouby, těsnění pro jeden rámeček  "}]
[]
[]
[null,null,null,null,null,null,{"$f":"List!$C$149","v":"Zpět"}]
[]
[]
[]
[]
[]
[]
[]
[]
[]
[]
[]
[]
[]
[]
[]
[]
[]
[]
[]
[]
[]
[]
[]
[]
[]
[]
[]
[]
[]
[]
[]
[]
[]
[]
[]
[]
[]
[]
[]
[]
[]
[]
[]
[]
[]
[]
[]
[]
[]
[]
[]
[]
[]
[]
[]
[]
[null,{"$f":"List!$C$176","v":"Výpočet asymetrických čel"}]
[]
[null,{"$f":"\"   \"&List!$C$179","v":"   Parametry korpusu"}]
[null,{"$f":"List!$C$73&\" KH [mm] \"","v":"Výška korpusu KH [mm] "},null,null,null,null,null,null,null,null,{"$f":"IF(SUM($I$304:$J$307,$I$314)<>0,IF($I$303=0,\" \"&List!$C$111,\" \"),\" \")","v":" "}]
[null,{"$f":"List!$C$182&\" [mm] \"","v":"Mezera nahoře [mm] "}]
[null,{"$f":"List!$C$183&\" [mm] \"","v":"Mezera mezi čely [mm] "},null,null,null,null,null,null,null,null,{"$f":"IF($I$303=0,\" \",IF($I$305<1.5,\" min. 1,5 mm!\",\" \"))","v":" "}]
[null,{"$f":"List!$C$184&\" [mm] \"","v":"Mezera dole [mm] "}]
[null,{"$f":"List!$C$185&\" [mm] \"","v":"Síla dna korpusu [mm] "}]
[]
[null,{"$f":"\"   \"&List!$C$187","v":"   Výsledky plánování"}]
[null,null,null,null,null,null,{"$f":"List!$C$188&\" [mm] \"","v":"Možné výšky čel [mm] "},null,null,null,null,null,null,null,null,{"$f":"ROUNDUP((+$I$303-$I$304-$I$305-$I$306)/2,0)","v":0},{"$f":"IF($P$310<272,70,47)","v":70}]
[null,{"$f":"List!$C$189","v":"Vrchní čelo (FHo) v rozmezí"},null,null,null,null,"min.",{"$f":"IF($P$310=0,0,IF($P$310<236,$Q$315,IF($P$310>516,$Q$315,$P$310)))","v":0},"max.",{"$f":"IF($P$310=0,0,IF($Q$315=$H$311,$Q$315,IF($P$315<$P$314,$P$315,$P$314)))","v":0},null,null,null,null,null,{"$f":"ROUNDDOWN(($I$303-$I$304-$I$305-$I$306-$Q$310-19-$I$307+$I$306)/1.5,0)","v":-59},{"$f":"IF($P$310<272,70,47)","v":70}]
[null,{"$f":"List!$C$190","v":"Spodní čelo (FHu) v rozmezí"},null,null,null,null,"min.",{"$f":"IF($J$312=$Q$315,$Q$315,SUM($I$303-$I$304-$I$305-$I$306-$J$311))","v":0},"max.",{"$f":"IF($Q$315=$H$311,$Q$315,(+$I$303-$I$304-$I$305-$I$306)/2)","v":0},null,null,null,null,null,{"$f":"ROUNDDOWN(($I$303-$I$304-$I$305-$I$306-$Q$311-19-$I$307+$I$306)/1.5,0)","v":-59},{"$f":"IF($P$310<272,70,47)","v":70}]
[null,null,null,null,null,null,null,null,null,null,null,null,null,null,null,{"$f":"ROUNDDOWN(($I$303-$I$304-$I$305-$I$306-$Q$312-19-$I$307+$I$306)/1.5,0)","v":-59},{"$f":"IF($P$310<272,70,47)","v":70}]
[null,{"$f":"List!$C$196&\" FHo [mm] \"","v":"Výška vrchního čela FHo [mm] "},null,null,null,null,null,null,null,null,{"$f":"IF($I$303=0,\" \",IF($I$314>$J$311,V314,IF($I$314<$H$311,$S$314,\" \")))","v":" "},null,null,null,null,{"$f":"ROUNDDOWN(($I$303-$I$304-$I$305-$I$306-$Q$313-19-$I$307+$I$306)/1.5,0)","v":-59},null,null,{"$f":"\" min. \"&TEXT($H$311,\"#\")&\" mm!\"","v":" min.  mm!"},null,null,{"$f":"\" max. \"&TEXT($J$311,\"#\")&\" mm!\"","v":" max.  mm!"}]
[null,{"$f":"List!$C$197&\" FHu [mm] \"","v":"Výška spodního čela FHu [mm] "},null,null,null,null,null,null,{"$f":"IF($I$314<$H$311,$Q$315,IF($I$314>$J$311,$Q$315,+$I$303-$I$304-$I$305-$I$306-$I$314))","v":0},null,null,null,null,null,null,{"$f":"+(1040-$I$304-$I$305-$I$306)/2","v":520},{"$f":"List!C193","v":"nelze"}]
[null,{"$f":"List!$C$198&\" H [mm] \"","v":"Pozice zdvihače H [mm] "},null,null,null,null,null,null,{"$f":"IF($P$310=0,0,IF($I$315=$Q$315, $Q$315,$I$314*0.6-$Q$316+$I$304))","v":0},null,null,null,null,null,null,null,{"$f":"IF($I$314<272,28,57)","v":28}]
[null,{"$f":"List!$C$199&\" X [mm] \"","v":"Pozice mont. podložky pro teleskopy X [mm] "},null,null,null,null,null,null,{"$f":"IF($P$310=0,0,IF($I$315=$Q$315,$Q$315,$I$314*0.5+$Q$317))","v":0},null,null,null,null,null,null,null,{"$f":"IF($I$314<272,70,47)","v":70}]
[null,{"$f":"List!$C$200&\" TKH [mm] * \"","v":"Teoretická výška korpusu TKH [mm] * "},null,null,null,null,null,null,{"$f":"IF($I$315=$Q$315,$Q$315,IF($Q$318>479.99,IF($Q$318<1040.01,$Q$318,$Q$315),\" \"))","v":" "},null,null,null,null,null,null,"TKH",{"$f":"SUM($I$314*2+$I$304+$I$305+$I$306)","v":0}]
[]
[null," *",{"$f":"List!$C$202","v":"Tuto výšku zadejte do tabulky pro plánování výklopů"}]
[]
[]
[]
[]
[null,null,null,null,null,null,null,null,{"$f":"List!$C$149","v":"Zpět"}]
[]
[]
[]
[]
[]
[]
[]
[]
[]
[]
[]
[]
[]
[]
[]
[]
[]
[]
[]
[]
[]
[]
[]
[]
[]
[]
[]
[]
[]
[]
[]
[]
[]
[]
[]
[]
[]
[]
[]
[]
[]
[]
[]
[]
[]
[]
[]
[]
[]
[]
[]
[]
[]
[]
[]
[]
[]
[]
[]
[]
[]
[]
[]
[]
[]
[]
[]
[]
[]
[]
[]
[]
[]
[null,"      AVENTOS HF"]
[]
[null,{"$f":"List!$C$281","v":"Potřebný zdvihač se určí pomocí ukazatele výkonnosti."}]
[null,{"$f":"List!$C$282","v":"Ukazatel výkonnosti závisí na hmotnosti dolního i horního čílka, a rovněž na výšce korpusu."}]
[]
[null,{"$f":"\" \"&List!$C$295","v":" Tak se to dělá:"}]
[null,null,null,{"$f":"List!$C$80&\" = \"","v":"Ukazatel výkonnosti = "},{"$f":"List!$C$298&\" [kg]\"","v":"výška korpusu KH [mm] x hmotnost obou čel včetně úchytky [kg]"}]
[]
[]
[]
[]
[]
[null,{"$f":"List!$C$289","v":"Pokud znáte hmotnost čela, můžete ji zadat, jinak použijte \"Výpočet hmotnosti\"."}]
[null,{"$f":"List!$C$290","v":"V tabulce má přednost zadaná hodnota. Chcete-li použít vypočtenou hmotnost, smažte zadanou hodnotu."}]
[]
[null,{"$f":"List!$C$301&\". \"&List!$C$302&\".\"","v":"Délka teleskopů závisí na výšce korpusu KH. U asymetrických čel se použije teoretická výška TKH."}]
[]
[null,{"$f":"\" \"&List!$C$144&\":\"","v":" Asymetrická čela:"}]
[null,{"$f":"\" \"&List!$C$299","v":" Teoretická výška korpusu (TKH) = výška horního čela (FHo) x 2 (včetně mezer)"}]
[]
[null,{"$f":"List!$C$293","v":"U asymetrických čel musí být větší čelo nahoře!"}]
[]
[null,{"$f":"List!$C$304","v":"Pokud zadáte hodnotu TKH, použije se pro určení délky teleskopů"}]
[null,{"$f":"List!$C$305","v":"Nemáte-li asymetrická čela, nechte políčko prázdné."}]
[null,{"$f":"List!$C$306&\" ' \"&List!$C$176&\"' \"","v":"Pro výpočet TKH můžete použít ' Výpočet asymetrických čel' "}]
[]
[]
[null,{"$f":"List!$C$284","v":"Chcete-li změnit barvu krytek, přejděte na \"Úvod\""}]
[]
[null,{"$f":"List!$C$383","v":"Věnujte pozornost výběru alurámečků."}]
[null,{"$f":"List!$C$384","v":"Vyberte, který typ lépe odpovídá tvaru použitého alurámečku."}]
[null,{"$f":"List!$C$385","v":"Způsob osazení skla do rámečku výrazně ovlivňuje plochu skla a tím i hmotnost!"}]
[]
[null,null,{"$f":"\"  \"&List!$C$373&\"  \"","v":"  S vloženým sklem  "}]
[]
[null,null,{"$f":"\"  \"&List!$C$374&\"  \"","v":"  S naloženým nebo nalepeným sklem  "}]
[]
[null,null,null,null,null,null,null,null,null,null,null,{"$f":"List!$C$149","v":"Zpět"}]

{"sheet":"HFwa_w","index":11,"n_rows":436,"n_cols":46,"rows_kept":436,"cut":false,"hidden":false,"merged":[[397,0,438,0],[404,4,404,11],[316,8,316,9],[298,0,352,0],[301,1,301,9],[302,1,302,7],[302,8,302,9],[303,1,303,7],[317,8,317,9],[324,8,324,9],[313,8,313,9],[314,1,314,7],[314,8,314,9],[316,1,316,7],[309,1,309,5],[309,6,309,9],[315,1,315,7],[317,1,317,7],[315,8,315,9],[303,8,303,9],[304,1,304,7],[304,8,304,9],[311,1,311,5],[313,1,313,7],[310,1,310,5],[305,1,305,7],[305,8,305,9],[306,8,306,9],[308,1,308,9],[306,1,306,7],[208,1,208,6],[209,1,209,6],[97,0,154,0],[204,1,204,4],[204,5,204,7],[205,1,205,6],[197,0,230,0],[213,5,213,7],[215,1,215,6],[206,1,206,6],[226,2,228,10],[223,6,223,7],[217,1,217,6],[218,1,218,6],[214,1,214,6],[216,1,216,6],[17,3,17,7],[18,1,18,6],[17,19,17,20],[207,1,207,6],[19,1,19,3],[22,1,22,6],[23,1,23,6],[26,19,26,20],[26,1,28,9],[201,3,201,7],[1,9,1,10],[3,5,3,10],[9,1,9,6],[1,1,1,2],[1,3,1,4],[1,5,1,6],[1,7,1,8],[4,5,4,10],[11,43,12,46],[0,43,0,51],[5,43,6,44],[5,45,6,45],[5,46,6,46],[7,43,7,44],[8,43,8,44],[9,43,9,44],[231,0,258,0],[242,6,242,7],[5,6,5,10],[206,20,206,21],[215,20,215,21],[13,1,13,6],[6,1,6,2],[6,6,6,7],[8,3,8,7],[8,19,8,20],[10,1,10,3],[11,1,11,6],[12,1,12,6],[21,1,21,6],[20,1,20,6],[14,1,14,6]]}
[]
[null,"AVENTOS HF",null,"AVENTOS HS",null,"AVENTOS HL",null,"AVENTOS HK top",null,"AVENTOS HK-S",null,"AVENTOS HK-XS",null,null,"rámeček",null,null,null,3,null,null,null,null,null,null,{"$f":"List!$C$135","v":"Jdi na"}]
[]
[null,{"$f":"List!$C$18&\" ***\"","v":"Široký alurámeček ***"},null,null,null,{"$f":"$N$200&\"       \"","v":"Alurámečky s 4mm sklem       "},null,null,null,null,null,null,null,null,1,null,null,null,{"$f":"\" \"&List!$C$39&\" A \"","v":" Cena za korpus A "},null,null,null,null,null,null,{"$f":"List!$C$136","v":"Úvod plánování"}]
[null,{"$f":"List!$C$15","v":"Dřevěné čelo"},null,null,null,{"$f":"$N$201&\"       \"","v":"MDF (760 kg/m3) A~/ B~mm       "},null,null,null,null,null,null,null,null,"A = 1",null,null,null,{"$f":"\" \"&List!$C$39&\" B \"","v":" Cena za korpus B "},null,null,null,null,null,null,{"$f":"List!$C$137","v":"Nápověda"}]
[null,null,null,null,null,null,{"$f":"List!$C$47&\" \"&List!$C$22&\"       \"","v":"Nastavit hmotnost alurámečků       "},null,null,null,null,null,null,null,"B = 2",null,null,null,{"$f":"\" \"&List!$C$59","v":" Cena celkem bez DPH"},null,null,null,null,null,null,null,null,null,null,null,null,null,null,null,null,null,null,null,null,null,null,null,null,{"$f":"\"  \"&List!$C$80&\" LF \"","v":"  Ukazatel výkonnosti LF "},null,{"$f":"List!$C$79","v":"Zdvihací mechanizmus"}]
[null,{"$f":"List!$C$142","v":"Soupis kování"},null,null,null,null,{"$f":"IF(S2=1,$N$138,IF($S$2=2,$P$138,IF($S$2=3,$L$138,0)))","v":0},null,null,null,null,null,null,null,null,null,null,null,null,null,null,null,null,null,null,{"$f":"List!$C$141","v":"Doplňky"}]
[null,null,null,null,null,null,null,{"$f":"IF(AND(OR($S$9=1, $S$18=1), $L$138>0), $N$32, \" \")","v":" "},null,null,null,null,null,null,null,null,null,null,null,null,null,null,null,null,null,null,null,null,null,null,null,null,null,null,null,null,null,null,null,null,null,null,null,{"$f":"\"  2.600 -  5.500 (1 \"&List!$C$153&\" LF 960 - 2.650)\"","v":"  2.600 -  5.500 (1 ks LF 960 - 2.650)"},null,"20F2200.05"]
[null,"SERVO-DRIVE",null,{"$f":"List!$C$62&\" A\"","v":"Korpus A"},null,null,null,null,null,null,null,null,null,"zdvih A",null,"teleskop",null,null,{"$f":"IF($T$9=TRUE,1,2)","v":2},false,null," - SRVDRV",null,null,null,{"$f":"List!$C$139","v":"Přehled korpusů"},null,null,null,null,null,null,null,null,null,null,null,null,null,null,null,null,null,"  5.350 - 10.150",null,"20F2500.05"]
[null,{"$f":"List!$C$72&\" KB [mm] \"","v":"Šířka korpusu KB [mm] "},null,null,null,null,null,null,{"$f":"IF(H10=0,\" \",IF($H10<220,\" min. 220mm\",IF($H10>1800,\" max. 1 800mm\",\" \")))&IF(H15>0,IF(H10=0,\"● \"&List!$C$111,\" \"),\" \")","v":"  "},null,null,null,null,"F22",{"$f":"IF($H14<Cen!$F$240,0.5,IF($H14<Cen!$F$241,1,0))","v":0.5},"F32",{"$f":"SUM(IF($P14<Cen!$F$248,IF($H14<Cen!$F$240,0.5,1),0),IF($P14<Cen!$F$248,IF($H14>Cen!$E$244,0.5,0),0))*IF($P14<480,0,1)","v":0},null,null,"Závěs A",null,"Závěs As",null,null,null,{"$f":"List!$C$140","v":"Objednávka"},null,null,null,null,null,null,null,null,null,null,null,null,null,null,null,null,null,{"$f":"\"  9.000 -  17.250 (3 \"&List!$C$153&\" LF 13.500 - 25.900)\"","v":"  9.000 -  17.250 (3 ks LF 13.500 - 25.900)"},null,"20F2800.05"]
[null,{"$f":"List!$C$73&\" [mm]\"","v":"Výška korpusu [mm]"},null,null,"TKH * ",null,"KH ",null,{"$f":"IF(H11=0,\" \",IF($H11<480,\" min. 480mm\",IF($H11>1040,\" max. 1 040mm\",\" \")))&IF(H15>0,IF(H11=0,\"● \"&List!$C$111,\" \"),\" \")","v":"  "},null,null,null,null,"F25",{"$f":"IF($H14<Cen!$E$242,0,IF($H14<Cen!$F$242,1,0))","v":0},"F35",{"$f":"IF($P14<Cen!$F$249,IF($P14>Cen!$E$249,IF($H14<Cen!$F$240,0.5,1),0),0)+IF($P14<Cen!$F$249,IF($P14>Cen!$E$249,IF($H14>Cen!$E$244,0.5,0),0),0)","v":0},null,null,"T558E",{"$f":"IF($O$42=1,IF($H10>1199,3,IF($T15>11.9,3,2)),0)+IF(O$42=1,IF($H10>1799,1,IF($T15>19.9,1,0)),0)","v":0},"Z553E",{"$f":"IF($P$42=1,IF($H10>1199,3,IF($T15>11.9,3,2)),0)+IF($P$42=1,IF($H10>1799,1,IF($T15>19.9,1,0)),0)","v":0}]
[null,{"$f":"List!$C$74&\" [kg] ** \"","v":"Hmotnost čela včetně úchytky [kg] ** "},null,null,null,null,null,null,{"$f":"IF($H15=0,\" \",IF(SUM($H12,$H13)=0,$N$34,\" \"))&IF($H15>0,IF($H12>0,$N$35,\" \"),\" \")","v":"  "},null,null,null,null,"F28",{"$f":"IF($H14<Cen!$E$243,0,IF($H14<Cen!$F$243,1,IF($H14>Cen!$E$244,1.5,0)))","v":0},"F38",{"$f":"IF($P14<Cen!$F$250,IF($P14>Cen!$E$250,IF($H14<Cen!$F$240,0.5,1),0),0)+IF($P14<Cen!$F$250,IF($P14>Cen!$E$250,IF($H14>Cen!$E$244,0.5,0),0),0)","v":0},null,null,"T5550",{"$f":"IF($O$42=2,IF($H10>1199,3,IF($T15>11.9,3,2)),0)+IF($O$42=2,IF($H10>1799,1,IF($T15>19.9,1,0)),0)","v":2},"Z5500",{"$f":"IF($P$42=2,IF($H10>1199,3,IF($T15>11.9,3,2)),0)+IF($P$42=2,IF($H10>1799,1,IF($T15>19.9,1,0)),0)","v":2},null,null,null,null,null,null,null,null,null,null,null,null,null,null,null,null,null,null,null,null,{"$f":"List!$C$80&\" LF = \"&List!$C$298&\" [kg]\"","v":"Ukazatel výkonnosti LF = výška korpusu KH [mm] x hmotnost obou čel včetně úchytky [kg]"}]
[null,{"$f":"List!$C$76&\" [kg]       \"","v":"Vypočtená hmotnost čela [kg]       "},null,null,null,null,null,{"$f":"$H$210","v":0},{"$f":"IF($H15>0,IF($H13>0,IF($H12=0,$N$35,\" \"),\" \"),\" \")","v":" "},null,null,null,null,null,null,"F39",{"$f":"IF($P14<Cen!$F$251,IF($P14>Cen!$E$251,IF($H14<Cen!$F$240,0.5,1),0),0)+IF($P14<Cen!$F$251,IF($P14>Cen!$E$251,IF($H14>Cen!$E$244,0.5,0),0),0)","v":0},null,null,null,null,null,null,null,null,{"$f":"\" \"&List!$C$177&\" A\"","v":" Výpočet hmotnosti A"}]
[null,{"$f":"List!$C$80&\" LF \"","v":"Ukazatel výkonnosti LF "},null,null,null,null,null,{"$f":"IF(H11<1041,IF(H11>479,IF(H12>0,H11*H12,H11*H13),0),0)","v":0},{"$f":"IF(AND(H14>0, H14<960), $T$38, IF($H14>25900,$N$38,IF($H14>17250,$N$39,\" \"))&IF(H14>25900,\" \",IF(AND($S9=1,$H14>17250),$Q$39,\"  \")))","v":"   "},null,null,null,null,null,"výška korpusu",{"$f":"IF(F11>0,IF(F11>=H11,F11,0),H11)","v":0}]
[null,{"$f":"List!$C$69&\" \"","v":"Počet skříněk "},null,null,null,null,null,null,{"$f":"IF(AND(M15>0, H14>959, O10=0.5), $U$39, \" \")","v":" "},null,null,null,{"$f":"IF($H10*$P14=0,0,IF(SUM($H12,$H13)=0,0,IF($P14>Cen!$F$252,0,IF(P14<Cen!$E$248,0,IF(OR(H14<Cen!$E$240, H14>Cen!$F$244),0,$H15)))))","v":0},"← Hlavní údaj",null,null,null,null,"hmot =",{"$f":"IF(H12>0,H12,H13)","v":0},{"$f":"IF(SUM(H12,H13)=0,0,IF(H12>0,1,2))","v":0},"zadaná / vypočtená",null,null,null,{"$f":"\" \"&List!$C$176","v":" Výpočet asymetrických čel"},null,null,null,null,null,null,null,null,null,null,null,null,null,null,null,null,null,{"$f":"List!$C$149","v":"Zpět"}]
[null,{"$f":"IF(H15>0,IF(U15=0,\" \",IF(U15=1,$N$47,$N$48)),\" \")&IF(H15>0,IF(U15=0,\" \",IF(U15=1,$N$49,$N$50)),\" \")","v":"  "}]
[null,{"$f":"IF(F11=0,\" \",IF(F11>1040,\"TKH = max. 1040!\",IF(F11<480,\"TKH = min. 480!\",IF(F11<H11,$N$53,IF(H15>0,IF(F11=0,\" \",IF(F11>0,$N$52,\" \")),\" \")))))","v":" "}]
[null,"SERVO-DRIVE",null,{"$f":"List!$C$62&\" B\"","v":"Korpus B"},null,null,null,null,null,null,null,null,null,"zdvih B",null,"teleskop",null,null,{"$f":"IF($T$18=TRUE,1,2)","v":2},false,null," - SRVDRV",null,null,null,{"$f":"\" \"&List!$C$361","v":" Ověření síly zdvihače"}]
[null,{"$f":"List!$C$72&\" KB [mm] \"","v":"Šířka korpusu KB [mm] "},null,null,null,null,null,null,{"$f":"IF(H19=0,\" \",IF($H19<220,\" min. 220mm\",IF($H19>1800,\" max. 1 800mm\",\" \")))&IF(H24>0,IF(H19=0,\"● \"&List!$C$111,\" \"),\" \")","v":"  "},null,null,null,null,"F22",{"$f":"IF($H23<Cen!$F$240,0.5,IF($H23<Cen!$F$241,1,0))","v":0.5},"F32",{"$f":"SUM(IF($P23<Cen!$F$248,IF($H23<Cen!$F$240,0.5,1),0),IF($P23<Cen!$F$248,IF($H23>Cen!$E$244,0.5,0),0))*IF($P23<480,0,1)","v":0},null,null,"Závěs B",null,"Závěs Bs"]
[null,{"$f":"List!$C$73&\" [mm]\"","v":"Výška korpusu [mm]"},null,null,"TKH * ",null,"KH ",null,{"$f":"IF(H20=0,\" \",IF($H20<480,\" min. 480mm\",IF($H20>1040,\" max. 1 040mm\",\" \")))&IF(H24>0,IF(H20=0,\"● \"&List!$C$111,\" \"),\" \")","v":"  "},null,null,null,null,"F25",{"$f":"IF($H23<Cen!$E$242,0,IF($H23<Cen!$F$242,1,0))","v":0},"F35",{"$f":"IF($P23<Cen!$F$249,IF($P23>Cen!$E$249,IF($H23<Cen!$F$240,0.5,1),0),0)+IF($P23<Cen!$F$249,IF($P23>Cen!$E$249,IF($H23>Cen!$E$244,0.5,0),0),0)","v":0},null,null,"T558E",{"$f":"IF($O$42=1,IF($H19>1199,3,IF($T24>11.9,3,2)),0)+IF(O$42=1,IF($H19>1799,1,IF($T24>19.9,1,0)),0)","v":0},"Z553E",{"$f":"IF($P$42=1,IF($H19>1199,3,IF($T24>11.9,3,2)),0)+IF($P$42=1,IF($H19>1799,1,IF($T24>19.9,1,0)),0)","v":0}]
[null,{"$f":"List!$C$74&\" [kg] ** \"","v":"Hmotnost čela včetně úchytky [kg] ** "},null,null,null,null,null,null,{"$f":"IF($H24=0,\" \",IF(SUM($H21,$H22)=0,$N$34,\" \"))&IF($H24>0,IF($H21>0,$N$35,\" \"),\" \")","v":"  "},null,null,null,null,"F28",{"$f":"IF($H23<Cen!$E$243,0,IF($H23<Cen!$F$243,1,IF($H23>Cen!$E$244,1.5,0)))","v":0},"F38",{"$f":"IF($P23<Cen!$F$250,IF($P23>Cen!$E$250,IF($H23<Cen!$F$240,0.5,1),0),0)+IF($P23<Cen!$F$250,IF($P23>Cen!$E$250,IF($H23>Cen!$E$244,0.5,0),0),0)","v":0},null,null,"T5550",{"$f":"IF($O$42=2,IF($H19>1199,3,IF($T24>11.9,3,2)),0)+IF($O$42=2,IF($H19>1799,1,IF($T24>19.9,1,0)),0)","v":2},"Z5500",{"$f":"IF($P$42=2,IF($H19>1199,3,IF($T24>11.9,3,2)),0)+IF($P$42=2,IF($H19>1799,1,IF($T24>19.9,1,0)),0)","v":2}]
[null,{"$f":"List!$C$76&\" [kg]       \"","v":"Vypočtená hmotnost čela [kg]       "},null,null,null,null,null,{"$f":"$H$219","v":0},{"$f":"IF($H24>0,IF($H22>0,IF($H21=0,$N$35,\" \"),\" \"),\" \")","v":" "},null,null,null,null,null,null,"F39",{"$f":"IF($P23<Cen!$F$251,IF($P23>Cen!$E$251,IF($H23<Cen!$F$240,0.5,1),0),0)+IF($P23<Cen!$F$251,IF($P23>Cen!$E$251,IF($H23>Cen!$E$244,0.5,0),0),0)","v":0},null,null,null,null,null,null,null,null,{"$f":"\" \"&List!$C$177&\" B\"","v":" Výpočet hmotnosti B"}]
[null,{"$f":"List!$C$80&\" LF \"","v":"Ukazatel výkonnosti LF "},null,null,null,null,null,{"$f":"IF(H20<1041,IF(H20>479,IF(H21>0,H20*H21,H20*H22),0),0)","v":0},{"$f":"IF(AND(H23>0, H23<960), $T$38, IF($H23>25900,$N$38,IF($H23>17250,$N$39,\" \"))&IF(H23>25900,\" \",IF(AND($S18=1,$H23>17250),$Q$39,\"  \")))","v":"   "},null,null,null,null,null,"výška korpusu",{"$f":"IF(F20>0,IF(F20>=H20,F20,0),H20)","v":0}]
[null,{"$f":"List!$C$69&\" \"","v":"Počet skříněk "},null,null,null,null,null,null,{"$f":"IF(AND(M24>0, H23>959, O19=0.5), $U$39, \" \")","v":" "},null,null,null,{"$f":"IF($H19*$P23=0,0,IF(SUM($H21,$H22)=0,0,IF($P23>Cen!$F$252,0,IF(P23<Cen!$E$248,0,IF(OR(H23<Cen!$E$240, H23>Cen!$F$244),0,$H24)))))","v":0},"← Hlavní údaj",null,null,null,null,"hmot =",{"$f":"IF(H21>0,H21,H22)","v":0},{"$f":"IF(SUM(H21,H22)=0,0,IF(H21>0,1,2))","v":0},"zadaná / vypočtená",null,null,null,{"$f":"\" \"&List!$C$176","v":" Výpočet asymetrických čel"}]
[null,{"$f":"IF(H24>0,IF(U24=0,\" \",IF(U24=1,$N$47,$N$48)),\" \")&IF(H24>0,IF(U24=0,\" \",IF(U24=1,$N$49,$N$50)),\" \")","v":"  "}]
[null,{"$f":"IF(F20=0,\" \",IF(F20>1040,\"TKH = max. 1040!\",IF(F20<480,\"TKH = min. 480!\",IF(F20<H20,$N$53,IF(H24>0,IF(F20=0,\" \",IF(F20>0,$N$52,\" \")),\" \")))))","v":" "}]
[null,{"$f":"IF(OR(AND($S$9=1, $M$15>0), AND($S$18=1, $M$24>0)), List!$C$157, \" \")","v":" "},null,null,null,null,null,null,null,null,null,null,null,null,null,null,null,null,{"$f":"IF($T$27=FALSE,2,1)","v":1},true,null," - Zdroj"]
[]
[]
[]
[null,null,{"$f":"IF($H14>25900,\" \",IF($H14>17250,$N$40,IF($H23>25900,\" \",IF($H23>17250,$N$40,\" \"))))","v":" "}]
[null,null,null,null,null,null,null,null,null,null,null,null,null,{"$f":"List!C158","v":"Cena bez napájecího zdroje!"}]
[null,null,{"$f":"\"*  \"&List!$C$165","v":"*  Pouze pro asymetrická čela: zadejte teoretickou výšku TKH."}]
[null,null,{"$f":"\" ( \"&List!$C$166&\")\"","v":" ( TKH = dvojnásobná výška horního čela včetně mezer)"},null,null,null,null,null,null,null,null,null,null,{"$f":"\" \"&List!$C$103","v":" Doplňte nebo použijte \"Výpočet hmotnosti\" "}]
[null,null,{"$f":"\"** \"&List!$C$168","v":"** Pokud znáte hmotnost a nechcete využít výpočtu hmotnosti"},null,null,null,null,null,null,null,null,null,null,{"$f":"\"◄ \"&List!$C$100","v":"◄ hodnota bude použita pro výpočet LF"}]
[null,null,{"$f":"\"*** \"&List!$C$371","v":"*** Vyberte typ alurámečku!"},null,null,null,null,null,null,null,null,null,null,{"$f":"\" * \"&List!$C$110","v":" * Doplňte hodnoty"}]
[null,null,{"$f":"\"      \"&List!$C$372","v":"      Více informací k výběru alurámečků v Nápovědě"}]
[null,null,null,null,null,null,null,null,null,null,null,null,null,{"$f":"\" max. 25.900! \"&List!$C$105","v":" max. 25.900! Upravte hmotnost nebo výšku"},null,null,null,null,null,{"$f":"\" min. 960! \"&List!$C$105","v":" min. 960! Upravte hmotnost nebo výšku"}]
[null,null,null,null,null,null,null,null,null,null,null,null,null,{"$f":"\" \"&List!$C$104&\"!\"","v":" Přídavný třetí zdvihač!"},null,null,{"$f":"\" \"&List!$C$108&\"!\"","v":" Druhá pohonná jednotka!"},null,null,null,{"$f":"\" \"&List!C109","v":" Použijte pouze jeden zdvihač"}]
[null,null,null,null,null,null,null,null,null,null,null,null,null,{"$f":"List!$C$163","v":"Přídavný třetí zdvihač může být použit pouze s plným spodním čelem!"}]
[]
[null,null,null,null,null,null,null,null,null,null,null,null,null,{"$f":"HF!$L$37","v":2},2,{"$f":"HF!$N$37","v":2},2,{"$f":"HF!$P$37","v":2},null,{"$f":"Menu!$Q$27","v":3}]
[null,null,null,null,null,null,null,null,null,null,null,null,null,"záv.","alu","střed.","alu","podl.",null,"kryt."]
[null,null,null,null,null,null,null,null,null,null,null,null,null,{"$f":"List!$C$116","v":"Expando"},null,{"$f":"List!$C$116","v":"Expando"},null,{"$f":"List!$C$116","v":"Expando"},null,{"$f":"List!$C$128","v":"Světle šedá (HG/T)"}]
[null,null,null,null,null,null,null,null,null,null,null,null,null,{"$f":"List!$C$117","v":"na vruty"},null,{"$f":"List!$C$117","v":"na vruty"},null,{"$f":"List!$C$117","v":"na vruty"},null,{"$f":"List!$C$129","v":"Tmavě šedá (TGR)"}]
[null,null,null,null,null,null,null,null,null,null,null,null,null,null,null,null,null,null,null,{"$f":"List!$C$130","v":"Hedvábně bílá (SW/T)"}]
[null,null,null,null,null,null,null,null,null,null,null,null,null,{"$f":"List!C169","v":"Pro určení typu zdvihače bude použita zadaná hmotnost"}]
[null,null,null,null,null,null,null,null,null,null,null,null,null,{"$f":"List!C170","v":"Pro určení typu zdvihače bude použita vypočtená hmotnost"}]
[null,null,null,null,null,null,null,null,null,null,null,null,null,{"$f":"\". \"&List!$C$171","v":". Chcete-li použít vypočtenou hmotnost, smažte zadanou hodnotu"}]
[null,null,null,null,null,null,null,null,null,null,null,null,null,{"$f":"\". \"&List!$C$172","v":". Chcete-li použít zadanou hmotnost, zadejte ji do políčka"}]
[null,null,null,null,null,null,null,null,null,null,null,null,null,{"$f":"List!C173","v":0}]
[null,null,null,null,null,null,null,null,null,null,null,null,null,{"$f":"List!C174","v":"Pro výběr teleskopů bude použita teoretická výška TKH"}]
[null,null,null,null,null,null,null,null,null,null,null,null,null,{"$f":"List!C175","v":"Teoretická výška TKH nesmí být menší než KH"}]
[]
[]
[]
[]
[]
[]
[]
[]
[]
[]
[]
[]
[]
[]
[]
[]
[]
[]
[]
[]
[]
[]
[]
[]
[]
[]
[]
[]
[]
[]
[]
[]
[]
[]
[]
[]
[]
[]
[]
[]
[]
[]
[]
[]
[null,{"$f":"List!C142","v":"Soupis kování"}]
[]
[null,{"$f":"$B$2","v":"AVENTOS HF"},null,{"$f":"B4","v":"Široký alurámeček ***"},null," -",{"$f":"B5","v":"Dřevěné čelo"}]
[null,{"$f":"List!C50","v":"Název"},null,null,null,null,{"$f":"List!$C$51","v":"Číslo artiklu"},null,{"$f":"List!C52","v":"Barva"},{"$f":"List!C54","v":"Ks"},{"$f":"List!C56","v":"Jednotková cena"},{"$f":"List!C57","v":"Celkem"},"A","Cena","B","Cena",null,null,"Filtr"]
[null,{"$f":"Cen!A2","v":"Sada zdvihačů HF"},null,null,null,null,{"$f":"Cen!E2","v":"20F2200.05"},null,{"$f":"Cen!G2","v":"ZN"},{"$f":"ROUNDUP($M$15*O10+$M$24*O19,0)","v":0},{"$f":"Cen!I2","v":0},{"$f":"J102*K102","v":0},{"$f":"ROUNDUP($M$15*O10,0)","v":0},{"$f":"$K102*M102","v":0},{"$f":"ROUNDUP($M$24*O19,0)","v":0},{"$f":"$K102*O102","v":0},null,null,"x"]
[null,{"$f":"Cen!A3","v":"Sada zdvihačů HF"},null,null,null,null,{"$f":"Cen!E3","v":"20F2500.05"},null,{"$f":"Cen!G3","v":"ZN"},{"$f":"ROUNDUP($M$15*O11+$M$24*O20,0)","v":0},{"$f":"Cen!I3","v":0},{"$f":"J103*K103","v":0},{"$f":"ROUNDUP($M$15*O11,0)","v":0},0,{"$f":"ROUNDUP($M$24*O20,0)","v":0},0,null,null,"x"]
[null,{"$f":"Cen!A4","v":"Sada zdvihačů HF"},null,null,null,null,{"$f":"Cen!E4","v":"20F2800.05"},null,{"$f":"Cen!G4","v":"ZN"},{"$f":"ROUNDUP($M$15*O12+$M$24*O21,0)","v":0},{"$f":"Cen!I4","v":0},0,{"$f":"ROUNDUP($M$15*O12,0)","v":0},0,{"$f":"ROUNDUP($M$24*O21,0)","v":0},0,null,null,"x"]
[null,{"$f":"Cen!A5","v":"Sada teleskopů (480-570mm)"},null,null,null,null,{"$f":"Cen!E5","v":"20F3200.01"},null,{"$f":"Cen!G5","v":"NI"},{"$f":"ROUNDUP($M$15*Q10+$M$24*Q19,0)","v":0},{"$f":"Cen!I5","v":0},0,{"$f":"ROUNDUP($M$15*Q10,0)","v":0},0,{"$f":"ROUNDUP($M$24*Q19,0)","v":0},0,null,null,"x"]
[null,{"$f":"Cen!A6","v":"Sada teleskopů (560-710mm)"},null,null,null,null,{"$f":"Cen!E6","v":"20F3500.01"},null,{"$f":"Cen!G6","v":"NI"},{"$f":"ROUNDUP($M$15*Q11+$M$24*Q20,0)","v":0},{"$f":"Cen!I6","v":0},0,{"$f":"ROUNDUP($M$15*Q11,0)","v":0},0,{"$f":"ROUNDUP($M$24*Q20,0)","v":0},0,null,null,"x"]
[null,{"$f":"Cen!A7","v":"Sada teleskopů (700-900mm)"},null,null,null,null,{"$f":"Cen!E7","v":"20F3800.01"},null,{"$f":"Cen!G7","v":"NI"},{"$f":"ROUNDUP($M$15*Q12+$M$24*Q21,0)","v":0},{"$f":"Cen!I7","v":0},0,{"$f":"ROUNDUP($M$15*Q12,0)","v":0},0,{"$f":"ROUNDUP($M$24*Q21,0)","v":0},0,null,null,"x"]
[null,{"$f":"Cen!A8","v":"Sada teleskopů (760-1040mm)"},null,null,null,null,{"$f":"Cen!E8","v":"20F3900.01"},null,{"$f":"Cen!G8","v":"NI"},{"$f":"ROUNDUP($M$15*Q13+$M$24*Q22,0)","v":0},{"$f":"Cen!I8","v":0},0,{"$f":"ROUNDUP($M$15*Q13,0)","v":0},0,{"$f":"ROUNDUP($M$24*Q22,0)","v":0},0,null,null,"x"]
[null,{"$f":"Cen!A9","v":"Sada krytek HF SERVO-DRIVE, sv.šedá"},null,null,null,null,{"$f":"Cen!E9","v":"21F8000"},null,{"$f":"Cen!G9","v":"HG/T"},{"$f":"SUM(M109,O109,Q109)","v":0},{"$f":"Cen!I9","v":0},0,{"$f":"IF($S$9=2,0,IF($T$42=1,$M$134,0))","v":0},0,{"$f":"IF($S$18=2,0,IF($T$42=1,$O$134,0))","v":0},0,null,null,"x"]
[null,{"$f":"Cen!A10","v":"Sada krytek HF SERVO-DRIVE, tm.šedá"},null,null,null,null,{"$f":"Cen!E10","v":"21F8000"},null,{"$f":"Cen!G10","v":"TGR"},{"$f":"SUM(M110,O110,Q110)","v":0},{"$f":"Cen!I10","v":0},{"$f":"J110*K110","v":0},{"$f":"IF($S$9=2,0,IF($T$42=2,$M$134,0))","v":0},{"$f":"$K110*M110","v":0},{"$f":"IF($S$18=2,0,IF($T$42=2,$O$134,0))","v":0},{"$f":"$K110*O110","v":0},null,null,"x"]
[null,{"$f":"Cen!A11","v":"Sada krytek HF SERVO-DRIVE, bílá"},null,null,null,null,{"$f":"Cen!E11","v":"21F8000"},null,{"$f":"Cen!G11","v":"SW/T"},0,{"$f":"Cen!I11","v":0},0,{"$f":"IF($S$9=2,0,IF($T$42=3,$M$134,0))","v":0},0,{"$f":"IF($S$18=2,0,IF($T$42=3,$O$134,0))","v":0},0,null,null,"x"]
[]
[null,{"$f":"Cen!A12","v":"Sada krytek HF, světle šedá"},null,null,null,null,{"$f":"Cen!E12","v":"20F8000"},null,{"$f":"Cen!G12","v":"HG/T"},0,{"$f":"Cen!I12","v":0},0,{"$f":"IF($S$9=1,0,IF($T$42=1,SUM($M$102:$M$104,0),0))","v":0},0,{"$f":"IF($S$18=1,0,IF($T$42=1,SUM($O$102:$O$104,0),0))","v":0},0,null,null,"x"]
[null,{"$f":"Cen!A13","v":"Sada krytek HF, tmavě šedá"},null,null,null,null,{"$f":"Cen!E13","v":"20F8000"},null,{"$f":"Cen!G13","v":"TGR"},{"$f":"SUM(M114,O114,Q114)","v":0},{"$f":"Cen!I13","v":0},{"$f":"J114*K114","v":0},{"$f":"IF($S$9=1,0,IF($T$42=2,SUM($M$102:$M$104,0),0))","v":0},{"$f":"$K114*M114","v":0},{"$f":"IF($S$18=1,0,IF($T$42=2,SUM($O$102:$O$104,0),0))","v":0},{"$f":"$K114*O114","v":0},null,null,"x"]
[null,{"$f":"Cen!A14","v":"Sada krytek HF, bílá"},null,null,null,null,{"$f":"Cen!E14","v":"20F8000"},null,{"$f":"Cen!G14","v":"SW/T"},0,{"$f":"Cen!I14","v":0},0,{"$f":"IF($S$9=1,0,IF($T$42=3,SUM($M$102:$M$104,0),0))","v":0},0,{"$f":"IF($S$18=1,0,IF($T$42=3,SUM($O$102:$O$104,0),0))","v":0},0,null,null,"x"]
[]
[null,{"$f":"Cen!A15","v":"Závěs CLIP top 120° "},null,null,null,null,{"$f":"Cen!E15","v":"70T5550.TL"},null,{"$f":"Cen!G15","v":"NI"},0,{"$f":"Cen!I15","v":0},0,{"$f":"$M$15*$U$12","v":0},0,{"$f":"$M$24*$U$21","v":0},0,null,null,"x"]
[null,{"$f":"Cen!A16","v":"Závěs CLIP top 120° EXPANDO"},null,null,null,null,{"$f":"Cen!E16","v":"70T558E"},null,{"$f":"Cen!G16","v":"NI"},0,{"$f":"Cen!I16","v":0},0,{"$f":"$M$15*$U$11","v":0},0,{"$f":"$M$24*$U$20","v":0},0]
[null,{"$f":"Cen!A17","v":"Středový závěs CLIP top "},null,null,null,null,{"$f":"Cen!E17","v":"78Z5500T"},null,{"$f":"Cen!G17","v":"NI"},0,{"$f":"Cen!I17","v":0},0,{"$f":"$M$15*$W$12","v":0},0,{"$f":"$M$24*$W$21","v":0},0,null,null,"x"]
[null,{"$f":"Cen!A18","v":"Středový závěs CLIP top EXPANDO"},null,null,null,null,{"$f":"Cen!E18","v":"78Z553ET"},null,{"$f":"Cen!G18","v":"NI"},0,{"$f":"Cen!I18","v":0},0,{"$f":"$M$15*$W$11","v":0},0,{"$f":"$M$24*$W$20","v":0},0,null,null,"x"]
[null,{"$f":"Cen!A19","v":"Závěs CLIP top pro alurámečky"},null,null,null,null,{"$f":"Cen!E19","v":"72T550A.TL"},null,{"$f":"Cen!G19","v":"NI"},null,{"$f":"Cen!I19","v":0},0,null,0,null,0]
[null,{"$f":"Cen!A20","v":"Střed. závěs CLIP top pro alurámečky"},null,null,null,null,{"$f":"Cen!E20","v":"78Z550AT"},null,{"$f":"Cen!G20","v":"NI"},null,{"$f":"Cen!I20","v":0},0,null,0,null,0]
[null,{"$f":"Cen!A21","v":"Přímá montážní podložka"},null,null,null,null,{"$f":"Cen!E21","v":"175H3100"},null,{"$f":"Cen!G21","v":"NI"},{"$f":"SUM(M123,O123,Q123)","v":0},{"$f":"Cen!I21","v":0},0,{"$f":"IF($R$42=2,SUM($U$11,$U$12,$Q$10*2,$Q$11*2,$Q$12*2,$Q$13*2)*$M$15,0)","v":0},0,{"$f":"IF($R$42=2,SUM($U$20,$U$21,$Q$19*2,$Q$20*2,$Q$21*2,$Q$22*2)*$M$24,0)","v":0},0,null,null,"x"]
[null,{"$f":"Cen!A22","v":"Přímá montážní podložka, EXPANDO"},null,null,null,null,{"$f":"Cen!E22","v":"177H3100E"},null,{"$f":"Cen!G22","v":"NI"},{"$f":"SUM(M124,O124,Q124)","v":0},{"$f":"Cen!I22","v":0},0,{"$f":"IF($R$42=1,SUM($U$11,$U$12,$Q$10*2,$Q$11*2,$Q$12*2,$Q$13*2)*$M$15,0)","v":0},0,{"$f":"IF($R$42=1,SUM($U$20,$U$21,$Q$19*2,$Q$20*2,$Q$21*2,$Q$22*2)*$M$24,0)","v":0},0,null,null,"x"]
[null,{"$f":"Cen!A23","v":"Podložka CLIP excentrická"},null,null,null,null,{"$f":"Cen!E23","v":"173H7100"},null,{"$f":"Cen!G23","v":"NI"},{"$f":"SUM(M125,O125,Q125)","v":0},{"$f":"Cen!I23","v":0},0,{"$f":"SUM($W$11,$W$12)*$M$15","v":0},0,{"$f":"SUM($W$20,$W$21)*$M$24","v":0},0,null,null,"x"]
[null,{"$f":"Cen!A24","v":"Adaptér CLIP k teleskopům P"},null,null,null,null,{"$f":"Cen!E24","v":"175H5B00   R"},null,{"$f":"Cen!G24","v":"NI"},null,{"$f":"Cen!I24","v":0},0,null,0,null,0]
[null,{"$f":"Cen!A25","v":"Adaptér CLIP k teleskopům L"},null,null,null,null,{"$f":"Cen!E25","v":"175H5B00   L"},null,{"$f":"Cen!G25","v":"NI"},null,{"$f":"Cen!I25","v":0},0,null,0,null,0]
[null,{"$f":"Cen!A26","v":"Adaptér CLIP ke středovým závěsům"},null,null,null,null,{"$f":"Cen!E26","v":"175H5A00"},null,{"$f":"Cen!G26","v":"NI"},null,{"$f":"Cen!I26","v":0},0,null,0,null,0]
[null,{"$f":"Cen!A27","v":"Omezovač úhlu otevření na 83° "},null,null,null,null,{"$f":"Cen!E27","v":"20F7011"},null,{"$f":"Cen!G27","v":"TGR"},null,{"$f":"Cen!I27","v":0},0,null,0,null,0]
[null,{"$f":"Cen!A28","v":"Omezovač úhlu otevření na 104° "},null,null,null,null,{"$f":"Cen!E28","v":"20F7051"},null,{"$f":"Cen!G28","v":"TGR"},null,{"$f":"Cen!I28","v":0},0,null,0,null,0]
[null,{"$f":"Cen!A151","v":"CLIP top krytka raménka Nikl"},null,null,null,null,{"$f":"Cen!E151","v":"70.1503"},null,{"$f":"Cen!G151","v":"NI"},{"$f":"SUM(M131,O131,Q131)","v":0},{"$f":"Cen!I151","v":0},0,{"$f":"SUM(M$117:M$122)","v":0},0,{"$f":"SUM(O$117:O$122)","v":0},0,null,null,"x"]
[null,{"$f":"Cen!A195","v":"Samořezný vrut do alurámečků"},null,null,null,null,{"$f":"Cen!E195","v":"660.0950"},null,{"$f":"Cen!G195","v":"NI"},{"$f":"SUM(M132,O132,Q132)","v":0},{"$f":"Cen!I195","v":0},{"$f":"J132*K132","v":0},{"$f":"SUM(M117, M125)*2","v":0},{"$f":"$K132*M132","v":0},{"$f":"SUM(O117, O125)*2","v":0},0,null,null,"x"]
[null,null,null,null,null,null,null,null,null,null,null,0,null,0,null,0]
[null,{"$f":"Cen!A199","v":"SERVO-DRIVE jednotka (sada)"},null,null,null,null,{"$f":"Cen!E199","v":"21FA000"},null,{"$f":"Cen!G199","v":"HGR"},{"$f":"SUM(M134,O134,Q134)","v":0},{"$f":"Cen!I199","v":0},0,{"$f":"IF($S$9=2,0,$M$15)+IF(AND($S$9=1,$H$14>17250),$M$15,0)","v":0},0,{"$f":"IF($S$18=2,0,$M$24)+IF(AND($S$18=1,$H$23>17250),$M$24,0)","v":0},0,null,null,"x"]
[null,{"$f":"Cen!A200","v":"SERVO-DRIVE jednotka (sada) pro HK top"},null,null,null,null,{"$f":"Cen!E200","v":"23KA000"},null,{"$f":"Cen!G200","v":"HGR"},null,{"$f":"Cen!I200","v":0},0,null,0,null,0]
[]
[]
[null,null,null,null,null,null,null,null,null,null,{"$f":"List!$C$59&\" \"","v":"Cena celkem bez DPH "},{"$f":"SUM(L102:L136)","v":0},null,{"$f":"SUM(N102:N137)","v":0},null,{"$f":"SUM(P102:P137)","v":0},null,{"$f":"SUM(R102:R137)","v":0}]
[]
[null,null,null,null,null,null,null,null,null,null,null,{"$f":"List!$C$149","v":"Zpět"}]
[]
[]
[]
[]
[]
[]
[]
[]
[]
[]
[]
[]
[]
[]
[]
[]
[]
[]
[]
[]
[]
[]
[]
[]
[]
[]
[]
[]
[]
[]
[]
[]
[]
[]
[]
[]
[]
[]
[]
[]
[]
[]
[]
[]
[]
[]
[]
[]
[]
[]
[]
[]
[]
[]
[]
[]
[]
[]
[null,{"$f":"List!$C$71","v":"Výpočet hmotnosti čel"}]
[null,null,{"$f":"List!$C$33&\"  \"","v":"horní čelo  "},null,null,null,null,null,{"$f":"IF(U206=3,IF(H200=0,T203,\" \"),IF(H200>0,T204,\" \"))","v":" "},null,null,null,null,{"$f":"IF($U$206=1,$U$227,IF($U$206=2,$U$228,$U$229&\" -  \"&$H$200&\"mm\"))","v":"Alurámečky s 4mm sklem"},null,null,null,null,{"$f":"Menu!$Q$205","v":2500}]
[null,null,{"$f":"List!$C$34&\"  \"","v":"dolní čelo  "},null,null,null,null,null,{"$f":"IF(O207=3,IF(H201=0,N203,\" \"),IF(H201>0,N204,\" \"))","v":" "},null,null,null,null,{"$f":"IF($O$207=1,$O$208,IF($O$207=2,$O$209,$O$210&\" \"&$N$210&\"kg/m3\"))&\" A~\"&$H$208&\"/ B~\"&$H$217&\"mm\"","v":"MDF (760 kg/m3) A~/ B~mm"}]
[null,null,null,{"$f":"IF($O$207<>3,$N$202,\" \")&\"      \"","v":" Změnit hodnoty můžete v Úvodu plánování      "},null,null,null,null,null,null,null,null,null,{"$f":"\" \"&List!$C$382","v":" Změnit hodnoty můžete v Úvodu plánování"}]
[null,null,null,null,null,null,null,null,null,null,null,null,null,{"$f":"\" \"&List!$C$225&\" [kg/m3]\"","v":" Zadejte objemovou hmotnost  [kg/m3]"},null,null,null,null,null,{"$f":"\" \"&List!$C$226&\" [mm]\"","v":" Zadejte sílu skla [mm]"}]
[null,null,null,null,null,null,null,null,null,null,null,null,null,{"$f":"\" \"&List!$C$221&\" '\"&List!$C$86&\"'\"","v":" Hodnota platí jen pro volbu 'Jiné - volitelná hustota'"},null,null,null,null,null,{"$f":"\" \"&List!$C$221&\" '\"&List!$C$89&\"'\"","v":" Hodnota platí jen pro volbu 'Alurámečky s jiným sklem'"}]
[null,null,null,null,null,{"$f":"D9","v":"Korpus A"},null,null,null,null,null,null,null,null,null,null,null,null,null,"váha spoj.","tl. skla","typ alu"]
[null,{"$f":"List!$C$72&\" KB [mm]       \"","v":"Šířka korpusu KB [mm]       "},null,null,null,null,null,{"$f":"H10","v":0},null,null,null,null,null,{"$f":"H206*H207*H208/2","v":0},null,null,null,null,{"$f":"IF($V$206=1,$M$236,$M$237)","v":0.62},{"$f":"$M$238","v":0.61},1,{"$f":"$O$4","v":1}]
[null,{"$f":"List!$C$73&\" KH [mm]       \"","v":"Výška korpusu KH [mm]       "},null,null,null,null,null,{"$f":"H11","v":0},null,null,null,null,null,{"$f":"N206/1000000000","v":0},1,null,null,null,"váha alu",{"$f":"SUM(H206*2,(H207/2-90)*2)*S206/1000","v":-0.11159999999999999},"A plocha B"]
[null,{"$f":"List!$C$77&\" TS [mm] \"","v":"Síla čela TS [mm] "},null,null,null,null,null,null,{"$f":"IF(SUM(H206,H207)=0,\" \",IF(H208=0,\" ● \"&List!$C$111,\" \"))","v":" "},null,null,null,null,{"$f":"Menu!$L$30","v":760},{"$f":"List!$C$84&\" (\"&N208&\" kg/m3)\"","v":"MDF (760 kg/m3)"},null,null,null,{"$f":"$S$200*4/1000","v":10},{"$f":"IF($V$206=1,U208*S208,V208*S208)","v":6.4000000000000001E-2},{"$f":"SUM(($H$206-80)*($H$207/2-80)/1000000)","v":6.4000000000000003E-3},{"$f":"SUM(($H$206-6)*($H$207/2-6)/1000000)","v":3.6000000000000001E-5},"4mm"]
[null,{"$f":"List!$C$78&\" [kg] \"","v":"Hmotnost úchytky [kg] "},null,null,null,null,null,null,{"$f":"IF(SUM(H206,H207)=0,\" \",IF(H209=0,\" ● \"&List!$C$112,\" \"))","v":" "},null,null,null,null,{"$f":"Menu!$L$31","v":680},{"$f":"List!$C$85&\" (\"&N209&\" kg/m3)\"","v":"Dřevotříska (680 kg/m3)"},null,null,null,{"$f":"$S$200*5/1000","v":12.5},{"$f":"IF($V$206=1,U209*S209,V209*S209)","v":0.08},{"$f":"SUM(($H$206-80)*($H$207/2-80)/1000000)","v":6.4000000000000003E-3},{"$f":"SUM(($H$206-6)*($H$207/2-6)/1000000)","v":3.6000000000000001E-5},"5mm"]
[null,{"$f":"List!$C$76&\" [kg] \"","v":"Vypočtená hmotnost čela [kg] "},null,null,null,null,null,{"$f":"IF(M210*S211<>0,SUM(M210,S211,H209),0)","v":0},null,null,null,null,{"$f":"IF(H206*H207*H208=0,0,IF(O207=1,N207*N208,IF(O207=2,N207*N209,N207*N210)))","v":0},{"$f":"$H$201","v":0},{"$f":"List!$C$86","v":"Jiné - volitelná hustota"},null,null,null,{"$f":"$S$200*$H$200/1000","v":0},{"$f":"IF($V$206=1,U210*S210,V210*S210)","v":0},{"$f":"SUM(($H$206-80)*($H$207/2-80)/1000000)","v":6.4000000000000003E-3},{"$f":"SUM(($H$206-6)*($H$207/2-6)/1000000)","v":3.6000000000000001E-5},"jiné"]
[null,null,{"$f":"IF(H210>0,IF(H209=0,$N$227,\" \"),\" \")","v":" "},null,null,null,null,null,null,null,null,null,null,null,null,null,null,null,{"$f":"IF(OR(AND(U206=3, $H$200=0), H206*H207=0), 0, SUM(IF(U206=1,T208,IF(U206=2,T209,T210)),T207,T206))","v":0}]
[]
[]
[null,null,null,null,null,{"$f":"D18","v":"Korpus B"},null,null,null,null,null,null,null,null,null,null,null,null,null,"váha spoj.","tl. skla","typ alu"]
[null,{"$f":"List!$C$72&\" KB [mm]       \"","v":"Šířka korpusu KB [mm]       "},null,null,null,null,null,{"$f":"H19","v":0},null,null,null,null,null,{"$f":"H215*H216*H217","v":0},null,null,null,null,{"$f":"IF($V$206=1,$M$236,$M$237)","v":0.62},{"$f":"$M$238","v":0.61},{"$f":"$U$206","v":1},{"$f":"$V$206","v":1}]
[null,{"$f":"List!$C$73&\" KH [mm]       \"","v":"Výška korpusu KH [mm]       "},null,null,null,null,null,{"$f":"H20","v":0},null,null,null,null,null,{"$f":"N215/1000000000/2","v":0},{"$f":"O207","v":1},null,null,null,"váha alu",{"$f":"SUM(H215*2,(H216/2-90)*2)*S215/1000","v":-0.11159999999999999},"A plocha B"]
[null,{"$f":"List!$C$77&\" TS [mm] \"","v":"Síla čela TS [mm] "},null,null,null,null,null,null,{"$f":"IF(SUM(H215,H216)=0,\" \",IF(H217=0,\" ● \"&List!$C$111,\" \"))","v":" "},null,null,null,null,{"$f":"$N$208","v":760},{"$f":"$O$208","v":"MDF (760 kg/m3)"},null,null,null,{"$f":"S208","v":10},{"$f":"IF($V$206=1,U217*S217,V217*S217)","v":6.4000000000000001E-2},{"$f":"SUM(($H$215-80)*($H$216/2-80)/1000000)","v":6.4000000000000003E-3},{"$f":"SUM(($H$215-6)*($H$216/2-6)/1000000)","v":3.6000000000000001E-5},"4mm"]
[null,{"$f":"List!$C$78&\" [kg] \"","v":"Hmotnost úchytky [kg] "},null,null,null,null,null,null,{"$f":"IF(SUM(H215,H216)=0,\" \",IF(H218=0,\" ● \"&List!$C$112,\" \"))","v":" "},null,null,null,null,{"$f":"$N$209","v":680},{"$f":"$O$209","v":"Dřevotříska (680 kg/m3)"},null,null,null,{"$f":"S209","v":12.5},{"$f":"IF($V$206=1,U218*S218,V218*S218)","v":0.08},{"$f":"SUM(($H$215-80)*($H$216/2-80)/1000000)","v":6.4000000000000003E-3},{"$f":"SUM(($H$215-6)*($H$216/2-6)/1000000)","v":3.6000000000000001E-5},"5mm"]
[null,{"$f":"List!$C$76&\" [kg] \"","v":"Vypočtená hmotnost čela [kg] "},null,null,null,null,null,{"$f":"IF(M219*S220<>0,SUM(M219,S220,H218),0)","v":0},null,null,null,null,{"$f":"IF(H215*H216*H217=0,0,IF(O216=1,N216*N217,IF(O216=2,N216*N218,N216*N219)))","v":0},{"$f":"$N$210","v":0},{"$f":"$O$210","v":"Jiné - volitelná hustota"},null,null,null,{"$f":"S210","v":0},{"$f":"IF($V$206=1,U219*S219,V219*S219)","v":0},{"$f":"SUM(($H$215-80)*($H$216/2-80)/1000000)","v":6.4000000000000003E-3},{"$f":"SUM(($H$215-6)*($H$216/2-6)/1000000)","v":3.6000000000000001E-5},"jiné"]
[null,null,{"$f":"IF(H219>0,IF(H218=0,$N$227,\" \"),\" \")","v":" "},null,null,null,null,null,null,null,null,null,null,null,null,null,null,null,{"$f":"IF(OR(AND(U215=3, $H$200=0), H215*H216=0), 0, SUM(IF(U215=1,T217,IF(U215=2,T218,T219)),T216,T215))","v":0}]
[]
[]
[null,null,null,null,null,null,null,null,null,null,{"$f":"IF(SUM(J221,J222)=0,\" \",IF(J223=0,\" * \"&List!$C$111,\" \"))","v":" "}]
[null,null,null,null,null,null,{"$f":"List!$C$149","v":"Zpět"}]
[]
[]
[null,null,{"$f":"List!$C$217&\" \"&List!$C$218","v":"Upozornění: Vypočtené hodnoty jsou pouze orientační.  Firma Blum ani prodejci neručí za jejich správnost."},null,null,null,null,null,null,null,null,null,null,{"$f":"List!$C$95&\"!\"","v":"Není započtena hmotnost úchytky!"},null,null,null,null,null,null,{"$f":"List!$C$87","v":"Alurámečky s 4mm sklem"}]
[null,null,null,null,null,null,null,null,null,null,null,null,null,null,null,null,null,null,null,null,{"$f":"List!$C$88","v":"Alurámečky s 5mm sklem"}]
[null,null,null,null,null,null,null,null,null,null,null,null,null,null,null,null,null,null,null,null,{"$f":"List!$C$89","v":"Alurámečky s jiným sklem"}]
[]
[]
[]
[]
[]
[null,null,null,null,"Hmotnost alurámečků [kg/bm]",null,{"$f":"List!$C$368","v":"Podle Úvodu"},{"$f":"List!$C$58","v":"Změna"}]
[null,null,null,null,null,{"$f":"List!$C$373&\"  \"","v":"S vloženým sklem  "},{"$f":"Menu!$Q215","v":0.62},null,null,null,null,null,{"$f":"IF($H236>0,$H236,$G236)","v":0.62}]
[null,null,null,null,null,{"$f":"List!$C$374&\"  \"","v":"S naloženým nebo nalepeným sklem  "},0.65,null,null,null,null,null,{"$f":"IF($H237>0,$H237,$G237)","v":0.65}]
[null,null,null,null,null,{"$f":"List!$C$377&\" [kg/set] *  \"","v":"Hmotnost spojovacího materiálu [kg/set] *  "},0.61,null,null,null,null,null,{"$f":"IF($H238>0,$H238,$G238)","v":0.61}]
[]
[null,null,{"$f":"\"        * \"& List!$C$378&\"  \"","v":"        * Rohové spojky, šrouby, těsnění pro jeden rámeček  "}]
[]
[]
[null,null,null,null,null,null,{"$f":"List!$C$149","v":"Zpět"}]
[]
[]
[]
[]
[]
[]
[]
[]
[]
[]
[]
[]
[]
[]
[]
[]
[]
[]
[]
[]
[]
[]
[]
[]
[]
[]
[]
[]
[]
[]
[]
[]
[]
[]
[]
[]
[]
[]
[]
[]
[]
[]
[]
[]
[]
[]
[]
[]
[]
[]
[]
[]
[]
[]
[]
[]
[null,{"$f":"List!$C$176","v":"Výpočet asymetrických čel"}]
[]
[null,{"$f":"\"   \"&List!$C$179","v":"   Parametry korpusu"}]
[null,{"$f":"List!$C$73&\" KH [mm] \"","v":"Výška korpusu KH [mm] "},null,null,null,null,null,null,null,null,{"$f":"IF(SUM($I$304:$J$307,$I$314)<>0,IF($I$303=0,\" \"&List!$C$111,\" \"),\" \")","v":" "}]
[null,{"$f":"List!$C$182&\" [mm] \"","v":"Mezera nahoře [mm] "}]
[null,{"$f":"List!$C$183&\" [mm] \"","v":"Mezera mezi čely [mm] "},null,null,null,null,null,null,null,null,{"$f":"IF($I$303=0,\" \",IF($I$305<1.5,\" min. 1,5 mm!\",\" \"))","v":" "}]
[null,{"$f":"List!$C$184&\" [mm] \"","v":"Mezera dole [mm] "}]
[null,{"$f":"List!$C$185&\" [mm] \"","v":"Síla dna korpusu [mm] "}]
[]
[null,{"$f":"\"   \"&List!$C$187","v":"   Výsledky plánování"}]
[null,null,null,null,null,null,{"$f":"List!$C$188&\" [mm] \"","v":"Možné výšky čel [mm] "},null,null,null,null,null,null,null,null,{"$f":"ROUNDUP((+$I$303-$I$304-$I$305-$I$306)/2,0)","v":0},{"$f":"IF($P$310<272,70,47)","v":70}]
[null,{"$f":"List!$C$189","v":"Vrchní čelo (FHo) v rozmezí"},null,null,null,null,"min.",{"$f":"IF($P$310=0,0,IF($P$310<236,$Q$315,IF($P$310>516,$Q$315,$P$310)))","v":0},"max.",{"$f":"IF($P$310=0,0,IF($Q$315=$H$311,$Q$315,IF($P$315<$P$314,$P$315,$P$314)))","v":0},null,null,null,null,null,{"$f":"ROUNDDOWN(($I$303-$I$304-$I$305-$I$306-$Q$310-19-$I$307+$I$306)/1.5,0)","v":-59},{"$f":"IF($P$310<272,70,47)","v":70}]
[null,{"$f":"List!$C$190","v":"Spodní čelo (FHu) v rozmezí"},null,null,null,null,"min.",{"$f":"IF($J$312=$Q$315,$Q$315,SUM($I$303-$I$304-$I$305-$I$306-$J$311))","v":0},"max.",{"$f":"IF($Q$315=$H$311,$Q$315,(+$I$303-$I$304-$I$305-$I$306)/2)","v":0},null,null,null,null,null,{"$f":"ROUNDDOWN(($I$303-$I$304-$I$305-$I$306-$Q$311-19-$I$307+$I$306)/1.5,0)","v":-59},{"$f":"IF($P$310<272,70,47)","v":70}]
[null,null,null,null,null,null,null,null,null,null,null,null,null,null,null,{"$f":"ROUNDDOWN(($I$303-$I$304-$I$305-$I$306-$Q$312-19-$I$307+$I$306)/1.5,0)","v":-59},{"$f":"IF($P$310<272,70,47)","v":70}]
[null,{"$f":"List!$C$196&\" FHo [mm] \"","v":"Výška vrchního čela FHo [mm] "},null,null,null,null,null,null,null,null,{"$f":"IF($I$303=0,\" \",IF($I$314>$J$311,V314,IF($I$314<$H$311,$S$314,\" \")))","v":" "},null,null,null,null,{"$f":"ROUNDDOWN(($I$303-$I$304-$I$305-$I$306-$Q$313-19-$I$307+$I$306)/1.5,0)","v":-59},null,null,{"$f":"\" min. \"&TEXT($H$311,\"#\")&\" mm!\"","v":" min.  mm!"},null,null,{"$f":"\" max. \"&TEXT($J$311,\"#\")&\" mm!\"","v":" max.  mm!"}]
[null,{"$f":"List!$C$197&\" FHu [mm] \"","v":"Výška spodního čela FHu [mm] "},null,null,null,null,null,null,{"$f":"IF($I$314<$H$311,$Q$315,IF($I$314>$J$311,$Q$315,+$I$303-$I$304-$I$305-$I$306-$I$314))","v":0},null,null,null,null,null,null,{"$f":"+(1040-$I$304-$I$305-$I$306)/2","v":520},{"$f":"List!C193","v":"nelze"}]
[null,{"$f":"List!$C$198&\" H [mm] \"","v":"Pozice zdvihače H [mm] "},null,null,null,null,null,null,{"$f":"IF($P$310=0,0,IF($I$315=$Q$315, $Q$315,$I$314*0.6-$Q$316+$I$304))","v":0},null,null,null,null,null,null,null,{"$f":"IF($I$314<272,28,57)","v":28}]
[null,{"$f":"List!$C$199&\" X [mm] \"","v":"Pozice mont. podložky pro teleskopy X [mm] "},null,null,null,null,null,null,{"$f":"IF($P$310=0,0,IF($I$315=$Q$315,$Q$315,$I$314*0.5+$Q$317))","v":0},null,null,null,null,null,null,null,{"$f":"IF($I$314<272,70,47)","v":70}]
[null,{"$f":"List!$C$200&\" TKH [mm] * \"","v":"Teoretická výška korpusu TKH [mm] * "},null,null,null,null,null,null,{"$f":"IF($I$315=$Q$315,$Q$315,IF($Q$318>479.99,IF($Q$318<1040.01,$Q$318,$Q$315),\" \"))","v":" "},null,null,null,null,null,null,"TKH",{"$f":"SUM($I$314*2+$I$304+$I$305+$I$306)","v":0}]
[]
[null," *",{"$f":"List!$C$202","v":"Tuto výšku zadejte do tabulky pro plánování výklopů"}]
[]
[]
[]
[]
[null,null,null,null,null,null,null,null,{"$f":"List!$C$149","v":"Zpět"}]
[]
[]
[]
[]
[]
[]
[]
[]
[]
[]
[]
[]
[]
[]
[]
[]
[]
[]
[]
[]
[]
[]
[]
[]
[]
[]
[]
[]
[]
[]
[]
[]
[]
[]
[]
[]
[]
[]
[]
[]
[]
[]
[]
[]
[]
[]
[]
[]
[]
[]
[]
[]
[]
[]
[]
[]
[]
[]
[]
[]
[]
[]
[]
[]
[]
[]
[]
[]
[]
[]
[]
[]
[]
[null,"      AVENTOS HF"]
[]
[null,{"$f":"List!$C$281","v":"Potřebný zdvihač se určí pomocí ukazatele výkonnosti."}]
[null,{"$f":"List!$C$282","v":"Ukazatel výkonnosti závisí na hmotnosti dolního i horního čílka, a rovněž na výšce korpusu."}]
[]
[null,{"$f":"\" \"&List!$C$295","v":" Tak se to dělá:"}]
[null,null,null,{"$f":"List!$C$80&\" = \"","v":"Ukazatel výkonnosti = "},{"$f":"List!$C$298&\" [kg]\"","v":"výška korpusu KH [mm] x hmotnost obou čel včetně úchytky [kg]"}]
[]
[null,{"$f":"List!$C$286","v":"Je-li ukazatel výkonnosti větší než 17.250, přidá se třetí zdvihač."}]
[null,{"$f":"List!$C$287","v":"Pokud je zvolen SERVO-DRIVE, přidá se rovněž druhá pohonná jednotka."}]
[null,{"$f":"List!$C$163","v":"Přídavný třetí zdvihač může být použit pouze s plným spodním čelem!"}]
[]
[null,{"$f":"List!$C$289","v":"Pokud znáte hmotnost čela, můžete ji zadat, jinak použijte \"Výpočet hmotnosti\"."}]
[null,{"$f":"List!$C$290","v":"V tabulce má přednost zadaná hodnota. Chcete-li použít vypočtenou hmotnost, smažte zadanou hodnotu."}]
[]
[null,{"$f":"List!$C$301&\". \"&List!$C$302&\".\"","v":"Délka teleskopů závisí na výšce korpusu KH. U asymetrických čel se použije teoretická výška TKH."}]
[]
[null,{"$f":"\" \"&List!$C$144&\":\"","v":" Asymetrická čela:"}]
[null,{"$f":"\" \"&List!$C$299","v":" Teoretická výška korpusu (TKH) = výška horního čela (FHo) x 2 (včetně mezer)"}]
[]
[null,{"$f":"List!$C$293","v":"U asymetrických čel musí být větší čelo nahoře!"}]
[]
[null,{"$f":"List!$C$304","v":"Pokud zadáte hodnotu TKH, použije se pro určení délky teleskopů"}]
[null,{"$f":"List!$C$305","v":"Nemáte-li asymetrická čela, nechte políčko prázdné."}]
[null,{"$f":"List!$C$306&\" ' \"&List!$C$176&\"' \"","v":"Pro výpočet TKH můžete použít ' Výpočet asymetrických čel' "}]
[]
[]
[null,{"$f":"List!$C$284","v":"Chcete-li změnit barvu krytek, přejděte na \"Úvod\""}]
[]
[null,{"$f":"List!$C$383","v":"Věnujte pozornost výběru alurámečků."}]
[null,{"$f":"List!$C$384","v":"Vyberte, který typ lépe odpovídá tvaru použitého alurámečku."}]
[null,{"$f":"List!$C$385","v":"Způsob osazení skla do rámečku výrazně ovlivňuje plochu skla a tím i hmotnost!"}]
[]
[null,null,{"$f":"\"  \"&List!$C$373&\"  \"","v":"  S vloženým sklem  "}]
[]
[null,null,{"$f":"\"  \"&List!$C$374&\"  \"","v":"  S naloženým nebo nalepeným sklem  "}]
[]
[null,null,null,null,null,null,null,null,null,null,null,{"$f":"List!$C$149","v":"Zpět"}]

{"sheet":"HFna","index":12,"n_rows":436,"n_cols":46,"rows_kept":436,"cut":false,"hidden":false,"merged":[[1,1,1,2],[8,19,8,20],[206,20,206,21],[215,20,215,21],[26,19,26,20],[1,3,1,4],[1,5,1,6],[1,7,1,8],[1,9,1,10],[3,5,3,10],[215,1,215,6],[214,1,214,6],[6,6,6,7],[8,3,8,7],[9,1,9,6],[10,1,10,3],[6,1,6,2],[213,5,213,7],[304,8,304,9],[301,1,301,9],[302,1,302,7],[303,8,303,9],[226,2,228,10],[206,1,206,6],[216,1,216,6],[223,6,223,7],[304,1,304,7],[97,0,154,0],[204,1,204,4],[204,5,204,7],[197,0,230,0],[207,1,207,6],[217,1,217,6],[317,1,317,7],[311,1,311,5],[305,8,305,9],[397,0,437,0],[404,4,404,11],[315,8,315,9],[313,1,313,7],[313,8,313,9],[308,1,308,9],[309,1,309,5],[310,1,310,5],[231,0,258,0],[242,6,242,7],[298,0,352,0],[302,8,302,9],[303,1,303,7],[305,1,305,7],[306,1,306,7],[324,8,324,9],[314,1,314,7],[314,8,314,9],[316,1,316,7],[316,8,316,9],[315,1,315,7],[309,6,309,9],[306,8,306,9],[317,8,317,9],[0,43,0,51],[5,43,6,44],[5,45,6,45],[5,46,6,46],[218,1,218,6],[26,1,28,9],[5,6,5,10],[209,1,209,6],[208,1,208,6],[205,1,205,6],[7,43,7,44],[8,43,8,44],[17,19,17,20],[13,1,13,6],[14,1,14,6],[11,43,12,46],[9,43,9,44],[22,1,22,6],[23,1,23,6],[19,1,19,3],[20,1,20,6],[11,1,11,6],[21,1,21,6],[12,1,12,6],[18,1,18,6],[17,3,17,7]]}
[]
[null,"AVENTOS HF",null,"AVENTOS HS",null,"AVENTOS HL",null,"AVENTOS HK top",null,"AVENTOS HK-S",null,"AVENTOS HK-XS",null,null,"rámeček",null,null,null,3,null,null,null,null,null,null,{"$f":"List!$C$135","v":"Jdi na"}]
[]
[null,{"$f":"List!$C$19&\" ***\"","v":"Úzké alurámečky ***"},null,null,null,{"$f":"N200&\"       \"","v":"Alurámečky s 4mm sklem       "},null,null,null,null,null,null,null,null,1,null,null,null,{"$f":"\" \"&List!$C$39&\" A \"","v":" Cena za korpus A "},null,null,null,null,null,null,{"$f":"List!$C$136","v":"Úvod plánování"}]
[null,null,null,null,null,null,null,null,null,null,null,null,null,null,"A = 1",null,null,null,{"$f":"\" \"&List!$C$39&\" B \"","v":" Cena za korpus B "},null,null,null,null,null,null,{"$f":"List!$C$137","v":"Nápověda"}]
[null,null,null,null,null,null,{"$f":"List!$C$47&\" \"&List!$C$22&\"       \"","v":"Nastavit hmotnost alurámečků       "},null,null,null,null,null,null,null,"B = 2",null,null,null,{"$f":"\" \"&List!$C$59","v":" Cena celkem bez DPH"},null,null,null,null,null,null,null,null,null,null,null,null,null,null,null,null,null,null,null,null,null,null,null,null,{"$f":"\"  \"&List!$C$80&\" LF \"","v":"  Ukazatel výkonnosti LF "},null,{"$f":"List!$C$79","v":"Zdvihací mechanizmus"}]
[null,{"$f":"List!$C$142","v":"Soupis kování"},null,null,null,null,{"$f":"IF(S2=1,$N$138,IF($S$2=2,$P$138,IF($S$2=3,$L$138,0)))","v":0},null,null,null,null,null,null,null,null,null,null,null,null,null,null,null,null,null,null,{"$f":"List!$C$141","v":"Doplňky"}]
[null,null,null,null,null,null,null,{"$f":"IF(AND(OR($S$9=1, $S$18=1), $L$138>0), $N$32, \" \")","v":" "},null,null,null,null,null,null,null,null,null,null,null,null,null,null,null,null,null,null,null,null,null,null,null,null,null,null,null,null,null,null,null,null,null,null,null,{"$f":"\"  2.600 -  5.500 (1 \"&List!$C$153&\" LF 960 - 2.650)\"","v":"  2.600 -  5.500 (1 ks LF 960 - 2.650)"},null,"20F2200.05"]
[null,"SERVO-DRIVE",null,{"$f":"List!$C$62&\" A\"","v":"Korpus A"},null,null,null,null,null,null,null,null,null,"zdvih A",null,"teleskop",null,null,{"$f":"IF($T$9=TRUE,1,2)","v":2},false,null," - SRVDRV",null,null,null,{"$f":"List!$C$139","v":"Přehled korpusů"},null,null,null,null,null,null,null,null,null,null,null,null,null,null,null,null,null,"  5.350 - 10.150",null,"20F2500.05"]
[null,{"$f":"List!$C$72&\" KB [mm] \"","v":"Šířka korpusu KB [mm] "},null,null,null,null,null,null,{"$f":"IF(H10=0,\" \",IF($H10<220,\" min. 220mm\",IF($H10>1800,\" max. 1 800mm\",\" \")))&IF(H15>0,IF(H10=0,\"● \"&List!$C$111,\" \"),\" \")","v":"  "},null,null,null,null,"F22",{"$f":"IF($H14<Cen!$F$240,0.5,IF($H14<Cen!$F$241,1,0))","v":0.5},"F32",{"$f":"SUM(IF($P14<Cen!$F$248,IF($H14<Cen!$F$240,0.5,1),0))","v":0.5},null,null,"Závěs A",null,"Závěs As",null,null,null,{"$f":"List!$C$140","v":"Objednávka"},null,null,null,null,null,null,null,null,null,null,null,null,null,null,null,null,null,"  9.000 -  17.250",null,"20F2800.05"]
[null,{"$f":"List!$C$73&\" [mm]\"","v":"Výška korpusu [mm]"},null,null,"TKH * ",null,"KH ",null,{"$f":"IF(H11=0,\" \",IF($H11<480,\" min. 480mm\",IF($H11>1040,\" max. 1 040mm\",\" \")))&IF(H15>0,IF(H11=0,\"● \"&List!$C$111,\" \"),\" \")","v":"  "},null,null,null,null,"F25",{"$f":"IF($H14<Cen!$E$242,0,IF($H14<Cen!$F$242,1,0))","v":0},"F35",{"$f":"IF($P14<Cen!$F$249,IF($P14>Cen!$E$249,IF($H14<Cen!$F$240,0.5,1),0),0)","v":0},null,null,"T558E",{"$f":"IF($O$42=1,IF($H10>1199,3,IF($T15>11.9,3,2)),0)+IF(O$42=1,IF($H10>1799,1,IF($T15>19.9,1,0)),0)","v":0},"Z553E",{"$f":"IF($Q$42=1,IF($H10>1199,3,IF($T15>11.9,3,2)),0)+IF($Q$42=1,IF($H10>1799,1,IF($T15>19.9,1,0)),0)","v":0}]
[null,{"$f":"List!$C$74&\" [kg] ** \"","v":"Hmotnost čela včetně úchytky [kg] ** "},null,null,null,null,null,null,{"$f":"IF($H15=0,\" \",IF(SUM($H12,$H13)=0,$N$34,\" \"))&IF($H15>0,IF($H12>0,$N$35,\" \"),\" \")","v":"  "},null,null,null,null,"F28",{"$f":"IF($H14<Cen!$E$243,0,IF($H14<Cen!$F$243,1,IF($H14>Cen!$E$244,0,0)))","v":0},"F38",{"$f":"IF($P14<Cen!$F$250,IF($P14>Cen!$E$250,IF($H14<Cen!$F$240,0.5,1),0),0)","v":0},null,null,"T5550",{"$f":"IF($O$42=2,IF($H10>1199,3,IF($T15>11.9,3,2)),0)+IF($O$42=2,IF($H10>1799,1,IF($T15>19.9,1,0)),0)","v":2},"Z5500",{"$f":"IF($Q$42=2,IF($H10>1199,3,IF($T15>11.9,3,2)),0)+IF($Q$42=2,IF($H10>1799,1,IF($T15>19.9,1,0)),0)","v":2},null,null,null,null,null,null,null,null,null,null,null,null,null,null,null,null,null,null,null,null,{"$f":"List!$C$80&\" LF = \"&List!$C$298&\" [kg]\"","v":"Ukazatel výkonnosti LF = výška korpusu KH [mm] x hmotnost obou čel včetně úchytky [kg]"}]
[null,{"$f":"List!$C$76&\" [kg]       \"","v":"Vypočtená hmotnost čela [kg]       "},null,null,null,null,null,{"$f":"$H$210","v":0},{"$f":"IF($H15>0,IF($H13>0,IF($H12=0,$N$35,\" \"),\" \"),\" \")","v":" "},null,null,null,null,null,null,"F39",{"$f":"IF($P14<Cen!$F$251,IF($P14>Cen!$E$251,IF($H14<Cen!$F$240,0.5,1),0),0)","v":0},null,null,null,null,null,null,null,null,{"$f":"\" \"&List!$C$177&\" A\"","v":" Výpočet hmotnosti A"}]
[null,{"$f":"List!$C$80&\" LF \"","v":"Ukazatel výkonnosti LF "},null,null,null,null,null,{"$f":"IF(H11<1041,IF(H11>479,IF(H12>0,H11*H12,H11*H13),0),0)","v":0},{"$f":"IF(AND(H14>0,H14<960), $T$38, IF($H14>17250,$N$38,\" \"))","v":" "},null,null,null,null,null,"výška korpusu",{"$f":"IF(F11>0,IF(F11>=H11,F11,0),H11)","v":0}]
[null,{"$f":"List!$C$69&\" \"","v":"Počet skříněk "},null,null,null,null,null,null,{"$f":"IF(AND(M15>0, H14>959, O10=0.5), $U$39, \" \")","v":" "},null,null,null,{"$f":"IF($H10*$P14=0,0,IF(SUM($H12,$H13)=0,0,IF($P14>Cen!$F$252,0,IF(P14<Cen!$E$248,0,IF(OR(H14<Cen!$E$240, H14>Cen!$F$243),0,$H15)))))","v":0},"← Hlavní údaj",null,null,null,null,"hmot =",{"$f":"IF(H12>0,H12,H13)","v":0},{"$f":"IF(SUM(H12,H13)=0,0,IF(H12>0,1,2))","v":0},"zadaná / vypočtená",null,null,null,{"$f":"\" \"&List!$C$176","v":" Výpočet asymetrických čel"},null,null,null,null,null,null,null,null,null,null,null,null,null,null,null,null,null,{"$f":"List!$C$149","v":"Zpět"}]
[null,{"$f":"IF(H15>0,IF(U15=0,\" \",IF(U15=1,$N$47,$N$48)),\" \")&IF(H15>0,IF(U15=0,\" \",IF(U15=1,$N$49,$N$50)),\" \")","v":"  "}]
[null,{"$f":"IF(F11=0,\" \",IF(F11>1040,\"TKH = max. 1040!\",IF(F11<480,\"TKH = min. 480!\",IF(F11<H11,$N$53,IF(H15>0,IF(F11=0,\" \",IF(F11>0,$N$52,\" \")),\" \")))))","v":" "}]
[null,"SERVO-DRIVE",null,{"$f":"List!$C$62&\" B\"","v":"Korpus B"},null,null,null,null,null,null,null,null,null,"zdvih B",null,"teleskop",null,null,{"$f":"IF($T$18=TRUE,1,2)","v":2},false,null," - SRVDRV",null,null,null,{"$f":"\" \"&List!$C$361","v":" Ověření síly zdvihače"}]
[null,{"$f":"List!$C$72&\" KB [mm] \"","v":"Šířka korpusu KB [mm] "},null,null,null,null,null,null,{"$f":"IF(H19=0,\" \",IF($H19<220,\" min. 220mm\",IF($H19>1800,\" max. 1 800mm\",\" \")))&IF(H24>0,IF(H19=0,\"● \"&List!$C$111,\" \"),\" \")","v":"  "},null,null,null,null,"F22",{"$f":"IF($H23<Cen!$F$240,0.5,IF($H23<Cen!$F$241,1,0))","v":0.5},"F32",{"$f":"SUM(IF($P23<Cen!$F$248,IF($H23<Cen!$F$240,0.5,1),0))","v":0.5},null,null,"Závěs B",null,"Závěs Bs"]
[null,{"$f":"List!$C$73&\" [mm]\"","v":"Výška korpusu [mm]"},null,null,"TKH * ",null,"KH ",null,{"$f":"IF(H20=0,\" \",IF($H20<480,\" min. 480mm\",IF($H20>1040,\" max. 1 040mm\",\" \")))&IF(H24>0,IF(H20=0,\"● \"&List!$C$111,\" \"),\" \")","v":"  "},null,null,null,null,"F25",{"$f":"IF($H23<Cen!$E$242,0,IF($H23<Cen!$F$242,1,0))","v":0},"F35",{"$f":"IF($P23<Cen!$F$249,IF($P23>Cen!$E$249,IF($H23<Cen!$F$240,0.5,1),0),0)","v":0},null,null,"T558E",{"$f":"IF($O$42=1,IF($H19>1199,3,IF($T24>11.9,3,2)),0)+IF(O$42=1,IF($H19>1799,1,IF($T24>19.9,1,0)),0)","v":0},"Z553E",{"$f":"IF($Q$42=1,IF($H19>1199,3,IF($T24>11.9,3,2)),0)+IF($Q$42=1,IF($H19>1799,1,IF($T24>19.9,1,0)),0)","v":0}]
[null,{"$f":"List!$C$74&\" [kg] ** \"","v":"Hmotnost čela včetně úchytky [kg] ** "},null,null,null,null,null,null,{"$f":"IF($H24=0,\" \",IF(SUM($H21,$H22)=0,$N$34,\" \"))&IF($H24>0,IF($H21>0,$N$35,\" \"),\" \")","v":"  "},null,null,null,null,"F28",{"$f":"IF($H23<Cen!$E$243,0,IF($H23<Cen!$F$243,1,IF($H23>Cen!$E$244,0,0)))","v":0},"F38",{"$f":"IF($P23<Cen!$F$250,IF($P23>Cen!$E$250,IF($H23<Cen!$F$240,0.5,1),0),0)","v":0},null,null,"T5550",{"$f":"IF($O$42=2,IF($H19>1199,3,IF($T24>11.9,3,2)),0)+IF($O$42=2,IF($H19>1799,1,IF($T24>19.9,1,0)),0)","v":2},"Z5500",{"$f":"IF($Q$42=2,IF($H19>1199,3,IF($T24>11.9,3,2)),0)+IF($Q$42=2,IF($H19>1799,1,IF($T24>19.9,1,0)),0)","v":2}]
[null,{"$f":"List!$C$76&\" [kg]       \"","v":"Vypočtená hmotnost čela [kg]       "},null,null,null,null,null,{"$f":"$H$219","v":0},{"$f":"IF($H24>0,IF($H22>0,IF($H21=0,$N$35,\" \"),\" \"),\" \")","v":" "},null,null,null,null,null,null,"F39",{"$f":"IF($P23<Cen!$F$251,IF($P23>Cen!$E$251,IF($H23<Cen!$F$240,0.5,1),0),0)","v":0},null,null,null,null,null,null,null,null,{"$f":"\" \"&List!$C$177&\" B\"","v":" Výpočet hmotnosti B"}]
[null,{"$f":"List!$C$80&\" LF \"","v":"Ukazatel výkonnosti LF "},null,null,null,null,null,{"$f":"IF(H20<1041,IF(H20>479,IF(H21>0,H20*H21,H20*H22),0),0)","v":0},{"$f":"IF(AND(H23>0,H23<960), $T$38, IF($H23>17250,$N$38,\" \"))","v":" "},null,null,null,null,null,"výška korpusu",{"$f":"IF(F20>0,IF(F20>=H20,F20,0),H20)","v":0}]
[null,{"$f":"List!$C$69&\" \"","v":"Počet skříněk "},null,null,null,null,null,null,{"$f":"IF(AND(M24>0, H23>959, O19=0.5), $U$39, \" \")","v":" "},null,null,null,{"$f":"IF($H19*$P23=0,0,IF(SUM($H21,$H22)=0,0,IF($P23>Cen!$F$252,0,IF(P23<Cen!$E$248,0,IF(OR(H23<Cen!$E$240, H23>Cen!$F$243),0,$H24)))))","v":0},"← Hlavní údaj",null,null,null,null,"hmot =",{"$f":"IF(H21>0,H21,H22)","v":0},{"$f":"IF(SUM(H21,H22)=0,0,IF(H21>0,1,2))","v":0},"zadaná / vypočtená",null,null,null,{"$f":"\" \"&List!$C$176","v":" Výpočet asymetrických čel"}]
[null,{"$f":"IF(H24>0,IF(U24=0,\" \",IF(U24=1,$N$47,$N$48)),\" \")&IF(H24>0,IF(U24=0,\" \",IF(U24=1,$N$49,$N$50)),\" \")","v":"  "}]
[null,{"$f":"IF(F20=0,\" \",IF(F20>1040,\"TKH = max. 1040!\",IF(F20<480,\"TKH = min. 480!\",IF(F20<H20,$N$53,IF(H24>0,IF(F20=0,\" \",IF(F20>0,$N$52,\" \")),\" \")))))","v":" "}]
[null,{"$f":"IF(OR(AND($S$9=1, $M$15>0), AND($S$18=1, $M$24>0)), List!$C$157, \" \")","v":" "},null,null,null,null,null,null,null,null,null,null,null,null,null,null,null,null,{"$f":"IF($T$27=FALSE,2,1)","v":1},true,null," - Zdroj"]
[]
[]
[]
[]
[null,null,null,null,null,null,null,null,null,null,null,null,null,{"$f":"List!C158","v":"Cena bez napájecího zdroje!"}]
[null,null,{"$f":"\"*  \"&List!$C$165","v":"*  Pouze pro asymetrická čela: zadejte teoretickou výšku TKH."}]
[null,null,{"$f":"\" ( \"&List!$C$166&\")\"","v":" ( TKH = dvojnásobná výška horního čela včetně mezer)"},null,null,null,null,null,null,null,null,null,null,{"$f":"\" \"&List!$C$103","v":" Doplňte nebo použijte \"Výpočet hmotnosti\" "}]
[null,null,{"$f":"\"** \"&List!$C$168","v":"** Pokud znáte hmotnost a nechcete využít výpočtu hmotnosti"},null,null,null,null,null,null,null,null,null,null,{"$f":"\"◄ \"&List!$C$100","v":"◄ hodnota bude použita pro výpočet LF"}]
[null,null,{"$f":"\"*** \"&List!$C$371","v":"*** Vyberte typ alurámečku!"},null,null,null,null,null,null,null,null,null,null,{"$f":"\" * \"&List!$C$110","v":" * Doplňte hodnoty"}]
[null,null,{"$f":"\"      \"&List!$C$372","v":"      Více informací k výběru alurámečků v Nápovědě"}]
[null,null,null,null,null,null,null,null,null,null,null,null,null,{"$f":"\" max. 17.250! \"&List!$C$105","v":" max. 17.250! Upravte hmotnost nebo výšku"},null,null,null,null,null,{"$f":"\" min. 960! \"&List!$C$105","v":" min. 960! Upravte hmotnost nebo výšku"}]
[null,null,null,null,null,null,null,null,null,null,null,null,null,{"$f":"\" \"&List!$C$104","v":" Přídavný třetí zdvihač"},null,null,null,null,null,null,{"$f":"\" \"&List!C109","v":" Použijte pouze jeden zdvihač"}]
[null,null,null,null,null,null,null,null,null,null,null,null,null,{"$f":"List!$C$163","v":"Přídavný třetí zdvihač může být použit pouze s plným spodním čelem!"}]
[]
[null,null,null,null,null,null,null,null,null,null,null,null,null,{"$f":"HF!$L$37","v":2},2,{"$f":"HF!$N$37","v":2},2,{"$f":"HF!$P$37","v":2},null,{"$f":"Menu!$Q$27","v":3}]
[null,null,null,null,null,null,null,null,null,null,null,null,null,"záv.","alu","střed.","alu","podl.",null,"kryt."]
[null,null,null,null,null,null,null,null,null,null,null,null,null,{"$f":"List!$C$116","v":"Expando"},null,{"$f":"List!$C$116","v":"Expando"},null,{"$f":"List!$C$116","v":"Expando"},null,{"$f":"List!$C$128","v":"Světle šedá (HG/T)"}]
[null,null,null,null,null,null,null,null,null,null,null,null,null,{"$f":"List!$C$117","v":"na vruty"},null,{"$f":"List!$C$117","v":"na vruty"},null,{"$f":"List!$C$117","v":"na vruty"},null,{"$f":"List!$C$129","v":"Tmavě šedá (TGR)"}]
[null,null,null,null,null,null,null,null,null,null,null,null,null,null,null,null,null,null,null,{"$f":"List!$C$130","v":"Hedvábně bílá (SW/T)"}]
[null,null,null,null,null,null,null,null,null,null,null,null,null,{"$f":"List!C169","v":"Pro určení typu zdvihače bude použita zadaná hmotnost"}]
[null,null,null,null,null,null,null,null,null,null,null,null,null,{"$f":"List!C170","v":"Pro určení typu zdvihače bude použita vypočtená hmotnost"}]
[null,null,null,null,null,null,null,null,null,null,null,null,null,{"$f":"\". \"&List!$C$171","v":". Chcete-li použít vypočtenou hmotnost, smažte zadanou hodnotu"}]
[null,null,null,null,null,null,null,null,null,null,null,null,null,{"$f":"\". \"&List!$C$172","v":". Chcete-li použít zadanou hmotnost, zadejte ji do políčka"}]
[null,null,null,null,null,null,null,null,null,null,null,null,null,{"$f":"List!C173","v":0}]
[null,null,null,null,null,null,null,null,null,null,null,null,null,{"$f":"List!C174","v":"Pro výběr teleskopů bude použita teoretická výška TKH"}]
[null,null,null,null,null,null,null,null,null,null,null,null,null,{"$f":"List!C175","v":"Teoretická výška TKH nesmí být menší než KH"}]
[]
[]
[]
[]
[]
[]
[]
[]
[]
[]
[]
[]
[]
[]
[]
[]
[]
[]
[]
[]
[]
[]
[]
[]
[]
[]
[]
[]
[]
[]
[]
[]
[]
[]
[]
[]
[]
[]
[]
[]
[]
[]
[]
[]
[null,{"$f":"List!C142","v":"Soupis kování"}]
[]
[null,{"$f":"$B$2","v":"AVENTOS HF"},null,{"$f":"B4","v":"Úzké alurámečky ***"}]
[null,{"$f":"List!C50","v":"Název"},null,null,null,null,{"$f":"List!$C$51","v":"Číslo artiklu"},null,{"$f":"List!C52","v":"Barva"},{"$f":"List!C54","v":"Ks"},{"$f":"List!C56","v":"Jednotková cena"},{"$f":"List!C57","v":"Celkem"},"A","Cena","B","Cena",null,null,"Filtr"]
[null,{"$f":"Cen!A2","v":"Sada zdvihačů HF"},null,null,null,null,{"$f":"Cen!E2","v":"20F2200.05"},null,{"$f":"Cen!G2","v":"ZN"},{"$f":"ROUNDUP($M$15*O10+$M$24*O19,0)","v":0},{"$f":"Cen!I2","v":0},{"$f":"J102*K102","v":0},{"$f":"ROUNDUP($M$15*O10,0)","v":0},{"$f":"$K102*M102","v":0},{"$f":"ROUNDUP($M$24*O19,0)","v":0},{"$f":"$K102*O102","v":0},null,null,"x"]
[null,{"$f":"Cen!A3","v":"Sada zdvihačů HF"},null,null,null,null,{"$f":"Cen!E3","v":"20F2500.05"},null,{"$f":"Cen!G3","v":"ZN"},{"$f":"ROUNDUP($M$15*O11+$M$24*O20,0)","v":0},{"$f":"Cen!I3","v":0},{"$f":"J103*K103","v":0},{"$f":"ROUNDUP($M$15*O11,0)","v":0},0,{"$f":"ROUNDUP($M$24*O20,0)","v":0},0,null,null,"x"]
[null,{"$f":"Cen!A4","v":"Sada zdvihačů HF"},null,null,null,null,{"$f":"Cen!E4","v":"20F2800.05"},null,{"$f":"Cen!G4","v":"ZN"},{"$f":"ROUNDUP($M$15*O12+$M$24*O21,0)","v":0},{"$f":"Cen!I4","v":0},0,{"$f":"ROUNDUP($M$15*O12,0)","v":0},0,{"$f":"ROUNDUP($M$24*O21,0)","v":0},0,null,null,"x"]
[null,{"$f":"Cen!A5","v":"Sada teleskopů (480-570mm)"},null,null,null,null,{"$f":"Cen!E5","v":"20F3200.01"},null,{"$f":"Cen!G5","v":"NI"},{"$f":"ROUNDUP($M$15*Q10+$M$24*Q19,0)","v":0},{"$f":"Cen!I5","v":0},0,{"$f":"ROUNDUP($M$15*Q10,0)","v":0},0,{"$f":"ROUNDUP($M$24*Q19,0)","v":0},0,null,null,"x"]
[null,{"$f":"Cen!A6","v":"Sada teleskopů (560-710mm)"},null,null,null,null,{"$f":"Cen!E6","v":"20F3500.01"},null,{"$f":"Cen!G6","v":"NI"},{"$f":"ROUNDUP($M$15*Q11+$M$24*Q20,0)","v":0},{"$f":"Cen!I6","v":0},0,{"$f":"ROUNDUP($M$15*Q11,0)","v":0},0,{"$f":"ROUNDUP($M$24*Q20,0)","v":0},0,null,null,"x"]
[null,{"$f":"Cen!A7","v":"Sada teleskopů (700-900mm)"},null,null,null,null,{"$f":"Cen!E7","v":"20F3800.01"},null,{"$f":"Cen!G7","v":"NI"},{"$f":"ROUNDUP($M$15*Q12+$M$24*Q21,0)","v":0},{"$f":"Cen!I7","v":0},0,{"$f":"ROUNDUP($M$15*Q12,0)","v":0},0,{"$f":"ROUNDUP($M$24*Q21,0)","v":0},0,null,null,"x"]
[null,{"$f":"Cen!A8","v":"Sada teleskopů (760-1040mm)"},null,null,null,null,{"$f":"Cen!E8","v":"20F3900.01"},null,{"$f":"Cen!G8","v":"NI"},{"$f":"ROUNDUP($M$15*Q13+$M$24*Q22,0)","v":0},{"$f":"Cen!I8","v":0},0,{"$f":"ROUNDUP($M$15*Q13,0)","v":0},0,{"$f":"ROUNDUP($M$24*Q22,0)","v":0},0,null,null,"x"]
[null,{"$f":"Cen!A9","v":"Sada krytek HF SERVO-DRIVE, sv.šedá"},null,null,null,null,{"$f":"Cen!E9","v":"21F8000"},null,{"$f":"Cen!G9","v":"HG/T"},{"$f":"SUM(M109,O109,Q109)","v":0},{"$f":"Cen!I9","v":0},0,{"$f":"IF($S$9=2,0,IF($T$42=1,$M$134,0))","v":0},0,{"$f":"IF($S$18=2,0,IF($T$42=1,$O$134,0))","v":0},0,null,null,"x"]
[null,{"$f":"Cen!A10","v":"Sada krytek HF SERVO-DRIVE, tm.šedá"},null,null,null,null,{"$f":"Cen!E10","v":"21F8000"},null,{"$f":"Cen!G10","v":"TGR"},{"$f":"SUM(M110,O110,Q110)","v":0},{"$f":"Cen!I10","v":0},{"$f":"J110*K110","v":0},{"$f":"IF($S$9=2,0,IF($T$42=2,$M$134,0))","v":0},{"$f":"$K110*M110","v":0},{"$f":"IF($S$18=2,0,IF($T$42=2,$O$134,0))","v":0},{"$f":"$K110*O110","v":0},null,null,"x"]
[null,{"$f":"Cen!A11","v":"Sada krytek HF SERVO-DRIVE, bílá"},null,null,null,null,{"$f":"Cen!E11","v":"21F8000"},null,{"$f":"Cen!G11","v":"SW/T"},0,{"$f":"Cen!I11","v":0},0,{"$f":"IF($S$9=2,0,IF($T$42=3,$M$134,0))","v":0},{"$f":"$K111*M111","v":0},{"$f":"IF($S$18=2,0,IF($T$42=3,$O$134,0))","v":0},0,null,null,"x"]
[]
[null,{"$f":"Cen!A12","v":"Sada krytek HF, světle šedá"},null,null,null,null,{"$f":"Cen!E12","v":"20F8000"},null,{"$f":"Cen!G12","v":"HG/T"},0,{"$f":"Cen!I12","v":0},0,{"$f":"IF($S$9=1,0,IF($T$42=1,SUM($M$102:$M$104,0),0))","v":0},0,{"$f":"IF($S$18=1,0,IF($T$42=1,SUM($O$102:$O$104,0),0))","v":0},0,null,null,"x"]
[null,{"$f":"Cen!A13","v":"Sada krytek HF, tmavě šedá"},null,null,null,null,{"$f":"Cen!E13","v":"20F8000"},null,{"$f":"Cen!G13","v":"TGR"},{"$f":"SUM(M114,O114,Q114)","v":0},{"$f":"Cen!I13","v":0},{"$f":"J114*K114","v":0},{"$f":"IF($S$9=1,0,IF($T$42=2,SUM($M$102:$M$104,0),0))","v":0},{"$f":"$K114*M114","v":0},{"$f":"IF($S$18=1,0,IF($T$42=2,SUM($O$102:$O$104,0),0))","v":0},{"$f":"$K114*O114","v":0},null,null,"x"]
[null,{"$f":"Cen!A14","v":"Sada krytek HF, bílá"},null,null,null,null,{"$f":"Cen!E14","v":"20F8000"},null,{"$f":"Cen!G14","v":"SW/T"},0,{"$f":"Cen!I14","v":0},0,{"$f":"IF($S$9=1,0,IF($T$42=3,SUM($M$102:$M$104,0),0))","v":0},0,{"$f":"IF($S$18=1,0,IF($T$42=3,SUM($O$102:$O$104,0),0))","v":0},0,null,null,"x"]
[]
[null,{"$f":"Cen!A15","v":"Závěs CLIP top 120° "},null,null,null,null,{"$f":"Cen!E15","v":"70T5550.TL"},null,{"$f":"Cen!G15","v":"NI"},0,{"$f":"Cen!I15","v":0},0,null,0,null,0]
[null,{"$f":"Cen!A16","v":"Závěs CLIP top 120° EXPANDO"},null,null,null,null,{"$f":"Cen!E16","v":"70T558E"},null,{"$f":"Cen!G16","v":"NI"},0,{"$f":"Cen!I16","v":0},0,null,0,null,0]
[null,{"$f":"Cen!A17","v":"Středový závěs CLIP top "},null,null,null,null,{"$f":"Cen!E17","v":"78Z5500T"},null,{"$f":"Cen!G17","v":"NI"},0,{"$f":"Cen!I17","v":0},0,null,0,null,0]
[null,{"$f":"Cen!A18","v":"Středový závěs CLIP top EXPANDO"},null,null,null,null,{"$f":"Cen!E18","v":"78Z553ET"},null,{"$f":"Cen!G18","v":"NI"},0,{"$f":"Cen!I18","v":0},0,null,0,null,0]
[null,{"$f":"Cen!A19","v":"Závěs CLIP top pro alurámečky"},null,null,null,null,{"$f":"Cen!E19","v":"72T550A.TL"},null,{"$f":"Cen!G19","v":"NI"},0,{"$f":"Cen!I19","v":0},0,{"$f":"$M$15*$U$12","v":0},0,{"$f":"$M$24*$U$21","v":0},0,null,null,"x"]
[null,{"$f":"Cen!A20","v":"Střed. závěs CLIP top pro alurámečky"},null,null,null,null,{"$f":"Cen!E20","v":"78Z550AT"},null,{"$f":"Cen!G20","v":"NI"},0,{"$f":"Cen!I20","v":0},0,{"$f":"$M$15*$W$12","v":0},0,{"$f":"$M$24*$W$21","v":0},0,null,null,"x"]
[null,{"$f":"Cen!A21","v":"Přímá montážní podložka"},null,null,null,null,{"$f":"Cen!E21","v":"175H3100"},null,{"$f":"Cen!G21","v":"NI"},0,{"$f":"Cen!I21","v":0},0,{"$f":"IF($R$42=2,$U$12*$M$15,0)","v":0},0,{"$f":"IF($R$42=2,$U$21*$M$24,0)","v":0},0,null,null,"x"]
[null,{"$f":"Cen!A22","v":"Přímá montážní podložka, EXPANDO"},null,null,null,null,{"$f":"Cen!E22","v":"177H3100E"},null,{"$f":"Cen!G22","v":"NI"},0,{"$f":"Cen!I22","v":0},0,{"$f":"IF($R$42=1,$U$12*$M$15,0)","v":0},0,{"$f":"IF($R$42=1,$U$21*$M$24,0)","v":0},0,null,null,"x"]
[null,{"$f":"Cen!A23","v":"Podložka CLIP excentrická"},null,null,null,null,{"$f":"Cen!E23","v":"173H7100"},null,{"$f":"Cen!G23","v":"NI"},0,{"$f":"Cen!I23","v":0},0,null,0,null,0]
[null,{"$f":"Cen!A24","v":"Adaptér CLIP k teleskopům P"},null,null,null,null,{"$f":"Cen!E24","v":"175H5B00   R"},null,{"$f":"Cen!G24","v":"NI"},0,{"$f":"Cen!I24","v":0},0,{"$f":"IF($S$9=2,SUM($M$105:$M$108),IF($H$14<Cen!$F$240,$M$15,SUM($M$105:$M$108)))","v":0},0,{"$f":"IF($S$18=2,SUM($O$105:$O$108),IF($H$23<Cen!$F$240,$M$24,SUM($O$105:$O$108)))","v":0},0,null,null,"x"]
[null,{"$f":"Cen!A25","v":"Adaptér CLIP k teleskopům L"},null,null,null,null,{"$f":"Cen!E25","v":"175H5B00   L"},null,{"$f":"Cen!G25","v":"NI"},0,{"$f":"Cen!I25","v":0},0,{"$f":"IF($S$9=2,SUM($M$105:$M$108),IF($H$14<Cen!$F$240,0,SUM($M$105:$M$108)))","v":0},0,{"$f":"IF($S$18=2,SUM($O$105:$O$108),IF($H$23<Cen!$F$240,0,SUM($O$105:$O$108)))","v":0},0,null,null,"x"]
[null,{"$f":"Cen!A26","v":"Adaptér CLIP ke středovým závěsům"},null,null,null,null,{"$f":"Cen!E26","v":"175H5A00"},null,{"$f":"Cen!G26","v":"NI"},0,{"$f":"Cen!I26","v":0},0,{"$f":"$M$122","v":0},0,{"$f":"$O$122","v":0},0,null,null,"x"]
[null,{"$f":"Cen!A27","v":"Omezovač úhlu otevření na 83° "},null,null,null,null,{"$f":"Cen!E27","v":"20F7011"},null,{"$f":"Cen!G27","v":"TGR"},0,{"$f":"Cen!I27","v":0},0,null,0,null,0]
[null,{"$f":"Cen!A28","v":"Omezovač úhlu otevření na 104° "},null,null,null,null,{"$f":"Cen!E28","v":"20F7051"},null,{"$f":"Cen!G28","v":"TGR"},0,{"$f":"Cen!I28","v":0},0,null,0,null,0]
[null,{"$f":"Cen!A151","v":"CLIP top krytka raménka Nikl"},null,null,null,null,{"$f":"Cen!E151","v":"70.1503"},null,{"$f":"Cen!G151","v":"NI"},0,{"$f":"Cen!I151","v":0},0,{"$f":"SUM(M$117:M$122)","v":0},0,{"$f":"SUM(O$117:O$122)","v":0},0,null,null,"x"]
[]
[null,null,null,null,null,null,null,null,null,null,null,0,null,0,null,0]
[null,{"$f":"Cen!A199","v":"SERVO-DRIVE jednotka (sada)"},null,null,null,null,{"$f":"Cen!E199","v":"21FA000"},null,{"$f":"Cen!G199","v":"HGR"},{"$f":"SUM(M134,O134,Q134)","v":0},{"$f":"Cen!I199","v":0},0,{"$f":"IF($S$9=2,0,$M$15)","v":0},0,{"$f":"IF($S$18=2,0,$M$24)","v":0},0,null,null,"x"]
[null,{"$f":"Cen!A200","v":"SERVO-DRIVE jednotka (sada) pro HK top"},null,null,null,null,{"$f":"Cen!E200","v":"23KA000"},null,{"$f":"Cen!G200","v":"HGR"},null,{"$f":"Cen!I200","v":0},0,null,0,null,0]
[]
[]
[null,null,null,null,null,null,null,null,null,null,{"$f":"List!$C$59&\" \"","v":"Cena celkem bez DPH "},{"$f":"SUM(L102:L136)","v":0},null,{"$f":"SUM(N102:N137)","v":0},null,{"$f":"SUM(P102:P137)","v":0},null,{"$f":"SUM(R102:R137)","v":0}]
[]
[null,null,null,null,null,null,null,null,null,null,null,{"$f":"List!$C$149","v":"Zpět"}]
[]
[]
[]
[]
[]
[]
[]
[]
[]
[]
[]
[]
[]
[]
[]
[]
[]
[]
[]
[]
[]
[]
[]
[]
[]
[]
[]
[]
[]
[]
[]
[]
[]
[]
[]
[]
[]
[]
[]
[]
[]
[]
[]
[]
[]
[]
[]
[]
[]
[]
[]
[]
[]
[]
[]
[]
[]
[]
[null,{"$f":"List!$C$71","v":"Výpočet hmotnosti čel"}]
[null,null,{"$f":"List!$C$161&\"  \"","v":"Provedení čel  "},null,null,null,null,null,{"$f":"IF(U206=3,IF(H200=0,N203,\" \"),IF(H200>0,N204,\" \"))","v":" "},null,null,null,null,{"$f":"IF($U$206=1,$U$227,IF($U$206=2,$U$228,$U$229&\" -  \"&$H$200&\"mm\"))","v":"Alurámečky s 4mm sklem"},null,null,null,null,{"$f":"Menu!$Q$205","v":2500}]
[null,null,null,null,null,null,null,null,null,null,null,null,null,{"$f":"\" \"&List!$C$224","v":" Změnit objemovou hmotnost "}]
[null,null,null,null,null,null,null,null,null,null,null,null,null,{"$f":"\" \"&List!$C$225&\" [kg/m3]\"","v":" Zadejte objemovou hmotnost  [kg/m3]"}]
[null,null,null,null,null,null,null,null,null,null,null,null,null,{"$f":"\" \"&List!$C$226&\" [mm]\"","v":" Zadejte sílu skla [mm]"}]
[null,null,null,null,null,null,null,null,null,null,null,null,null,{"$f":"\" \"&List!$C$221&\" '\"&List!$C$89&\"'\"","v":" Hodnota platí jen pro volbu 'Alurámečky s jiným sklem'"}]
[null,null,null,null,null,{"$f":"D9","v":"Korpus A"},null,null,null,null,null,null,null,null,null,null,null,null,null,"váha spoj.","tl. skla","typ alu"]
[null,{"$f":"List!$C$72&\" KB [mm]       \"","v":"Šířka korpusu KB [mm]       "},null,null,null,null,null,{"$f":"H10","v":0},null,null,null,null,null,{"$f":"H206*H207*H208","v":0},null,null,null,null,{"$f":"IF($V$206=1,$M$236,$M$237)","v":0.31},{"$f":"$M$238*2","v":0.92},1,{"$f":"$O$4","v":1}]
[null,{"$f":"List!$C$73&\" KH [mm]       \"","v":"Výška korpusu KH [mm]       "},null,null,null,null,null,{"$f":"H11","v":0},null,null,null,null,null,{"$f":"N206/1000000000","v":0},3,null,null,null,"váha alu",{"$f":"SUM(H206*4,(H207-80)*2)*S206/1000","v":-4.9599999999999998E-2},"A plocha B"]
[null,{"$f":"List!$C$77&\" TS [mm] \"","v":"Síla čela TS [mm] "},null,null,null,null,null,null,null,null,null,null,null,{"$f":"Menu!$L$30","v":760},{"$f":"List!$C$84&\" (\"&N208&\" kg/m3)\"","v":"MDF (760 kg/m3)"},null,null,null,{"$f":"$S$200*4/1000","v":10},{"$f":"IF($V$206=1,U208*S208,V208*S208)","v":1.7999999999999999E-2},{"$f":"SUM(($H$206-30)*($H$207-60)/1000000)","v":1.8E-3},{"$f":"SUM(($H$206-6)*($H$207-15)/1000000)","v":9.0000000000000006E-5},"4mm"]
[null,{"$f":"List!$C$78&\" [kg] \"","v":"Hmotnost úchytky [kg] "},null,null,null,null,null,null,{"$f":"IF(SUM(H206,H207)=0,\" \",IF(H209=0,\" ● \"&List!$C$112,\" \"))","v":" "},null,null,null,null,{"$f":"Menu!$L$31","v":680},{"$f":"List!$C$85&\" (\"&N209&\" kg/m3)\"","v":"Dřevotříska (680 kg/m3)"},null,null,null,{"$f":"$S$200*5/1000","v":12.5},{"$f":"IF($V$206=1,U209*S209,V209*S209)","v":2.2499999999999999E-2},{"$f":"SUM(($H$206-30)*($H$207-60)/1000000)","v":1.8E-3},{"$f":"SUM(($H$206-6)*($H$207-15)/1000000)","v":9.0000000000000006E-5},"5mm"]
[null,{"$f":"List!$C$76&\" [kg] \"","v":"Vypočtená hmotnost čela [kg] "},null,null,null,null,null,{"$f":"IF(S211=0,0,S211+H209)","v":0},null,null,null,null,{"$f":"IF(H206*H207*H208=0,0,IF(O207=1,N207*N208+H209,IF(O207=2,N207*N209+H209,N207*N210+H209)))","v":0},{"$f":"$H$200","v":0},{"$f":"List!$C$86","v":"Jiné - volitelná hustota"},null,null,null,{"$f":"$S$200*$H$200/1000","v":0},{"$f":"IF($V$206=1,U210*S210,V210*S210)","v":0},{"$f":"SUM(($H$206-30)*($H$207-60)/1000000)","v":1.8E-3},{"$f":"SUM(($H$206-6)*($H$207-15)/1000000)","v":9.0000000000000006E-5},"jiné"]
[null,null,{"$f":"IF(H210>0,IF(H209=0,$N$227,\" \"),\" \")","v":" "},null,null,null,null,null,null,null,null,null,null,null,null,null,null,null,{"$f":"IF(OR(AND(U206=3, $H$200=0), H206*H207=0), 0, SUM(IF(U206=1,T208,IF(U206=2,T209,T210)),T207,T206))","v":0}]
[]
[]
[null,null,null,null,null,{"$f":"D18","v":"Korpus B"},null,null,null,null,null,null,null,null,null,null,null,null,null,"váha spoj.","tl. skla","typ alu"]
[null,{"$f":"List!$C$72&\" KB [mm]       \"","v":"Šířka korpusu KB [mm]       "},null,null,null,null,null,{"$f":"H19","v":0},null,null,null,null,null,{"$f":"H215*H216*H217","v":0},null,null,null,null,{"$f":"IF($V$206=1,$M$236,$M$237)","v":0.31},{"$f":"$M$238*2","v":0.92},{"$f":"$U$206","v":1},{"$f":"$V$206","v":1}]
[null,{"$f":"List!$C$73&\" KH [mm]       \"","v":"Výška korpusu KH [mm]       "},null,null,null,null,null,{"$f":"H20","v":0},null,null,null,null,null,{"$f":"N215/1000000000","v":0},{"$f":"O207","v":3},null,null,null,"váha alu",{"$f":"SUM(H215*4,(H216-80)*2)*S215/1000","v":-4.9599999999999998E-2},"A plocha B"]
[null,{"$f":"List!$C$77&\" TS [mm] \"","v":"Síla čela TS [mm] "},null,null,null,null,null,null,null,null,null,null,null,{"$f":"$N$208","v":760},{"$f":"$O$208","v":"MDF (760 kg/m3)"},null,null,null,{"$f":"S208","v":10},{"$f":"IF($V$206=1,U217*S217,V217*S217)","v":1.7999999999999999E-2},{"$f":"SUM(($H$215-30)*($H$216-60)/1000000)","v":1.8E-3},{"$f":"SUM(($H$215-6)*($H$216-15)/1000000)","v":9.0000000000000006E-5},"4mm"]
[null,{"$f":"List!$C$78&\" [kg] \"","v":"Hmotnost úchytky [kg] "},null,null,null,null,null,null,{"$f":"IF(SUM(H215,H216)=0,\" \",IF(H218=0,\" ● \"&List!$C$112,\" \"))","v":" "},null,null,null,null,{"$f":"$N$209","v":680},{"$f":"$O$209","v":"Dřevotříska (680 kg/m3)"},null,null,null,{"$f":"S209","v":12.5},{"$f":"IF($V$206=1,U218*S218,V218*S218)","v":2.2499999999999999E-2},{"$f":"SUM(($H$215-30)*($H$216-60)/1000000)","v":1.8E-3},{"$f":"SUM(($H$215-6)*($H$216-15)/1000000)","v":9.0000000000000006E-5},"5mm"]
[null,{"$f":"List!$C$76&\" [kg] \"","v":"Vypočtená hmotnost čela [kg] "},null,null,null,null,null,{"$f":"IF(S220=0,0,S220+H218)","v":0},null,null,null,null,{"$f":"IF(H215*H216*H217=0,0,IF(O216=1,N216*N217+H218,IF(O216=2,N216*N218+H218,N216*N219+H218)))","v":0},{"$f":"$N$210","v":0},{"$f":"$O$210","v":"Jiné - volitelná hustota"},null,null,null,{"$f":"S210","v":0},{"$f":"IF($V$206=1,U219*S219,V219*S219)","v":0},{"$f":"SUM(($H$215-30)*($H$216-60)/1000000)","v":1.8E-3},{"$f":"SUM(($H$215-6)*($H$216-15)/1000000)","v":9.0000000000000006E-5},"jiné"]
[null,null,{"$f":"IF(H219>0,IF(H218=0,$N$227,\" \"),\" \")","v":" "},null,null,null,null,null,null,null,null,null,null,null,null,null,null,null,{"$f":"IF(H215*H216=0,0,SUM(IF(U215=1,T217,IF(U215=2,T218,T219)),T216,T215))","v":0}]
[]
[]
[]
[null,null,null,null,null,null,{"$f":"List!$C$149","v":"Zpět"}]
[]
[]
[null,null,{"$f":"List!$C$217&\" \"&List!$C$218","v":"Upozornění: Vypočtené hodnoty jsou pouze orientační.  Firma Blum ani prodejci neručí za jejich správnost."},null,null,null,null,null,null,null,null,null,null,{"$f":"List!$C$95&\"!\"","v":"Není započtena hmotnost úchytky!"},null,null,null,null,null,null,{"$f":"List!$C$87","v":"Alurámečky s 4mm sklem"}]
[null,null,null,null,null,null,null,null,null,null,null,null,null,null,null,null,null,null,null,null,{"$f":"List!$C$88","v":"Alurámečky s 5mm sklem"}]
[null,null,null,null,null,null,null,null,null,null,null,null,null,null,null,null,null,null,null,null,{"$f":"List!$C$89","v":"Alurámečky s jiným sklem"}]
[]
[]
[]
[]
[]
[null,null,null,null,"Hmotnost alurámečků [kg/bm]",null,{"$f":"List!$C$368","v":"Podle Úvodu"},{"$f":"List!$C$58","v":"Změna"}]
[null,null,null,null,null,{"$f":"List!$C$375&\"  \"","v":"S vloženým sklem  "},{"$f":"Menu!$Q220","v":0.31},null,null,null,null,null,{"$f":"IF($H236>0,$H236,$G236)","v":0.31}]
[null,null,null,null,null,{"$f":"List!$C$376&\"  \"","v":"S naloženým nebo nalepeným sklem  "},{"$f":"Menu!$Q221","v":0.32},null,null,null,null,null,{"$f":"IF($H237>0,$H237,$G237)","v":0.32}]
[null,null,null,null,null,{"$f":"List!$C$377&\" [kg/set] *  \"","v":"Hmotnost spojovacího materiálu [kg/set] *  "},{"$f":"Menu!$Q222","v":0.46},null,null,null,null,null,{"$f":"IF($H238>0,$H238,$G238)","v":0.46}]
[]
[null,null,{"$f":"\"        * \"& List!$C$378&\"  \"","v":"        * Rohové spojky, šrouby, těsnění pro jeden rámeček  "}]
[]
[]
[null,null,null,null,null,null,{"$f":"List!$C$149","v":"Zpět"}]
[]
[]
[]
[]
[]
[]
[]
[]
[]
[]
[]
[]
[]
[]
[]
[]
[]
[]
[]
[]
[]
[]
[]
[]
[]
[]
[]
[]
[]
[]
[]
[]
[]
[]
[]
[]
[]
[]
[]
[]
[]
[]
[]
[]
[]
[]
[]
[]
[]
[]
[]
[]
[]
[]
[]
[]
[null,{"$f":"List!$C$176","v":"Výpočet asymetrických čel"}]
[]
[null,{"$f":"\"   \"&List!$C$179","v":"   Parametry korpusu"}]
[null,{"$f":"List!$C$73&\" KH [mm] \"","v":"Výška korpusu KH [mm] "},null,null,null,null,null,null,null,null,{"$f":"IF(SUM($I$304:$J$307,$I$314)<>0,IF($I$303=0,\" \"&List!$C$111,\" \"),\" \")","v":" "}]
[null,{"$f":"List!$C$182&\" [mm] \"","v":"Mezera nahoře [mm] "}]
[null,{"$f":"List!$C$183&\" [mm] \"","v":"Mezera mezi čely [mm] "},null,null,null,null,null,null,null,null,{"$f":"IF($I$303=0,\" \",IF($I$305<1.5,\" min. 1,5 mm!\",\" \"))","v":" "}]
[null,{"$f":"List!$C$184&\" [mm] \"","v":"Mezera dole [mm] "}]
[null,{"$f":"List!$C$185&\" [mm] \"","v":"Síla dna korpusu [mm] "}]
[]
[null,{"$f":"\"   \"&List!$C$187","v":"   Výsledky plánování"}]
[null,null,null,null,null,null,{"$f":"List!$C$188&\" [mm] \"","v":"Možné výšky čel [mm] "},null,null,null,null,null,null,null,null,{"$f":"ROUNDUP((+$I$303-$I$304-$I$305-$I$306)/2,0)","v":0},{"$f":"IF($P$310<272,70,47)","v":70}]
[null,{"$f":"List!$C$189","v":"Vrchní čelo (FHo) v rozmezí"},null,null,null,null,"min.",{"$f":"IF($P$310=0,0,IF($P$310<236,$Q$315,IF($P$310>516,$Q$315,$P$310)))","v":0},"max.",{"$f":"IF($P$310=0,0,IF($Q$315=$H$311,$Q$315,IF($P$315<$P$314,$P$315,$P$314)))","v":0},null,null,null,null,null,{"$f":"ROUNDDOWN(($I$303-$I$304-$I$305-$I$306-$Q$310-19-$I$307+$I$306)/1.5,0)","v":-59},{"$f":"IF($P$310<272,70,47)","v":70}]
[null,{"$f":"List!$C$190","v":"Spodní čelo (FHu) v rozmezí"},null,null,null,null,"min.",{"$f":"IF($J$312=$Q$315,$Q$315,SUM($I$303-$I$304-$I$305-$I$306-$J$311))","v":0},"max.",{"$f":"IF($Q$315=$H$311,$Q$315,(+$I$303-$I$304-$I$305-$I$306)/2)","v":0},null,null,null,null,null,{"$f":"ROUNDDOWN(($I$303-$I$304-$I$305-$I$306-$Q$311-19-$I$307+$I$306)/1.5,0)","v":-59},{"$f":"IF($P$310<272,70,47)","v":70}]
[null,null,null,null,null,null,null,null,null,null,null,null,null,null,null,{"$f":"ROUNDDOWN(($I$303-$I$304-$I$305-$I$306-$Q$312-19-$I$307+$I$306)/1.5,0)","v":-59},{"$f":"IF($P$310<272,70,47)","v":70}]
[null,{"$f":"List!$C$196&\" FHo [mm] \"","v":"Výška vrchního čela FHo [mm] "},null,null,null,null,null,null,null,null,{"$f":"IF($I$303=0,\" \",IF($I$314>$J$311,V314,IF($I$314<$H$311,$S$314,\" \")))","v":" "},null,null,null,null,{"$f":"ROUNDDOWN(($I$303-$I$304-$I$305-$I$306-$Q$313-19-$I$307+$I$306)/1.5,0)","v":-59},null,null,{"$f":"\" min. \"&TEXT($H$311,\"#\")&\" mm!\"","v":" min.  mm!"},null,null,{"$f":"\" max. \"&TEXT($J$311,\"#\")&\" mm!\"","v":" max.  mm!"}]
[null,{"$f":"List!$C$197&\" FHu [mm] \"","v":"Výška spodního čela FHu [mm] "},null,null,null,null,null,null,{"$f":"IF($I$314<$H$311,$Q$315,IF($I$314>$J$311,$Q$315,+$I$303-$I$304-$I$305-$I$306-$I$314))","v":0},null,null,null,null,null,null,{"$f":"+(1040-$I$304-$I$305-$I$306)/2","v":520},{"$f":"List!C193","v":"nelze"}]
[null,{"$f":"List!$C$198&\" H [mm] \"","v":"Pozice zdvihače H [mm] "},null,null,null,null,null,null,{"$f":"IF($P$310=0,0,IF($I$315=$Q$315, $Q$315,$I$314*0.6-$Q$316+$I$304))","v":0},null,null,null,null,null,null,null,{"$f":"IF($I$314<272,28,57)","v":28}]
[null,{"$f":"List!$C$199&\" X [mm] \"","v":"Pozice mont. podložky pro teleskopy X [mm] "},null,null,null,null,null,null,{"$f":"IF($P$310=0,0,IF($I$315=$Q$315,$Q$315,$I$314*0.5+$Q$317))","v":0},null,null,null,null,null,null,null,{"$f":"IF($I$314<272,70,47)","v":70}]
[null,{"$f":"List!$C$200&\" TKH [mm] * \"","v":"Teoretická výška korpusu TKH [mm] * "},null,null,null,null,null,null,{"$f":"IF($I$315=$Q$315,$Q$315,IF($Q$318>479.99,IF($Q$318<1040.01,$Q$318,$Q$315),\" \"))","v":" "},null,null,null,null,null,null,"TKH",{"$f":"SUM($I$314*2+$I$304+$I$305+$I$306)","v":0}]
[]
[null," *",{"$f":"List!$C$202","v":"Tuto výšku zadejte do tabulky pro plánování výklopů"}]
[]
[]
[]
[]
[null,null,null,null,null,null,null,null,{"$f":"List!$C$149","v":"Zpět"}]
[]
[]
[]
[]
[]
[]
[]
[]
[]
[]
[]
[]
[]
[]
[]
[]
[]
[]
[]
[]
[]
[]
[]
[]
[]
[]
[]
[]
[]
[]
[]
[]
[]
[]
[]
[]
[]
[]
[]
[]
[]
[]
[]
[]
[]
[]
[]
[]
[]
[]
[]
[]
[]
[]
[]
[]
[]
[]
[]
[]
[]
[]
[]
[]
[]
[]
[]
[]
[]
[]
[]
[]
[]
[null,"      AVENTOS HF"]
[]
[null,{"$f":"List!$C$281","v":"Potřebný zdvihač se určí pomocí ukazatele výkonnosti."}]
[null,{"$f":"List!$C$282","v":"Ukazatel výkonnosti závisí na hmotnosti dolního i horního čílka, a rovněž na výšce korpusu."}]
[]
[null,{"$f":"\" \"&List!$C$295","v":" Tak se to dělá:"}]
[null,null,null,{"$f":"List!$C$80&\" = \"","v":"Ukazatel výkonnosti = "},{"$f":"List!$C$298&\" [kg]\"","v":"výška korpusu KH [mm] x hmotnost obou čel včetně úchytky [kg]"}]
[]
[]
[]
[]
[]
[null,{"$f":"List!$C$289","v":"Pokud znáte hmotnost čela, můžete ji zadat, jinak použijte \"Výpočet hmotnosti\"."}]
[null,{"$f":"List!$C$290","v":"V tabulce má přednost zadaná hodnota. Chcete-li použít vypočtenou hmotnost, smažte zadanou hodnotu."}]
[]
[null,{"$f":"List!$C$301&\". \"&List!$C$302&\".\"","v":"Délka teleskopů závisí na výšce korpusu KH. U asymetrických čel se použije teoretická výška TKH."}]
[]
[null,{"$f":"\" \"&List!$C$144&\":\"","v":" Asymetrická čela:"}]
[null,{"$f":"\" \"&List!$C$299","v":" Teoretická výška korpusu (TKH) = výška horního čela (FHo) x 2 (včetně mezer)"}]
[]
[null,{"$f":"List!$C$293","v":"U asymetrických čel musí být větší čelo nahoře!"}]
[]
[null,{"$f":"List!$C$304","v":"Pokud zadáte hodnotu TKH, použije se pro určení délky teleskopů"}]
[null,{"$f":"List!$C$305","v":"Nemáte-li asymetrická čela, nechte políčko prázdné."}]
[null,{"$f":"List!$C$306&\" ' \"&List!$C$176&\"' \"","v":"Pro výpočet TKH můžete použít ' Výpočet asymetrických čel' "}]
[]
[]
[null,{"$f":"List!$C$284","v":"Chcete-li změnit barvu krytek, přejděte na \"Úvod\""}]
[]
[null,{"$f":"List!$C$383","v":"Věnujte pozornost výběru alurámečků."}]
[null,{"$f":"List!$C$384","v":"Vyberte, který typ lépe odpovídá tvaru použitého alurámečku."}]
[null,{"$f":"List!$C$385","v":"Způsob osazení skla do rámečku výrazně ovlivňuje plochu skla a tím i hmotnost!"}]
[]
[null,null,{"$f":"\"  \"&List!$C$375&\"  \"","v":"  S vloženým sklem  "}]
[]
[null,null,{"$f":"\"  \"&List!$C$376&\"  \"","v":"  S naloženým nebo nalepeným sklem  "}]
[]
[null,null,null,null,null,null,null,null,null,null,null,{"$f":"List!$C$149","v":"Zpět"}]

{"sheet":"HFw_na","index":13,"n_rows":436,"n_cols":46,"rows_kept":436,"cut":false,"hidden":false,"merged":[[26,19,26,20],[397,0,437,0],[404,4,404,11],[1,9,1,10],[3,5,3,10],[9,1,9,6],[1,1,1,2],[1,7,1,8],[4,5,4,10],[13,1,13,6],[14,1,14,6],[206,20,206,21],[6,1,6,2],[6,6,6,7],[8,3,8,7],[8,19,8,20],[1,3,1,4],[1,5,1,6],[208,1,208,6],[205,1,205,6],[18,1,18,6],[19,1,19,3],[20,1,20,6],[21,1,21,6],[10,1,10,3],[11,1,11,6],[22,1,22,6],[12,1,12,6],[17,3,17,7],[23,1,23,6],[206,1,206,6],[213,5,213,7],[298,0,352,0],[301,1,301,9],[302,1,302,7],[302,8,302,9],[303,1,303,7],[303,8,303,9],[310,1,310,5],[309,1,309,5],[309,6,309,9],[308,1,308,9],[223,6,223,7],[226,2,228,10],[304,8,304,9],[305,8,305,9],[306,8,306,9],[216,1,216,6],[214,1,214,6],[217,1,217,6],[218,1,218,6],[215,1,215,6],[311,1,311,5],[313,1,313,7],[304,1,304,7],[305,1,305,7],[306,1,306,7],[317,1,317,7],[317,8,317,9],[324,8,324,9],[313,8,313,9],[314,1,314,7],[314,8,314,9],[316,1,316,7],[316,8,316,9],[315,8,315,9],[315,1,315,7],[0,43,0,51],[5,43,6,44],[5,45,6,45],[5,46,6,46],[17,19,17,20],[231,0,258,0],[242,6,242,7],[5,6,5,10],[11,43,12,46],[9,43,9,44],[200,3,200,7],[207,1,207,6],[7,43,7,44],[8,43,8,44],[215,20,215,21],[197,0,230,0],[97,0,154,0],[204,1,204,4],[204,5,204,7],[26,1,28,9],[209,1,209,6]]}
[]
[null,"AVENTOS HF",null,"AVENTOS HS",null,"AVENTOS HL",null,"AVENTOS HK top",null,"AVENTOS HK-S",null,"AVENTOS HK-XS",null,null,"rámeček",null,null,null,3,null,null,null,null,null,null,{"$f":"List!$C$135","v":"Jdi na"}]
[]
[null,{"$f":"List!$C$15","v":"Dřevěné čelo"},null,null,null,{"$f":"$N$200&\"       \"","v":"MDF (760 kg/m3) A~/ B~mm       "},null,null,null,null,null,null,null,null,1,null,null,null,{"$f":"\" \"&List!$C$39&\" A \"","v":" Cena za korpus A "},null,null,null,null,null,null,{"$f":"List!$C$136","v":"Úvod plánování"}]
[null,{"$f":"List!$C$20&\" ***\"","v":"Úzký alurámeček ***"},null,null,null,{"$f":"$N$201&\"       \"","v":"Alurámečky s 4mm sklem       "},null,null,null,null,null,null,null,null,"A = 1",null,null,null,{"$f":"\" \"&List!$C$39&\" B \"","v":" Cena za korpus B "},null,null,null,null,null,null,{"$f":"List!$C$137","v":"Nápověda"}]
[null,null,null,null,null,null,{"$f":"List!$C$47&\" \"&List!$C$22&\"       \"","v":"Nastavit hmotnost alurámečků       "},null,null,null,null,null,null,null,"B = 2",null,null,null,{"$f":"\" \"&List!$C$59","v":" Cena celkem bez DPH"},null,null,null,null,null,null,null,null,null,null,null,null,null,null,null,null,null,null,null,null,null,null,null,null,{"$f":"\"  \"&List!$C$80&\" LF \"","v":"  Ukazatel výkonnosti LF "},null,{"$f":"List!$C$79","v":"Zdvihací mechanizmus"}]
[null,{"$f":"List!$C$142","v":"Soupis kování"},null,null,null,null,{"$f":"IF(S2=1,$N$138,IF($S$2=2,$P$138,IF($S$2=3,$L$138,0)))","v":0},null,null,null,null,null,null,null,null,null,null,null,null,null,null,null,null,null,null,{"$f":"List!$C$141","v":"Doplňky"}]
[null,null,null,null,null,null,null,{"$f":"IF(AND(OR($S$9=1, $S$18=1), $L$138>0), $N$32, \" \")","v":" "},null,null,null,null,null,null,null,null,null,null,null,null,null,null,null,null,null,null,null,null,null,null,null,null,null,null,null,null,null,null,null,null,null,null,null,{"$f":"\"  2.600 -  5.500 (1 \"&List!$C$153&\" LF 960 - 2.650)\"","v":"  2.600 -  5.500 (1 ks LF 960 - 2.650)"},null,"20F2200.05"]
[null,"SERVO-DRIVE",null,{"$f":"List!$C$62&\" A\"","v":"Korpus A"},null,null,null,null,null,null,null,null,null,"zdvih A",null,"teleskop",null,null,{"$f":"IF($T$9=TRUE,1,2)","v":2},false,null," - SRVDRV",null,null,null,{"$f":"List!$C$139","v":"Přehled korpusů"},null,null,null,null,null,null,null,null,null,null,null,null,null,null,null,null,null,"  5.350 - 10.150",null,"20F2500.05"]
[null,{"$f":"List!$C$72&\" KB [mm] \"","v":"Šířka korpusu KB [mm] "},null,null,null,null,null,null,{"$f":"IF(H10=0,\" \",IF($H10<220,\" min. 220mm\",IF($H10>1800,\" max. 1 800mm\",\" \")))&IF(H15>0,IF(H10=0,\"● \"&List!$C$111,\" \"),\" \")","v":"  "},null,null,null,null,"F22",{"$f":"IF($H14<Cen!$F$240,0.5,IF($H14<Cen!$F$241,1,0))","v":0.5},"F32",{"$f":"SUM(IF($P14<Cen!$F$248,IF($H14<Cen!$F$240,0.5,1),0))","v":0.5},null,null,"Závěs A",null,"Závěs As",null,null,null,{"$f":"List!$C$140","v":"Objednávka"},null,null,null,null,null,null,null,null,null,null,null,null,null,null,null,null,null,"  9.000 -  17.250",null,"20F2800.05"]
[null,{"$f":"List!$C$73&\" [mm]\"","v":"Výška korpusu [mm]"},null,null,"TKH * ",null,"KH ",null,{"$f":"IF(H11=0,\" \",IF($H11<480,\" min. 480mm\",IF($H11>1040,\" max. 1 040mm\",\" \")))&IF(H15>0,IF(H11=0,\"● \"&List!$C$111,\" \"),\" \")","v":"  "},null,null,null,null,"F25",{"$f":"IF($H14<Cen!$E$242,0,IF($H14<Cen!$F$242,1,0))","v":0},"F35",{"$f":"IF($P14<Cen!$F$249,IF($P14>Cen!$E$249,IF($H14<Cen!$F$240,0.5,1),0),0)","v":0},null,null,"T558E",{"$f":"IF($N$42=1,IF($H10>1199,3,IF($T15>11.9,3,2)),0)+IF(N$42=1,IF($H10>1799,1,IF($T15>19.9,1,0)),0)","v":0},"Z553E",{"$f":"IF($Q$42=1,IF($H10>1199,3,IF($T15>11.9,3,2)),0)+IF($Q$42=1,IF($H10>1799,1,IF($T15>19.9,1,0)),0)","v":0}]
[null,{"$f":"List!$C$74&\" [kg] ** \"","v":"Hmotnost čela včetně úchytky [kg] ** "},null,null,null,null,null,null,{"$f":"IF($H15=0,\" \",IF(SUM($H12,$H13)=0,$N$34,\" \"))&IF($H15>0,IF($H12>0,$N$35,\" \"),\" \")","v":"  "},null,null,null,null,"F28",{"$f":"IF($H14<Cen!$E$243,0,IF($H14<Cen!$F$243,1,IF($H14>Cen!$E$244,0,0)))","v":0},"F38",{"$f":"IF($P14<Cen!$F$250,IF($P14>Cen!$E$250,IF($H14<Cen!$F$240,0.5,1),0),0)","v":0},null,null,"T5550",{"$f":"IF($N$42=2,IF($H10>1199,3,IF($T15>11.9,3,2)),0)+IF($N$42=2,IF($H10>1799,1,IF($T15>19.9,1,0)),0)","v":2},"Z5500",{"$f":"IF($Q$42=2,IF($H10>1199,3,IF($T15>11.9,3,2)),0)+IF($Q$42=2,IF($H10>1799,1,IF($T15>19.9,1,0)),0)","v":2},null,null,null,null,null,null,null,null,null,null,null,null,null,null,null,null,null,null,null,null,{"$f":"List!$C$80&\" LF = \"&List!$C$298&\" [kg]\"","v":"Ukazatel výkonnosti LF = výška korpusu KH [mm] x hmotnost obou čel včetně úchytky [kg]"}]
[null,{"$f":"List!$C$76&\" [kg]       \"","v":"Vypočtená hmotnost čela [kg]       "},null,null,null,null,null,{"$f":"$H$210","v":0},{"$f":"IF($H15>0,IF($H13>0,IF($H12=0,$N$35,\" \"),\" \"),\" \")","v":" "},null,null,null,null,null,null,"F39",{"$f":"IF($P14<Cen!$F$251,IF($P14>Cen!$E$251,IF($H14<Cen!$F$240,0.5,1),0),0)","v":0},null,null,null,null,null,null,null,null,{"$f":"\" \"&List!$C$177&\" A\"","v":" Výpočet hmotnosti A"}]
[null,{"$f":"List!$C$80&\" LF \"","v":"Ukazatel výkonnosti LF "},null,null,null,null,null,{"$f":"IF(H11<1041,IF(H11>479,IF(H12>0,H11*H12,H11*H13),0),0)","v":0},{"$f":"IF(AND(H14>0,H14<960), $T$38, IF($H14>17250,$N$38,\" \"))","v":" "},null,null,null,null,null,"výška korpusu",{"$f":"IF(F11>0,IF(F11>=H11,F11,0),H11)","v":0}]
[null,{"$f":"List!$C$69&\" \"","v":"Počet skříněk "},null,null,null,null,null,null,{"$f":"IF(AND(M15>0, H14>959, O10=0.5), $U$39, \" \")","v":" "},null,null,null,{"$f":"IF($H10*$P14=0,0,IF(SUM($H12,$H13)=0,0,IF($P14>Cen!$F$252,0,IF(P14<Cen!$E$248,0,IF(OR(H14<Cen!$E$240, H14>Cen!$F$243),0,$H15)))))","v":0},"← Hlavní údaj",null,null,null,null,"hmot =",{"$f":"IF(H12>0,H12,H13)","v":0},{"$f":"IF(SUM(H12,H13)=0,0,IF(H12>0,1,2))","v":0},"zadaná / vypočtená",null,null,null,{"$f":"\" \"&List!$C$176","v":" Výpočet asymetrických čel"},null,null,null,null,null,null,null,null,null,null,null,null,null,null,null,null,null,{"$f":"List!$C$149","v":"Zpět"}]
[null,{"$f":"IF(H15>0,IF(U15=0,\" \",IF(U15=1,$N$47,$N$48)),\" \")&IF(H15>0,IF(U15=0,\" \",IF(U15=1,$N$49,$N$50)),\" \")","v":"  "}]
[null,{"$f":"IF(F11=0,\" \",IF(F11>1040,\"TKH = max. 1040!\",IF(F11<480,\"TKH = min. 480!\",IF(F11<H11,$N$53,IF(H15>0,IF(F11=0,\" \",IF(F11>0,$N$52,\" \")),\" \")))))","v":" "}]
[null,"SERVO-DRIVE",null,{"$f":"List!$C$62&\" B\"","v":"Korpus B"},null,null,null,null,null,null,null,null,null,"zdvih B",null,"teleskop",null,null,{"$f":"IF($T$18=TRUE,1,2)","v":2},false,null," - SRVDRV",null,null,null,{"$f":"\" \"&List!$C$361","v":" Ověření síly zdvihače"}]
[null,{"$f":"List!$C$72&\" KB [mm] \"","v":"Šířka korpusu KB [mm] "},null,null,null,null,null,null,{"$f":"IF(H19=0,\" \",IF($H19<220,\" min. 220mm\",IF($H19>1800,\" max. 1 800mm\",\" \")))&IF(H24>0,IF(H19=0,\"● \"&List!$C$111,\" \"),\" \")","v":"  "},null,null,null,null,"F22",{"$f":"IF($H23<Cen!$F$240,0.5,IF($H23<Cen!$F$241,1,0))","v":0.5},"F32",{"$f":"SUM(IF($P23<Cen!$F$248,IF($H23<Cen!$F$240,0.5,1),0))","v":0.5},null,null,"Závěs B",null,"Závěs Bs"]
[null,{"$f":"List!$C$73&\" [mm]\"","v":"Výška korpusu [mm]"},null,null,"TKH * ",null,"KH ",null,{"$f":"IF(H20=0,\" \",IF($H20<480,\" min. 480mm\",IF($H20>1040,\" max. 1 040mm\",\" \")))&IF(H24>0,IF(H20=0,\"● \"&List!$C$111,\" \"),\" \")","v":"  "},null,null,null,null,"F25",{"$f":"IF($H23<Cen!$E$242,0,IF($H23<Cen!$F$242,1,0))","v":0},"F35",{"$f":"IF($P23<Cen!$F$249,IF($P23>Cen!$E$249,IF($H23<Cen!$F$240,0.5,1),0),0)","v":0},null,null,"T558E",{"$f":"IF($N$42=1,IF($H19>1199,3,IF($T24>11.9,3,2)),0)+IF(N$42=1,IF($H19>1799,1,IF($T24>19.9,1,0)),0)","v":0},"Z553E",{"$f":"IF($Q$42=1,IF($H19>1199,3,IF($T24>11.9,3,2)),0)+IF($Q$42=1,IF($H19>1799,1,IF($T24>19.9,1,0)),0)","v":0}]
[null,{"$f":"List!$C$74&\" [kg] ** \"","v":"Hmotnost čela včetně úchytky [kg] ** "},null,null,null,null,null,null,{"$f":"IF($H24=0,\" \",IF(SUM($H21,$H22)=0,$N$34,\" \"))&IF($H24>0,IF($H21>0,$N$35,\" \"),\" \")","v":"  "},null,null,null,null,"F28",{"$f":"IF($H23<Cen!$E$243,0,IF($H23<Cen!$F$243,1,IF($H23>Cen!$E$244,0,0)))","v":0},"F38",{"$f":"IF($P23<Cen!$F$250,IF($P23>Cen!$E$250,IF($H23<Cen!$F$240,0.5,1),0),0)","v":0},null,null,"T5550",{"$f":"IF($N$42=2,IF($H19>1199,3,IF($T24>11.9,3,2)),0)+IF($N$42=2,IF($H19>1799,1,IF($T24>19.9,1,0)),0)","v":2},"Z5500",{"$f":"IF($Q$42=2,IF($H19>1199,3,IF($T24>11.9,3,2)),0)+IF($Q$42=2,IF($H19>1799,1,IF($T24>19.9,1,0)),0)","v":2}]
[null,{"$f":"List!$C$76&\" [kg]       \"","v":"Vypočtená hmotnost čela [kg]       "},null,null,null,null,null,{"$f":"$H$219","v":0},{"$f":"IF($H24>0,IF($H22>0,IF($H21=0,$N$35,\" \"),\" \"),\" \")","v":" "},null,null,null,null,null,null,"F39",{"$f":"IF($P23<Cen!$F$251,IF($P23>Cen!$E$251,IF($H23<Cen!$F$240,0.5,1),0),0)","v":0},null,null,null,null,null,null,null,null,{"$f":"\" \"&List!$C$177&\" B\"","v":" Výpočet hmotnosti B"}]
[null,{"$f":"List!$C$80&\" LF \"","v":"Ukazatel výkonnosti LF "},null,null,null,null,null,{"$f":"IF(H20<1041,IF(H20>479,IF(H21>0,H20*H21,H20*H22),0),0)","v":0},{"$f":"IF(AND(H23>0,H23<960), $T$38, IF($H23>17250,$N$38,\" \"))","v":" "},null,null,null,null,null,"výška korpusu",{"$f":"IF(F20>0,IF(F20>=H20,F20,0),H20)","v":0}]
[null,{"$f":"List!$C$69&\" \"","v":"Počet skříněk "},null,null,null,null,null,null,{"$f":"IF(AND(M24>0, H23>959, O19=0.5), $U$39, \" \")","v":" "},null,null,null,{"$f":"IF($H19*$P23=0,0,IF(SUM($H21,$H22)=0,0,IF($P23>Cen!$F$252,0,IF(P23<Cen!$E$248,0,IF(OR(H23<Cen!$E$240, H23>Cen!$F$243),0,$H24)))))","v":0},"← Hlavní údaj",null,null,null,null,"hmot =",{"$f":"IF(H21>0,H21,H22)","v":0},{"$f":"IF(SUM(H21,H22)=0,0,IF(H21>0,1,2))","v":0},"zadaná / vypočtená",null,null,null,{"$f":"\" \"&List!$C$176","v":" Výpočet asymetrických čel"}]
[null,{"$f":"IF(H24>0,IF(U24=0,\" \",IF(U24=1,$N$47,$N$48)),\" \")&IF(H24>0,IF(U24=0,\" \",IF(U24=1,$N$49,$N$50)),\" \")","v":"  "}]
[null,{"$f":"IF(F20=0,\" \",IF(F20>1040,\"TKH = max. 1040!\",IF(F20<480,\"TKH = min. 480!\",IF(F20<H20,$N$53,IF(H24>0,IF(F20=0,\" \",IF(F20>0,$N$52,\" \")),\" \")))))","v":" "}]
[null,{"$f":"IF(OR(AND($S$9=1, $M$15>0), AND($S$18=1, $M$24>0)), List!$C$157, \" \")","v":" "},null,null,null,null,null,null,null,null,null,null,null,null,null,null,null,null,{"$f":"IF($T$27=FALSE,2,1)","v":1},true,null," - Zdroj"]
[]
[]
[]
[]
[null,null,null,null,null,null,null,null,null,null,null,null,null,{"$f":"List!C158","v":"Cena bez napájecího zdroje!"}]
[null,null,{"$f":"\"*  \"&List!$C$165","v":"*  Pouze pro asymetrická čela: zadejte teoretickou výšku TKH."}]
[null,null,{"$f":"\" ( \"&List!$C$166&\")\"","v":" ( TKH = dvojnásobná výška horního čela včetně mezer)"},null,null,null,null,null,null,null,null,null,null,{"$f":"\" \"&List!$C$103","v":" Doplňte nebo použijte \"Výpočet hmotnosti\" "}]
[null,null,{"$f":"\"** \"&List!$C$168","v":"** Pokud znáte hmotnost a nechcete využít výpočtu hmotnosti"},null,null,null,null,null,null,null,null,null,null,{"$f":"\"◄ \"&List!$C$100","v":"◄ hodnota bude použita pro výpočet LF"}]
[null,null,{"$f":"\"*** \"&List!$C$371","v":"*** Vyberte typ alurámečku!"},null,null,null,null,null,null,null,null,null,null,{"$f":"\" * \"&List!$C$110","v":" * Doplňte hodnoty"}]
[null,null,{"$f":"\"      \"&List!$C$372","v":"      Více informací k výběru alurámečků v Nápovědě"}]
[null,null,null,null,null,null,null,null,null,null,null,null,null,{"$f":"\" max. 17.250! \"&List!$C$105","v":" max. 17.250! Upravte hmotnost nebo výšku"},null,null,null,null,null,{"$f":"\" min. 960! \"&List!$C$105","v":" min. 960! Upravte hmotnost nebo výšku"}]
[null,null,null,null,null,null,null,null,null,null,null,null,null,{"$f":"\" \"&List!$C$104","v":" Přídavný třetí zdvihač"},null,null,null,null,null,null,{"$f":"\" \"&List!C109","v":" Použijte pouze jeden zdvihač"}]
[null,null,null,null,null,null,null,null,null,null,null,null,null,{"$f":"List!$C$163","v":"Přídavný třetí zdvihač může být použit pouze s plným spodním čelem!"}]
[]
[null,null,null,null,null,null,null,null,null,null,null,null,null,{"$f":"HF!$L$37","v":2},2,{"$f":"HF!$N$37","v":2},2,{"$f":"HF!$P$37","v":2},null,{"$f":"Menu!$Q$27","v":3}]
[null,null,null,null,null,null,null,null,null,null,null,null,null,"záv.","alu","střed.","alu","podl.",null,"kryt."]
[null,null,null,null,null,null,null,null,null,null,null,null,null,{"$f":"List!$C$116","v":"Expando"},null,{"$f":"List!$C$116","v":"Expando"},null,{"$f":"List!$C$116","v":"Expando"},null,{"$f":"List!$C$128","v":"Světle šedá (HG/T)"}]
[null,null,null,null,null,null,null,null,null,null,null,null,null,{"$f":"List!$C$117","v":"na vruty"},null,{"$f":"List!$C$117","v":"na vruty"},null,{"$f":"List!$C$117","v":"na vruty"},null,{"$f":"List!$C$129","v":"Tmavě šedá (TGR)"}]
[null,null,null,null,null,null,null,null,null,null,null,null,null,null,null,null,null,null,null,{"$f":"List!$C$130","v":"Hedvábně bílá (SW/T)"}]
[null,null,null,null,null,null,null,null,null,null,null,null,null,{"$f":"List!C169","v":"Pro určení typu zdvihače bude použita zadaná hmotnost"}]
[null,null,null,null,null,null,null,null,null,null,null,null,null,{"$f":"List!C170","v":"Pro určení typu zdvihače bude použita vypočtená hmotnost"}]
[null,null,null,null,null,null,null,null,null,null,null,null,null,{"$f":"\". \"&List!$C$171","v":". Chcete-li použít vypočtenou hmotnost, smažte zadanou hodnotu"}]
[null,null,null,null,null,null,null,null,null,null,null,null,null,{"$f":"\". \"&List!$C$172","v":". Chcete-li použít zadanou hmotnost, zadejte ji do políčka"}]
[null,null,null,null,null,null,null,null,null,null,null,null,null,{"$f":"List!C173","v":0}]
[null,null,null,null,null,null,null,null,null,null,null,null,null,{"$f":"List!C174","v":"Pro výběr teleskopů bude použita teoretická výška TKH"}]
[null,null,null,null,null,null,null,null,null,null,null,null,null,{"$f":"List!C175","v":"Teoretická výška TKH nesmí být menší než KH"}]
[]
[]
[]
[]
[]
[]
[]
[]
[]
[]
[]
[]
[]
[]
[]
[]
[]
[]
[]
[]
[]
[]
[]
[]
[]
[]
[]
[]
[]
[]
[]
[]
[]
[]
[]
[]
[]
[]
[]
[]
[]
[]
[]
[]
[null,{"$f":"List!C142","v":"Soupis kování"}]
[]
[null,{"$f":"$B$2","v":"AVENTOS HF"},null,{"$f":"B4","v":"Dřevěné čelo"},null," -",{"$f":"B5","v":"Úzký alurámeček ***"}]
[null,{"$f":"List!C50","v":"Název"},null,null,null,null,{"$f":"List!$C$51","v":"Číslo artiklu"},null,{"$f":"List!C52","v":"Barva"},{"$f":"List!C54","v":"Ks"},{"$f":"List!C56","v":"Jednotková cena"},{"$f":"List!C57","v":"Celkem"},"A","Cena","B","Cena",null,null,"Filtr"]
[null,{"$f":"Cen!A2","v":"Sada zdvihačů HF"},null,null,null,null,{"$f":"Cen!E2","v":"20F2200.05"},null,{"$f":"Cen!G2","v":"ZN"},{"$f":"ROUNDUP($M$15*O10+$M$24*O19,0)","v":0},{"$f":"Cen!I2","v":0},{"$f":"J102*K102","v":0},{"$f":"ROUNDUP($M$15*O10,0)","v":0},{"$f":"$K102*M102","v":0},{"$f":"ROUNDUP($M$24*O19,0)","v":0},{"$f":"$K102*O102","v":0},null,null,"x"]
[null,{"$f":"Cen!A3","v":"Sada zdvihačů HF"},null,null,null,null,{"$f":"Cen!E3","v":"20F2500.05"},null,{"$f":"Cen!G3","v":"ZN"},{"$f":"ROUNDUP($M$15*O11+$M$24*O20,0)","v":0},{"$f":"Cen!I3","v":0},{"$f":"J103*K103","v":0},{"$f":"ROUNDUP($M$15*O11,0)","v":0},0,{"$f":"ROUNDUP($M$24*O20,0)","v":0},0,null,null,"x"]
[null,{"$f":"Cen!A4","v":"Sada zdvihačů HF"},null,null,null,null,{"$f":"Cen!E4","v":"20F2800.05"},null,{"$f":"Cen!G4","v":"ZN"},{"$f":"ROUNDUP($M$15*O12+$M$24*O21,0)","v":0},{"$f":"Cen!I4","v":0},0,{"$f":"ROUNDUP($M$15*O12,0)","v":0},0,{"$f":"ROUNDUP($M$24*O21,0)","v":0},0,null,null,"x"]
[null,{"$f":"Cen!A5","v":"Sada teleskopů (480-570mm)"},null,null,null,null,{"$f":"Cen!E5","v":"20F3200.01"},null,{"$f":"Cen!G5","v":"NI"},{"$f":"ROUNDUP($M$15*Q10+$M$24*Q19,0)","v":0},{"$f":"Cen!I5","v":0},0,{"$f":"ROUNDUP($M$15*Q10,0)","v":0},0,{"$f":"ROUNDUP($M$24*Q19,0)","v":0},0,null,null,"x"]
[null,{"$f":"Cen!A6","v":"Sada teleskopů (560-710mm)"},null,null,null,null,{"$f":"Cen!E6","v":"20F3500.01"},null,{"$f":"Cen!G6","v":"NI"},{"$f":"ROUNDUP($M$15*Q11+$M$24*Q20,0)","v":0},{"$f":"Cen!I6","v":0},0,{"$f":"ROUNDUP($M$15*Q11,0)","v":0},0,{"$f":"ROUNDUP($M$24*Q20,0)","v":0},0,null,null,"x"]
[null,{"$f":"Cen!A7","v":"Sada teleskopů (700-900mm)"},null,null,null,null,{"$f":"Cen!E7","v":"20F3800.01"},null,{"$f":"Cen!G7","v":"NI"},{"$f":"ROUNDUP($M$15*Q12+$M$24*Q21,0)","v":0},{"$f":"Cen!I7","v":0},0,{"$f":"ROUNDUP($M$15*Q12,0)","v":0},0,{"$f":"ROUNDUP($M$24*Q21,0)","v":0},0,null,null,"x"]
[null,{"$f":"Cen!A8","v":"Sada teleskopů (760-1040mm)"},null,null,null,null,{"$f":"Cen!E8","v":"20F3900.01"},null,{"$f":"Cen!G8","v":"NI"},{"$f":"ROUNDUP($M$15*Q13+$M$24*Q22,0)","v":0},{"$f":"Cen!I8","v":0},0,{"$f":"ROUNDUP($M$15*Q13,0)","v":0},0,{"$f":"ROUNDUP($M$24*Q22,0)","v":0},0,null,null,"x"]
[null,{"$f":"Cen!A9","v":"Sada krytek HF SERVO-DRIVE, sv.šedá"},null,null,null,null,{"$f":"Cen!E9","v":"21F8000"},null,{"$f":"Cen!G9","v":"HG/T"},{"$f":"SUM(M109,O109,Q109)","v":0},{"$f":"Cen!I9","v":0},0,{"$f":"IF($S$9=2,0,IF($T$42=1,$M$134,0))","v":0},0,{"$f":"IF($S$18=2,0,IF($T$42=1,$O$134,0))","v":0},0,null,null,"x"]
[null,{"$f":"Cen!A10","v":"Sada krytek HF SERVO-DRIVE, tm.šedá"},null,null,null,null,{"$f":"Cen!E10","v":"21F8000"},null,{"$f":"Cen!G10","v":"TGR"},{"$f":"SUM(M110,O110,Q110)","v":0},{"$f":"Cen!I10","v":0},{"$f":"J110*K110","v":0},{"$f":"IF($S$9=2,0,IF($T$42=2,$M$134,0))","v":0},0,{"$f":"IF($S$18=2,0,IF($T$42=2,$O$134,0))","v":0},{"$f":"$K110*O110","v":0},null,null,"x"]
[null,{"$f":"Cen!A11","v":"Sada krytek HF SERVO-DRIVE, bílá"},null,null,null,null,{"$f":"Cen!E11","v":"21F8000"},null,{"$f":"Cen!G11","v":"SW/T"},0,{"$f":"Cen!I11","v":0},0,{"$f":"IF($S$9=2,0,IF($T$42=3,$M$134,0))","v":0},0,{"$f":"IF($S$18=2,0,IF($T$42=3,$O$134,0))","v":0},0,null,null,"x"]
[]
[null,{"$f":"Cen!A12","v":"Sada krytek HF, světle šedá"},null,null,null,null,{"$f":"Cen!E12","v":"20F8000"},null,{"$f":"Cen!G12","v":"HG/T"},0,{"$f":"Cen!I12","v":0},0,{"$f":"IF($S$9=1,0,IF($T$42=1,SUM($M$102:$M$104,0),0))","v":0},0,{"$f":"IF($S$18=1,0,IF($T$42=1,SUM($O$102:$O$104,0),0))","v":0},0,null,null,"x"]
[null,{"$f":"Cen!A13","v":"Sada krytek HF, tmavě šedá"},null,null,null,null,{"$f":"Cen!E13","v":"20F8000"},null,{"$f":"Cen!G13","v":"TGR"},{"$f":"SUM(M114,O114,Q114)","v":0},{"$f":"Cen!I13","v":0},{"$f":"J114*K114","v":0},{"$f":"IF($S$9=1,0,IF($T$42=2,SUM($M$102:$M$104,0),0))","v":0},{"$f":"$K114*M114","v":0},{"$f":"IF($S$18=1,0,IF($T$42=2,SUM($O$102:$O$104,0),0))","v":0},{"$f":"$K114*O114","v":0},null,null,"x"]
[null,{"$f":"Cen!A14","v":"Sada krytek HF, bílá"},null,null,null,null,{"$f":"Cen!E14","v":"20F8000"},null,{"$f":"Cen!G14","v":"SW/T"},0,{"$f":"Cen!I14","v":0},0,{"$f":"IF($S$9=1,0,IF($T$42=3,SUM($M$102:$M$104,0),0))","v":0},0,{"$f":"IF($S$18=1,0,IF($T$42=3,SUM($O$102:$O$104,0),0))","v":0},0,null,null,"x"]
[]
[null,{"$f":"Cen!A15","v":"Závěs CLIP top 120° "},null,null,null,null,{"$f":"Cen!E15","v":"70T5550.TL"},null,{"$f":"Cen!G15","v":"NI"},0,{"$f":"Cen!I15","v":0},0,{"$f":"$M$15*$U$12","v":0},0,{"$f":"$M$24*$U$21","v":0},0,null,null,"x"]
[null,{"$f":"Cen!A16","v":"Závěs CLIP top 120° EXPANDO"},null,null,null,null,{"$f":"Cen!E16","v":"70T558E"},null,{"$f":"Cen!G16","v":"NI"},0,{"$f":"Cen!I16","v":0},0,{"$f":"$M$15*$U$11","v":0},0,{"$f":"$M$24*$U$20","v":0},0,null,null,"x"]
[null,{"$f":"Cen!A17","v":"Středový závěs CLIP top "},null,null,null,null,{"$f":"Cen!E17","v":"78Z5500T"},null,{"$f":"Cen!G17","v":"NI"},0,{"$f":"Cen!I17","v":0},0,null,0,null,0]
[null,{"$f":"Cen!A18","v":"Středový závěs CLIP top EXPANDO"},null,null,null,null,{"$f":"Cen!E18","v":"78Z553ET"},null,{"$f":"Cen!G18","v":"NI"},0,{"$f":"Cen!I18","v":0},0,null,0,null,0]
[null,{"$f":"Cen!A19","v":"Závěs CLIP top pro alurámečky"},null,null,null,null,{"$f":"Cen!E19","v":"72T550A.TL"},null,{"$f":"Cen!G19","v":"NI"},null,{"$f":"Cen!I19","v":0},0,null,0,null,0]
[null,{"$f":"Cen!A20","v":"Střed. závěs CLIP top pro alurámečky"},null,null,null,null,{"$f":"Cen!E20","v":"78Z550AT"},null,{"$f":"Cen!G20","v":"NI"},{"$f":"SUM(M122,O122,Q122)","v":0},{"$f":"Cen!I20","v":0},0,{"$f":"$M$15*$W$12","v":0},0,{"$f":"$M$24*$W$21","v":0},0,null,null,"x"]
[null,{"$f":"Cen!A21","v":"Přímá montážní podložka"},null,null,null,null,{"$f":"Cen!E21","v":"175H3100"},null,{"$f":"Cen!G21","v":"NI"},{"$f":"SUM(M123,O123,Q123)","v":0},{"$f":"Cen!I21","v":0},0,{"$f":"IF($R$42=2,SUM($U$11,$U$12,$W$11,$W$12)*$M$15,0)","v":0},0,{"$f":"IF($R$42=2,SUM($U$20,$U$21,$W$20,$W$21)*$M$24,0)","v":0},0,null,null,"x"]
[null,{"$f":"Cen!A22","v":"Přímá montážní podložka, EXPANDO"},null,null,null,null,{"$f":"Cen!E22","v":"177H3100E"},null,{"$f":"Cen!G22","v":"NI"},{"$f":"SUM(M124,O124,Q124)","v":0},{"$f":"Cen!I22","v":0},0,{"$f":"IF($R$42=1,SUM($U$11,$U$12,$W$11,$W$12)*$M$15,0)","v":0},0,{"$f":"IF($R$42=1,SUM($U$20,$U$21,$W$20,$W$21)*$M$24,0)","v":0},0,null,null,"x"]
[null,{"$f":"Cen!A23","v":"Podložka CLIP excentrická"},null,null,null,null,{"$f":"Cen!E23","v":"173H7100"},null,{"$f":"Cen!G23","v":"NI"},null,{"$f":"Cen!I23","v":0},0,null,0,null,0]
[null,{"$f":"Cen!A24","v":"Adaptér CLIP k teleskopům P"},null,null,null,null,{"$f":"Cen!E24","v":"175H5B00   R"},null,{"$f":"Cen!G24","v":"NI"},{"$f":"SUM(M126,O126,Q126)","v":0},{"$f":"Cen!I24","v":0},0,{"$f":"IF($S$9=2,SUM($M$105:$M$108),IF($H$14<Cen!$F$240,$M$15,SUM($M$105:$M$108)))","v":0},0,{"$f":"IF($S$18=2,SUM($O$105:$O$108),IF($H$23<Cen!$F$240,$M$24,SUM($O$105:$O$108)))","v":0},0,null,null,"x"]
[null,{"$f":"Cen!A25","v":"Adaptér CLIP k teleskopům L"},null,null,null,null,{"$f":"Cen!E25","v":"175H5B00   L"},null,{"$f":"Cen!G25","v":"NI"},{"$f":"SUM(M127,O127,Q127)","v":0},{"$f":"Cen!I25","v":0},0,{"$f":"IF($S$9=2,SUM($M$105:$M$108),IF($H$14<Cen!$F$240,0,SUM($M$105:$M$108)))","v":0},0,{"$f":"IF($S$18=2,SUM($O$105:$O$108),IF($H$23<Cen!$F$240,0,SUM($O$105:$O$108)))","v":0},0,null,null,"x"]
[null,{"$f":"Cen!A26","v":"Adaptér CLIP ke středovým závěsům"},null,null,null,null,{"$f":"Cen!E26","v":"175H5A00"},null,{"$f":"Cen!G26","v":"NI"},null,{"$f":"Cen!I26","v":0},0,null,0,null,0]
[null,{"$f":"Cen!A27","v":"Omezovač úhlu otevření na 83° "},null,null,null,null,{"$f":"Cen!E27","v":"20F7011"},null,{"$f":"Cen!G27","v":"TGR"},null,{"$f":"Cen!I27","v":0},0,null,0,null,0]
[null,{"$f":"Cen!A28","v":"Omezovač úhlu otevření na 104° "},null,null,null,null,{"$f":"Cen!E28","v":"20F7051"},null,{"$f":"Cen!G28","v":"TGR"},null,{"$f":"Cen!I28","v":0},0,null,0,null,0]
[null,{"$f":"Cen!A151","v":"CLIP top krytka raménka Nikl"},null,null,null,null,{"$f":"Cen!E151","v":"70.1503"},null,{"$f":"Cen!G151","v":"NI"},{"$f":"SUM(M131,O131,Q131)","v":0},{"$f":"Cen!I151","v":0},0,{"$f":"SUM(M$117:M$122)","v":0},0,{"$f":"SUM(O$117:O$122)","v":0},0,null,null,"x"]
[]
[null,null,null,null,null,null,null,null,null,null,null,0,null,0,null,0]
[null,{"$f":"Cen!A199","v":"SERVO-DRIVE jednotka (sada)"},null,null,null,null,{"$f":"Cen!E199","v":"21FA000"},null,{"$f":"Cen!G199","v":"HGR"},{"$f":"SUM(M134,O134,Q134)","v":0},{"$f":"Cen!I199","v":0},0,{"$f":"IF($S$9=2,0,$M$15)","v":0},0,{"$f":"IF($S$18=2,0,$M$24)","v":0},0,null,null,"x"]
[null,{"$f":"Cen!A200","v":"SERVO-DRIVE jednotka (sada) pro HK top"},null,null,null,null,{"$f":"Cen!E200","v":"23KA000"},null,{"$f":"Cen!G200","v":"HGR"},null,{"$f":"Cen!I200","v":0},0,null,0,null,0]
[]
[]
[null,null,null,null,null,null,null,null,null,null,{"$f":"List!$C$59&\" \"","v":"Cena celkem bez DPH "},{"$f":"SUM(L102:L136)","v":0},null,{"$f":"SUM(N102:N137)","v":0},null,{"$f":"SUM(P102:P137)","v":0},null,{"$f":"SUM(R102:R137)","v":0}]
[]
[null,null,null,null,null,null,null,null,null,null,null,{"$f":"List!$C$149","v":"Zpět"}]
[]
[]
[]
[]
[]
[]
[]
[]
[]
[]
[]
[]
[]
[]
[]
[]
[]
[]
[]
[]
[]
[]
[]
[]
[]
[]
[]
[]
[]
[]
[]
[]
[]
[]
[]
[]
[]
[]
[]
[]
[]
[]
[]
[]
[]
[]
[]
[]
[]
[]
[]
[]
[]
[]
[]
[]
[]
[]
[null,{"$f":"List!$C$71","v":"Výpočet hmotnosti čel"}]
[null,null,{"$f":"List!$C$33&\"  \"","v":"horní čelo  "},null,null,null,null,null,{"$f":"IF(O207=3,IF(H200=0,N203,\" \"),IF(H200>0,N204,\" \"))","v":" "},null,null,null,null,{"$f":"IF($O$207=1,$O$208,IF($O$207=2,$O$209,$O$210&\" \"&$N$210&\"kg/m3\"))&\" A~\"&$H$208&\"/ B~\"&$H$217&\"mm\"","v":"MDF (760 kg/m3) A~/ B~mm"},null,null,null,null,{"$f":"Menu!$Q$205","v":2500}]
[null,null,null,{"$f":"IF($O$207<>3,$N$202,\" \")&\"      \"","v":" Změnit hodnoty můžete v Úvodu plánování      "},null,null,null,null,null,null,null,null,null,{"$f":"IF($U$206=1,$U$227,IF($U$206=2,$U$228,$U$229&\" -  \"&$H$202&\"mm\"))","v":"Alurámečky s 4mm sklem"}]
[null,null,{"$f":"List!$C$34&\"  \"","v":"dolní čelo  "},null,null,null,null,null,{"$f":"IF(U206=3,IF(H202=0,T203,\" \"),IF(H202>0,T204,\" \"))","v":" "},null,null,null,null,{"$f":"\" \"&List!$C$382","v":" Změnit hodnoty můžete v Úvodu plánování"}]
[null,null,null,null,null,null,null,null,null,null,null,null,null,{"$f":"\" \"&List!$C$225&\" [kg/m3]\"","v":" Zadejte objemovou hmotnost  [kg/m3]"},null,null,null,null,null,{"$f":"\" \"&List!$C$226&\" [mm]\"","v":" Zadejte sílu skla [mm]"}]
[null,null,null,null,null,null,null,null,null,null,null,null,null,{"$f":"\" \"&List!$C$221&\" '\"&List!$C$86&\"'\"","v":" Hodnota platí jen pro volbu 'Jiné - volitelná hustota'"},null,null,null,null,null,{"$f":"\" \"&List!$C$221&\" '\"&List!$C$89&\"'\"","v":" Hodnota platí jen pro volbu 'Alurámečky s jiným sklem'"}]
[null,null,null,null,null,{"$f":"D9","v":"Korpus A"},null,null,null,null,null,null,null,null,null,null,null,null,null,"váha spoj.","tl. skla","typ alu"]
[null,{"$f":"List!$C$72&\" KB [mm]       \"","v":"Šířka korpusu KB [mm]       "},null,null,null,null,null,{"$f":"H10","v":0},null,null,null,null,null,{"$f":"H206*H207*H208/2","v":0},null,null,null,null,{"$f":"IF($V$206=1,$M$236,$M$237)","v":0.31},{"$f":"$M$238","v":0.46},1,{"$f":"$O$4","v":1}]
[null,{"$f":"List!$C$73&\" KH [mm]       \"","v":"Výška korpusu KH [mm]       "},null,null,null,null,null,{"$f":"H11","v":0},null,null,null,null,null,{"$f":"N206/1000000000","v":0},1,null,null,null,"váha alu",{"$f":"SUM(H206*2,(H207/2-40)*2)*S206/1000","v":-2.4799999999999999E-2},"A plocha B"]
[null,{"$f":"List!$C$77&\" TS [mm] \"","v":"Síla čela TS [mm] "},null,null,null,null,null,null,{"$f":"IF(SUM(H206,H207)=0,\" \",IF(H208=0,\" ● \"&List!$C$111,\" \"))","v":" "},null,null,null,null,{"$f":"Menu!$L$30","v":760},{"$f":"List!$C$84&\" (\"&N208&\" kg/m3)\"","v":"MDF (760 kg/m3)"},null,null,null,{"$f":"$S$200*4/1000","v":10},{"$f":"IF($V$206=1,U208*S208,V208*S208)","v":8.9999999999999993E-3},{"$f":"SUM(($H$206-30)*($H$207/2-30)/1000000)","v":8.9999999999999998E-4},{"$f":"SUM(($H$206-6)*($H$207/2-6)/1000000)","v":3.6000000000000001E-5},"4mm"]
[null,{"$f":"List!$C$78&\" [kg] \"","v":"Hmotnost úchytky [kg] "},null,null,null,null,null,null,{"$f":"IF(SUM(H206,H207)=0,\" \",IF(H209=0,\" ● \"&List!$C$112,\" \"))","v":" "},null,null,null,null,{"$f":"Menu!$L$31","v":680},{"$f":"List!$C$85&\" (\"&N209&\" kg/m3)\"","v":"Dřevotříska (680 kg/m3)"},null,null,null,{"$f":"$S$200*5/1000","v":12.5},{"$f":"IF($V$206=1,U209*S209,V209*S209)","v":1.125E-2},{"$f":"SUM(($H$206-30)*($H$207/2-30)/1000000)","v":8.9999999999999998E-4},{"$f":"SUM(($H$206-6)*($H$207/2-6)/1000000)","v":3.6000000000000001E-5},"5mm"]
[null,{"$f":"List!$C$76&\" [kg] \"","v":"Vypočtená hmotnost čela [kg] "},null,null,null,null,null,{"$f":"IF(M210*S211<>0,SUM(M210,S211,H209),0)","v":0},null,null,null,null,{"$f":"IF(H206*H207*H208=0,0,IF(O207=1,N207*N208,IF(O207=2,N207*N209,N207*N210)))","v":0},{"$f":"$H$200","v":0},{"$f":"List!$C$86","v":"Jiné - volitelná hustota"},null,null,null,{"$f":"$S$200*$H$202/1000","v":0},{"$f":"IF($V$206=1,U210*S210,V210*S210)","v":0},{"$f":"SUM(($H$206-30)*($H$207/2-30)/1000000)","v":8.9999999999999998E-4},{"$f":"SUM(($H$206-6)*($H$207/2-6)/1000000)","v":3.6000000000000001E-5},"jiné"]
[null,null,{"$f":"IF(H210>0,IF(H209=0,$N$227,\" \"),\" \")","v":" "},null,null,null,null,null,null,null,null,null,null,null,null,null,null,null,{"$f":"IF(OR(AND(U206=3, $H$202=0), H206*H207=0), 0, SUM(IF(U206=1,T208,IF(U206=2,T209,T210)),T207,T206))","v":0}]
[]
[]
[null,null,null,null,null,{"$f":"D18","v":"Korpus B"},null,null,null,null,null,null,null,null,null,null,null,null,null,"váha spoj.","tl. skla","typ alu"]
[null,{"$f":"List!$C$72&\" KB [mm]       \"","v":"Šířka korpusu KB [mm]       "},null,null,null,null,null,{"$f":"H19","v":0},null,null,null,null,null,{"$f":"H215*H216*H217","v":0},null,null,null,null,{"$f":"IF($V$206=1,$M$236,$M$237)","v":0.31},{"$f":"$M$238","v":0.46},{"$f":"$U$206","v":1},{"$f":"$V$206","v":1}]
[null,{"$f":"List!$C$73&\" KH [mm]       \"","v":"Výška korpusu KH [mm]       "},null,null,null,null,null,{"$f":"H20","v":0},null,null,null,null,null,{"$f":"N215/1000000000/2","v":0},{"$f":"O207","v":1},null,null,null,"váha alu",{"$f":"SUM(H215*2,(H216/2-40)*2)*S215/1000","v":-2.4799999999999999E-2},"A plocha B"]
[null,{"$f":"List!$C$77&\" TS [mm] \"","v":"Síla čela TS [mm] "},null,null,null,null,null,null,{"$f":"IF(SUM(H215,H216)=0,\" \",IF(H217=0,\" ● \"&List!$C$111,\" \"))","v":" "},null,null,null,null,{"$f":"$N$208","v":760},{"$f":"$O$208","v":"MDF (760 kg/m3)"},null,null,null,{"$f":"S208","v":10},{"$f":"IF($V$206=1,U217*S217,V217*S217)","v":8.9999999999999993E-3},{"$f":"SUM(($H$215-30)*($H$216/2-30)/1000000)","v":8.9999999999999998E-4},{"$f":"SUM(($H$215-6)*($H$216/2-6)/1000000)","v":3.6000000000000001E-5},"4mm"]
[null,{"$f":"List!$C$78&\" [kg] \"","v":"Hmotnost úchytky [kg] "},null,null,null,null,null,null,{"$f":"IF(SUM(H215,H216)=0,\" \",IF(H218=0,\" ● \"&List!$C$112,\" \"))","v":" "},null,null,null,null,{"$f":"$N$209","v":680},{"$f":"$O$209","v":"Dřevotříska (680 kg/m3)"},null,null,null,{"$f":"S209","v":12.5},{"$f":"IF($V$206=1,U218*S218,V218*S218)","v":1.125E-2},{"$f":"SUM(($H$215-30)*($H$216/2-30)/1000000)","v":8.9999999999999998E-4},{"$f":"SUM(($H$215-6)*($H$216/2-6)/1000000)","v":3.6000000000000001E-5},"5mm"]
[null,{"$f":"List!$C$76&\" [kg] \"","v":"Vypočtená hmotnost čela [kg] "},null,null,null,null,null,{"$f":"IF(M219*S220<>0,SUM(M219,S220,H218),0)","v":0},null,null,null,null,{"$f":"IF(H215*H216*H217=0,0,IF(O216=1,N216*N217,IF(O216=2,N216*N218,N216*N219)))","v":0},{"$f":"$N$210","v":0},{"$f":"$O$210","v":"Jiné - volitelná hustota"},null,null,null,{"$f":"S210","v":0},{"$f":"IF($V$206=1,U219*S219,V219*S219)","v":0},{"$f":"SUM(($H$215-30)*($H$216/2-30)/1000000)","v":8.9999999999999998E-4},{"$f":"SUM(($H$215-6)*($H$216/2-6)/1000000)","v":3.6000000000000001E-5},"jiné"]
[null,null,{"$f":"IF(H219>0,IF(H218=0,$N$227,\" \"),\" \")","v":" "},null,null,null,null,null,null,null,null,null,null,null,null,null,null,null,{"$f":"IF(H215*H216=0,0,SUM(IF(U215=1,T217,IF(U215=2,T218,T219)),T216,T215))","v":0}]
[]
[]
[null,null,null,null,null,null,null,null,null,null,{"$f":"IF(SUM(J221,J222)=0,\" \",IF(J223=0,\" * \"&List!$C$111,\" \"))","v":" "}]
[null,null,null,null,null,null,{"$f":"List!$C$149","v":"Zpět"}]
[]
[]
[null,null,{"$f":"List!$C$217&\" \"&List!$C$218","v":"Upozornění: Vypočtené hodnoty jsou pouze orientační.  Firma Blum ani prodejci neručí za jejich správnost."},null,null,null,null,null,null,null,null,null,null,{"$f":"List!$C$95&\"!\"","v":"Není započtena hmotnost úchytky!"},null,null,null,null,null,null,{"$f":"List!$C$87","v":"Alurámečky s 4mm sklem"}]
[null,null,null,null,null,null,null,null,null,null,null,null,null,null,null,null,null,null,null,null,{"$f":"List!$C$88","v":"Alurámečky s 5mm sklem"}]
[null,null,null,null,null,null,null,null,null,null,null,null,null,null,null,null,null,null,null,null,{"$f":"List!$C$89","v":"Alurámečky s jiným sklem"}]
[]
[]
[]
[]
[]
[null,null,null,null,"Hmotnost alurámečků [kg/bm]",null,{"$f":"List!$C$368","v":"Podle Úvodu"},{"$f":"List!$C$58","v":"Změna"}]
[null,null,null,null,null,{"$f":"List!$C$375&\"  \"","v":"S vloženým sklem  "},{"$f":"Menu!$Q220","v":0.31},null,null,null,null,null,{"$f":"IF($H236>0,$H236,$G236)","v":0.31}]
[null,null,null,null,null,{"$f":"List!$C$376&\"  \"","v":"S naloženým nebo nalepeným sklem  "},{"$f":"Menu!$Q221","v":0.32},null,null,null,null,null,{"$f":"IF($H237>0,$H237,$G237)","v":0.32}]
[null,null,null,null,null,{"$f":"List!$C$377&\" [kg/set] *  \"","v":"Hmotnost spojovacího materiálu [kg/set] *  "},{"$f":"Menu!$Q222","v":0.46},null,null,null,null,null,{"$f":"IF($H238>0,$H238,$G238)","v":0.46}]
[]
[null,null,{"$f":"\"        * \"& List!$C$378&\"  \"","v":"        * Rohové spojky, šrouby, těsnění pro jeden rámeček  "}]
[]
[]
[null,null,null,null,null,null,{"$f":"List!$C$149","v":"Zpět"}]
[]
[]
[]
[]
[]
[]
[]
[]
[]
[]
[]
[]
[]
[]
[]
[]
[]
[]
[]
[]
[]
[]
[]
[]
[]
[]
[]
[]
[]
[]
[]
[]
[]
[]
[]
[]
[]
[]
[]
[]
[]
[]
[]
[]
[]
[]
[]
[]
[]
[]
[]
[]
[]
[]
[]
[]
[null,{"$f":"List!$C$176","v":"Výpočet asymetrických čel"}]
[]
[null,{"$f":"\"   \"&List!$C$179","v":"   Parametry korpusu"}]
[null,{"$f":"List!$C$73&\" KH [mm] \"","v":"Výška korpusu KH [mm] "},null,null,null,null,null,null,null,null,{"$f":"IF(SUM($I$304:$J$307,$I$314)<>0,IF($I$303=0,\" \"&List!$C$111,\" \"),\" \")","v":" "}]
[null,{"$f":"List!$C$182&\" [mm] \"","v":"Mezera nahoře [mm] "}]
[null,{"$f":"List!$C$183&\" [mm] \"","v":"Mezera mezi čely [mm] "},null,null,null,null,null,null,null,null,{"$f":"IF($I$303=0,\" \",IF($I$305<1.5,\" min. 1,5 mm!\",\" \"))","v":" "}]
[null,{"$f":"List!$C$184&\" [mm] \"","v":"Mezera dole [mm] "}]
[null,{"$f":"List!$C$185&\" [mm] \"","v":"Síla dna korpusu [mm] "}]
[]
[null,{"$f":"\"   \"&List!$C$187","v":"   Výsledky plánování"}]
[null,null,null,null,null,null,{"$f":"List!$C$188&\" [mm] \"","v":"Možné výšky čel [mm] "},null,null,null,null,null,null,null,null,{"$f":"ROUNDUP((+$I$303-$I$304-$I$305-$I$306)/2,0)","v":0},{"$f":"IF($P$310<272,70,47)","v":70}]
[null,{"$f":"List!$C$189","v":"Vrchní čelo (FHo) v rozmezí"},null,null,null,null,"min.",{"$f":"IF($P$310=0,0,IF($P$310<236,$Q$315,IF($P$310>516,$Q$315,$P$310)))","v":0},"max.",{"$f":"IF($P$310=0,0,IF($Q$315=$H$311,$Q$315,IF($P$315<$P$314,$P$315,$P$314)))","v":0},null,null,null,null,null,{"$f":"ROUNDDOWN(($I$303-$I$304-$I$305-$I$306-$Q$310-19-$I$307+$I$306)/1.5,0)","v":-59},{"$f":"IF($P$310<272,70,47)","v":70}]
[null,{"$f":"List!$C$190","v":"Spodní čelo (FHu) v rozmezí"},null,null,null,null,"min.",{"$f":"IF($J$312=$Q$315,$Q$315,SUM($I$303-$I$304-$I$305-$I$306-$J$311))","v":0},"max.",{"$f":"IF($Q$315=$H$311,$Q$315,(+$I$303-$I$304-$I$305-$I$306)/2)","v":0},null,null,null,null,null,{"$f":"ROUNDDOWN(($I$303-$I$304-$I$305-$I$306-$Q$311-19-$I$307+$I$306)/1.5,0)","v":-59},{"$f":"IF($P$310<272,70,47)","v":70}]
[null,null,null,null,null,null,null,null,null,null,null,null,null,null,null,{"$f":"ROUNDDOWN(($I$303-$I$304-$I$305-$I$306-$Q$312-19-$I$307+$I$306)/1.5,0)","v":-59},{"$f":"IF($P$310<272,70,47)","v":70}]
[null,{"$f":"List!$C$196&\" FHo [mm] \"","v":"Výška vrchního čela FHo [mm] "},null,null,null,null,null,null,null,null,{"$f":"IF($I$303=0,\" \",IF($I$314>$J$311,V314,IF($I$314<$H$311,$S$314,\" \")))","v":" "},null,null,null,null,{"$f":"ROUNDDOWN(($I$303-$I$304-$I$305-$I$306-$Q$313-19-$I$307+$I$306)/1.5,0)","v":-59},null,null,{"$f":"\" min. \"&TEXT($H$311,\"#\")&\" mm!\"","v":" min.  mm!"},null,null,{"$f":"\" max. \"&TEXT($J$311,\"#\")&\" mm!\"","v":" max.  mm!"}]
[null,{"$f":"List!$C$197&\" FHu [mm] \"","v":"Výška spodního čela FHu [mm] "},null,null,null,null,null,null,{"$f":"IF($I$314<$H$311,$Q$315,IF($I$314>$J$311,$Q$315,+$I$303-$I$304-$I$305-$I$306-$I$314))","v":0},null,null,null,null,null,null,{"$f":"+(1040-$I$304-$I$305-$I$306)/2","v":520},{"$f":"List!C193","v":"nelze"}]
[null,{"$f":"List!$C$198&\" H [mm] \"","v":"Pozice zdvihače H [mm] "},null,null,null,null,null,null,{"$f":"IF($P$310=0,0,IF($I$315=$Q$315, $Q$315,$I$314*0.6-$Q$316+$I$304))","v":0},null,null,null,null,null,null,null,{"$f":"IF($I$314<272,28,57)","v":28}]
[null,{"$f":"List!$C$199&\" X [mm] \"","v":"Pozice mont. podložky pro teleskopy X [mm] "},null,null,null,null,null,null,{"$f":"IF($P$310=0,0,IF($I$315=$Q$315,$Q$315,$I$314*0.5+$Q$317))","v":0},null,null,null,null,null,null,null,{"$f":"IF($I$314<272,70,47)","v":70}]
[null,{"$f":"List!$C$200&\" TKH [mm] * \"","v":"Teoretická výška korpusu TKH [mm] * "},null,null,null,null,null,null,{"$f":"IF($I$315=$Q$315,$Q$315,IF($Q$318>479.99,IF($Q$318<1040.01,$Q$318,$Q$315),\" \"))","v":" "},null,null,null,null,null,null,"TKH",{"$f":"SUM($I$314*2+$I$304+$I$305+$I$306)","v":0}]
[]
[null," *",{"$f":"List!$C$202","v":"Tuto výšku zadejte do tabulky pro plánování výklopů"}]
[]
[]
[]
[]
[null,null,null,null,null,null,null,null,{"$f":"List!$C$149","v":"Zpět"}]
[]
[]
[]
[]
[]
[]
[]
[]
[]
[]
[]
[]
[]
[]
[]
[]
[]
[]
[]
[]
[]
[]
[]
[]
[]
[]
[]
[]
[]
[]
[]
[]
[]
[]
[]
[]
[]
[]
[]
[]
[]
[]
[]
[]
[]
[]
[]
[]
[]
[]
[]
[]
[]
[]
[]
[]
[]
[]
[]
[]
[]
[]
[]
[]
[]
[]
[]
[]
[]
[]
[]
[]
[]
[null,"      AVENTOS HF"]
[]
[null,{"$f":"List!$C$281","v":"Potřebný zdvihač se určí pomocí ukazatele výkonnosti."}]
[null,{"$f":"List!$C$282","v":"Ukazatel výkonnosti závisí na hmotnosti dolního i horního čílka, a rovněž na výšce korpusu."}]
[]
[null,{"$f":"\" \"&List!$C$295","v":" Tak se to dělá:"}]
[null,null,null,{"$f":"List!$C$80&\" = \"","v":"Ukazatel výkonnosti = "},{"$f":"List!$C$298&\" [kg]\"","v":"výška korpusu KH [mm] x hmotnost obou čel včetně úchytky [kg]"}]
[]
[]
[]
[]
[]
[null,{"$f":"List!$C$289","v":"Pokud znáte hmotnost čela, můžete ji zadat, jinak použijte \"Výpočet hmotnosti\"."}]
[null,{"$f":"List!$C$290","v":"V tabulce má přednost zadaná hodnota. Chcete-li použít vypočtenou hmotnost, smažte zadanou hodnotu."}]
[]
[null,{"$f":"List!$C$301&\". \"&List!$C$302&\".\"","v":"Délka teleskopů závisí na výšce korpusu KH. U asymetrických čel se použije teoretická výška TKH."}]
[]
[null,{"$f":"\" \"&List!$C$144&\":\"","v":" Asymetrická čela:"}]
[null,{"$f":"\" \"&List!$C$299","v":" Teoretická výška korpusu (TKH) = výška horního čela (FHo) x 2 (včetně mezer)"}]
[]
[null,{"$f":"List!$C$293","v":"U asymetrických čel musí být větší čelo nahoře!"}]
[]
[null,{"$f":"List!$C$304","v":"Pokud zadáte hodnotu TKH, použije se pro určení délky teleskopů"}]
[null,{"$f":"List!$C$305","v":"Nemáte-li asymetrická čela, nechte políčko prázdné."}]
[null,{"$f":"List!$C$306&\" ' \"&List!$C$176&\"' \"","v":"Pro výpočet TKH můžete použít ' Výpočet asymetrických čel' "}]
[]
[]
[null,{"$f":"List!$C$284","v":"Chcete-li změnit barvu krytek, přejděte na \"Úvod\""}]
[]
[null,{"$f":"List!$C$383","v":"Věnujte pozornost výběru alurámečků."}]
[null,{"$f":"List!$C$384","v":"Vyberte, který typ lépe odpovídá tvaru použitého alurámečku."}]
[null,{"$f":"List!$C$385","v":"Způsob osazení skla do rámečku výrazně ovlivňuje plochu skla a tím i hmotnost!"}]
[]
[null,null,{"$f":"\"  \"&List!$C$375&\"  \"","v":"  S vloženým sklem  "}]
[]
[null,null,{"$f":"\"  \"&List!$C$376&\"  \"","v":"  S naloženým nebo nalepeným sklem  "}]
[]
[null,null,null,null,null,null,null,null,null,null,null,{"$f":"List!$C$149","v":"Zpět"}]

{"sheet":"HFna_w","index":14,"n_rows":436,"n_cols":46,"rows_kept":436,"cut":false,"hidden":false,"merged":[[26,19,26,20],[324,8,324,9],[315,1,315,7],[310,1,310,5],[309,6,309,9],[313,8,313,9],[306,8,306,9],[316,8,316,9],[311,1,311,5],[304,1,304,7],[304,8,304,9],[305,1,305,7],[305,8,305,9],[303,1,303,7],[303,8,303,9],[218,1,218,6],[397,0,438,0],[404,4,404,11],[313,1,313,7],[306,1,306,7],[317,1,317,7],[317,8,317,9],[314,1,314,7],[314,8,314,9],[315,8,315,9],[316,1,316,7],[308,1,308,9],[309,1,309,5],[298,0,352,0],[301,1,301,9],[302,1,302,7],[302,8,302,9],[22,1,22,6],[217,1,217,6],[208,1,208,6],[209,1,209,6],[215,1,215,6],[201,3,201,7],[216,1,216,6],[213,5,213,7],[205,1,205,6],[206,1,206,6],[214,1,214,6],[1,1,1,2],[1,3,1,4],[1,9,1,10],[197,0,230,0],[223,6,223,7],[226,2,228,10],[14,1,14,6],[17,3,17,7],[97,0,154,0],[204,1,204,4],[204,5,204,7],[23,1,23,6],[4,5,4,10],[21,1,21,6],[10,1,10,3],[11,1,11,6],[0,43,0,51],[5,43,6,44],[5,45,6,45],[5,46,6,46],[1,5,1,6],[1,7,1,8],[6,6,6,7],[3,5,3,10],[11,43,12,46],[9,43,9,44],[8,19,8,20],[7,43,7,44],[8,43,8,44],[17,19,17,20],[231,0,258,0],[242,6,242,7],[5,6,5,10],[206,20,206,21],[215,20,215,21],[8,3,8,7],[18,1,18,6],[19,1,19,3],[207,1,207,6],[26,1,28,9],[6,1,6,2],[9,1,9,6],[12,1,12,6],[13,1,13,6],[20,1,20,6]]}
[]
[null,"AVENTOS HF",null,"AVENTOS HS",null,"AVENTOS HL",null,"AVENTOS HK top",null,"AVENTOS HK-S",null,"AVENTOS HK-XS",null,null,"rámeček",null,null,null,3,null,null,null,null,null,null,{"$f":"List!$C$135","v":"Jdi na"}]
[]
[null,{"$f":"List!$C$19&\" ***\"","v":"Úzké alurámečky ***"},null,null,null,{"$f":"$N$200&\"       \"","v":"Alurámečky s 4mm sklem       "},null,null,null,null,null,null,null,null,1,null,null,null,{"$f":"\" \"&List!$C$39&\" A \"","v":" Cena za korpus A "},null,null,null,null,null,null,{"$f":"List!$C$136","v":"Úvod plánování"}]
[null,{"$f":"List!$C$15","v":"Dřevěné čelo"},null,null,null,{"$f":"$N$201&\"       \"","v":"MDF (760 kg/m3) A~/ B~mm       "},null,null,null,null,null,null,null,null,"A = 1",null,null,null,{"$f":"\" \"&List!$C$39&\" B \"","v":" Cena za korpus B "},null,null,null,null,null,null,{"$f":"List!$C$137","v":"Nápověda"}]
[null,null,null,null,null,null,{"$f":"List!$C$47&\" \"&List!$C$22&\"       \"","v":"Nastavit hmotnost alurámečků       "},null,null,null,null,null,null,null,"B = 2",null,null,null,{"$f":"\" \"&List!$C$59","v":" Cena celkem bez DPH"},null,null,null,null,null,null,null,null,null,null,null,null,null,null,null,null,null,null,null,null,null,null,null,null,{"$f":"\"  \"&List!$C$80&\" LF \"","v":"  Ukazatel výkonnosti LF "},null,{"$f":"List!$C$79","v":"Zdvihací mechanizmus"}]
[null,{"$f":"List!$C$142","v":"Soupis kování"},null,null,null,null,{"$f":"IF(S2=1,$N$138,IF($S$2=2,$P$138,IF($S$2=3,$L$138,0)))","v":0},null,null,null,null,null,null,null,null,null,null,null,null,null,null,null,null,null,null,{"$f":"List!$C$141","v":"Doplňky"}]
[null,null,null,null,null,null,null,{"$f":"IF(AND(OR($S$9=1, $S$18=1), $L$138>0), $N$32, \" \")","v":" "},null,null,null,null,null,null,null,null,null,null,null,null,null,null,null,null,null,null,null,null,null,null,null,null,null,null,null,null,null,null,null,null,null,null,null,{"$f":"\"  2.600 -  5.500 (1 \"&List!$C$153&\" LF 960 - 2.650)\"","v":"  2.600 -  5.500 (1 ks LF 960 - 2.650)"},null,"20F2200.05"]
[null,"SERVO-DRIVE",null,{"$f":"List!$C$62&\" A\"","v":"Korpus A"},null,null,null,null,null,null,null,null,null,"zdvih A",null,"teleskop",null,null,{"$f":"IF($T$9=TRUE,1,2)","v":2},false,null," - SRVDRV",null,null,null,{"$f":"List!$C$139","v":"Přehled korpusů"},null,null,null,null,null,null,null,null,null,null,null,null,null,null,null,null,null,"  5.350 - 10.150",null,"20F2500.05"]
[null,{"$f":"List!$C$72&\" KB [mm] \"","v":"Šířka korpusu KB [mm] "},null,null,null,null,null,null,{"$f":"IF(H10=0,\" \",IF($H10<220,\" min. 220mm\",IF($H10>1800,\" max. 1 800mm\",\" \")))&IF(H15>0,IF(H10=0,\"● \"&List!$C$111,\" \"),\" \")","v":"  "},null,null,null,null,"F22",{"$f":"IF($H14<Cen!$F$240,0.5,IF($H14<Cen!$F$241,1,0))","v":0.5},"F32",{"$f":"SUM(IF($P14<Cen!$F$248,IF($H14<Cen!$F$240,0.5,1),0),IF($P14<Cen!$F$248,IF($H14>Cen!$E$244,0.5,0),0))*IF($P14<480,0,1)","v":0},null,null,"Závěs A",null,"Závěs As",null,null,null,{"$f":"List!$C$140","v":"Objednávka"},null,null,null,null,null,null,null,null,null,null,null,null,null,null,null,null,null,{"$f":"\"  9.000 -  17.250 (3 \"&List!$C$153&\" LF 13.500 - 25.900)\"","v":"  9.000 -  17.250 (3 ks LF 13.500 - 25.900)"},null,"20F2800.05"]
[null,{"$f":"List!$C$73&\" [mm]\"","v":"Výška korpusu [mm]"},null,null,"TKH * ",null,"KH ",null,{"$f":"IF(H11=0,\" \",IF($H11<480,\" min. 480mm\",IF($H11>1040,\" max. 1 040mm\",\" \")))&IF(H15>0,IF(H11=0,\"● \"&List!$C$111,\" \"),\" \")","v":"  "},null,null,null,null,"F25",{"$f":"IF($H14<Cen!$E$242,0,IF($H14<Cen!$F$242,1,0))","v":0},"F35",{"$f":"IF($P14<Cen!$F$249,IF($P14>Cen!$E$249,IF($H14<Cen!$F$240,0.5,1),0),0)+IF($P14<Cen!$F$249,IF($P14>Cen!$E$249,IF($H14>Cen!$E$244,0.5,0),0),0)","v":0},null,null,"T558E",{"$f":"IF($O$42=1,IF($H10>1199,3,IF($T15>11.9,3,2)),0)+IF(O$42=1,IF($H10>1799,1,IF($T15>19.9,1,0)),0)","v":0},"Z553E",{"$f":"IF($P$42=1,IF($H10>1199,3,IF($T15>11.9,3,2)),0)+IF($P$42=1,IF($H10>1799,1,IF($T15>19.9,1,0)),0)","v":0}]
[null,{"$f":"List!$C$74&\" [kg] ** \"","v":"Hmotnost čela včetně úchytky [kg] ** "},null,null,null,null,null,null,{"$f":"IF($H15=0,\" \",IF(SUM($H12,$H13)=0,$N$34,\" \"))&IF($H15>0,IF($H12>0,$N$35,\" \"),\" \")","v":"  "},null,null,null,null,"F28",{"$f":"IF($H14<Cen!$E$243,0,IF($H14<Cen!$F$243,1,IF($H14>Cen!$E$244,1.5,0)))","v":0},"F38",{"$f":"IF($P14<Cen!$F$250,IF($P14>Cen!$E$250,IF($H14<Cen!$F$240,0.5,1),0),0)+IF($P14<Cen!$F$250,IF($P14>Cen!$E$250,IF($H14>Cen!$E$244,0.5,0),0),0)","v":0},null,null,"T5550",{"$f":"IF($O$42=2,IF($H10>1199,3,IF($T15>11.9,3,2)),0)+IF($O$42=2,IF($H10>1799,1,IF($T15>19.9,1,0)),0)","v":2},"Z5500",{"$f":"IF($P$42=2,IF($H10>1199,3,IF($T15>11.9,3,2)),0)+IF($P$42=2,IF($H10>1799,1,IF($T15>19.9,1,0)),0)","v":2},null,null,null,null,null,null,null,null,null,null,null,null,null,null,null,null,null,null,null,null,{"$f":"List!$C$80&\" LF = \"&List!$C$298&\" [kg]\"","v":"Ukazatel výkonnosti LF = výška korpusu KH [mm] x hmotnost obou čel včetně úchytky [kg]"}]
[null,{"$f":"List!$C$76&\" [kg]       \"","v":"Vypočtená hmotnost čela [kg]       "},null,null,null,null,null,{"$f":"$H$210","v":0},{"$f":"IF($H15>0,IF($H13>0,IF($H12=0,$N$35,\" \"),\" \"),\" \")","v":" "},null,null,null,null,null,null,"F39",{"$f":"IF($P14<Cen!$F$251,IF($P14>Cen!$E$251,IF($H14<Cen!$F$240,0.5,1),0),0)+IF($P14<Cen!$F$251,IF($P14>Cen!$E$251,IF($H14>Cen!$E$244,0.5,0),0),0)","v":0},null,null,null,null,null,null,null,null,{"$f":"\" \"&List!$C$177&\" A\"","v":" Výpočet hmotnosti A"}]
[null,{"$f":"List!$C$80&\" LF \"","v":"Ukazatel výkonnosti LF "},null,null,null,null,null,{"$f":"IF(H11<1041,IF(H11>479,IF(H12>0,H11*H12,H11*H13),0),0)","v":0},{"$f":"IF(AND(H14>0, H14<960), $T$38, IF($H14>25900,$N$38,IF($H14>17250,$N$39,\" \"))&IF(H14>25900,\" \",IF(AND($S9=1,$H14>17250),$Q$39,\"  \")))","v":"   "},null,null,null,null,null,"výška korpusu",{"$f":"IF(F11>0,IF(F11>=H11,F11,0),H11)","v":0}]
[null,{"$f":"List!$C$69&\" \"","v":"Počet skříněk "},null,null,null,null,null,null,{"$f":"IF(AND(M15>0, H14>959, O10=0.5), $U$39, \" \")","v":" "},null,null,null,{"$f":"IF($H10*$P14=0,0,IF(SUM($H12,$H13)=0,0,IF($P14>Cen!$F$252,0,IF(P14<Cen!$E$248,0,IF(OR(H14<Cen!$E$240, H14>Cen!$F$244),0,$H15)))))","v":0},"← Hlavní údaj",null,null,null,null,"hmot =",{"$f":"IF(H12>0,H12,H13)","v":0},{"$f":"IF(SUM(H12,H13)=0,0,IF(H12>0,1,2))","v":0},"zadaná / vypočtená",null,null,null,{"$f":"\" \"&List!$C$176","v":" Výpočet asymetrických čel"},null,null,null,null,null,null,null,null,null,null,null,null,null,null,null,null,null,{"$f":"List!$C$149","v":"Zpět"}]
[null,{"$f":"IF(H15>0,IF(U15=0,\" \",IF(U15=1,$N$47,$N$48)),\" \")&IF(H15>0,IF(U15=0,\" \",IF(U15=1,$N$49,$N$50)),\" \")","v":"  "}]
[null,{"$f":"IF(F11=0,\" \",IF(F11>1040,\"TKH = max. 1040!\",IF(F11<480,\"TKH = min. 480!\",IF(F11<H11,$N$53,IF(H15>0,IF(F11=0,\" \",IF(F11>0,$N$52,\" \")),\" \")))))","v":" "}]
[null,"SERVO-DRIVE",null,{"$f":"List!$C$62&\" B\"","v":"Korpus B"},null,null,null,null,null,null,null,null,null,"zdvih B",null,"teleskop",null,null,{"$f":"IF($T$18=TRUE,1,2)","v":2},false,null," - SRVDRV",null,null,null,{"$f":"\" \"&List!$C$361","v":" Ověření síly zdvihače"}]
[null,{"$f":"List!$C$72&\" KB [mm] \"","v":"Šířka korpusu KB [mm] "},null,null,null,null,null,null,{"$f":"IF(H19=0,\" \",IF($H19<220,\" min. 220mm\",IF($H19>1800,\" max. 1 800mm\",\" \")))&IF(H24>0,IF(H19=0,\"● \"&List!$C$111,\" \"),\" \")","v":"  "},null,null,null,null,"F22",{"$f":"IF($H23<Cen!$F$240,0.5,IF($H23<Cen!$F$241,1,0))","v":0.5},"F32",{"$f":"SUM(IF($P23<Cen!$F$248,IF($H23<Cen!$F$240,0.5,1),0),IF($P23<Cen!$F$248,IF($H23>Cen!$E$244,0.5,0),0))*IF($P23<480,0,1)","v":0},null,null,"Závěs B",null,"Závěs Bs"]
[null,{"$f":"List!$C$73&\" [mm]\"","v":"Výška korpusu [mm]"},null,null,"TKH * ",null,"KH ",null,{"$f":"IF(H20=0,\" \",IF($H20<480,\" min. 480mm\",IF($H20>1040,\" max. 1 040mm\",\" \")))&IF(H24>0,IF(H20=0,\"● \"&List!$C$111,\" \"),\" \")","v":"  "},null,null,null,null,"F25",{"$f":"IF($H23<Cen!$E$242,0,IF($H23<Cen!$F$242,1,0))","v":0},"F35",{"$f":"IF($P23<Cen!$F$249,IF($P23>Cen!$E$249,IF($H23<Cen!$F$240,0.5,1),0),0)+IF($P23<Cen!$F$249,IF($P23>Cen!$E$249,IF($H23>Cen!$E$244,0.5,0),0),0)","v":0},null,null,"T558E",{"$f":"IF($O$42=1,IF($H19>1199,3,IF($T24>11.9,3,2)),0)+IF(O$42=1,IF($H19>1799,1,IF($T24>19.9,1,0)),0)","v":0},"Z553E",{"$f":"IF($P$42=1,IF($H19>1199,3,IF($T24>11.9,3,2)),0)+IF($P$42=1,IF($H19>1799,1,IF($T24>19.9,1,0)),0)","v":0}]
[null,{"$f":"List!$C$74&\" [kg] ** \"","v":"Hmotnost čela včetně úchytky [kg] ** "},null,null,null,null,null,null,{"$f":"IF($H24=0,\" \",IF(SUM($H21,$H22)=0,$N$34,\" \"))&IF($H24>0,IF($H21>0,$N$35,\" \"),\" \")","v":"  "},null,null,null,null,"F28",{"$f":"IF($H23<Cen!$E$243,0,IF($H23<Cen!$F$243,1,IF($H23>Cen!$E$244,1.5,0)))","v":0},"F38",{"$f":"IF($P23<Cen!$F$250,IF($P23>Cen!$E$250,IF($H23<Cen!$F$240,0.5,1),0),0)+IF($P23<Cen!$F$250,IF($P23>Cen!$E$250,IF($H23>Cen!$E$244,0.5,0),0),0)","v":0},null,null,"T5550",{"$f":"IF($O$42=2,IF($H19>1199,3,IF($T24>11.9,3,2)),0)+IF($O$42=2,IF($H19>1799,1,IF($T24>19.9,1,0)),0)","v":2},"Z5500",{"$f":"IF($P$42=2,IF($H19>1199,3,IF($T24>11.9,3,2)),0)+IF($P$42=2,IF($H19>1799,1,IF($T24>19.9,1,0)),0)","v":2}]
[null,{"$f":"List!$C$76&\" [kg]       \"","v":"Vypočtená hmotnost čela [kg]       "},null,null,null,null,null,{"$f":"$H$219","v":0},{"$f":"IF($H24>0,IF($H22>0,IF($H21=0,$N$35,\" \"),\" \"),\" \")","v":" "},null,null,null,null,null,null,"F39",{"$f":"IF($P23<Cen!$F$251,IF($P23>Cen!$E$251,IF($H23<Cen!$F$240,0.5,1),0),0)+IF($P23<Cen!$F$251,IF($P23>Cen!$E$251,IF($H23>Cen!$E$244,0.5,0),0),0)","v":0},null,null,null,null,null,null,null,null,{"$f":"\" \"&List!$C$177&\" B\"","v":" Výpočet hmotnosti B"}]
[null,{"$f":"List!$C$80&\" LF \"","v":"Ukazatel výkonnosti LF "},null,null,null,null,null,{"$f":"IF(H20<1041,IF(H20>479,IF(H21>0,H20*H21,H20*H22),0),0)","v":0},{"$f":"IF(AND(H23>0, H23<960), $T$38, IF($H23>25900,$N$38,IF($H23>17250,$N$39,\" \"))&IF(H23>25900,\" \",IF(AND($S18=1,$H23>17250),$Q$39,\"  \")))","v":"   "},null,null,null,null,null,"výška korpusu",{"$f":"IF(F20>0,IF(F20>=H20,F20,0),H20)","v":0}]
[null,{"$f":"List!$C$69&\" \"","v":"Počet skříněk "},null,null,null,null,null,null,{"$f":"IF(AND(M24>0, H23>959, O19=0.5), $U$39, \" \")","v":" "},null,null,null,{"$f":"IF($H19*$P23=0,0,IF(SUM($H21,$H22)=0,0,IF($P23>Cen!$F$252,0,IF(P23<Cen!$E$248,0,IF(OR(H23<Cen!$E$240, H23>Cen!$F$244),0,$H24)))))","v":0},"← Hlavní údaj",null,null,null,null,"hmot =",{"$f":"IF(H21>0,H21,H22)","v":0},{"$f":"IF(SUM(H21,H22)=0,0,IF(H21>0,1,2))","v":0},"zadaná / vypočtená",null,null,null,{"$f":"\" \"&List!$C$176","v":" Výpočet asymetrických čel"}]
[null,{"$f":"IF(H24>0,IF(U24=0,\" \",IF(U24=1,$N$47,$N$48)),\" \")&IF(H24>0,IF(U24=0,\" \",IF(U24=1,$N$49,$N$50)),\" \")","v":"  "}]
[null,{"$f":"IF(F20=0,\" \",IF(F20>1040,\"TKH = max. 1040!\",IF(F20<480,\"TKH = min. 480!\",IF(F20<H20,$N$53,IF(H24>0,IF(F20=0,\" \",IF(F20>0,$N$52,\" \")),\" \")))))","v":" "}]
[null,{"$f":"IF(OR(AND($S$9=1, $M$15>0), AND($S$18=1, $M$24>0)), List!$C$157, \" \")","v":" "},null,null,null,null,null,null,null,null,null,null,null,null,null,null,null,null,{"$f":"IF($T$27=FALSE,2,1)","v":1},true,null," - Zdroj"]
[]
[]
[]
[null,null,{"$f":"IF($H14>25900,\" \",IF($H14>17250,$N$40,IF($H23>25900,\" \",IF($H23>17250,$N$40,\" \"))))","v":" "}]
[null,null,null,null,null,null,null,null,null,null,null,null,null,{"$f":"List!C158","v":"Cena bez napájecího zdroje!"}]
[null,null,{"$f":"\"*  \"&List!$C$165","v":"*  Pouze pro asymetrická čela: zadejte teoretickou výšku TKH."}]
[null,null,{"$f":"\" ( \"&List!$C$166&\")\"","v":" ( TKH = dvojnásobná výška horního čela včetně mezer)"},null,null,null,null,null,null,null,null,null,null,{"$f":"\" \"&List!$C$103","v":" Doplňte nebo použijte \"Výpočet hmotnosti\" "}]
[null,null,{"$f":"\"** \"&List!$C$168","v":"** Pokud znáte hmotnost a nechcete využít výpočtu hmotnosti"},null,null,null,null,null,null,null,null,null,null,{"$f":"\"◄ \"&List!$C$100","v":"◄ hodnota bude použita pro výpočet LF"}]
[null,null,{"$f":"\"*** \"&List!$C$371","v":"*** Vyberte typ alurámečku!"},null,null,null,null,null,null,null,null,null,null,{"$f":"\" * \"&List!$C$110","v":" * Doplňte hodnoty"}]
[null,null,{"$f":"\"      \"&List!$C$372","v":"      Více informací k výběru alurámečků v Nápovědě"}]
[null,null,null,null,null,null,null,null,null,null,null,null,null,{"$f":"\" max. 25.900! \"&List!$C$105","v":" max. 25.900! Upravte hmotnost nebo výšku"},null,null,null,null,null,{"$f":"\" min. 960! \"&List!$C$105","v":" min. 960! Upravte hmotnost nebo výšku"}]
[null,null,null,null,null,null,null,null,null,null,null,null,null,{"$f":"\" \"&List!$C$104&\"!\"","v":" Přídavný třetí zdvihač!"},null,null,{"$f":"\" \"&List!$C$108&\"!\"","v":" Druhá pohonná jednotka!"},null,null,null,{"$f":"\" \"&List!C109","v":" Použijte pouze jeden zdvihač"}]
[null,null,null,null,null,null,null,null,null,null,null,null,null,{"$f":"List!$C$163","v":"Přídavný třetí zdvihač může být použit pouze s plným spodním čelem!"}]
[]
[null,null,null,null,null,null,null,null,null,null,null,null,null,{"$f":"HF!$L$37","v":2},2,{"$f":"HF!$N$37","v":2},2,{"$f":"HF!$P$37","v":2},null,{"$f":"Menu!$Q$27","v":3}]
[null,null,null,null,null,null,null,null,null,null,null,null,null,"záv.","alu","střed.","alu","podl.",null,"kryt."]
[null,null,null,null,null,null,null,null,null,null,null,null,null,{"$f":"List!$C$116","v":"Expando"},null,{"$f":"List!$C$116","v":"Expando"},null,{"$f":"List!$C$116","v":"Expando"},null,{"$f":"List!$C$128","v":"Světle šedá (HG/T)"}]
[null,null,null,null,null,null,null,null,null,null,null,null,null,{"$f":"List!$C$117","v":"na vruty"},null,{"$f":"List!$C$117","v":"na vruty"},null,{"$f":"List!$C$117","v":"na vruty"},null,{"$f":"List!$C$129","v":"Tmavě šedá (TGR)"}]
[null,null,null,null,null,null,null,null,null,null,null,null,null,null,null,null,null,null,null,{"$f":"List!$C$130","v":"Hedvábně bílá (SW/T)"}]
[null,null,null,null,null,null,null,null,null,null,null,null,null,{"$f":"List!C169","v":"Pro určení typu zdvihače bude použita zadaná hmotnost"}]
[null,null,null,null,null,null,null,null,null,null,null,null,null,{"$f":"List!C170","v":"Pro určení typu zdvihače bude použita vypočtená hmotnost"}]
[null,null,null,null,null,null,null,null,null,null,null,null,null,{"$f":"\". \"&List!$C$171","v":". Chcete-li použít vypočtenou hmotnost, smažte zadanou hodnotu"}]
[null,null,null,null,null,null,null,null,null,null,null,null,null,{"$f":"\". \"&List!$C$172","v":". Chcete-li použít zadanou hmotnost, zadejte ji do políčka"}]
[null,null,null,null,null,null,null,null,null,null,null,null,null,{"$f":"List!C173","v":0}]
[null,null,null,null,null,null,null,null,null,null,null,null,null,{"$f":"List!C174","v":"Pro výběr teleskopů bude použita teoretická výška TKH"}]
[null,null,null,null,null,null,null,null,null,null,null,null,null,{"$f":"List!C175","v":"Teoretická výška TKH nesmí být menší než KH"}]
[]
[]
[]
[]
[]
[]
[]
[]
[]
[]
[]
[]
[]
[]
[]
[]
[]
[]
[]
[]
[]
[]
[]
[]
[]
[]
[]
[]
[]
[]
[]
[]
[]
[]
[]
[]
[]
[]
[]
[]
[]
[]
[]
[]
[null,{"$f":"List!C142","v":"Soupis kování"}]
[]
[null,{"$f":"$B$2","v":"AVENTOS HF"},null,{"$f":"B4","v":"Úzké alurámečky ***"},null," -",{"$f":"B5","v":"Dřevěné čelo"}]
[null,{"$f":"List!C50","v":"Název"},null,null,null,null,{"$f":"List!$C$51","v":"Číslo artiklu"},null,{"$f":"List!C52","v":"Barva"},{"$f":"List!C54","v":"Ks"},{"$f":"List!C56","v":"Jednotková cena"},{"$f":"List!C57","v":"Celkem"},"A","Cena","B","Cena",null,null,"Filtr"]
[null,{"$f":"Cen!A2","v":"Sada zdvihačů HF"},null,null,null,null,{"$f":"Cen!E2","v":"20F2200.05"},null,{"$f":"Cen!G2","v":"ZN"},{"$f":"ROUNDUP($M$15*O10+$M$24*O19,0)","v":0},{"$f":"Cen!I2","v":0},{"$f":"J102*K102","v":0},{"$f":"ROUNDUP($M$15*O10,0)","v":0},{"$f":"$K102*M102","v":0},{"$f":"ROUNDUP($M$24*O19,0)","v":0},{"$f":"$K102*O102","v":0},null,null,"x"]
[null,{"$f":"Cen!A3","v":"Sada zdvihačů HF"},null,null,null,null,{"$f":"Cen!E3","v":"20F2500.05"},null,{"$f":"Cen!G3","v":"ZN"},{"$f":"ROUNDUP($M$15*O11+$M$24*O20,0)","v":0},{"$f":"Cen!I3","v":0},{"$f":"J103*K103","v":0},{"$f":"ROUNDUP($M$15*O11,0)","v":0},0,{"$f":"ROUNDUP($M$24*O20,0)","v":0},0,null,null,"x"]
[null,{"$f":"Cen!A4","v":"Sada zdvihačů HF"},null,null,null,null,{"$f":"Cen!E4","v":"20F2800.05"},null,{"$f":"Cen!G4","v":"ZN"},{"$f":"ROUNDUP($M$15*O12+$M$24*O21,0)","v":0},{"$f":"Cen!I4","v":0},0,{"$f":"ROUNDUP($M$15*O12,0)","v":0},0,{"$f":"ROUNDUP($M$24*O21,0)","v":0},0,null,null,"x"]
[null,{"$f":"Cen!A5","v":"Sada teleskopů (480-570mm)"},null,null,null,null,{"$f":"Cen!E5","v":"20F3200.01"},null,{"$f":"Cen!G5","v":"NI"},{"$f":"ROUNDUP($M$15*Q10+$M$24*Q19,0)","v":0},{"$f":"Cen!I5","v":0},0,{"$f":"ROUNDUP($M$15*Q10,0)","v":0},0,{"$f":"ROUNDUP($M$24*Q19,0)","v":0},0,null,null,"x"]
[null,{"$f":"Cen!A6","v":"Sada teleskopů (560-710mm)"},null,null,null,null,{"$f":"Cen!E6","v":"20F3500.01"},null,{"$f":"Cen!G6","v":"NI"},{"$f":"ROUNDUP($M$15*Q11+$M$24*Q20,0)","v":0},{"$f":"Cen!I6","v":0},0,{"$f":"ROUNDUP($M$15*Q11,0)","v":0},0,{"$f":"ROUNDUP($M$24*Q20,0)","v":0},0,null,null,"x"]
[null,{"$f":"Cen!A7","v":"Sada teleskopů (700-900mm)"},null,null,null,null,{"$f":"Cen!E7","v":"20F3800.01"},null,{"$f":"Cen!G7","v":"NI"},{"$f":"ROUNDUP($M$15*Q12+$M$24*Q21,0)","v":0},{"$f":"Cen!I7","v":0},0,{"$f":"ROUNDUP($M$15*Q12,0)","v":0},0,{"$f":"ROUNDUP($M$24*Q21,0)","v":0},0,null,null,"x"]
[null,{"$f":"Cen!A8","v":"Sada teleskopů (760-1040mm)"},null,null,null,null,{"$f":"Cen!E8","v":"20F3900.01"},null,{"$f":"Cen!G8","v":"NI"},{"$f":"ROUNDUP($M$15*Q13+$M$24*Q22,0)","v":0},{"$f":"Cen!I8","v":0},0,{"$f":"ROUNDUP($M$15*Q13,0)","v":0},0,{"$f":"ROUNDUP($M$24*Q22,0)","v":0},0,null,null,"x"]
[null,{"$f":"Cen!A9","v":"Sada krytek HF SERVO-DRIVE, sv.šedá"},null,null,null,null,{"$f":"Cen!E9","v":"21F8000"},null,{"$f":"Cen!G9","v":"HG/T"},{"$f":"SUM(M109,O109,Q109)","v":0},{"$f":"Cen!I9","v":0},0,{"$f":"IF($S$9=2,0,IF($T$42=1,$M$134,0))","v":0},0,{"$f":"IF($S$18=2,0,IF($T$42=1,$O$134,0))","v":0},0,null,null,"x"]
[null,{"$f":"Cen!A10","v":"Sada krytek HF SERVO-DRIVE, tm.šedá"},null,null,null,null,{"$f":"Cen!E10","v":"21F8000"},null,{"$f":"Cen!G10","v":"TGR"},{"$f":"SUM(M110,O110,Q110)","v":0},{"$f":"Cen!I10","v":0},{"$f":"J110*K110","v":0},{"$f":"IF($S$9=2,0,IF($T$42=2,$M$134,0))","v":0},{"$f":"$K110*M110","v":0},{"$f":"IF($S$18=2,0,IF($T$42=2,$O$134,0))","v":0},{"$f":"$K110*O110","v":0},null,null,"x"]
[null,{"$f":"Cen!A11","v":"Sada krytek HF SERVO-DRIVE, bílá"},null,null,null,null,{"$f":"Cen!E11","v":"21F8000"},null,{"$f":"Cen!G11","v":"SW/T"},0,{"$f":"Cen!I11","v":0},0,{"$f":"IF($S$9=2,0,IF($T$42=3,$M$134,0))","v":0},0,{"$f":"IF($S$18=2,0,IF($T$42=3,$O$134,0))","v":0},0,null,null,"x"]
[]
[null,{"$f":"Cen!A12","v":"Sada krytek HF, světle šedá"},null,null,null,null,{"$f":"Cen!E12","v":"20F8000"},null,{"$f":"Cen!G12","v":"HG/T"},0,{"$f":"Cen!I12","v":0},0,{"$f":"IF($S$9=1,0,IF($T$42=1,SUM($M$102:$M$104,0),0))","v":0},0,{"$f":"IF($S$18=1,0,IF($T$42=1,SUM($O$102:$O$104,0),0))","v":0},0,null,null,"x"]
[null,{"$f":"Cen!A13","v":"Sada krytek HF, tmavě šedá"},null,null,null,null,{"$f":"Cen!E13","v":"20F8000"},null,{"$f":"Cen!G13","v":"TGR"},{"$f":"SUM(M114,O114,Q114)","v":0},{"$f":"Cen!I13","v":0},{"$f":"J114*K114","v":0},{"$f":"IF($S$9=1,0,IF($T$42=2,SUM($M$102:$M$104,0),0))","v":0},{"$f":"$K114*M114","v":0},{"$f":"IF($S$18=1,0,IF($T$42=2,SUM($O$102:$O$104,0),0))","v":0},{"$f":"$K114*O114","v":0},null,null,"x"]
[null,{"$f":"Cen!A14","v":"Sada krytek HF, bílá"},null,null,null,null,{"$f":"Cen!E14","v":"20F8000"},null,{"$f":"Cen!G14","v":"SW/T"},0,{"$f":"Cen!I14","v":0},0,{"$f":"IF($S$9=1,0,IF($T$42=3,SUM($M$102:$M$104,0),0))","v":0},0,{"$f":"IF($S$18=1,0,IF($T$42=3,SUM($O$102:$O$104,0),0))","v":0},0,null,null,"x"]
[]
[null,{"$f":"Cen!A15","v":"Závěs CLIP top 120° "},null,null,null,null,{"$f":"Cen!E15","v":"70T5550.TL"},null,{"$f":"Cen!G15","v":"NI"},0,{"$f":"Cen!I15","v":0},0,null,0,null,0]
[null,{"$f":"Cen!A16","v":"Závěs CLIP top 120° EXPANDO"},null,null,null,null,{"$f":"Cen!E16","v":"70T558E"},null,{"$f":"Cen!G16","v":"NI"},0,{"$f":"Cen!I16","v":0},0,null,0,null,0]
[null,{"$f":"Cen!A17","v":"Středový závěs CLIP top "},null,null,null,null,{"$f":"Cen!E17","v":"78Z5500T"},null,{"$f":"Cen!G17","v":"NI"},0,{"$f":"Cen!I17","v":0},0,{"$f":"$M$15*$W$12","v":0},0,{"$f":"$M$24*$W$21","v":0},0,null,null,"x"]
[null,{"$f":"Cen!A18","v":"Středový závěs CLIP top EXPANDO"},null,null,null,null,{"$f":"Cen!E18","v":"78Z553ET"},null,{"$f":"Cen!G18","v":"NI"},0,{"$f":"Cen!I18","v":0},0,{"$f":"$M$15*$W$11","v":0},0,{"$f":"$M$24*$W$20","v":0},0,null,null,"x"]
[null,{"$f":"Cen!A19","v":"Závěs CLIP top pro alurámečky"},null,null,null,null,{"$f":"Cen!E19","v":"72T550A.TL"},null,{"$f":"Cen!G19","v":"NI"},0,{"$f":"Cen!I19","v":0},0,{"$f":"$M$15*$U$12","v":0},0,{"$f":"$M$24*$U$21","v":0},0,null,null,"x"]
[null,{"$f":"Cen!A20","v":"Střed. závěs CLIP top pro alurámečky"},null,null,null,null,{"$f":"Cen!E20","v":"78Z550AT"},null,{"$f":"Cen!G20","v":"NI"},null,{"$f":"Cen!I20","v":0},0,null,0,null,0]
[null,{"$f":"Cen!A21","v":"Přímá montážní podložka"},null,null,null,null,{"$f":"Cen!E21","v":"175H3100"},null,{"$f":"Cen!G21","v":"NI"},{"$f":"SUM(M123,O123,Q123)","v":0},{"$f":"Cen!I21","v":0},0,{"$f":"IF($R$42=2,SUM($U$11,$U$12,$Q$10*2,$Q$11*2,$Q$12*2,$Q$13*2)*$M$15,0)","v":0},0,{"$f":"IF($R$42=2,SUM($U$20,$U$21,$Q$19*2,$Q$20*2,$Q$21*2,$Q$22*2)*$M$24,0)","v":0},0,null,null,"x"]
[null,{"$f":"Cen!A22","v":"Přímá montážní podložka, EXPANDO"},null,null,null,null,{"$f":"Cen!E22","v":"177H3100E"},null,{"$f":"Cen!G22","v":"NI"},0,{"$f":"Cen!I22","v":0},0,{"$f":"IF($R$42=1,SUM($U$11,$U$12,$Q$10*2,$Q$11*2,$Q$12*2,$Q$13*2)*$M$15,0)","v":0},0,{"$f":"IF($R$42=1,SUM($U$20,$U$21,$Q$19*2,$Q$20*2,$Q$21*2,$Q$22*2)*$M$24,0)","v":0},0,null,null,"x"]
[null,{"$f":"Cen!A23","v":"Podložka CLIP excentrická"},null,null,null,null,{"$f":"Cen!E23","v":"173H7100"},null,{"$f":"Cen!G23","v":"NI"},0,{"$f":"Cen!I23","v":0},0,null,{"$f":"$K125*M125","v":0},null,0]
[null,{"$f":"Cen!A24","v":"Adaptér CLIP k teleskopům P"},null,null,null,null,{"$f":"Cen!E24","v":"175H5B00   R"},null,{"$f":"Cen!G24","v":"NI"},0,{"$f":"Cen!I24","v":0},0,null,0,null,0]
[null,{"$f":"Cen!A25","v":"Adaptér CLIP k teleskopům L"},null,null,null,null,{"$f":"Cen!E25","v":"175H5B00   L"},null,{"$f":"Cen!G25","v":"NI"},0,{"$f":"Cen!I25","v":0},0,null,0,null,0]
[null,{"$f":"Cen!A26","v":"Adaptér CLIP ke středovým závěsům"},null,null,null,null,{"$f":"Cen!E26","v":"175H5A00"},null,{"$f":"Cen!G26","v":"NI"},0,{"$f":"Cen!I26","v":0},0,{"$f":"SUM($W$11,$W$12)*$M$15","v":0},{"$f":"$K128*M128","v":0},{"$f":"SUM($W$20,$W$21)*$M$24","v":0},0,null,null,"x"]
[null,{"$f":"Cen!A27","v":"Omezovač úhlu otevření na 83° "},null,null,null,null,{"$f":"Cen!E27","v":"20F7011"},null,{"$f":"Cen!G27","v":"TGR"},null,{"$f":"Cen!I27","v":0},0,null,0,null,0]
[null,{"$f":"Cen!A28","v":"Omezovač úhlu otevření na 104° "},null,null,null,null,{"$f":"Cen!E28","v":"20F7051"},null,{"$f":"Cen!G28","v":"TGR"},null,{"$f":"Cen!I28","v":0},0,null,0,null,0]
[null,{"$f":"Cen!A151","v":"CLIP top krytka raménka Nikl"},null,null,null,null,{"$f":"Cen!E151","v":"70.1503"},null,{"$f":"Cen!G151","v":"NI"},{"$f":"SUM(M131,O131,Q131)","v":0},{"$f":"Cen!I151","v":0},0,{"$f":"SUM(M$117:M$122)","v":0},0,{"$f":"SUM(O$117:O$122)","v":0},0,null,null,"x"]
[]
[null,null,null,null,null,null,null,null,null,null,null,0,null,0,null,0]
[null,{"$f":"Cen!A199","v":"SERVO-DRIVE jednotka (sada)"},null,null,null,null,{"$f":"Cen!E199","v":"21FA000"},null,{"$f":"Cen!G199","v":"HGR"},{"$f":"SUM(M134,O134,Q134)","v":0},{"$f":"Cen!I199","v":0},0,{"$f":"IF($S$9=2,0,$M$15)+IF(AND($S$9=1,$H$14>17250),$M$15,0)","v":0},0,{"$f":"IF($S$18=2,0,$M$24)+IF(AND($S$18=1,$H$23>17250),$M$24,0)","v":0},0,null,null,"x"]
[null,{"$f":"Cen!A200","v":"SERVO-DRIVE jednotka (sada) pro HK top"},null,null,null,null,{"$f":"Cen!E200","v":"23KA000"},null,{"$f":"Cen!G200","v":"HGR"},null,{"$f":"Cen!I200","v":0},0,null,0,null,0]
[]
[]
[null,null,null,null,null,null,null,null,null,null,{"$f":"List!$C$59&\" \"","v":"Cena celkem bez DPH "},{"$f":"SUM(L102:L136)","v":0},null,{"$f":"SUM(N102:N137)","v":0},null,{"$f":"SUM(P102:P137)","v":0},null,{"$f":"SUM(R102:R137)","v":0}]
[]
[null,null,null,null,null,null,null,null,null,null,null,{"$f":"List!$C$149","v":"Zpět"}]
[]
[]
[]
[]
[]
[]
[]
[]
[]
[]
[]
[]
[]
[]
[]
[]
[]
[]
[]
[]
[]
[]
[]
[]
[]
[]
[]
[]
[]
[]
[]
[]
[]
[]
[]
[]
[]
[]
[]
[]
[]
[]
[]
[]
[]
[]
[]
[]
[]
[]
[]
[]
[]
[]
[]
[]
[]
[]
[null,{"$f":"List!$C$71","v":"Výpočet hmotnosti čel"}]
[null,null,{"$f":"List!$C$33&\"  \"","v":"horní čelo  "},null,null,null,null,null,{"$f":"IF(U206=3,IF(H200=0,T203,\" \"),IF(H200>0,T204,\" \"))","v":" "},null,null,null,null,{"$f":"IF($U$206=1,$U$227,IF($U$206=2,$U$228,$U$229&\" -  \"&$H$200&\"mm\"))","v":"Alurámečky s 4mm sklem"},null,null,null,null,{"$f":"Menu!$Q$205","v":2500}]
[null,null,{"$f":"List!$C$34&\"  \"","v":"dolní čelo  "},null,null,null,null,null,{"$f":"IF(O208=3,IF(H201=0,N203,\" \"),IF(H201>0,N204,\" \"))","v":" "},null,null,null,null,{"$f":"IF($O$207=1,$O$208,IF($O$207=2,$O$209,$O$210&\" \"&$N$210&\"kg/m3\"))&\" A~\"&$H$208&\"/ B~\"&$H$217&\"mm\"","v":"MDF (760 kg/m3) A~/ B~mm"}]
[null,null,null,{"$f":"IF($O$207<>3,$N$202,\" \")&\"      \"","v":" Změnit hodnoty můžete v Úvodu plánování      "},null,null,null,null,null,null,null,null,null,{"$f":"\" \"&List!$C$382","v":" Změnit hodnoty můžete v Úvodu plánování"}]
[null,null,null,null,null,null,null,null,null,null,null,null,null,{"$f":"\" \"&List!$C$225&\" [kg/m3]\"","v":" Zadejte objemovou hmotnost  [kg/m3]"},null,null,null,null,null,{"$f":"\" \"&List!$C$226&\" [mm]\"","v":" Zadejte sílu skla [mm]"}]
[null,null,null,null,null,null,null,null,null,null,null,null,null,{"$f":"\" \"&List!$C$221&\" '\"&List!$C$86&\"'\"","v":" Hodnota platí jen pro volbu 'Jiné - volitelná hustota'"},null,null,null,null,null,{"$f":"\" \"&List!$C$221&\" '\"&List!$C$89&\"'\"","v":" Hodnota platí jen pro volbu 'Alurámečky s jiným sklem'"}]
[null,null,null,null,null,{"$f":"D9","v":"Korpus A"},null,null,null,null,null,null,null,null,null,null,null,null,null,"váha spoj.","tl. skla","typ alu"]
[null,{"$f":"List!$C$72&\" KB [mm]       \"","v":"Šířka korpusu KB [mm]       "},null,null,null,null,null,{"$f":"H10","v":0},null,null,null,null,null,{"$f":"H206*H207*H208/2","v":0},null,null,null,null,{"$f":"IF($V$206=1,$M$236,$M$237)","v":0.31},{"$f":"$M$238","v":0.46},1,{"$f":"$O$4","v":1}]
[null,{"$f":"List!$C$73&\" KH [mm]       \"","v":"Výška korpusu KH [mm]       "},null,null,null,null,null,{"$f":"H11","v":0},null,null,null,null,null,{"$f":"N206/1000000000","v":0},1,null,null,null,"váha alu",{"$f":"SUM(H206*2,(H207/2-40)*2)*S206/1000","v":-2.4799999999999999E-2},"A plocha B"]
[null,{"$f":"List!$C$77&\" TS [mm] \"","v":"Síla čela TS [mm] "},null,null,null,null,null,null,{"$f":"IF(SUM(H206,H207)=0,\" \",IF(H208=0,\" ● \"&List!$C$111,\" \"))","v":" "},null,null,null,null,{"$f":"Menu!$L$30","v":760},{"$f":"List!$C$84&\" (\"&N208&\" kg/m3)\"","v":"MDF (760 kg/m3)"},null,null,null,{"$f":"$S$200*4/1000","v":10},{"$f":"IF($V$206=1,U208*S208,V208*S208)","v":8.9999999999999993E-3},{"$f":"SUM(($H$206-30)*($H$207/2-30)/1000000)","v":8.9999999999999998E-4},{"$f":"SUM(($H$206-6)*($H$207/2-6)/1000000)","v":3.6000000000000001E-5},"4mm"]
[null,{"$f":"List!$C$78&\" [kg] \"","v":"Hmotnost úchytky [kg] "},null,null,null,null,null,null,{"$f":"IF(SUM(H206,H207)=0,\" \",IF(H209=0,\" ● \"&List!$C$112,\" \"))","v":" "},null,null,null,null,{"$f":"Menu!$L$31","v":680},{"$f":"List!$C$85&\" (\"&N209&\" kg/m3)\"","v":"Dřevotříska (680 kg/m3)"},null,null,null,{"$f":"$S$200*5/1000","v":12.5},{"$f":"IF($V$206=1,U209*S209,V209*S209)","v":1.125E-2},{"$f":"SUM(($H$206-30)*($H$207/2-30)/1000000)","v":8.9999999999999998E-4},{"$f":"SUM(($H$206-6)*($H$207/2-6)/1000000)","v":3.6000000000000001E-5},"5mm"]
[null,{"$f":"List!$C$76&\" [kg] \"","v":"Vypočtená hmotnost čela [kg] "},null,null,null,null,null,{"$f":"IF(M210*S211<>0,SUM(M210,S211,H209),0)","v":0},null,null,null,null,{"$f":"IF(H206*H207*H208=0,0,IF(O207=1,N207*N208,IF(O207=2,N207*N209,N207*N210)))","v":0},{"$f":"$H$201","v":0},{"$f":"List!$C$86","v":"Jiné - volitelná hustota"},null,null,null,{"$f":"$S$200*$H$200/1000","v":0},{"$f":"IF($V$206=1,U210*S210,V210*S210)","v":0},{"$f":"SUM(($H$206-30)*($H$207/2-30)/1000000)","v":8.9999999999999998E-4},{"$f":"SUM(($H$206-6)*($H$207/2-6)/1000000)","v":3.6000000000000001E-5},"jiné"]
[null,null,{"$f":"IF(H210>0,IF(H209=0,$N$227,\" \"),\" \")","v":" "},null,null,null,null,null,null,null,null,null,null,null,null,null,null,null,{"$f":"IF(OR(AND(U206=3, $H$200=0), H206*H207=0), 0, SUM(IF(U206=1,T208,IF(U206=2,T209,T210)),T207,T206))","v":0}]
[]
[]
[null,null,null,null,null,{"$f":"D18","v":"Korpus B"},null,null,null,null,null,null,null,null,null,null,null,null,null,"váha spoj.","tl. skla","typ alu"]
[null,{"$f":"List!$C$72&\" KB [mm]       \"","v":"Šířka korpusu KB [mm]       "},null,null,null,null,null,{"$f":"H19","v":0},null,null,null,null,null,{"$f":"H215*H216*H217","v":0},null,null,null,null,{"$f":"IF($V$206=1,$M$236,$M$237)","v":0.31},{"$f":"$M$238","v":0.46},{"$f":"$U$206","v":1},{"$f":"$V$206","v":1}]
[null,{"$f":"List!$C$73&\" KH [mm]       \"","v":"Výška korpusu KH [mm]       "},null,null,null,null,null,{"$f":"H20","v":0},null,null,null,null,null,{"$f":"N215/1000000000/2","v":0},{"$f":"O207","v":1},null,null,null,"váha alu",{"$f":"SUM(H215*2,(H216/2-40)*2)*S215/1000","v":-2.4799999999999999E-2},"A plocha B"]
[null,{"$f":"List!$C$77&\" TS [mm] \"","v":"Síla čela TS [mm] "},null,null,null,null,null,null,{"$f":"IF(SUM(H215,H216)=0,\" \",IF(H217=0,\" ● \"&List!$C$111,\" \"))","v":" "},null,null,null,null,{"$f":"$N$208","v":760},{"$f":"$O$208","v":"MDF (760 kg/m3)"},null,null,null,{"$f":"S208","v":10},{"$f":"IF($V$206=1,U217*S217,V217*S217)","v":8.9999999999999993E-3},{"$f":"SUM(($H$215-30)*($H$216/2-30)/1000000)","v":8.9999999999999998E-4},{"$f":"SUM(($H$215-6)*($H$216/2-6)/1000000)","v":3.6000000000000001E-5},"4mm"]
[null,{"$f":"List!$C$78&\" [kg] \"","v":"Hmotnost úchytky [kg] "},null,null,null,null,null,null,{"$f":"IF(SUM(H215,H216)=0,\" \",IF(H218=0,\" ● \"&List!$C$112,\" \"))","v":" "},null,null,null,null,{"$f":"$N$209","v":680},{"$f":"$O$209","v":"Dřevotříska (680 kg/m3)"},null,null,null,{"$f":"S209","v":12.5},{"$f":"IF($V$206=1,U218*S218,V218*S218)","v":1.125E-2},{"$f":"SUM(($H$215-30)*($H$216/2-30)/1000000)","v":8.9999999999999998E-4},{"$f":"SUM(($H$215-6)*($H$216/2-6)/1000000)","v":3.6000000000000001E-5},"5mm"]
[null,{"$f":"List!$C$76&\" [kg] \"","v":"Vypočtená hmotnost čela [kg] "},null,null,null,null,null,{"$f":"IF(M219*S220<>0,SUM(M219,S220,H218),0)","v":0},null,null,null,null,{"$f":"IF(H215*H216*H217=0,0,IF(O216=1,N216*N217,IF(O216=2,N216*N218,N216*N219)))","v":0},{"$f":"$N$210","v":0},{"$f":"$O$210","v":"Jiné - volitelná hustota"},null,null,null,{"$f":"S210","v":0},{"$f":"IF($V$206=1,U219*S219,V219*S219)","v":0},{"$f":"SUM(($H$215-30)*($H$216/2-30)/1000000)","v":8.9999999999999998E-4},{"$f":"SUM(($H$215-6)*($H$216/2-6)/1000000)","v":3.6000000000000001E-5},"jiné"]
[null,null,{"$f":"IF(H219>0,IF(H218=0,$N$227,\" \"),\" \")","v":" "},null,null,null,null,null,null,null,null,null,null,null,null,null,null,null,{"$f":"IF(OR(AND(U215=3, $H$200=0), H215*H216=0), 0, SUM(IF(U215=1,T217,IF(U215=2,T218,T219)),T216,T215))","v":0}]
[]
[]
[null,null,null,null,null,null,null,null,null,null,{"$f":"IF(SUM(J221,J222)=0,\" \",IF(J223=0,\" * \"&List!$C$111,\" \"))","v":" "}]
[null,null,null,null,null,null,{"$f":"List!$C$149","v":"Zpět"}]
[]
[]
[null,null,{"$f":"List!$C$217&\" \"&List!$C$218","v":"Upozornění: Vypočtené hodnoty jsou pouze orientační.  Firma Blum ani prodejci neručí za jejich správnost."},null,null,null,null,null,null,null,null,null,null,{"$f":"List!$C$95&\"!\"","v":"Není započtena hmotnost úchytky!"},null,null,null,null,null,null,{"$f":"List!$C$87","v":"Alurámečky s 4mm sklem"}]
[null,null,null,null,null,null,null,null,null,null,null,null,null,null,null,null,null,null,null,null,{"$f":"List!$C$88","v":"Alurámečky s 5mm sklem"}]
[null,null,null,null,null,null,null,null,null,null,null,null,null,null,null,null,null,null,null,null,{"$f":"List!$C$89","v":"Alurámečky s jiným sklem"}]
[]
[]
[]
[]
[]
[null,null,null,null,"Hmotnost alurámečků [kg/bm]",null,{"$f":"List!$C$368","v":"Podle Úvodu"},{"$f":"List!$C$58","v":"Změna"}]
[null,null,null,null,null,{"$f":"List!$C$375&\"  \"","v":"S vloženým sklem  "},{"$f":"Menu!$Q220","v":0.31},null,null,null,null,null,{"$f":"IF($H236>0,$H236,$G236)","v":0.31}]
[null,null,null,null,null,{"$f":"List!$C$376&\"  \"","v":"S naloženým nebo nalepeným sklem  "},{"$f":"Menu!$Q221","v":0.32},null,null,null,null,null,{"$f":"IF($H237>0,$H237,$G237)","v":0.32}]
[null,null,null,null,null,{"$f":"List!$C$377&\" [kg/set] *  \"","v":"Hmotnost spojovacího materiálu [kg/set] *  "},{"$f":"Menu!$Q222","v":0.46},null,null,null,null,null,{"$f":"IF($H238>0,$H238,$G238)","v":0.46}]
[]
[null,null,{"$f":"\"        * \"& List!$C$378&\"  \"","v":"        * Rohové spojky, šrouby, těsnění pro jeden rámeček  "}]
[]
[]
[null,null,null,null,null,null,{"$f":"List!$C$149","v":"Zpět"}]
[]
[]
[]
[]
[]
[]
[]
[]
[]
[]
[]
[]
[]
[]
[]
[]
[]
[]
[]
[]
[]
[]
[]
[]
[]
[]
[]
[]
[]
[]
[]
[]
[]
[]
[]
[]
[]
[]
[]
[]
[]
[]
[]
[]
[]
[]
[]
[]
[]
[]
[]
[]
[]
[]
[]
[]
[null,{"$f":"List!$C$176","v":"Výpočet asymetrických čel"}]
[]
[null,{"$f":"\"   \"&List!$C$179","v":"   Parametry korpusu"}]
[null,{"$f":"List!$C$73&\" KH [mm] \"","v":"Výška korpusu KH [mm] "},null,null,null,null,null,null,null,null,{"$f":"IF(SUM($I$304:$J$307,$I$314)<>0,IF($I$303=0,\" \"&List!$C$111,\" \"),\" \")","v":" "}]
[null,{"$f":"List!$C$182&\" [mm] \"","v":"Mezera nahoře [mm] "}]
[null,{"$f":"List!$C$183&\" [mm] \"","v":"Mezera mezi čely [mm] "},null,null,null,null,null,null,null,null,{"$f":"IF($I$303=0,\" \",IF($I$305<1.5,\" min. 1,5 mm!\",\" \"))","v":" "}]
[null,{"$f":"List!$C$184&\" [mm] \"","v":"Mezera dole [mm] "}]
[null,{"$f":"List!$C$185&\" [mm] \"","v":"Síla dna korpusu [mm] "}]
[]
[null,{"$f":"\"   \"&List!$C$187","v":"   Výsledky plánování"}]
[null,null,null,null,null,null,{"$f":"List!$C$188&\" [mm] \"","v":"Možné výšky čel [mm] "},null,null,null,null,null,null,null,null,{"$f":"ROUNDUP((+$I$303-$I$304-$I$305-$I$306)/2,0)","v":0},{"$f":"IF($P$310<272,70,47)","v":70}]
[null,{"$f":"List!$C$189","v":"Vrchní čelo (FHo) v rozmezí"},null,null,null,null,"min.",{"$f":"IF($P$310=0,0,IF($P$310<236,$Q$315,IF($P$310>516,$Q$315,$P$310)))","v":0},"max.",{"$f":"IF($P$310=0,0,IF($Q$315=$H$311,$Q$315,IF($P$315<$P$314,$P$315,$P$314)))","v":0},null,null,null,null,null,{"$f":"ROUNDDOWN(($I$303-$I$304-$I$305-$I$306-$Q$310-19-$I$307+$I$306)/1.5,0)","v":-59},{"$f":"IF($P$310<272,70,47)","v":70}]
[null,{"$f":"List!$C$190","v":"Spodní čelo (FHu) v rozmezí"},null,null,null,null,"min.",{"$f":"IF($J$312=$Q$315,$Q$315,SUM($I$303-$I$304-$I$305-$I$306-$J$311))","v":0},"max.",{"$f":"IF($Q$315=$H$311,$Q$315,(+$I$303-$I$304-$I$305-$I$306)/2)","v":0},null,null,null,null,null,{"$f":"ROUNDDOWN(($I$303-$I$304-$I$305-$I$306-$Q$311-19-$I$307+$I$306)/1.5,0)","v":-59},{"$f":"IF($P$310<272,70,47)","v":70}]
[null,null,null,null,null,null,null,null,null,null,null,null,null,null,null,{"$f":"ROUNDDOWN(($I$303-$I$304-$I$305-$I$306-$Q$312-19-$I$307+$I$306)/1.5,0)","v":-59},{"$f":"IF($P$310<272,70,47)","v":70}]
[null,{"$f":"List!$C$196&\" FHo [mm] \"","v":"Výška vrchního čela FHo [mm] "},null,null,null,null,null,null,null,null,{"$f":"IF($I$303=0,\" \",IF($I$314>$J$311,V314,IF($I$314<$H$311,$S$314,\" \")))","v":" "},null,null,null,null,{"$f":"ROUNDDOWN(($I$303-$I$304-$I$305-$I$306-$Q$313-19-$I$307+$I$306)/1.5,0)","v":-59},null,null,{"$f":"\" min. \"&TEXT($H$311,\"#\")&\" mm!\"","v":" min.  mm!"},null,null,{"$f":"\" max. \"&TEXT($J$311,\"#\")&\" mm!\"","v":" max.  mm!"}]
[null,{"$f":"List!$C$197&\" FHu [mm] \"","v":"Výška spodního čela FHu [mm] "},null,null,null,null,null,null,{"$f":"IF($I$314<$H$311,$Q$315,IF($I$314>$J$311,$Q$315,+$I$303-$I$304-$I$305-$I$306-$I$314))","v":0},null,null,null,null,null,null,{"$f":"+(1040-$I$304-$I$305-$I$306)/2","v":520},{"$f":"List!C193","v":"nelze"}]
[null,{"$f":"List!$C$198&\" H [mm] \"","v":"Pozice zdvihače H [mm] "},null,null,null,null,null,null,{"$f":"IF($P$310=0,0,IF($I$315=$Q$315, $Q$315,$I$314*0.6-$Q$316+$I$304))","v":0},null,null,null,null,null,null,null,{"$f":"IF($I$314<272,28,57)","v":28}]
[null,{"$f":"List!$C$199&\" X [mm] \"","v":"Pozice mont. podložky pro teleskopy X [mm] "},null,null,null,null,null,null,{"$f":"IF($P$310=0,0,IF($I$315=$Q$315,$Q$315,$I$314*0.5+$Q$317))","v":0},null,null,null,null,null,null,null,{"$f":"IF($I$314<272,70,47)","v":70}]
[null,{"$f":"List!$C$200&\" TKH [mm] * \"","v":"Teoretická výška korpusu TKH [mm] * "},null,null,null,null,null,null,{"$f":"IF($I$315=$Q$315,$Q$315,IF($Q$318>479.99,IF($Q$318<1040.01,$Q$318,$Q$315),\" \"))","v":" "},null,null,null,null,null,null,"TKH",{"$f":"SUM($I$314*2+$I$304+$I$305+$I$306)","v":0}]
[]
[null," *",{"$f":"List!$C$202","v":"Tuto výšku zadejte do tabulky pro plánování výklopů"}]
[]
[]
[]
[]
[null,null,null,null,null,null,null,null,{"$f":"List!$C$149","v":"Zpět"}]
[]
[]
[]
[]
[]
[]
[]
[]
[]
[]
[]
[]
[]
[]
[]
[]
[]
[]
[]
[]
[]
[]
[]
[]
[]
[]
[]
[]
[]
[]
[]
[]
[]
[]
[]
[]
[]
[]
[]
[]
[]
[]
[]
[]
[]
[]
[]
[]
[]
[]
[]
[]
[]
[]
[]
[]
[]
[]
[]
[]
[]
[]
[]
[]
[]
[]
[]
[]
[]
[]
[]
[]
[]
[null,"      AVENTOS HF"]
[]
[null,{"$f":"List!$C$281","v":"Potřebný zdvihač se určí pomocí ukazatele výkonnosti."}]
[null,{"$f":"List!$C$282","v":"Ukazatel výkonnosti závisí na hmotnosti dolního i horního čílka, a rovněž na výšce korpusu."}]
[]
[null,{"$f":"\" \"&List!$C$295","v":" Tak se to dělá:"}]
[null,null,null,{"$f":"List!$C$80&\" = \"","v":"Ukazatel výkonnosti = "},{"$f":"List!$C$298&\" [kg]\"","v":"výška korpusu KH [mm] x hmotnost obou čel včetně úchytky [kg]"}]
[]
[null,{"$f":"List!$C$286","v":"Je-li ukazatel výkonnosti větší než 17.250, přidá se třetí zdvihač."}]
[null,{"$f":"List!$C$287","v":"Pokud je zvolen SERVO-DRIVE, přidá se rovněž druhá pohonná jednotka."}]
[null,{"$f":"List!$C$163","v":"Přídavný třetí zdvihač může být použit pouze s plným spodním čelem!"}]
[]
[null,{"$f":"List!$C$289","v":"Pokud znáte hmotnost čela, můžete ji zadat, jinak použijte \"Výpočet hmotnosti\"."}]
[null,{"$f":"List!$C$290","v":"V tabulce má přednost zadaná hodnota. Chcete-li použít vypočtenou hmotnost, smažte zadanou hodnotu."}]
[]
[null,{"$f":"List!$C$301&\". \"&List!$C$302&\".\"","v":"Délka teleskopů závisí na výšce korpusu KH. U asymetrických čel se použije teoretická výška TKH."}]
[]
[null,{"$f":"\" \"&List!$C$144&\":\"","v":" Asymetrická čela:"}]
[null,{"$f":"\" \"&List!$C$299","v":" Teoretická výška korpusu (TKH) = výška horního čela (FHo) x 2 (včetně mezer)"}]
[]
[null,{"$f":"List!$C$293","v":"U asymetrických čel musí být větší čelo nahoře!"}]
[]
[null,{"$f":"List!$C$304","v":"Pokud zadáte hodnotu TKH, použije se pro určení délky teleskopů"}]
[null,{"$f":"List!$C$305","v":"Nemáte-li asymetrická čela, nechte políčko prázdné."}]
[null,{"$f":"List!$C$306&\" ' \"&List!$C$176&\"' \"","v":"Pro výpočet TKH můžete použít ' Výpočet asymetrických čel' "}]
[]
[]
[null,{"$f":"List!$C$284","v":"Chcete-li změnit barvu krytek, přejděte na \"Úvod\""}]
[]
[null,{"$f":"List!$C$383","v":"Věnujte pozornost výběru alurámečků."}]
[null,{"$f":"List!$C$384","v":"Vyberte, který typ lépe odpovídá tvaru použitého alurámečku."}]
[null,{"$f":"List!$C$385","v":"Způsob osazení skla do rámečku výrazně ovlivňuje plochu skla a tím i hmotnost!"}]
[]
[null,null,{"$f":"\"  \"&List!$C$375&\"  \"","v":"  S vloženým sklem  "}]
[]
[null,null,{"$f":"\"  \"&List!$C$376&\"  \"","v":"  S naloženým nebo nalepeným sklem  "}]
[]
[null,null,null,null,null,null,null,null,null,null,null,{"$f":"List!$C$149","v":"Zpět"}]

{"sheet":"HSw","index":15,"n_rows":413,"n_cols":89,"rows_kept":413,"cut":false,"hidden":false,"merged":[[6,78,6,86],[0,78,0,88],[1,16,1,17],[1,7,1,8],[1,9,1,10],[3,40,3,41],[6,6,6,7],[3,47,3,48],[3,22,3,23],[1,13,1,14],[3,5,3,10],[3,51,3,52],[97,0,152,0],[197,0,248,0],[204,5,204,7],[205,1,205,6],[206,1,206,6],[213,5,213,7],[226,2,228,10],[208,1,208,6],[214,1,214,6],[209,1,209,6],[1,1,1,2],[1,3,1,4],[1,5,1,6],[17,3,17,7],[14,1,14,6],[10,1,10,6],[13,1,13,6],[12,1,12,6],[11,1,11,6],[6,1,6,2],[8,3,8,7],[9,1,9,6],[300,0,354,0],[303,1,303,9],[304,1,304,7],[304,8,304,9],[305,1,305,7],[310,1,310,9],[312,1,312,5],[318,1,318,7],[316,1,316,7],[316,8,316,9],[326,8,326,9],[317,8,317,9],[319,1,319,7],[319,8,319,9],[315,1,315,7],[313,1,313,5],[307,1,307,7],[215,1,215,6],[308,8,308,9],[217,1,217,6],[306,8,306,9],[307,8,307,9],[305,8,305,9],[216,1,216,6],[218,1,218,6],[41,22,41,23],[41,25,41,26],[41,49,41,50],[3,38,3,39],[41,27,41,28],[3,36,3,37],[41,47,41,48],[41,29,41,30],[41,36,41,37],[41,38,41,39],[3,49,3,50],[13,14,13,15],[22,14,22,15],[3,25,3,26],[3,27,3,28],[3,29,3,30],[22,1,22,6],[18,1,18,6],[26,15,26,16],[21,1,21,6],[26,1,28,9],[20,1,20,6],[19,1,19,6],[23,1,23,6],[58,78,58,79],[397,0,438,0],[41,40,41,41],[315,8,315,9],[223,6,223,7],[317,1,317,7],[318,8,318,9],[311,1,311,5],[311,6,311,9],[308,1,308,7],[41,51,41,52],[72,22,72,23],[305,12,305,13],[306,1,306,7],[200,3,200,7],[207,1,207,6]]}
[]
[null,"AVENTOS HF",null,"AVENTOS HS",null,"AVENTOS HL",null,"AVENTOS HK top",null,"AVENTOS HK-S",null,"AVENTOS HK-XS",null,"zdvih A",null,null,"zdvih B",null,null,null,null,null,null,null,null,null,null,null,null,null,null,null,null,null,null,null,null,null,null,null,null,null,null,null,null,null,null,null,null,null,null,null,null,null,null,3,null,null,{"$f":"List!$C$135","v":"Jdi na"}]
[]
[null,{"$f":"List!$C$15","v":"Dřevěné čelo"},null,null,null,{"$f":"N200&\"       \"","v":"MDF (760 kg/m3) A~/ B~mm       "},null,null,null,null,null,null,null,"S1A",{"$f":"SUM(AW5:AW40)","v":0},null,"S1A",{"$f":"SUM(AW43:AW78)","v":0},null,null,null,null,"zdvih A",null,null,"20S1G00",null,"20S1H00",null,"20S1I00",null,"max",null,null,null,null,"20S1D00",null,"20S1E00",null,"20S1F00",null,"max",null,null,null,null,"20S1A00",null,"20S1B00",null,"20S1C00",null,"max",null,{"$f":"\" \"&List!$C$39&\" A \"","v":" Cena za korpus A "},null,null,{"$f":"List!$C$136","v":"Úvod plánování"}]
[null,null,null,null,null,null,null,null,null,null,null,null,null,"S1B",{"$f":"SUM(AY5:AY40)","v":0},null,"S1B",{"$f":"SUM(AY43:AY78)","v":0},null,null,null,null,800,797,801,4,{"$f":"IF($H$11<$Y5,IF($H$11>$X5,IF($P$15>SUM(Z5-0.01),IF($P$15<AB5,1,0),0),0),0)","v":0},6.5,{"$f":"IF($H$11<$Y5,IF($H$11>$X5,IF($P$15>SUM(AB5-0.01),IF($P$15<AD5,1,0),0),0),0)","v":0},11.375,{"$f":"IF($H$11<$Y5,IF($H$11>$X5,IF($P$15>SUM(AD5-0.01),IF($P$15<AF5,1,0),0),0),0)","v":0},20.001000000000001,null,675,672,676,3,{"$f":"IF($H$11<$AJ5,IF($H$11>$AI5,IF($P$15>SUM(AK5-0.01),IF($P$15<AM5,1,0),0),0),0)","v":0},5.125,{"$f":"IF($H$11<$AJ5,IF($H$11>$AI5,IF($P$15>SUM(AM5-0.01),IF($P$15<AO5,1,0),0),0),0)","v":0},10.375,{"$f":"IF($H$11<$AJ5,IF($H$11>$AI5,IF($P$15>SUM(AO5-0.01),IF($P$15<AQ5,1,0),0),0),0)","v":0},19.001000000000001,null,525,522,526,2.5,{"$f":"IF($H$11<$AU5,IF($H$11>$AT5,IF($P$15>SUM(AV5-0.01),IF($P$15<AX5,1,0),0),0),0)","v":0},3.625,{"$f":"IF($H$11<$AU5,IF($H$11>$AT5,IF($P$15>SUM(AX5-0.01),IF($P$15<AZ5,1,0),0),0),0)","v":0},7.375,{"$f":"IF($H$11<$AU5,IF($H$11>$AT5,IF($P$15>SUM(AZ5-0.01),IF($P$15<BB5,1,0),0),0),0)","v":0},15.000999999999999,null,{"$f":"\" \"&List!$C$39&\" B \"","v":" Cena za korpus B "},null,null,{"$f":"List!$C$137","v":"Nápověda"}]
[null,null,null,null,null,null,null,null,null,null,null,null,null,"S1C",{"$f":"SUM(BA5:BA40)","v":0},null,"S1C",{"$f":"SUM(BA43:BA78)","v":0},null,null,null,null,{"$f":"W5-5","v":795},792,798,4,{"$f":"IF($H$11<$Y6,IF($H$11>$X6,IF($P$15>SUM(Z6-0.01),IF($P$15<AB6,1,0),0),0),0)","v":0},6.5,{"$f":"IF($H$11<$Y6,IF($H$11>$X6,IF($P$15>SUM(AB6-0.01),IF($P$15<AD6,1,0),0),0),0)","v":0},11.375,{"$f":"IF($H$11<$Y6,IF($H$11>$X6,IF($P$15>SUM(AD6-0.01),IF($P$15<AF6,1,0),0),0),0)","v":0},20.001000000000001,null,{"$f":"AH5-5","v":670},667,673,3,{"$f":"IF($H$11<$AJ6,IF($H$11>$AI6,IF($P$15>SUM(AK6-0.01),IF($P$15<AM6,1,0),0),0),0)","v":0},5.125,{"$f":"IF($H$11<$AJ6,IF($H$11>$AI6,IF($P$15>SUM(AM6-0.01),IF($P$15<AO6,1,0),0),0),0)","v":0},10.375,{"$f":"IF($H$11<$AJ6,IF($H$11>$AI6,IF($P$15>SUM(AO6-0.01),IF($P$15<AQ6,1,0),0),0),0)","v":0},19.001000000000001,null,{"$f":"AS5-5","v":520},517,523,2.5,{"$f":"IF($H$11<$AU6,IF($H$11>$AT6,IF($P$15>SUM(AV6-0.01),IF($P$15<AX6,1,0),0),0),0)","v":0},3.75,{"$f":"IF($H$11<$AU6,IF($H$11>$AT6,IF($P$15>SUM(AX6-0.01),IF($P$15<AZ6,1,0),0),0),0)","v":0},7.375,{"$f":"IF($H$11<$AU6,IF($H$11>$AT6,IF($P$15>SUM(AZ6-0.01),IF($P$15<BB6,1,0),0),0),0)","v":0},15.000999999999999,null,{"$f":"\" \"&List!$C$59","v":" Cena celkem bez DPH"}]
[null,{"$f":"List!$C$142","v":"Soupis kování"},null,null,null,null,{"$f":"IF($BD$2=1,$N$138,IF($BD$2=2,$P$138,IF($BD$2=3,$L$138,0)))","v":0},null,null,null,null,null,null,"S1D",{"$f":"SUM(AL5:AL35)","v":0},null,"S1D",{"$f":"SUM(AL43:AL73)","v":0},null,null,null,null,790,787,793,4,{"$f":"IF($H$11<$Y7,IF($H$11>$X7,IF($P$15>SUM(Z7-0.01),IF($P$15<AB7,1,0),0),0),0)","v":0},6.5,0,11.5,0,20.001000000000001,null,665,662,668,3,0,5.125,0,10.375,0,19.001000000000001,null,515,512,518,2.5,0,3.75,0,7.375,0,14.750999999999999,null,null,null,null,{"$f":"List!$C$141","v":"Doplňky"},null,null,null,null,null,null,null,null,null,null,null,null,null,null,null,null,null,null,null,{"$f":"List!$C$74&\" [kg]\"","v":"Hmotnost čela včetně úchytky [kg]"}]
[null,null,null,null,null,null,null,{"$f":"IF(AND(OR($Q$14=1, $Q$23=1), $L$138>0), $N$32, \" \")","v":" "},null,null,null,null,null,"S1E",{"$f":"SUM(AN5:AN35)","v":0},null,"S1E",{"$f":"SUM(AN43:AN73)","v":0},null,null,null,null,785,782,788,4,0,6.625,0,11.625,0,20.001000000000001,null,660,657,663,3,0,5.375,0,10.625,0,19.001000000000001,null,510,507,513,2.5,0,3.75,0,7.625,0,14.750999999999999,null,null,null,null,null,null,null,null,null,null,null,null,null,null,null,null,null,null,null,null,null,null,null,null,"KH [mm]","20S2G00.05","20S2H00.05","20S2I00.05",null,"KH [mm]","20S2D00.05","20S2E00.05","20S2F00.05",null,{"$f":"List!$C$149","v":"Zpět"}]
[null,"SERVO-DRIVE  ",null,{"$f":"List!$C$62&\" A\"","v":"Korpus A"},null,null,null,null,null,null,null,null,null,"S1F",{"$f":"SUM(AP5:AP35)","v":0},null,"S1F",{"$f":"SUM(AP43:AP73)","v":0},null,null,null,null,780,777,783,4,0,6.625,0,11.625,0,20.251000000000001,null,655,652,658,3,0,5.375,0,10.625,0,19.001000000000001,null,505,502,508,2.5,0,3.75,0,7.625,0,14.750999999999999,null,null,null,null,{"$f":"List!$C$139","v":"Přehled korpusů"},null,null,null,null,null,null,null,null,null,null,null,null,null,null,null,null,null,null,null,800,"4.00-7.00","6.00-12.25","10.50-20.00",null,570,"3.00-6.25","5.75-12.25","11.25-17.75"]
[null,{"$f":"List!$C$72&\" KB [mm] \"","v":"Šířka korpusu KB [mm] "},null,null,null,null,null,null,{"$f":"IF($H10=0,\" \",IF($H10<220,\" min. 220mm\",IF($H10>1800,\" max. 1 800mm\",\" \")))&IF(H15>0,IF(H10=0,\"● \"&List!$C$111,\" \"),\" \")","v":"  "},null,null,null,null,"S1G",{"$f":"SUM(AA5:AA30)","v":0},null,"S1G",{"$f":"SUM(AA43:AA68)","v":0},null,null,null,null,775,772,778,3.75,0,6.625,0,11.75,0,20.251000000000001,null,650,647,653,3,0,5.375,0,10.625,0,19.001000000000001,null,500,497,503,2.5,0,3.875,0,7.625,0,14.750999999999999,null,null,null,null,{"$f":"List!$C$140","v":"Objednávka"},null,null,null,null,null,null,null,null,null,null,null,null,null,null,null,null,null,null,null,795,"4.00-7.00","6.00-12.25","10.50-20.00",null,656,"3.00-6.25","5.75-12.25","11.25-17.75"]
[null,{"$f":"List!$C$73&\" KH [mm]  \"","v":"Výška korpusu KH [mm]  "},null,null,null,null,null,null,{"$f":"IF($H11=0,\" \",IF($H11<350,\" min. 350mm\",IF($H11>800,\" max. 800 mm\",\" \")))&IF(H15>0,IF(H11=0,\"● \"&List!$C$111,\" \"),\" \")","v":"  "},null,null,null,null,"S1H",{"$f":"SUM(AC5:AC30)","v":0},null,"S1H",{"$f":"SUM(AC43:AC68)","v":0},null,null,null,null,770,767,773,3.75,0,6.625,0,11.75,0,20.251000000000001,null,645,642,648,3,0,5.375,0,10.625,0,18.751000000000001,null,495,492,498,2.5,0,4,0,7.625,0,14.500999999999999,null,null,null,null,null,null,null,null,null,null,null,null,null,null,null,null,null,null,null,null,null,null,null,null,790,"4.00-7.00","6.00-12.25","10.75-20.00",null,560,"3.00-6.50","6.00-12.25","11.25-17.50"]
[null,{"$f":"List!$C$74&\" [kg] ** \"","v":"Hmotnost čela včetně úchytky [kg] ** "},null,null,null,null,null,null,{"$f":"IF($H15=0,\" \",IF(SUM($H12,$H13)=0,$BD$34,\" \"))&IF(AND(SUM($O$4:$O$12)=0,$T12=\"ano\",H12>0),$BD$38,IF(AND($H15>0,$H12>0,T$12=\"ano\"),$BD$35,\" \"))","v":"  "},null,null,null,null,"S1I",{"$f":"SUM(AE5:AE31)","v":0},null,"S1I",{"$f":"SUM(AE43:AE68)","v":0},"limit v/š",{"$f":"IF(AND(219<H10,H10<1801,349<H11,H11<801),\"ano\",\"ne\")","v":"ne"},null,null,765,762,768,3.75,0,6.875,0,11.75,0,20.251000000000001,null,640,637,643,3,0,5.375,0,10.625,0,18.751000000000001,null,490,487,493,2.5,0,4,0,7.875,0,14.500999999999999,null,null,null,null,null,null,null,null,null,null,null,null,null,null,null,null,null,null,null,null,null,null,null,null,785,"4.00-7.00","6.25-12.50","10.75-20.00",null,555,"3.00-6.50","6.00-12.50","11.50-17.50"]
[null,{"$f":"List!$C$76&\" [kg]       \"","v":"Vypočtená hmotnost čela [kg]       "},null,null,null,null,null,{"$f":"$H$210","v":0},{"$f":"IF($H15>0,IF($H13>0,IF($H12=0,$BD$35,\" \"),\" \"),\" \")","v":" "},null,null,null,null,null,null,"Servo-Drive",null,null,null,null,null,null,760,757,763,3.75,0,6.875,0,12,0,20.251000000000001,null,635,632,638,3,0,5.375,0,10.875,0,18.751000000000001,null,485,482,488,2.5,0,4,0,7.875,0,14.250999999999999,null,null,null,null,{"$f":"\" \"&List!$C$177&\" A\"","v":" Výpočet hmotnosti A"},null,null,null,null,null,null,null,null,null,null,null,null,null,null,null,null,null,null,null,780,"4.00-7.00","6.25-12.50","10.75-20.00",null,550,"3.00-6.50","6.00-12.50","11.50-17.25"]
[null,{"$f":"List!$C$27&\" * \"","v":"Počet mezistěn * "},null,null,null,null,null,null,null,null,null,null,null,null,false,null,{"$f":"IF($O$14=FALSE,2,1)","v":2},null,null,null,null,null,755,752,758,3.75,0,6.875,0,12,0,20.501000000000001,null,630,627,633,3,0,5.625,0,10.875,0,18.751000000000001,null,480,477,483,2.5,0,4,0,7.875,0,14.250999999999999,null,null,null,null,null,null,null,null,null,null,null,null,null,null,null,null,null,null,null,null,null,null,null,null,775,"3.75-7.00","6.25-12.50","11.00-20.25",null,545,"3.00-6.50","6.00-12.50","11.50-17.25"]
[null,{"$f":"List!$C$69&\" \"","v":"Počet skříněk "},null,null,null,null,null,null,null,null,null,null,{"$f":"IF($H10*$H$11*$P15=0,0,IF(SUM(O4:O12)=0,0,IF(H10>1800,0,IF(H10<220,0,H15))))","v":0},null,"hmot =",{"$f":"IF(H12>0,H12,H13)","v":0},{"$f":"IF(SUM(H12,H13)=0,0,IF(H12>0,1,2))","v":0},"zadaná / vypočtená",null,null,null,null,750,747,753,3.5,0,6.875,0,12.125,0,20.501000000000001,null,625,622,628,3,0,5.625,0,10.875,0,18.751000000000001,null,475,472,478,2.5,0,4,0,7.875,0,14.000999999999999,null,null,null,null,null,null,null,null,null,null,null,null,null,null,null,null,null,null,null,null,null,null,null,null,770,"3.75-7.00","6.25-12.50","11.00-20.25",null,540,"3.00-6.50","6.00-12.75","11.75-17.00"]
[null,{"$f":"IF(H15>0,IF(Q15=0,\" \",IF(Q15=1,$BD$47,$BD$48)),\" \")&IF(H15>0,IF(Q15=0,\" \",IF(Q15=1,$BD$49,$BD$50)),\" \")","v":"  "},null,null,null,null,null,null,null,null,null,null,null,null,null,null,null,null,null,null,null,null,745,742,748,3.5,0,6.875,0,12.125,0,20.501000000000001,null,620,617,623,3,0,5.625,0,10.875,0,18.751000000000001,null,470,467,473,2.5,0,4.125,0,8.125,0,14.000999999999999,null,null,null,null,null,null,null,null,null,null,null,null,null,null,null,null,null,null,null,null,null,null,null,null,765,"3.75-7.25","6.50-12.50","11.00-20.25",null,535,"3.00-6.75","6.25-12.75","11.75-16.75"]
[null,null,null,null,null,null,null,null,null,null,null,null,null,"tyč",{"$f":"IF($H$10>1360,1.5,IF($H$10<610,0.5,1))","v":0.5},null,"tyč",{"$f":"IF($H$19>1360,1.5,IF($H$19<610,0.5,1))","v":0.5},null,null,null,null,740,737,743,3.5,0,6.875,0,12.25,0,20.751000000000001,null,615,612,618,3,0,5.625,0,10.875,0,18.751000000000001,null,465,462,468,2.25,0,4.125,0,8.125,0,13.750999999999999,null,null,null,null,{"$f":"\" \"&List!$C$361","v":" Ověření síly zdvihače"},null,null,null,null,null,null,null,null,null,null,null,null,null,null,null,null,null,null,null,760,"3.75-7.25","6.50-12.75","11.25-20.25",null,530,"3.00-6.75","6.25-12.75","11.75-16.75"]
[null,"SERVO-DRIVE  ",null,{"$f":"List!$C$62&\" B\"","v":"Korpus B"},null,null,null,null,null,null,null,null,null,"mezistěny",{"$f":"IF($H$14>0,$H$14,IF($H$10>1219,1,0))","v":0},null,"mezistěny",{"$f":"IF($H$23>0,$H$23,IF($H$19>1219,1,0))","v":0},null,null,null,null,735,732,738,3.5,0,6.875,0,12.375,0,20.751000000000001,null,610,607,613,3,0,5.75,0,11.125,0,18.501000000000001,null,460,457,463,2.25,0,4.125,0,8.125,0,13.750999999999999,null,null,null,null,null,null,null,null,null,null,null,null,null,null,null,null,null,null,null,null,null,null,null,null,755,"3.75-7.25","6.50-12.75","11.25-20.50",null,526,"3.00-6.75","6.25-13.00","12.00-16.50"]
[null,{"$f":"List!$C$72&\" KB [mm] \"","v":"Šířka korpusu KB [mm] "},null,null,null,null,null,null,{"$f":"IF($H19=0,\" \",IF($H19<220,\" min. 220mm\",IF($H19>1800,\" max. 1 800mm\",\" \")))&IF(H24>0,IF(H19=0,\"● \"&List!$C$111,\" \"),\" \")","v":"  "},null,null,null,null,null,null,null,null,null,null,null,null,null,730,727,733,3.5,0,7.125,0,12.375,0,21.001000000000001,null,605,602,608,3,0,5.75,0,11.125,0,18.501000000000001,null,455,452,458,2.25,0,4.125,0,8.375,0,13.500999999999999,null,null,null,null,null,null,null,null,null,null,null,null,null,null,null,null,null,null,null,null,null,null,null,null,750,"3.50-7.25","6.50-12.75","11.50-20.50"]
[null,{"$f":"List!$C$73&\" KH [mm] \"","v":"Výška korpusu KH [mm] "},null,null,null,null,null,null,{"$f":"IF($H20=0,\" \",IF($H20<350,\" min. 350mm\",IF($H20>800,\" max. 800 mm\",\" \")))&IF(H24>0,IF(H20=0,\"● \"&List!$C$111,\" \"),\" \")","v":"  "},null,null,null,null,null,null,null,null,null,null,null,null,null,725,722,728,3.5,0,7.125,0,12.5,0,21.001000000000001,null,600,597,603,3,0,5.75,0,11.125,0,18.501000000000001,null,450,447,453,2.25,0,4.125,0,8.375,0,13.500999999999999,null,null,null,null,null,null,null,null,null,null,null,null,null,null,null,null,null,null,null,null,null,null,null,null,745,"3.50-7.25","6.50-12.75","11.50-20.50",null,"KH [mm]","20S2A00.05","20S2B00.05","20S2C00.05"]
[null,{"$f":"List!$C$74&\" [kg] ** \"","v":"Hmotnost čela včetně úchytky [kg] ** "},null,null,null,null,null,null,{"$f":"IF($H24=0,\" \",IF(SUM($H21,$H22)=0,$BD$34,\" \"))&IF(AND(SUM($R$4:$R$12)=0,$T21=\"ano\",H21>0),$BD$38,IF(AND($H24>0,$H21>0,T$21=\"ano\"),$BD$35,\" \"))","v":"  "},null,null,null,null,null,null,null,null,null,"limit v/š",{"$f":"IF(AND(219<H19,H19<1801,349<H20,H20<801),\"ano\",\"ne\")","v":"ne"},null,null,720,717,723,3.5,0,7.125,0,12.5,0,21.251000000000001,null,595,592,598,3,0,5.75,0,11.125,0,18.501000000000001,null,445,442,448,2.25,0,4.375,0,8.375,0,13.250999999999999,null,null,null,null,null,null,null,null,null,null,null,null,null,null,null,null,null,null,null,null,null,null,null,null,740,"3.50-7.25","6.50-12.75","11.75-20.75",null,525,"2.50-4.00","3.25-7.50","7.25-15.00"]
[null,{"$f":"List!$C$76&\" [kg]       \"","v":"Vypočtená hmotnost čela [kg]       "},null,null,null,null,null,{"$f":"$H$219","v":0},{"$f":"IF($H24>0,IF($H22>0,IF($H21=0,$BD$35,\" \"),\" \"),\" \")","v":" "},null,null,null,null,null,null,"Servo-Drive",null,null,null,null,null,null,{"$f":"W21-5","v":715},712,718,3.5,0,7.125,0,12.5,0,21.251000000000001,null,{"$f":"AH21-5","v":590},587,593,3,0,5.75,0,11.375,0,18.251000000000001,null,{"$f":"AS21-5","v":440},437,443,2.25,0,4.375,0,8.375,0,13.000999999999999,null,null,null,null,{"$f":"\" \"&List!$C$177&\" B\"","v":" Výpočet hmotnosti B"},null,null,null,null,null,null,null,null,null,null,null,null,null,null,null,null,null,null,null,735,"3.50-7.50","6.50-13.00","11.75-20.75",null,520,"2.50-4.00","3.50-7.50","7.25-15.00"]
[null,{"$f":"List!$C$27&\" * \"","v":"Počet mezistěn * "},null,null,null,null,null,null,null,null,null,null,null,null,false,null,{"$f":"IF($O$23=FALSE,2,1)","v":2},null,null,null,null,null,710,707,713,3.5,0,7.25,0,12.75,0,21.251000000000001,null,585,582,588,3,0,6,0,11.375,0,18.251000000000001,null,435,432,438,2.25,0,4.375,0,8.625,0,13.000999999999999,null,null,null,null,null,null,null,null,null,null,null,null,null,null,null,null,null,null,null,null,null,null,null,null,730,"3.50-7.50","6.75-13.00","11.75-21.00",null,515,"2.50-4.00","3.50-7.50","7.25-14.75"]
[null,{"$f":"List!$C$69&\" \"","v":"Počet skříněk "},null,null,null,null,null,null,null,null,null,null,{"$f":"IF($H19*$H$20*$P24=0,0,IF(SUM(R4:R12)=0,0,IF(H19>1800,0,IF(H19<220,0,H24))))","v":0},null,"hmot =",{"$f":"IF(H21>0,H21,H22)","v":0},{"$f":"IF(SUM(H21,H22)=0,0,IF(H21>0,1,2))","v":0},"zadaná / vypočtená",null,null,null,null,705,702,708,3.5,0,7.25,0,12.75,0,21.501000000000001,null,580,577,583,3,0,6,0,11.5,0,18.001000000000001,null,430,427,433,2.25,0,4.375,0,8.625,0,12.750999999999999,null,null,null,null,null,null,null,null,null,null,null,null,null,null,null,null,null,null,null,null,null,null,null,null,725,"3.50-7.50","6.75-13.00","12.00-21.00",null,510,"2.50-4.00","3.50-7.75","7.50-14.75"]
[null,{"$f":"IF(H24>0,IF(Q24=0,\" \",IF(Q24=1,$BD$47,$BD$48)),\" \")&IF(H24>0,IF(Q24=0,\" \",IF(Q24=1,$BD$49,$BD$50)),\" \")","v":"  "},null,null,null,null,null,null,null,null,null,null,null,null,null,null,null,null,null,null,null,null,700,697,703,3.5,0,7.25,0,12.875,0,21.501000000000001,null,575,572,578,3,0,6,0,11.5,0,18.001000000000001,null,425,422,428,2.25,0,4.375,0,8.625,0,12.750999999999999,null,null,null,null,null,null,null,null,null,null,null,null,null,null,null,null,null,null,null,null,null,null,null,null,720,"3.50-7.50","6.75-13.00","12.00-21.25",null,505,"2.50-4.00","3.50-7.75","7.50-14.75"]
[null,null,null,null,null,null,null,null,null,null,null,null,null,null,null,null,null,null,null,null,null,null,695,692,698,3.5,0,7.25,0,12.875,0,21.501000000000001,null,570,567,573,3,0,6,0,11.75,0,17.751000000000001,null,420,417,423,2.25,0,4.375,0,8.625,0,12.500999999999999,null,null,null,null,null,null,null,null,null,null,null,null,null,null,null,null,null,null,null,null,null,null,null,null,715,"3.50-7.50","6.75-13.00","12.00-21.25",null,500,"2.50-4.25","3.50-7.75","7.50-14.75"]
[null,{"$f":"IF(OR(AND($Q$14=1, $M$15>0), AND($Q$23=1, $M$24>0)), List!$C$157, \" \")","v":" "},null,null,null,null,null,null,null,null,null,null,null,null,{"$f":"IF($P$27=FALSE,2,1)","v":2},false,null," - Zdroj",null,null,null,null,690,687,693,3.5,0,7.25,0,13,0,21.501000000000001,null,565,562,568,3,0,6,0,11.75,0,17.751000000000001,null,415,412,418,2.25,0,4.375,0,8.625,0,12.500999999999999,null,null,null,null,null,null,null,null,null,null,null,null,null,null,null,null,null,null,null,null,null,null,null,null,710,"3.50-7.75","6.75-13.25","12.25-21.25",null,495,"2.50-4.25","3.75-7.75","7.50-14.50"]
[null,null,null,null,null,null,null,null,null,null,null,null,null,null,null,null,null,null,null,null,null,null,685,682,688,3.5,0,7.5,0,13,0,21.501000000000001,null,560,557,563,3,0,6.25,0,11.75,0,17.501000000000001,null,410,407,413,2.25,0,4.375,0,8.875,0,12.250999999999999,null,null,null,null,null,null,null,null,null,null,null,null,null,null,null,null,null,null,null,null,null,null,null,null,705,"3.50-7.75","6.75-13.25","12.25-21.50",null,490,"2.50-4.25","3.75-8.00","7.75-14.50"]
[null,null,null,null,null,null,null,null,null,null,null,null,null,null,null,null,null,null,null,null,null,null,680,677,683,3.5,0,7.5,{"$f":"IF($H$11<$Y29,IF($H$11>$X29,IF($P$15>SUM(AB29-0.01),IF($P$15<AD29,1,0),0),0),0)","v":0},13.25,0,21.501000000000001,null,555,552,558,3,0,6.25,0,12,0,17.501000000000001,null,405,402,408,2.25,0,4.375,0,8.875,0,12.000999999999999,null,null,null,null,null,null,null,null,null,null,null,null,null,null,null,null,null,null,null,null,null,null,null,null,700,"3.50-7.75","6.75-13.25","12.50-21.50",null,485,"2.50-4.25","3.75-8.00","7.75-14.25"]
[null,null,null,null,null,null,null,null,null,null,null,null,null,null,null,null,null,null,null,null,null,null,676,675,678,3.5,0,7.5,0,13.25,0,21.501000000000001,null,550,547,553,3,0,6.25,0,12,0,17.251000000000001,null,400,397,403,2,0,4.5,0,8.875,0,12.000999999999999,null,null,null,null,null,null,null,null,null,null,null,null,null,null,null,null,null,null,null,null,null,null,null,null,695,"3.50-7.75","6.75-13.25","12.50-21.50",null,480,"2.50-4.25","3.75-8.00","7.75-14.25"]
[null,null,null,null,null,null,null,null,null,null,null,null,null,null,null,null,null,null,null,null,null,null,null,null,null,null,null,null,null,null,null,null,null,545,542,548,3,0,6.25,0,12,0,17.251000000000001,null,395,392,398,2,0,4.625,0,8.875,0,11.750999999999999,null,null,null,null,null,null,null,null,null,null,null,null,null,null,null,null,null,null,null,null,null,null,null,null,690,"3.50-7.75","6.75-13.25","12.75-21.50",null,475,"2.50-4.25","3.75-8.00","7.75-14.00"]
[null,null,null,null,null,null,null,null,null,null,null,null,null,{"$f":"List!C158","v":"Cena bez napájecího zdroje!"},null,null,null,null,null,null,null,null,null,null,null,null,null,null,null,null,null,null,null,540,537,543,3,0,6.25,0,12.25,0,17.001000000000001,null,390,387,393,2,0,4.625,0,8.875,0,11.500999999999999,null,null,null,null,null,null,null,null,null,null,null,null,null,null,null,null,null,null,null,null,null,null,null,null,685,"3.50-8.00","7.00-13.25","12.75-21.50",null,470,"2.50-4.25","4.00-8.25","8.00-14.00"]
[null," *",{"$f":"List!$C$215","v":"Zadejte počet mezistěn v korpusu. "},null,null,null,null,null,null,null,null,null,null,null,null,null,null,null,null,null,null,null,null,null,null,null,null,null,null,null,null,null,null,535,532,538,3,0,6.5,0,12.25,0,16.751000000000001,null,385,382,388,2,0,4.625,0,9.125,0,11.500999999999999,null,null,null,null,null,null,null,null,null,null,null,null,null,null,null,null,null,null,null,null,null,null,null,null,680,"3.50-8.00","7.00-13.50","13.00-21.50",null,465,"2.25-4.25","4.00-8.25","8.00-13.75"]
[null," **",{"$f":"List!$C$168","v":"Pokud znáte hmotnost a nechcete využít výpočtu hmotnosti"},null,null,null,null,null,null,null,null,null,null,null,null,null,null,null,null,null,null,null,null,null,null,null,null,null,null,null,null,null,null,530,527,533,3,0,6.5,0,12.25,0,16.751000000000001,null,380,377,383,2,0,4.625,0,9.125,0,11.250999999999999,null,{"$f":"\" \"&List!$C$103","v":" Doplňte nebo použijte \"Výpočet hmotnosti\" "},null,null,null,null,null,null,null,null,null,null,null,null,null,null,null,null,null,null,null,null,null,null,676,"3.50-8.00","7.00-13.50","13.00-21.50",null,460,"2.25-4.25","4.00-8.25","8.00-13.75"]
[null,null,null,null,null,null,null,null,null,null,null,null,null,null,null,null,null,null,null,null,null,null,null,null,null,null,null,null,null,null,null,null,null,526,525,528,3,0,6.5,0,12.5,0,16.501000000000001,null,375,372,378,2,0,4.625,0,9.125,0,11.250999999999999,null,{"$f":"\"◄ \"&List!$C$101","v":"◄ hodnota bude použita pro výběr zdvihače"},null,null,null,null,null,null,null,null,null,null,null,null,null,null,null,null,null,null,null,null,null,null,null,null,null,null,null,455,"2.25-4.25","4.00-8.50","8.25-13.50"]
[null,null,null,null,null,null,null,null,null,null,null,null,null,null,null,null,null,null,null,null,null,null,null,null,null,null,null,null,null,null,null,null,null,null,null,null,null,null,null,null,null,null,null,null,370,367,373,2,0,4.625,0,9.125,0,11.000999999999999,null,{"$f":"\" * \"&List!$C$110","v":" * Doplňte hodnoty"},null,null,null,null,null,null,null,null,null,null,null,null,null,null,null,null,null,null,null,null,null,null,"KH [mm]","20S2D00.05","20S2E00.05","20S2F00.05",null,450,"2.25-4.25","4.00-8.50","8.25-13.50"]
[null,null,null,null,null,null,null,null,null,null,null,null,null,null,null,null,null,null,null,null,null,null,null,null,null,null,null,null,null,null,null,null,null,null,null,null,null,null,null,null,null,null,null,null,365,362,368,2,0,4.625,0,9.125,0,11.000999999999999,null,null,null,null,null,null,null,null,null,null,null,null,null,null,null,null,null,null,null,null,null,null,null,null,675,"3.00-5.25","5.00-11.00","  9.75-19.00",null,445,"2.25-4.50","4.25-8.50","8.25-13.25"]
[null,null,null,null,null,null,null,null,null,null,null,null,null,null,null,null,null,null,null,null,null,null,null,null,null,null,null,null,null,null,null,null,null,null,null,null,null,null,null,null,null,null,null,null,{"$f":"AS37-5","v":360},357,363,2,0,4.625,0,9.375,0,10.750999999999999,null,{"$f":"List!$C$107&\"!\"","v":"Překročena maximální hmotnost!"},null,null,null,null,null,null,null,null,null,null,null,null,null,null,null,null,null,null,null,null,null,null,670,"3.00-5.25","5.00-11.00","  9.75-19.00",null,440,"2.25-4.50","4.25-8.50","8.25-13.00"]
[null,null,null,null,null,null,null,null,null,null,null,null,null,null,null,null,null,null,null,null,null,null,null,null,null,null,null,null,null,null,null,null,null,null,null,null,null,null,null,null,null,null,null,null,355,352,358,2,0,4.625,0,9.375,0,10.500999999999999,null,{"$f":"\" max. 9 000! \"&List!$C$105","v":" max. 9 000! Upravte hmotnost nebo výšku"},null,null,null,null,null,null,null,null,null,null,null,null,null,null,null,null,null,null,null,null,null,null,665,"3.00-5.25","5.00-11.00","  9.75-19.00",null,435,"2.25-4.50","4.25-8.75","8.50-13.00"]
[null,null,null,null,null,null,null,null,null,null,null,null,null,null,null,null,null,null,null,null,null,null,null,null,null,null,null,null,null,null,null,null,null,null,null,null,null,null,null,null,null,null,null,null,350,349,{"$f":"AU39-5","v":353},2,0,4.75,0,9.375,0,10.500999999999999,null,{"$f":"\" \"&List!$C$216","v":" Nutná mezistěna"},null,null,null,null,null,null,null,null,null,null,null,null,null,null,null,null,null,null,null,null,null,null,660,"3.00-5.50","5.25-11.25","10.00-19.00",null,430,"2.25-4.50","4.25-8.75","8.50-12.75"]
[null,null,null,null,null,null,null,null,null,null,null,null,null,null,null,null,null,null,null,null,null,null,null,null,null,null,null,null,null,null,null,null,null,null,null,null,null,null,null,null,null,null,null,null,null,null,null,null,null,null,null,null,null,null,null,null,null,null,null,null,null,null,null,null,null,null,null,null,null,null,null,null,null,null,null,null,null,null,655,"3.00-5.50","5.25-11.25","10.00-19.00",null,425,"2.25-4.50","4.25-8.75","8.50-12.75"]
[null,null,null,null,null,null,null,null,null,null,null,null,null,null,null,null,null,{"$f":"HS!$K$27","v":1},null,{"$f":"Menu!$Q$27","v":3},null,null,"zdvih B",null,null,"20S1G00",null,"20S1H00",null,"20S1I00",null,"max",null,null,null,null,"20S1D00",null,"20S1E00",null,"20S1F00",null,"max",null,null,null,null,"20S1A00",null,"20S1B00",null,"20S1C00",null,"max",null,null,null,null,null,null,null,null,null,null,null,null,null,null,null,null,null,null,null,null,null,null,null,null,650,"3.00-5.50","5.25-11.25","10.00-19.00",null,420,"2.25-4.50","4.25-8.75","8.50-12.50"]
[null,null,null,null,null,null,null,null,null,null,null,null,null,null,null,null,null,"čelní kov.",null,"kryt.",null,null,800,797,801,4,{"$f":"IF($H$20<$Y43,IF($H$20>$X43,IF($P$24>SUM(Z43-0.01),IF($P$24<AB43,1,0),0),0),0)","v":0},6.5,{"$f":"IF($H$20<$Y43,IF($H$20>$X43,IF($P$24>SUM(AB43-0.01),IF($P$24<AD43,1,0),0),0),0)","v":0},11.375,{"$f":"IF($H$20<$Y43,IF($H$20>$X43,IF($P$24>SUM(AD43-0.01),IF($P$24<AF43,1,0),0),0),0)","v":0},20.001000000000001,null,675,672,676,3,{"$f":"IF($H$20<$AJ43,IF($H$20>$AI43,IF($P$24>SUM(AK43-0.01),IF($P$24<AM43,1,0),0),0),0)","v":0},5.125,{"$f":"IF($H$20<$AJ43,IF($H$20>$AI43,IF($P$24>SUM(AM43-0.01),IF($P$24<AO43,1,0),0),0),0)","v":0},10.375,{"$f":"IF($H$20<$AJ43,IF($H$20>$AI43,IF($P$24>SUM(AO43-0.01),IF($P$24<AQ43,1,0),0),0),0)","v":0},19.001000000000001,null,525,522,526,2.5,{"$f":"IF($H$20<$AU43,IF($H$20>$AT43,IF($P$24>SUM(AV43-0.01),IF($P$24<AX43,1,0),0),0),0)","v":0},3.625,{"$f":"IF($H$20<$AU43,IF($H$20>$AT43,IF($P$24>SUM(AX43-0.01),IF($P$24<AZ43,1,0),0),0),0)","v":0},7.375,{"$f":"IF($H$20<$AU43,IF($H$20>$AT43,IF($P$24>SUM(AZ43-0.01),IF($P$24<BB43,1,0),0),0),0)","v":0},15.000999999999999,null,null,null,null,null,null,null,null,null,null,null,null,null,null,null,null,null,null,null,null,null,null,null,null,645,"3.00-5.50","5.25-11.25","10.00-18.75",null,415,"2.25-4.50","4.25-8.75","8.50-12.50"]
[null,null,null,null,null,null,null,null,null,null,null,null,null,null,null,null,null,{"$f":"List!$C$125","v":"Expando"},null,{"$f":"List!$C$128","v":"Světle šedá (HG/T)"},null,null,{"$f":"W43-5","v":795},792,798,4,{"$f":"IF($H$20<$Y44,IF($H$20>$X44,IF($P$24>SUM(Z44-0.01),IF($P$24<AB44,1,0),0),0),0)","v":0},6.5,{"$f":"IF($H$20<$Y44,IF($H$20>$X44,IF($P$24>SUM(AB44-0.01),IF($P$24<AD44,1,0),0),0),0)","v":0},11.375,{"$f":"IF($H$20<$Y44,IF($H$20>$X44,IF($P$24>SUM(AD44-0.01),IF($P$24<AF44,1,0),0),0),0)","v":0},20.001000000000001,null,{"$f":"AH43-5","v":670},667,673,3,{"$f":"IF($H$20<$AJ44,IF($H$20>$AI44,IF($P$24>SUM(AK44-0.01),IF($P$24<AM44,1,0),0),0),0)","v":0},5.125,{"$f":"IF($H$20<$AJ44,IF($H$20>$AI44,IF($P$24>SUM(AM44-0.01),IF($P$24<AO44,1,0),0),0),0)","v":0},10.375,{"$f":"IF($H$20<$AJ44,IF($H$20>$AI44,IF($P$24>SUM(AO44-0.01),IF($P$24<AQ44,1,0),0),0),0)","v":0},19.001000000000001,null,{"$f":"AS43-5","v":520},517,523,2.5,{"$f":"IF($H$20<$AU44,IF($H$20>$AT44,IF($P$24>SUM(AV44-0.01),IF($P$24<AX44,1,0),0),0),0)","v":0},3.75,{"$f":"IF($H$20<$AU44,IF($H$20>$AT44,IF($P$24>SUM(AX44-0.01),IF($P$24<AZ44,1,0),0),0),0)","v":0},7.375,{"$f":"IF($H$15<$AU44,IF($H$15>$AT44,IF($H$16>SUM(AZ44-0.01),IF($H$16<BB44,1,0),0),0),0)","v":0},15.000999999999999,null,null,null,null,null,null,null,null,null,null,null,null,null,null,null,null,null,null,null,null,null,null,null,null,640,"3.00-5.50","5.25-11.25","10.00-18.75",null,410,"2.25-4.50","4.25-9.00","8.75-12.25"]
[null,null,null,null,null,null,null,null,null,null,null,null,null,null,null,null,null,{"$f":"List!$C$126","v":"na vruty"},null,{"$f":"List!$C$129","v":"Tmavě šedá (TGR)"},null,null,790,787,793,4,0,6.5,0,11.5,0,20.001000000000001,null,665,662,668,3,0,5.125,0,10.375,0,19.001000000000001,null,515,512,518,2.5,0,3.75,0,7.375,0,14.750999999999999,null,null,null,null,null,null,null,null,null,null,null,null,null,null,null,null,null,null,null,null,null,null,null,null,635,"3.00-5.50","5.25-11.50","10.25-18.75",null,405,"2.25-4.50","4.25-9.00","8.75-12.20"]
[null,null,null,null,null,null,null,null,null,null,null,null,null,null,null,null,null,null,null,{"$f":"List!$C$130","v":"Hedvábně bílá (SW/T)"},null,null,785,782,788,4,0,6.625,0,11.625,0,20.001000000000001,null,660,657,663,3,0,5.375,0,10.625,0,19.001000000000001,null,510,507,513,2.5,0,3.75,0,7.625,0,14.750999999999999,null,null,null,null,null,null,null,null,null,null,null,null,null,null,null,null,null,null,null,null,null,null,null,null,630,"3.00-5.75","5.50-11.50","10.25-18.75",null,400,"2.00-4.75","4.25-9.00","8.75-12.20"]
[null,null,null,null,null,null,null,null,null,null,null,null,null,null,null,null,null,null,null,null,null,null,780,777,783,4,0,6.625,0,11.625,0,20.251000000000001,null,655,652,658,3,0,5.375,0,10.625,0,19.001000000000001,null,505,502,508,2.5,0,3.75,0,7.625,0,14.750999999999999,null,{"$f":"List!C169&\". \"","v":"Pro určení typu zdvihače bude použita zadaná hmotnost. "},null,null,null,null,null,null,null,null,null,null,null,null,null,null,null,null,null,null,null,null,null,null,625,"3.00-5.75","5.50-11.50","10.25-18.75",null,395,"2.00-4.75","4.50-9.00","8.75-11.75"]
[null,null,null,null,null,null,null,null,null,null,null,null,null,null,null,null,null,null,null,null,null,null,775,772,778,3.75,0,6.625,0,11.75,0,20.251000000000001,null,650,647,653,3,0,5.375,0,10.625,0,19.001000000000001,null,500,497,503,2.5,0,3.875,0,7.625,0,14.750999999999999,null,{"$f":"List!C170&\". \"","v":"Pro určení typu zdvihače bude použita vypočtená hmotnost. "},null,null,null,null,null,null,null,null,null,null,null,null,null,null,null,null,null,null,null,null,null,null,620,"3.00-5.75","5.50-11.50","10.25-18.75",null,390,"2.00-4.75","4.50-9.00","8.75-11.50"]
[null,null,null,null,null,null,null,null,null,null,null,null,null,null,null,null,null,null,null,null,null,null,770,767,773,3.75,0,6.625,0,11.75,0,20.251000000000001,null,645,642,648,3,0,5.375,0,10.625,0,18.751000000000001,null,495,492,498,2.5,0,4,0,7.625,0,14.500999999999999,null,{"$f":"List!C171","v":"Chcete-li použít vypočtenou hmotnost, smažte zadanou hodnotu"},null,null,null,null,null,null,null,null,null,null,null,null,null,null,null,null,null,null,null,null,null,null,615,"3.00-5.75","5.50-11.50","10.25-18.75",null,385,"2.00-4.75","4.50-9.25","9.00-11.50"]
[null,null,null,null,null,null,null,null,null,null,null,null,null,null,null,null,null,null,null,null,null,null,765,762,768,3.75,0,6.875,0,11.75,0,20.251000000000001,null,640,637,643,3,0,5.375,0,10.625,0,18.751000000000001,null,490,487,493,2.5,0,4,0,7.875,0,14.500999999999999,null,{"$f":"List!C172","v":"Chcete-li použít zadanou hmotnost, zadejte ji do políčka"},null,null,null,null,null,null,null,null,null,null,null,null,null,null,null,null,null,null,null,null,null,null,610,"3.00-6.00","5.50-11.75","10.50-18.50",null,380,"2.00-4.75","4.50-9.25","9.00-11.25"]
[null,null,null,null,null,null,null,null,null,null,null,null,null,null,null,null,null,null,null,null,null,null,760,757,763,3.75,0,6.875,0,12,0,20.251000000000001,null,635,632,638,3,0,5.375,0,10.875,0,18.751000000000001,null,485,482,488,2.5,0,4,0,7.875,0,14.250999999999999,null,null,null,null,null,null,null,null,null,null,null,null,null,null,null,null,null,null,null,null,null,null,null,null,605,"3.00-6.00","5.50-11.75","10.50-18.50",null,375,"2.00-4.75","4.50-9.25","9.00-11.25"]
[null,null,null,null,null,null,null,null,null,null,null,null,null,null,null,null,null,null,null,null,null,null,755,752,758,3.75,0,6.875,0,12,0,20.501000000000001,null,630,627,633,3,0,5.625,0,10.875,0,18.751000000000001,null,480,477,483,2.5,0,4,0,7.875,0,14.250999999999999,null,null,null,null,null,null,null,null,null,null,null,null,null,null,null,null,null,null,null,null,null,null,null,null,600,"3.00-6.00","5.50-11.75","10.50-18.50",null,370,"2.00-4.75","4.50-9.25","9.00-11.00"]
[null,null,null,null,null,null,null,null,null,null,null,null,null,null,null,null,null,null,null,null,null,null,750,747,753,3.5,0,6.875,0,12.125,0,20.501000000000001,null,625,622,628,3,0,5.625,0,10.875,0,18.751000000000001,null,475,472,478,2.5,0,4,0,7.875,0,14.000999999999999,null,null,null,null,null,null,null,null,null,null,null,null,null,null,null,null,null,null,null,null,null,null,null,null,595,"3.00-6.00","5.50-11.75","10.50-18.50",null,365,"2.00-4.75","4.50-9.25","9.00-11.00"]
[null,null,null,null,null,null,null,null,null,null,null,null,null,null,null,null,null,null,null,null,null,null,745,742,748,3.5,0,6.875,0,12.125,0,20.501000000000001,null,620,617,623,3,0,5.625,0,10.875,0,18.751000000000001,null,470,467,473,2.5,0,4.125,0,8.125,0,14.000999999999999,null,null,null,null,null,null,null,null,null,null,null,null,null,null,null,null,null,null,null,null,null,null,null,null,590,"3.00-6.00","5.50-12.00","10.75-18.25",null,360,"2.00-4.75","4.50-9.50","9.25-10.75"]
[null,null,null,null,null,null,null,null,null,null,null,null,null,null,null,null,null,null,null,null,null,null,740,737,743,3.5,0,6.875,0,12.25,0,20.751000000000001,null,615,612,618,3,0,5.625,0,10.875,0,18.751000000000001,null,465,462,468,2.25,0,4.125,0,8.125,0,13.750999999999999,null,null,null,null,null,null,null,null,null,null,null,null,null,null,null,null,null,null,null,null,null,null,null,null,585,"3.00-6.25","5.75-12.00","10.75-18.25",null,355,"2.00-4.75","4.50-9.50","9.25-10.50"]
[null,null,null,null,null,null,null,null,null,null,null,null,null,null,null,null,null,null,null,null,null,null,735,732,738,3.5,0,6.875,0,12.375,0,20.751000000000001,null,610,607,613,3,0,5.75,0,11.125,0,18.501000000000001,null,460,457,463,2.25,0,4.125,0,8.125,0,13.750999999999999,null,null,null,null,null,null,null,null,null,null,null,null,null,null,null,null,null,null,null,null,null,null,null,null,580,"3.00-6.25","5.75-12.00","11.00-18.00",null,350,"2.00-5.00","4.50-9.50","9.25-10.50"]
[null,null,null,null,null,null,null,null,null,null,null,null,null,null,null,null,null,null,null,null,null,null,730,727,733,3.5,0,7.125,0,12.375,0,21.001000000000001,null,605,602,608,3,0,5.75,0,11.125,0,18.501000000000001,null,455,452,458,2.25,0,4.125,0,8.375,0,13.500999999999999,null,null,null,null,null,null,null,null,null,null,null,null,null,null,null,null,null,null,null,null,null,null,null,null,575,"3.00-6.25","5.75-12.00","11.00-18.00",null,{"$f":"List!$C$73&\" KH [mm]  \"","v":"Výška korpusu KH [mm]  "}]
[null,null,null,null,null,null,null,null,null,null,null,null,null,null,null,null,null,null,null,null,null,null,725,722,728,3.5,0,7.125,0,12.5,0,21.001000000000001,null,600,597,603,3,0,5.75,0,11.125,0,18.501000000000001,null,450,447,453,2.25,0,4.125,0,8.375,0,13.500999999999999]
[null,null,null,null,null,null,null,null,null,null,null,null,null,null,null,null,null,null,null,null,null,null,720,717,723,3.5,0,7.125,0,12.5,0,21.251000000000001,null,595,592,598,3,0,5.75,0,11.125,0,18.501000000000001,null,445,442,448,2.25,0,4.375,0,8.375,0,13.250999999999999,null,null,null,null,null,null,null,null,null,null,null,null,null,null,null,null,null,null,null,null,null,null,null,null,{"$f":"List!$C$149","v":"Zpět"}]
[null,null,null,null,null,null,null,null,null,null,null,null,null,null,null,null,null,null,null,null,null,null,{"$f":"W59-5","v":715},712,718,3.5,0,7.125,0,12.5,0,21.251000000000001,null,{"$f":"AH59-5","v":590},587,593,3,0,5.75,0,11.375,0,18.251000000000001,null,{"$f":"AS59-5","v":440},437,443,2.25,0,4.375,0,8.375,0,13.000999999999999]
[null,null,null,null,null,null,null,null,null,null,null,null,null,null,null,null,null,null,null,null,null,null,710,707,713,3.5,0,7.25,0,12.75,0,21.251000000000001,null,585,582,588,3,0,6,0,11.375,0,18.251000000000001,null,435,432,438,2.25,0,4.375,0,8.625,0,13.000999999999999]
[null,null,null,null,null,null,null,null,null,null,null,null,null,null,null,null,null,null,null,null,null,null,705,702,708,3.5,0,7.25,0,12.75,0,21.501000000000001,null,580,577,583,3,0,6,0,11.5,0,18.001000000000001,null,430,427,433,2.25,0,4.375,0,8.625,0,12.750999999999999]
[null,null,null,null,null,null,null,null,null,null,null,null,null,null,null,null,null,null,null,null,null,null,700,697,703,3.5,0,7.25,0,12.875,0,21.501000000000001,null,575,572,578,3,0,6,0,11.5,0,18.001000000000001,null,425,422,428,2.25,0,4.375,0,8.625,0,12.750999999999999]
[null,null,null,null,null,null,null,null,null,null,null,null,null,null,null,null,null,null,null,null,null,null,695,692,698,3.5,0,7.25,0,12.875,0,21.501000000000001,null,570,567,573,3,0,6,0,11.75,0,17.751000000000001,null,420,417,423,2.25,0,4.375,0,8.625,0,12.500999999999999]
[null,null,null,null,null,null,null,null,null,null,null,null,null,null,null,null,null,null,null,null,null,null,690,687,693,3.5,0,7.25,0,13,0,21.501000000000001,null,565,562,568,3,0,6,0,11.75,0,17.751000000000001,null,415,412,418,2.25,0,4.375,0,8.625,0,12.500999999999999]
[null,null,null,null,null,null,null,null,null,null,null,null,null,null,null,null,null,null,null,null,null,null,685,682,688,3.5,0,7.5,0,13,0,21.501000000000001,null,560,557,563,3,0,6.25,0,11.75,0,17.501000000000001,null,410,407,413,2.25,0,4.375,0,8.875,0,12.250999999999999]
[null,null,null,null,null,null,null,null,null,null,null,null,null,null,null,null,null,null,null,null,null,null,680,677,683,3.5,0,7.5,0,13.25,0,21.501000000000001,null,555,552,558,3,0,6.25,0,12,0,17.501000000000001,null,405,402,408,2.25,0,4.375,0,8.875,0,12.000999999999999]
[null,null,null,null,null,null,null,null,null,null,null,null,null,null,null,null,null,null,null,null,null,null,676,675,678,3.5,0,7.5,0,13.25,0,21.501000000000001,null,550,547,553,3,0,6.25,0,12,0,17.251000000000001,null,400,397,403,2,0,4.5,0,8.875,0,12.000999999999999]
[null,null,null,null,null,null,null,null,null,null,null,null,null,null,null,null,null,null,null,null,null,null,null,null,null,null,null,null,null,null,null,null,null,545,542,548,3,0,6.25,0,12,0,17.251000000000001,null,395,392,398,2,0,4.625,0,8.875,0,11.750999999999999]
[null,null,null,null,null,null,null,null,null,null,null,null,null,null,null,null,null,null,null,null,null,null,null,null,null,null,null,null,null,null,null,null,null,540,537,543,3,0,6.25,0,12.25,0,17.001000000000001,null,390,387,393,2,0,4.625,0,8.875,0,11.500999999999999]
[null,null,null,null,null,null,null,null,null,null,null,null,null,null,null,null,null,null,null,null,null,null,null,null,null,null,null,null,null,null,null,null,null,535,532,538,3,0,6.5,0,12.25,0,16.751000000000001,null,385,382,388,2,0,4.625,0,9.125,0,11.500999999999999]
[null,null,null,null,null,null,null,null,null,null,null,null,null,null,null,null,null,null,null,null,null,null,null,null,null,null,null,null,null,null,null,null,null,530,527,533,3,0,6.5,0,12.25,0,16.751000000000001,null,380,377,383,2,0,4.625,0,9.125,0,11.250999999999999]
[null,null,null,null,null,null,null,null,null,null,null,null,null,null,null,null,null,null,null,null,null,null,null,null,null,null,null,null,null,null,null,null,null,526,525,528,3,0,6.5,0,12.5,0,16.501000000000001,null,375,372,378,2,0,4.625,0,9.125,0,11.250999999999999]
[null,null,null,null,null,null,null,null,null,null,null,null,null,null,null,null,null,null,null,null,null,null,null,null,null,null,null,null,null,null,null,null,null,null,null,null,null,null,null,null,null,null,null,null,370,367,373,2,0,4.625,0,9.125,0,11.000999999999999]
[null,null,null,null,null,null,null,null,null,null,null,null,null,null,null,null,null,null,null,null,null,null,null,null,null,null,null,null,null,null,null,null,null,null,null,null,null,null,null,null,null,null,null,null,365,362,368,2,0,4.625,0,9.125,0,11.000999999999999]
[null,null,null,null,null,null,null,null,null,null,null,null,null,null,null,null,null,null,null,null,null,null,null,null,null,null,null,null,null,null,null,null,null,null,null,null,null,null,null,null,null,null,null,null,{"$f":"AS75-5","v":360},357,363,2,0,4.625,0,9.375,0,10.750999999999999]
[null,null,null,null,null,null,null,null,null,null,null,null,null,null,null,null,null,null,null,null,null,null,null,null,null,null,null,null,null,null,null,null,null,null,null,null,null,null,null,null,null,null,null,null,355,352,358,2,0,4.625,0,9.375,0,10.500999999999999]
[null,null,null,null,null,null,null,null,null,null,null,null,null,null,null,null,null,null,null,null,null,null,null,null,null,null,null,null,null,null,null,null,null,null,null,null,null,null,null,null,null,null,null,null,350,349,{"$f":"AU77-5","v":353},2,0,4.75,0,9.375,0,10.500999999999999]
[]
[]
[]
[]
[]
[]
[]
[]
[]
[]
[]
[]
[]
[]
[]
[]
[]
[]
[]
[null,{"$f":"List!C142","v":"Soupis kování"}]
[]
[null,{"$f":"$D$2","v":"AVENTOS HS"},null,{"$f":"B4","v":"Dřevěné čelo"}]
[null,{"$f":"List!C50","v":"Název"},null,null,null,null,{"$f":"List!$C$51","v":"Číslo artiklu"},null,{"$f":"List!C52","v":"Barva"},{"$f":"List!C54","v":"Ks"},{"$f":"List!C56","v":"Jednotková cena"},{"$f":"List!C57","v":"Celkem"},"A","Cena","B","Cena","C","Cena","Filtr"]
[null,{"$f":"Cen!A36","v":"Sada zdvihačů HS"},null,null,null,null,{"$f":"Cen!E36","v":"20S2A00.05"},null,{"$f":"Cen!G36","v":"ZN"},{"$f":"SUM(M102,O102)","v":0},{"$f":"Cen!I36","v":0},{"$f":"J102*K102","v":0},{"$f":"$M$15*$O4","v":0},{"$f":"$K102*M102","v":0},{"$f":"$M$24*$R4","v":0},{"$f":"$K102*O102","v":0},null,{"$f":"$K102*Q102","v":0},"x"]
[null,{"$f":"Cen!A37","v":"Sada zdvihačů HS"},null,null,null,null,{"$f":"Cen!E37","v":"20S2B00.05"},null,{"$f":"Cen!G37","v":"ZN"},{"$f":"SUM(M103,O103)","v":0},{"$f":"Cen!I37","v":0},{"$f":"J103*K103","v":0},{"$f":"$M$15*$O5","v":0},0,{"$f":"$M$24*$R5","v":0},0,null,0,"x"]
[null,{"$f":"Cen!A38","v":"Sada zdvihačů HS"},null,null,null,null,{"$f":"Cen!E38","v":"20S2C00.05"},null,{"$f":"Cen!G38","v":"ZN"},0,{"$f":"Cen!I38","v":0},0,0,0,0,0,null,0,"x"]
[null,{"$f":"Cen!A39","v":"Sada zdvihačů HS"},null,null,null,null,{"$f":"Cen!E39","v":"20S2D00.05"},null,{"$f":"Cen!G39","v":"ZN"},0,{"$f":"Cen!I39","v":0},0,0,0,0,0,null,0,"x"]
[null,{"$f":"Cen!A40","v":"Sada zdvihačů HS"},null,null,null,null,{"$f":"Cen!E40","v":"20S2E00.05"},null,{"$f":"Cen!G40","v":"ZN"},0,{"$f":"Cen!I40","v":0},0,0,0,0,0,null,0,"x"]
[null,{"$f":"Cen!A41","v":"Sada zdvihačů HS"},null,null,null,null,{"$f":"Cen!E41","v":"20S2F00.05"},null,{"$f":"Cen!G41","v":"ZN"},0,{"$f":"Cen!I41","v":0},0,0,0,0,0,null,0,"x"]
[null,{"$f":"Cen!A42","v":"Sada zdvihačů HS"},null,null,null,null,{"$f":"Cen!E42","v":"20S2G00.05"},null,{"$f":"Cen!G42","v":"ZN"},0,{"$f":"Cen!I42","v":0},0,0,0,0,0,null,0,"x"]
[null,{"$f":"Cen!A43","v":"Sada zdvihačů HS"},null,null,null,null,{"$f":"Cen!E43","v":"20S2H00.05"},null,{"$f":"Cen!G43","v":"ZN"},0,{"$f":"Cen!I43","v":0},0,0,0,0,0,null,0,"x"]
[null,{"$f":"Cen!A44","v":"Sada zdvihačů HS"},null,null,null,null,{"$f":"Cen!E44","v":"20S2I00.05"},null,{"$f":"Cen!G44","v":"ZN"},0,{"$f":"Cen!I44","v":0},0,0,0,0,0,null,0,"x"]
[null,{"$f":"Cen!A45","v":"Sada soustav ramen SERVO-DRIVE"},null,null,null,null,{"$f":"Cen!E45","v":"21S3500.01"},null,{"$f":"Cen!G45","v":"ZN"},{"$f":"SUM(M111,O111,Q111)","v":0},{"$f":"Cen!I45","v":0},0,{"$f":"IF($Q$14=1,SUM($M$102:$M$110),0)","v":0},0,{"$f":"IF($Q$23=1,SUM($O$102:$O$110),0)","v":0},0,null,0,"x"]
[null,{"$f":"Cen!A46","v":"Sada ramen HS"},null,null,null,null,{"$f":"Cen!E46","v":"20S3500.06"},null,{"$f":"Cen!G46","v":"ZN"},0,{"$f":"Cen!I46","v":0},0,{"$f":"IF($Q$14=2,SUM($M$102:$M$110),0)","v":0},0,{"$f":"IF($Q$23=2,SUM($O$102:$O$110),0)","v":0},0,null,0,"x"]
[null,{"$f":"Cen!A47","v":"Sada krytek HS SERVO-DRIVE, sv.šedá"},null,null,null,null,{"$f":"Cen!E47","v":"21S8000"},null,{"$f":"Cen!G47","v":"HG/T"},0,{"$f":"Cen!I47","v":0},0,{"$f":"IF(AND($Q$14=1,$T$42=1),SUM($M$102:$M$110),0)","v":0},0,{"$f":"IF(AND($Q$23=1,$T$42=1),SUM($O$102:$O$110),0)","v":0},0,null,0,"x"]
[null,{"$f":"Cen!A48","v":"Sada krytek HS SERVO-DRIVE, tm.šedá"},null,null,null,null,{"$f":"Cen!E48","v":"21S8000"},null,{"$f":"Cen!G48","v":"TGR"},{"$f":"SUM(M114,O114,Q114)","v":0},{"$f":"Cen!I48","v":0},{"$f":"J114*K114","v":0},{"$f":"IF(AND($Q$14=1,$T$42=2),SUM($M$102:$M$110),0)","v":0},{"$f":"$K114*M114","v":0},{"$f":"IF(AND($Q$23=1,$T$42=2),SUM($O$102:$O$110),0)","v":0},{"$f":"$K114*O114","v":0},null,{"$f":"$K114*Q114","v":0},"x"]
[null,{"$f":"Cen!A49","v":"Sada krytek HS SERVO-DRIVE, bílá"},null,null,null,null,{"$f":"Cen!E49","v":"21S8000"},null,{"$f":"Cen!G49","v":"SW/T"},0,{"$f":"Cen!I49","v":0},0,{"$f":"IF(AND($Q$14=1,$T$42=3),SUM($M$102:$M$110),0)","v":0},0,{"$f":"IF(AND($Q$23=1,$T$42=3),SUM($O$102:$O$110),0)","v":0},0,null,0,"x"]
[]
[null,{"$f":"Cen!A50","v":"Sada krytek HS, světle šedá"},null,null,null,null,{"$f":"Cen!E50","v":"20S8000"},null,{"$f":"Cen!G50","v":"HG/T"},0,{"$f":"Cen!I50","v":0},0,{"$f":"IF(AND($Q$14=2,$T$42=1),SUM($M$102:$M$110),0)","v":0},0,{"$f":"IF(AND($Q$23=2,$T$42=1),SUM($O$102:$O$110),0)","v":0},0,null,0,"x"]
[null,{"$f":"Cen!A51","v":"Sada krytek HS, tmavě šedá"},null,null,null,null,{"$f":"Cen!E51","v":"20S8000"},null,{"$f":"Cen!G51","v":"TGR"},{"$f":"SUM(M118,O118,Q118)","v":0},{"$f":"Cen!I51","v":0},{"$f":"J118*K118","v":0},{"$f":"IF(AND($Q$14=2,$T$42=2),SUM($M$102:$M$110),0)","v":0},{"$f":"$K118*M118","v":0},{"$f":"IF(AND($Q$23=2,$T$42=2),SUM($O$102:$O$110),0)","v":0},{"$f":"$K118*O118","v":0},null,{"$f":"$K118*Q118","v":0},"x"]
[null,{"$f":"Cen!A52","v":"Sada krytek HS, bílá"},null,null,null,null,{"$f":"Cen!E52","v":"20S8000"},null,{"$f":"Cen!G52","v":"SW/T"},0,{"$f":"Cen!I52","v":0},0,{"$f":"IF(AND($Q$14=2,$T$42=3),SUM($M$102:$M$110),0)","v":0},0,{"$f":"IF(AND($Q$23=2,$T$42=3),SUM($O$102:$O$110),0)","v":0},0,null,0,"x"]
[]
[null,{"$f":"Cen!A53","v":"Tyč příčné stabilizace ke zkrác."},null,null,null,null,{"$f":"Cen!E53","v":"20Q1061UN"},null,{"$f":"Cen!G53","v":"EV"},{"$f":"ROUNDUP(SUM($M$15*$O$17,$M$24*$R$17),0)","v":0},{"$f":"Cen!I53","v":0},0,{"$f":"ROUNDUP($M$15*$O$17,0)","v":0},0,{"$f":"ROUNDUP($M$24*$R$17,0)","v":0},0,null,0,"x"]
[]
[null,{"$f":"Cen!A54","v":"Spojovací díl příčné stabilizace"},null,null,null,null,{"$f":"Cen!E54","v":"20Q153ZN"},null,{"$f":"Cen!G54","v":"EV"},{"$f":"SUM(M123,O123,Q123)","v":0},{"$f":"Cen!I54","v":0},0,{"$f":"IF($Q$14<3,$O$18*$M$15,0)","v":0},0,{"$f":"IF($Q$23<3,$R$18*$M$24,0)","v":0},0,null,0,"x"]
[null,{"$f":"Cen!A55","v":0},null,null,null,null,{"$f":"Cen!E55","v":0},null,{"$f":"Cen!G55","v":0},0,{"$f":"Cen!I55","v":0},0,null,0,null,0]
[null,{"$f":"Cen!A56","v":0},null,null,null,null,{"$f":"Cen!E56","v":0},null,{"$f":"Cen!G56","v":0},0,{"$f":"Cen!I56","v":0},0,null,0,null,0]
[null,{"$f":"Cen!A57","v":0},null,null,null,null,{"$f":"Cen!E57","v":0},null,{"$f":"Cen!G57","v":0},0,{"$f":"Cen!I57","v":0},0,null,0,null,0]
[null,{"$f":"Cen!A119","v":0},null,null,null,null,{"$f":"Cen!E119","v":0},null,{"$f":"Cen!G119","v":0},0,{"$f":"Cen!I119","v":0},0,null,0,null,0]
[null,{"$f":"Cen!A120","v":"Sada čel.kování pro dřev. čela"},null,null,null,null,{"$f":"Cen!E120","v":"20S4200"},null,{"$f":"Cen!G120","v":"NI"},0,{"$f":"Cen!I120","v":0},0,{"$f":"IF($R$42=2,SUM(M$102:M$110),0)","v":0},0,{"$f":"IF($R$42=2,SUM(O$102:O$110),0)","v":0},0,null,null,"x"]
[null,{"$f":"Cen!A121","v":"Čelní.kování pro dřev. čela EXPANDO"},null,null,null,null,{"$f":"Cen!E121","v":"20S42E1"},null,{"$f":"Cen!G121","v":"NI"},0,{"$f":"Cen!I121","v":0},0,{"$f":"IF($R$42=1,SUM(M$102:M$110)*2,0)","v":0},0,{"$f":"IF($R$42=1,SUM(O$102:O$110)*2,0)","v":0},0,null,null,"x"]
[null,{"$f":"Cen!A122","v":"Sada čel.kování pro úzké alurámečky"},null,null,null,null,{"$f":"Cen!E122","v":"20S4200A"},null,{"$f":"Cen!G122","v":"NI"},0,{"$f":"Cen!I122","v":0},0,null,0,null,0]
[null,{"$f":"Cen!A151","v":"CLIP top krytka raménka Nikl"},null,null,null,null,{"$f":"Cen!E151","v":"70.1503"},null,{"$f":"Cen!G151","v":"NI"},{"$f":"SUM(M131,O131,Q131)","v":0},{"$f":"Cen!I151","v":0},0,{"$f":"SUM(M$102:M$110)*2","v":0},0,{"$f":"SUM(O$102:O$110)*2","v":0},0,null,null,"x"]
[null,null,null,null,null,null,null,null,null,null,null,0,null,0,null,0]
[null,null,null,null,null,null,null,null,null,null,null,0,null,0,null,0]
[null,{"$f":"Cen!A199","v":"SERVO-DRIVE jednotka (sada)"},null,null,null,null,{"$f":"Cen!E199","v":"21FA000"},null,{"$f":"Cen!G199","v":"HGR"},{"$f":"SUM(M134,O134,Q134)","v":0},{"$f":"Cen!I199","v":0},0,{"$f":"IF($Q$14=2,0,$M$15)","v":0},0,{"$f":"IF($Q$23=2,0,$M$24)","v":0},0,null,null,"x"]
[null,{"$f":"Cen!A200","v":"SERVO-DRIVE jednotka (sada) pro HK top"},null,null,null,null,{"$f":"Cen!E200","v":"23KA000"},null,{"$f":"Cen!G200","v":"HGR"},null,{"$f":"Cen!I200","v":0},0,null,0,null,0]
[]
[]
[null,null,null,null,null,null,null,null,null,null,{"$f":"List!$C$59&\" \"","v":"Cena celkem bez DPH "},{"$f":"SUM(L102:L136)","v":0},null,{"$f":"SUM(N102:N137)","v":0},null,{"$f":"SUM(P102:P137)","v":0},null,{"$f":"SUM(R102:R137)","v":0}]
[]
[null,null,null,null,null,null,null,null,null,null,null,{"$f":"List!$C$149","v":"Zpět"}]
[]
[]
[]
[]
[]
[]
[]
[]
[]
[]
[]
[]
[]
[]
[]
[]
[]
[]
[]
[]
[]
[]
[]
[]
[]
[]
[]
[]
[]
[]
[]
[]
[]
[]
[]
[]
[]
[]
[]
[]
[]
[]
[]
[]
[]
[]
[]
[]
[]
[]
[]
[]
[]
[]
[]
[]
[]
[]
[null,{"$f":"List!$C$71","v":"Výpočet hmotnosti čel"}]
[null,null,{"$f":"List!$C$161&\"  \"","v":"Provedení čel  "},null,null,null,null,null,{"$f":"IF(O207=3,IF(H200=0,N202,\" \"),IF(H200>0,N203,\" \"))","v":" "},null,null,null,null,{"$f":"IF($O$207=1,$O$208,IF($O$207=2,$O$209,$O$210&\" \"&$N$210&\"kg/m3\"))&\" A~\"&$H$208&\"/ B~\"&$H$217&\"mm\"","v":"MDF (760 kg/m3) A~/ B~mm"}]
[null,null,null,{"$f":"IF($O$207<>3,$N$201,\" \")&\"      \"","v":" Změnit hodnoty můžete v Úvodu plánování      "},null,null,null,null,null,null,null,null,null,{"$f":"\" \"&List!$C$382","v":" Změnit hodnoty můžete v Úvodu plánování"}]
[null,null,null,null,null,null,null,null,null,null,null,null,null,{"$f":"\" \"&List!$C$225&\" [kg/m3]\"","v":" Zadejte objemovou hmotnost  [kg/m3]"}]
[null,null,null,null,null,null,null,null,null,null,null,null,null,{"$f":"\" \"&List!$C$221&\" '\"&List!$C$86&\"'\"","v":" Hodnota platí jen pro volbu 'Jiné - volitelná hustota'"}]
[]
[null,null,null,null,null,{"$f":"D9","v":"Korpus A"}]
[null,{"$f":"List!$C$72&\" KB [mm]       \"","v":"Šířka korpusu KB [mm]       "},null,null,null,null,null,{"$f":"H10","v":0},null,null,null,null,null,{"$f":"H206*H207*H208","v":0},null,null,null,null,3.51,"alu"]
[null,{"$f":"List!$C$73&\" KH [mm]       \"","v":"Výška korpusu KH [mm]       "},null,null,null,null,null,{"$f":"H11","v":0},null,null,null,null,null,{"$f":"N206/1000000000","v":0},1,null,null,null,"váha alu",{"$f":"SUM(H206*2,H207*2)*S206/10000","v":0},3]
[null,{"$f":"List!$C$77&\" TS [mm] \"","v":"Síla čela TS [mm] "},null,null,null,null,null,null,{"$f":"IF(SUM(H206,H207)=0,\" \",IF(H208=0,\" ● \"&List!$C$111,\" \"))","v":" "},null,null,null,null,{"$f":"Menu!$L$30","v":760},{"$f":"List!$C$84&\" (\"&N208&\" kg/m3)\"","v":"MDF (760 kg/m3)"},null,null,null,10,{"$f":"SUM($H$206*$H$207*$S208)/1000000","v":0},{"$f":"List!$C$87","v":"Alurámečky s 4mm sklem"}]
[null,{"$f":"List!$C$78&\" [kg] \"","v":"Hmotnost úchytky [kg] "},null,null,null,null,null,null,{"$f":"IF(SUM(H206,H207)=0,\" \",IF(H209=0,\" ● \"&List!$C$112,\" \"))","v":" "},null,null,null,null,{"$f":"Menu!$L$31","v":680},{"$f":"List!$C$85&\" (\"&N209&\" kg/m3)\"","v":"Dřevotříska (680 kg/m3)"},null,null,null,15,{"$f":"SUM($H$206*$H$207*$S209)/1000000","v":0},{"$f":"List!$C$88","v":"Alurámečky s 5mm sklem"}]
[null,{"$f":"List!$C$76&\" [kg] \"","v":"Vypočtená hmotnost čela [kg] "},null,null,null,null,null,{"$f":"IF(M210=0,0,M210+H209)","v":0},null,null,null,null,{"$f":"IF(H206*H207*H208=0,0,IF(O207=1,N207*N208,IF(O207=2,N207*N209,N207*N210)))","v":0},{"$f":"$H$200","v":0},{"$f":"List!$C$86","v":"Jiné - volitelná hustota"},null,null,null,{"$f":"2.5*$H$200","v":0},{"$f":"SUM($H$206*$H$207*$S210)/1000000","v":0},{"$f":"List!$C$89","v":"Alurámečky s jiným sklem"}]
[null,null,{"$f":"IF(H210>0,IF(H209=0,$N$227,\" \"),\" \")","v":" "},null,null,null,null,null,null,null,null,null,null,null,null,null,null,null,{"$f":"SUM(IF(U207=1,T208,IF(U207=2,T209,T210)),T207)","v":0}]
[]
[]
[null,null,null,null,null,{"$f":"D18","v":"Korpus B"}]
[null,{"$f":"List!$C$72&\" KB [mm]       \"","v":"Šířka korpusu KB [mm]       "},null,null,null,null,null,{"$f":"H19","v":0},null,null,null,null,null,{"$f":"H215*H216*H217","v":0},null,null,null,null,3.51,"alu"]
[null,{"$f":"List!$C$73&\" KH [mm]       \"","v":"Výška korpusu KH [mm]       "},null,null,null,null,null,{"$f":"H20","v":0},null,null,null,null,null,{"$f":"N215/1000000000","v":0},{"$f":"O207","v":1},null,null,null,"váha alu",{"$f":"SUM(H215*2,H216*2)*S215/10000","v":0},{"$f":"U207","v":3}]
[null,{"$f":"List!$C$77&\" TS [mm] \"","v":"Síla čela TS [mm] "},null,null,null,null,null,null,{"$f":"IF(SUM(H215,H216)=0,\" \",IF(H217=0,\" ● \"&List!$C$111,\" \"))","v":" "},null,null,null,null,{"$f":"$N$208","v":760},{"$f":"$O$208","v":"MDF (760 kg/m3)"},null,null,null,8.8000000000000007,{"$f":"SUM($H$215*$H$216*$S217)/1000000","v":0},{"$f":"List!$C$87","v":"Alurámečky s 4mm sklem"}]
[null,{"$f":"List!$C$78&\" [kg] \"","v":"Hmotnost úchytky [kg] "},null,null,null,null,null,null,{"$f":"IF(SUM(H215,H216)=0,\" \",IF(H218=0,\" ● \"&List!$C$112,\" \"))","v":" "},null,null,null,null,{"$f":"$N$209","v":680},{"$f":"$O$209","v":"Dřevotříska (680 kg/m3)"},null,null,null,13.2,{"$f":"SUM($H$215*$H$216*$S218)/1000000","v":0},{"$f":"List!$C$88","v":"Alurámečky s 5mm sklem"}]
[null,{"$f":"List!$C$76&\" [kg] \"","v":"Vypočtená hmotnost čela [kg] "},null,null,null,null,null,{"$f":"IF(M219=0,0,M219+H218)","v":0},null,null,null,null,{"$f":"IF(H215*H216*H217=0,0,IF(O216=1,N216*N217,IF(O216=2,N216*N218,N216*N219)))","v":0},{"$f":"$N$210","v":0},{"$f":"$O$210","v":"Jiné - volitelná hustota"},null,null,null,{"$f":"2.2*$H$200","v":0},{"$f":"SUM($H$215*$H$216*$S219)/1000000","v":0},{"$f":"List!$C$89","v":"Alurámečky s jiným sklem"}]
[null,null,{"$f":"IF(H219>0,IF(H218=0,$N$227,\" \"),\" \")","v":" "},null,null,null,null,null,null,null,null,null,null,null,null,null,null,null,{"$f":"SUM(IF(U216=1,T217,IF(U216=2,T218,T219)),T216)","v":0}]
[]
[]
[]
[null,null,null,null,null,null,{"$f":"List!$C$149","v":"Zpět"}]
[]
[]
[null,null,{"$f":"List!$C$217&\" \"&List!$C$218","v":"Upozornění: Vypočtené hodnoty jsou pouze orientační.  Firma Blum ani prodejci neručí za jejich správnost."},null,null,null,null,null,null,null,null,null,null,{"$f":"List!$C$95&\"!\"","v":"Není započtena hmotnost úchytky!"}]
[]
[]
[]
[]
[]
[]
[]
[]
[]
[]
[]
[]
[]
[]
[]
[]
[]
[]
[]
[]
[]
[]
[]
[]
[]
[]
[]
[]
[]
[]
[]
[]
[]
[]
[]
[]
[]
[]
[]
[]
[]
[]
[]
[]
[]
[]
[]
[]
[]
[]
[]
[]
[]
[]
[]
[]
[]
[]
[]
[]
[]
[]
[]
[]
[]
[]
[]
[]
[]
[]
[]
[]
[]
[]
[]
[]
[]
[]
[]
[]
[]
[]
[]
[]
[]
[]
[]
[]
[]
[]
[]
[]
[]
[]
[]
[]
[]
[]
[]
[]
[]
[]
[]
[]
[]
[]
[]
[]
[]
[]
[]
[]
[]
[]
[]
[]
[]
[]
[]
[]
[]
[]
[]
[]
[]
[]
[]
[]
[]
[]
[]
[]
[]
[]
[]
[]
[]
[]
[]
[]
[]
[]
[]
[]
[]
[]
[]
[]
[]
[]
[]
[]
[]
[]
[]
[]
[]
[]
[]
[]
[]
[]
[]
[]
[]
[]
[]
[]
[]
[]
[]
[null,"      AVENTOS HS"]
[]
[null,{"$f":"List!$C$311","v":"Pro výběr správného zdvihače potřebujete znát výšku korpusu a hmotnost čela."}]
[]
[null,{"$f":"List!$C$313","v":"Výška korpusu KH = 602 mm zaokrouhlit na KH = 600 mm"}]
[null,{"$f":"List!$C$314","v":"Výška korpusu KH = 603 mm zaokrouhlit na KH = 605 mm"}]
[]
[null,{"$f":"List!$C$289","v":"Pokud znáte hmotnost čela, můžete ji zadat, jinak použijte \"Výpočet hmotnosti\"."}]
[null,{"$f":"List!$C$290","v":"V tabulce má přednost zadaná hodnota. Chcete-li použít vypočtenou hmotnost, smažte zadanou hodnotu."}]
[]
[]
[null,{"$f":"List!$C$284","v":"Chcete-li změnit barvu krytek, přejděte na \"Úvod\""}]
[]
[]
[null,null,null,null,null,null,null,null,null,null,null,{"$f":"List!$C$149","v":"Zpět"}]

{"sheet":"HSwa","index":16,"n_rows":420,"n_cols":89,"rows_kept":420,"cut":false,"hidden":false,"merged":[[10,1,10,6],[14,1,14,6],[6,6,6,7],[3,51,3,52],[11,1,11,6],[12,1,12,6],[3,47,3,48],[1,1,1,2],[1,3,1,4],[1,5,1,6],[1,7,1,8],[3,36,3,37],[3,5,3,10],[1,9,1,10],[1,16,1,17],[3,22,3,23],[3,25,3,26],[3,27,3,28],[1,13,1,14],[3,49,3,50],[3,40,3,41],[3,38,3,39],[3,29,3,30],[97,0,152,0],[204,5,204,7],[205,1,205,6],[206,1,206,6],[197,0,230,0],[213,5,213,7],[214,1,214,6],[215,1,215,6],[18,1,18,6],[21,1,21,6],[23,1,23,6],[0,78,0,88],[6,78,6,86],[58,78,58,79],[208,1,208,6],[209,1,209,6],[41,47,41,48],[41,49,41,50],[41,27,41,28],[41,25,41,26],[17,3,17,7],[41,51,41,52],[72,22,72,23],[41,29,41,30],[41,36,41,37],[41,38,41,39],[41,40,41,41],[41,22,41,23],[4,6,5,10],[13,1,13,6],[26,15,26,16],[13,14,13,15],[6,1,6,2],[8,3,8,7],[9,1,9,6],[397,0,438,0],[326,8,326,9],[316,1,316,7],[316,8,316,9],[317,1,317,7],[317,8,317,9],[318,8,318,9],[300,0,354,0],[305,8,305,9],[319,1,319,7],[319,8,319,9],[318,1,318,7],[215,20,215,21],[207,1,207,6],[22,1,22,6],[22,14,22,15],[313,1,313,5],[315,1,315,7],[226,2,228,10],[19,1,19,6],[20,1,20,6],[206,20,206,21],[306,8,306,9],[305,12,305,13],[310,1,310,9],[308,8,308,9],[315,8,315,9],[216,1,216,6],[217,1,217,6],[218,1,218,6],[223,6,223,7],[307,8,307,9],[26,1,28,9],[306,1,306,7],[307,1,307,7],[231,0,258,0],[242,6,242,7],[311,6,311,9],[312,1,312,5],[303,1,303,9],[311,1,311,5],[308,1,308,7],[305,1,305,7],[304,8,304,9],[304,1,304,7]]}
[1]
[null,"AVENTOS HF",null,"AVENTOS HS",null,"AVENTOS HL",null,"AVENTOS HK top",null,"AVENTOS HK-S",null,"AVENTOS HK-XS",null,"zdvih A",null,null,"zdvih B",null,null,"rámeček",null,null,null,null,null,null,null,null,null,null,null,null,null,null,null,null,null,null,null,null,null,null,null,null,null,null,null,null,null,null,null,null,null,null,null,3,null,null,{"$f":"List!$C$135","v":"Jdi na"}]
[]
[null,{"$f":"List!$C$18&\" ***\"","v":"Široký alurámeček ***"},null,null,null,{"$f":"N200&\"       \"","v":"Alurámečky s 4mm sklem       "},null,null,null,null,null,null,null,"S1A",{"$f":"SUM(AW5:AW40)","v":0},null,"S1A",{"$f":"SUM(AW43:AW78)","v":0},null,1,null,null,"zdvih A",null,null,"20S1G00",null,"20S1H00",null,"20S1I00",null,"max",null,null,null,null,"20S1D00",null,"20S1E00",null,"20S1F00",null,"max",null,null,null,null,"20S1A00",null,"20S1B00",null,"20S1C00",null,"max",null,{"$f":"\" \"&List!$C$39&\" A \"","v":" Cena za korpus A "},null,null,{"$f":"List!$C$136","v":"Úvod plánování"}]
[null,null,null,null,null,null,{"$f":"List!$C$47&\" \"&List!$C$22&\"       \"","v":"Nastavit hmotnost alurámečků       "},null,null,null,null,null,null,"S1B",{"$f":"SUM(AY5:AY40)","v":0},null,"S1B",{"$f":"SUM(AY43:AY78)","v":0},null,"A = 1",null,null,800,797,801,4,{"$f":"IF($H$11<$Y5,IF($H$11>$X5,IF($P$15>SUM(Z5-0.01),IF($P$15<AB5,1,0),0),0),0)","v":0},6.5,{"$f":"IF($H$11<$Y5,IF($H$11>$X5,IF($P$15>SUM(AB5-0.01),IF($P$15<AD5,1,0),0),0),0)","v":0},11.375,{"$f":"IF($H$11<$Y5,IF($H$11>$X5,IF($P$15>SUM(AD5-0.01),IF($P$15<AF5,1,0),0),0),0)","v":0},20.001000000000001,null,675,672,676,3,{"$f":"IF($H$11<$AJ5,IF($H$11>$AI5,IF($P$15>SUM(AK5-0.01),IF($P$15<AM5,1,0),0),0),0)","v":0},5.125,{"$f":"IF($H$11<$AJ5,IF($H$11>$AI5,IF($P$15>SUM(AM5-0.01),IF($P$15<AO5,1,0),0),0),0)","v":0},10.375,{"$f":"IF($H$11<$AJ5,IF($H$11>$AI5,IF($P$15>SUM(AO5-0.01),IF($P$15<AQ5,1,0),0),0),0)","v":0},19.001000000000001,null,525,522,526,2.5,{"$f":"IF($H$11<$AU5,IF($H$11>$AT5,IF($P$15>SUM(AV5-0.01),IF($P$15<AX5,1,0),0),0),0)","v":0},3.625,{"$f":"IF($H$11<$AU5,IF($H$11>$AT5,IF($P$15>SUM(AX5-0.01),IF($P$15<AZ5,1,0),0),0),0)","v":0},7.375,{"$f":"IF($H$11<$AU5,IF($H$11>$AT5,IF($P$15>SUM(AZ5-0.01),IF($P$15<BB5,1,0),0),0),0)","v":0},15.000999999999999,null,{"$f":"\" \"&List!$C$39&\" B \"","v":" Cena za korpus B "},null,null,{"$f":"List!$C$137","v":"Nápověda"}]
[null,null,null,null,null,null,null,null,null,null,null,null,null,"S1C",{"$f":"SUM(BA5:BA40)","v":0},null,"S1C",{"$f":"SUM(BA43:BA78)","v":0},null,"B = 2",null,null,{"$f":"W5-5","v":795},792,798,4,{"$f":"IF($H$11<$Y6,IF($H$11>$X6,IF($P$15>SUM(Z6-0.01),IF($P$15<AB6,1,0),0),0),0)","v":0},6.5,{"$f":"IF($H$11<$Y6,IF($H$11>$X6,IF($P$15>SUM(AB6-0.01),IF($P$15<AD6,1,0),0),0),0)","v":0},11.375,{"$f":"IF($H$11<$Y6,IF($H$11>$X6,IF($P$15>SUM(AD6-0.01),IF($P$15<AF6,1,0),0),0),0)","v":0},20.001000000000001,null,{"$f":"AH5-5","v":670},667,673,3,{"$f":"IF($H$11<$AJ6,IF($H$11>$AI6,IF($P$15>SUM(AK6-0.01),IF($P$15<AM6,1,0),0),0),0)","v":0},5.125,{"$f":"IF($H$11<$AJ6,IF($H$11>$AI6,IF($P$15>SUM(AM6-0.01),IF($P$15<AO6,1,0),0),0),0)","v":0},10.375,{"$f":"IF($H$11<$AJ6,IF($H$11>$AI6,IF($P$15>SUM(AO6-0.01),IF($P$15<AQ6,1,0),0),0),0)","v":0},19.001000000000001,null,{"$f":"AS5-5","v":520},517,523,2.5,{"$f":"IF($H$11<$AU6,IF($H$11>$AT6,IF($P$15>SUM(AV6-0.01),IF($P$15<AX6,1,0),0),0),0)","v":0},3.75,{"$f":"IF($H$11<$AU6,IF($H$11>$AT6,IF($P$15>SUM(AX6-0.01),IF($P$15<AZ6,1,0),0),0),0)","v":0},7.375,{"$f":"IF($H$11<$AU6,IF($H$11>$AT6,IF($P$15>SUM(AZ6-0.01),IF($P$15<BB6,1,0),0),0),0)","v":0},15.000999999999999,null,{"$f":"\" \"&List!$C$59","v":" Cena celkem bez DPH"}]
[null,{"$f":"List!$C$142","v":"Soupis kování"},null,null,null,null,{"$f":"IF($BD$2=1,$N$138,IF($BD$2=2,$P$138,IF($BD$2=3,$L$138,0)))","v":0},null,null,null,null,null,null,"S1D",{"$f":"SUM(AL5:AL35)","v":0},null,"S1D",{"$f":"SUM(AL43:AL73)","v":0},null,null,null,null,790,787,793,4,{"$f":"IF($H$11<$Y7,IF($H$11>$X7,IF($P$15>SUM(Z7-0.01),IF($P$15<AB7,1,0),0),0),0)","v":0},6.5,0,11.5,0,20.001000000000001,null,665,662,668,3,0,5.125,0,10.375,0,19.001000000000001,null,515,512,518,2.5,0,3.75,0,7.375,0,14.750999999999999,null,null,null,null,{"$f":"List!$C$141","v":"Doplňky"},null,null,null,null,null,null,null,null,null,null,null,null,null,null,null,null,null,null,null,{"$f":"List!$C$74&\" [kg]\"","v":"Hmotnost čela včetně úchytky [kg]"}]
[null,null,null,null,null,null,null,{"$f":"IF(AND(OR($Q$14=1, $Q$23=1), $L$138>0), $N$32, \" \")","v":" "},null,null,null,null,null,"S1E",{"$f":"SUM(AN5:AN35)","v":0},null,"S1E",{"$f":"SUM(AN43:AN73)","v":0},null,null,null,null,785,782,788,4,0,6.625,0,11.625,0,20.001000000000001,null,660,657,663,3,0,5.375,0,10.625,0,19.001000000000001,null,510,507,513,2.5,0,3.75,0,7.625,0,14.750999999999999,null,null,null,null,null,null,null,null,null,null,null,null,null,null,null,null,null,null,null,null,null,null,null,null,"KH [mm]","20S2G00.05","20S2H00.05","20S2I00.05",null,"KH [mm]","20S2D00.05","20S2E00.05","20S2F00.05",null,{"$f":"List!$C$149","v":"Zpět"}]
[null,"SERVO-DRIVE",null,{"$f":"List!$C$62&\" A\"","v":"Korpus A"},null,null,null,null,null,null,null,null,null,"S1F",{"$f":"SUM(AP5:AP35)","v":0},null,"S1F",{"$f":"SUM(AP43:AP73)","v":0},null,null,null,null,780,777,783,4,0,6.625,0,11.625,0,20.251000000000001,null,655,652,658,3,0,5.375,0,10.625,0,19.001000000000001,null,505,502,508,2.5,0,3.75,0,7.625,0,14.750999999999999,null,null,null,null,{"$f":"List!$C$139","v":"Přehled korpusů"},null,null,null,null,null,null,null,null,null,null,null,null,null,null,null,null,null,null,null,800,"4.00-7.00","6.00-12.25","10.50-20.00",null,570,"3.00-6.25","5.75-12.25","11.25-17.75"]
[null,{"$f":"List!$C$72&\" KB [mm] \"","v":"Šířka korpusu KB [mm] "},null,null,null,null,null,null,{"$f":"IF($H10=0,\" \",IF($H10<220,\" min. 220mm\",IF($H10>1800,\" max. 1 800mm\",\" \")))&IF(H15>0,IF(H10=0,\"● \"&List!$C$111,\" \"),\" \")","v":"  "},null,null,null,null,"S1G",{"$f":"SUM(AA5:AA30)","v":0},null,"S1G",{"$f":"SUM(AA43:AA68)","v":0},null,null,null,null,775,772,778,3.75,0,6.625,0,11.75,0,20.251000000000001,null,650,647,653,3,0,5.375,0,10.625,0,19.001000000000001,null,500,497,503,2.5,0,3.875,0,7.625,0,14.750999999999999,null,null,null,null,{"$f":"List!$C$140","v":"Objednávka"},null,null,null,null,null,null,null,null,null,null,null,null,null,null,null,null,null,null,null,795,"4.00-7.00","6.00-12.25","10.50-20.00",null,656,"3.00-6.25","5.75-12.25","11.25-17.75"]
[null,{"$f":"List!$C$73&\" KH [mm]  \"","v":"Výška korpusu KH [mm]  "},null,null,null,null,null,null,{"$f":"IF($H11=0,\" \",IF($H11<350,\" min. 350mm\",IF($H11>800,\" max. 800 mm\",\" \")))&IF(H15>0,IF(H11=0,\"● \"&List!$C$111,\" \"),\" \")","v":"  "},null,null,null,null,"S1H",{"$f":"SUM(AC5:AC30)","v":0},null,"S1H",{"$f":"SUM(AC43:AC68)","v":0},null,null,null,null,770,767,773,3.75,0,6.625,0,11.75,0,20.251000000000001,null,645,642,648,3,0,5.375,0,10.625,0,18.751000000000001,null,495,492,498,2.5,0,4,0,7.625,0,14.500999999999999,null,null,null,null,null,null,null,null,null,null,null,null,null,null,null,null,null,null,null,null,null,null,null,null,790,"4.00-7.00","6.00-12.25","10.75-20.00",null,560,"3.00-6.50","6.00-12.25","11.25-17.50"]
[null,{"$f":"List!$C$74&\" [kg] ** \"","v":"Hmotnost čela včetně úchytky [kg] ** "},null,null,null,null,null,null,{"$f":"IF($H15=0,\" \",IF(SUM($H12,$H13)=0,$BD$34,\" \"))&IF(AND(SUM($O$4:$O$12)=0,$T12=\"ano\",H12>0),$BD$38,IF(AND($H15>0,$H12>0,T$12=\"ano\"),$BD$35,\" \"))","v":"  "},null,null,null,null,"S1I",{"$f":"SUM(AE5:AE31)","v":0},null,"S1I",{"$f":"SUM(AE43:AE68)","v":0},"limit v/š",{"$f":"IF(AND(219<H10,H10<1801,349<H11,H11<801),\"ano\",\"ne\")","v":"ne"},null,null,765,762,768,3.75,0,6.875,0,11.75,0,20.251000000000001,null,640,637,643,3,0,5.375,0,10.625,0,18.751000000000001,null,490,487,493,2.5,0,4,0,7.875,0,14.500999999999999,null,null,null,null,null,null,null,null,null,null,null,null,null,null,null,null,null,null,null,null,null,null,null,null,785,"4.00-7.00","6.25-12.50","10.75-20.00",null,555,"3.00-6.50","6.00-12.50","11.50-17.50"]
[null,{"$f":"List!$C$76&\" [kg]       \"","v":"Vypočtená hmotnost čela [kg]       "},null,null,null,null,null,{"$f":"$H$210","v":0},{"$f":"IF($H15>0,IF($H13>0,IF($H12=0,$BD$35,\" \"),\" \"),\" \")","v":" "},null,null,null,null,null,null,"Servo-Drive",null,null,null,null,null,null,760,757,763,3.75,0,6.875,0,12,0,20.251000000000001,null,635,632,638,3,0,5.375,0,10.875,0,18.751000000000001,null,485,482,488,2.5,0,4,0,7.875,0,14.250999999999999,null,null,null,null,{"$f":"\" \"&List!$C$177&\" A\"","v":" Výpočet hmotnosti A"},null,null,null,null,null,null,null,null,null,null,null,null,null,null,null,null,null,null,null,780,"4.00-7.00","6.25-12.50","10.75-20.00",null,550,"3.00-6.50","6.00-12.50","11.50-17.25"]
[null,{"$f":"List!$C$27&\" * \"","v":"Počet mezistěn * "},null,null,null,null,null,null,null,null,null,null,null,null,false,null,{"$f":"IF($O$14=FALSE,2,1)","v":2},null,null,null,null,null,755,752,758,3.75,0,6.875,0,12,0,20.501000000000001,null,630,627,633,3,0,5.625,0,10.875,0,18.751000000000001,null,480,477,483,2.5,0,4,0,7.875,0,14.250999999999999,null,null,null,null,null,null,null,null,null,null,null,null,null,null,null,null,null,null,null,null,null,null,null,null,775,"3.75-7.00","6.25-12.50","11.00-20.25",null,545,"3.00-6.50","6.00-12.50","11.50-17.25"]
[null,{"$f":"List!$C$69","v":"Počet skříněk"},null,null,null,null,null,null,null,null,null,null,{"$f":"IF($H10*$H$11*$P15=0,0,IF(SUM(O4:O12)=0,0,IF(H10>1800,0,IF(H10<220,0,H15))))","v":0},null,"hmot =",{"$f":"IF(H12>0,H12,H13)","v":0},{"$f":"IF(SUM(H12,H13)=0,0,IF(H12>0,1,2))","v":0},"zadaná / vypočtená",null,null,null,null,750,747,753,3.5,0,6.875,0,12.125,0,20.501000000000001,null,625,622,628,3,0,5.625,0,10.875,0,18.751000000000001,null,475,472,478,2.5,0,4,0,7.875,0,14.000999999999999,null,null,null,null,null,null,null,null,null,null,null,null,null,null,null,null,null,null,null,null,null,null,null,null,770,"3.75-7.00","6.25-12.50","11.00-20.25",null,540,"3.00-6.50","6.00-12.75","11.75-17.00"]
[null,{"$f":"IF(H15>0,IF(Q15=0,\" \",IF(Q15=1,$BD$47,$BD$48)),\" \")&IF(H15>0,IF(Q15=0,\" \",IF(Q15=1,$BD$49,$BD$50)),\" \")","v":"  "},null,null,null,null,null,null,null,null,null,null,null,null,null,null,null,null,null,null,null,null,745,742,748,3.5,0,6.875,0,12.125,0,20.501000000000001,null,620,617,623,3,0,5.625,0,10.875,0,18.751000000000001,null,470,467,473,2.5,0,4.125,0,8.125,0,14.000999999999999,null,null,null,null,null,null,null,null,null,null,null,null,null,null,null,null,null,null,null,null,null,null,null,null,765,"3.75-7.25","6.50-12.50","11.00-20.25",null,535,"3.00-6.75","6.25-12.75","11.75-16.75"]
[null,null,null,null,null,null,null,null,null,null,null,null,null,"tyč",{"$f":"IF($H$10>1360,1.5,IF($H$10<610,0.5,1))","v":0.5},null,"tyč",{"$f":"IF($H$19>1360,1.5,IF($H$19<610,0.5,1))","v":0.5},null,null,null,null,740,737,743,3.5,0,6.875,0,12.25,0,20.751000000000001,null,615,612,618,3,0,5.625,0,10.875,0,18.751000000000001,null,465,462,468,2.25,0,4.125,0,8.125,0,13.750999999999999,null,null,null,null,{"$f":"\" \"&List!$C$361","v":" Ověření síly zdvihače"},null,null,null,null,null,null,null,null,null,null,null,null,null,null,null,null,null,null,null,760,"3.75-7.25","6.50-12.75","11.25-20.25",null,530,"3.00-6.75","6.25-12.75","11.75-16.75"]
[null,"SERVO-DRIVE",null,{"$f":"List!$C$62&\" B\"","v":"Korpus B"},null,null,null,null,null,null,null,null,null,"mezistěny",{"$f":"IF($H$14>0,$H$14,IF($H$10>1219,1,0))","v":0},null,"mezistěny",{"$f":"IF($H$23>0,$H$23,IF($H$19>1219,1,0))","v":0},null,null,null,null,735,732,738,3.5,0,6.875,0,12.375,0,20.751000000000001,null,610,607,613,3,0,5.75,0,11.125,0,18.501000000000001,null,460,457,463,2.25,0,4.125,0,8.125,0,13.750999999999999,null,null,null,null,null,null,null,null,null,null,null,null,null,null,null,null,null,null,null,null,null,null,null,null,755,"3.75-7.25","6.50-12.75","11.25-20.50",null,526,"3.00-6.75","6.25-13.00","12.00-16.50"]
[null,{"$f":"List!$C$72&\" KB [mm] \"","v":"Šířka korpusu KB [mm] "},null,null,null,null,null,null,{"$f":"IF($H19=0,\" \",IF($H19<220,\" min. 220mm\",IF($H19>1800,\" max. 1 800mm\",\" \")))&IF(H24>0,IF(H19=0,\"● \"&List!$C$111,\" \"),\" \")","v":"  "},null,null,null,null,null,null,null,null,null,null,null,null,null,730,727,733,3.5,0,7.125,0,12.375,0,21.001000000000001,null,605,602,608,3,0,5.75,0,11.125,0,18.501000000000001,null,455,452,458,2.25,0,4.125,0,8.375,0,13.500999999999999,null,null,null,null,null,null,null,null,null,null,null,null,null,null,null,null,null,null,null,null,null,null,null,null,750,"3.50-7.25","6.50-12.75","11.50-20.50"]
[null,{"$f":"List!$C$73&\" KH [mm] \"","v":"Výška korpusu KH [mm] "},null,null,null,null,null,null,{"$f":"IF($H20=0,\" \",IF($H20<350,\" min. 350mm\",IF($H20>800,\" max. 800 mm\",\" \")))&IF(H24>0,IF(H20=0,\"● \"&List!$C$111,\" \"),\" \")","v":"  "},null,null,null,null,null,null,null,null,null,null,null,null,null,725,722,728,3.5,0,7.125,0,12.5,0,21.001000000000001,null,600,597,603,3,0,5.75,{"$f":"IF($H$11<$AJ20,IF($H$11>$AI20,IF($P$15>SUM(AM20-0.01),IF($P$15<AO20,1,0),0),0),0)","v":0},11.125,0,18.501000000000001,null,450,447,453,2.25,0,4.125,0,8.375,0,13.500999999999999,null,null,null,null,null,null,null,null,null,null,null,null,null,null,null,null,null,null,null,null,null,null,null,null,745,"3.50-7.25","6.50-12.75","11.50-20.50",null,"KH [mm]","20S2A00.05","20S2B00.05","20S2C00.05"]
[null,{"$f":"List!$C$74&\" [kg] ** \"","v":"Hmotnost čela včetně úchytky [kg] ** "},null,null,null,null,null,null,{"$f":"IF($H24=0,\" \",IF(SUM($H21,$H22)=0,$BD$34,\" \"))&IF(AND(SUM($R$4:$R$12)=0,$T21=\"ano\",H21>0),$BD$38,IF(AND($H24>0,$H21>0,T$21=\"ano\"),$BD$35,\" \"))","v":"  "},null,null,null,null,null,null,null,null,null,"limit v/š",{"$f":"IF(AND(219<H19,H19<1801,349<H20,H20<801),\"ano\",\"ne\")","v":"ne"},null,null,720,717,723,3.5,0,7.125,0,12.5,0,21.251000000000001,null,595,592,598,3,0,5.75,0,11.125,0,18.501000000000001,null,445,442,448,2.25,0,4.375,0,8.375,0,13.250999999999999,null,null,null,null,null,null,null,null,null,null,null,null,null,null,null,null,null,null,null,null,null,null,null,null,740,"3.50-7.25","6.50-12.75","11.75-20.75",null,525,"2.50-4.00","3.25-7.50","7.25-15.00"]
[null,{"$f":"List!$C$76&\" [kg]       \"","v":"Vypočtená hmotnost čela [kg]       "},null,null,null,null,null,{"$f":"$H$219","v":0},{"$f":"IF($H24>0,IF($H22>0,IF($H21=0,$BD$35,\" \"),\" \"),\" \")","v":" "},null,null,null,null,null,null,"Servo-Drive",null,null,null,null,null,null,{"$f":"W21-5","v":715},712,718,3.5,0,7.125,0,12.5,0,21.251000000000001,null,{"$f":"AH21-5","v":590},587,593,3,0,5.75,0,11.375,0,18.251000000000001,null,{"$f":"AS21-5","v":440},437,443,2.25,0,4.375,0,8.375,0,13.000999999999999,null,null,null,null,{"$f":"\" \"&List!$C$177&\" B\"","v":" Výpočet hmotnosti B"},null,null,null,null,null,null,null,null,null,null,null,null,null,null,null,null,null,null,null,735,"3.50-7.50","6.50-13.00","11.75-20.75",null,520,"2.50-4.00","3.50-7.50","7.25-15.00"]
[null,{"$f":"List!$C$27&\" * \"","v":"Počet mezistěn * "},null,null,null,null,null,null,null,null,null,null,null,null,false,null,{"$f":"IF($O$23=FALSE,2,1)","v":2},null,null,null,null,null,710,707,713,3.5,0,7.25,0,12.75,0,21.251000000000001,null,585,582,588,3,0,6,0,11.375,0,18.251000000000001,null,435,432,438,2.25,0,4.375,0,8.625,0,13.000999999999999,null,null,null,null,null,null,null,null,null,null,null,null,null,null,null,null,null,null,null,null,null,null,null,null,730,"3.50-7.50","6.75-13.00","11.75-21.00",null,515,"2.50-4.00","3.50-7.50","7.25-14.75"]
[null,{"$f":"List!$C$69","v":"Počet skříněk"},null,null,null,null,null,null,null,null,null,null,{"$f":"IF($H19*$H$20*$P24=0,0,IF(SUM(R4:R12)=0,0,IF(H19>1800,0,IF(H19<220,0,H24))))","v":0},null,"hmot =",{"$f":"IF(H21>0,H21,H22)","v":0},{"$f":"IF(SUM(H21,H22)=0,0,IF(H21>0,1,2))","v":0},"zadaná / vypočtená",null,null,null,null,705,702,708,3.5,0,7.25,0,12.75,0,21.501000000000001,null,580,577,583,3,0,6,0,11.5,0,18.001000000000001,null,430,427,433,2.25,0,4.375,0,8.625,0,12.750999999999999,null,null,null,null,null,null,null,null,null,null,null,null,null,null,null,null,null,null,null,null,null,null,null,null,725,"3.50-7.50","6.75-13.00","12.00-21.00",null,510,"2.50-4.00","3.50-7.75","7.50-14.75"]
[null,{"$f":"IF(H24>0,IF(Q24=0,\" \",IF(Q24=1,$BD$47,$BD$48)),\" \")&IF(H24>0,IF(Q24=0,\" \",IF(Q24=1,$BD$49,$BD$50)),\" \")","v":"  "},null,null,null,null,null,null,null,null,null,null,null,null,null,null,null,null,null,null,null,null,700,697,703,3.5,0,7.25,0,12.875,0,21.501000000000001,null,575,572,578,3,0,6,0,11.5,0,18.001000000000001,null,425,422,428,2.25,0,4.375,0,8.625,0,12.750999999999999,null,null,null,null,null,null,null,null,null,null,null,null,null,null,null,null,null,null,null,null,null,null,null,null,720,"3.50-7.50","6.75-13.00","12.00-21.25",null,505,"2.50-4.00","3.50-7.75","7.50-14.75"]
[null,null,null,null,null,null,null,null,null,null,null,null,null,null,null,null,null,null,null,null,null,null,695,692,698,3.5,0,7.25,0,12.875,0,21.501000000000001,null,570,567,573,3,0,6,0,11.75,0,17.751000000000001,null,420,417,423,2.25,0,4.375,0,8.625,0,12.500999999999999,null,null,null,null,null,null,null,null,null,null,null,null,null,null,null,null,null,null,null,null,null,null,null,null,715,"3.50-7.50","6.75-13.00","12.00-21.25",null,500,"2.50-4.25","3.50-7.75","7.50-14.75"]
[null,{"$f":"IF(OR(AND($Q$14=1, $M$15>0), AND($Q$23=1, $M$24>0)), List!$C$157, \" \")","v":" "},null,null,null,null,null,null,null,null,null,null,null,null,{"$f":"IF($P$27=FALSE,2,1)","v":2},false,null," - Zdroj",null,null,null,null,690,687,693,3.5,0,7.25,0,13,0,21.501000000000001,null,565,562,568,3,0,6,0,11.75,0,17.751000000000001,null,415,412,418,2.25,0,4.375,0,8.625,0,12.500999999999999,null,null,null,null,null,null,null,null,null,null,null,null,null,null,null,null,null,null,null,null,null,null,null,null,710,"3.50-7.75","6.75-13.25","12.25-21.25",null,495,"2.50-4.25","3.75-7.75","7.50-14.50"]
[null,null,null,null,null,null,null,null,null,null,null,null,null,null,null,null,null,null,null,null,null,null,685,682,688,3.5,0,7.5,0,13,0,21.501000000000001,null,560,557,563,3,0,6.25,0,11.75,0,17.501000000000001,null,410,407,413,2.25,0,4.375,0,8.875,0,12.250999999999999,null,null,null,null,null,null,null,null,null,null,null,null,null,null,null,null,null,null,null,null,null,null,null,null,705,"3.50-7.75","6.75-13.25","12.25-21.50",null,490,"2.50-4.25","3.75-8.00","7.75-14.50"]
[null,null,null,null,null,null,null,null,null,null,null,null,null,null,null,null,null,null,null,null,null,null,680,677,683,3.5,0,7.5,0,13.25,0,21.501000000000001,null,555,552,558,3,0,6.25,0,12,0,17.501000000000001,null,405,402,408,2.25,0,4.375,0,8.875,0,12.000999999999999,null,null,null,null,null,null,null,null,null,null,null,null,null,null,null,null,null,null,null,null,null,null,null,null,700,"3.50-7.75","6.75-13.25","12.50-21.50",null,485,"2.50-4.25","3.75-8.00","7.75-14.25"]
[null,null,null,null,null,null,null,null,null,null,null,null,null,null,null,null,null,null,null,null,null,null,676,675,678,3.5,0,7.5,0,13.25,{"$f":"IF($H$11<$Y30,IF($H$11>$X30,IF($P$15>SUM(AD30-0.01),IF($P$15<AF30,1,0),0),0),0)","v":0},21.501000000000001,null,550,547,553,3,0,6.25,0,12,0,17.251000000000001,null,400,397,403,2,0,4.5,0,8.875,0,12.000999999999999,null,null,null,null,null,null,null,null,null,null,null,null,null,null,null,null,null,null,null,null,null,null,null,null,695,"3.50-7.75","6.75-13.25","12.50-21.50",null,480,"2.50-4.25","3.75-8.00","7.75-14.25"]
[null,null,null,null,null,null,null,null,null,null,null,null,null,null,null,null,null,null,null,null,null,null,null,null,null,null,null,null,null,null,null,null,null,545,542,548,3,0,6.25,0,12,0,17.251000000000001,null,395,392,398,2,0,4.625,0,8.875,0,11.750999999999999,null,null,null,null,null,null,null,null,null,null,null,null,null,null,null,null,null,null,null,null,null,null,null,null,690,"3.50-7.75","6.75-13.25","12.75-21.50",null,475,"2.50-4.25","3.75-8.00","7.75-14.00"]
[null,null,null,null,null,null,null,null,null,null,null,null,null,{"$f":"List!C158","v":"Cena bez napájecího zdroje!"},null,null,null,null,null,null,null,null,null,null,null,null,null,null,null,null,null,null,null,540,537,543,3,0,6.25,0,12.25,0,17.001000000000001,null,390,387,393,2,0,4.625,0,8.875,0,11.500999999999999,null,null,null,null,null,null,null,null,null,null,null,null,null,null,null,null,null,null,null,null,null,null,null,null,685,"3.50-8.00","7.00-13.25","12.75-21.50",null,470,"2.50-4.25","4.00-8.25","8.00-14.00"]
[null,null,{"$f":"\"* \"&List!$C$215","v":"* Zadejte počet mezistěn v korpusu. "},null,null,null,null,null,null,null,null,null,null,null,null,null,null,null,null,null,null,null,null,null,null,null,null,null,null,null,null,null,null,535,532,538,3,0,6.5,0,12.25,0,16.751000000000001,null,385,382,388,2,0,4.625,0,9.125,0,11.500999999999999,null,null,null,null,null,null,null,null,null,null,null,null,null,null,null,null,null,null,null,null,null,null,null,null,680,"3.50-8.00","7.00-13.50","13.00-21.50",null,465,"2.25-4.25","4.00-8.25","8.00-13.75"]
[null,null,{"$f":"\"** \"&List!$C$168","v":"** Pokud znáte hmotnost a nechcete využít výpočtu hmotnosti"},null,null,null,null,null,null,null,null,null,null,null,null,null,null,null,null,null,null,null,null,null,null,null,null,null,null,null,null,null,null,530,527,533,3,0,6.5,0,12.25,0,16.751000000000001,null,380,377,383,2,0,4.625,0,9.125,0,11.250999999999999,null,{"$f":"\" \"&List!$C$103","v":" Doplňte nebo použijte \"Výpočet hmotnosti\" "},null,null,null,null,null,null,null,null,null,null,null,null,null,null,null,null,null,null,null,null,null,null,676,"3.50-8.00","7.00-13.50","13.00-21.50",null,460,"2.25-4.25","4.00-8.25","8.00-13.75"]
[null,null,{"$f":"\"*** \"&List!$C$371","v":"*** Vyberte typ alurámečku!"},null,null,null,null,null,null,null,null,null,null,null,null,null,null,null,null,null,null,null,null,null,null,null,null,null,null,null,null,null,null,526,525,528,3,0,6.5,0,12.5,0,16.501000000000001,null,375,372,378,2,0,4.625,0,9.125,0,11.250999999999999,null,{"$f":"\"◄ \"&List!$C$101","v":"◄ hodnota bude použita pro výběr zdvihače"},null,null,null,null,null,null,null,null,null,null,null,null,null,null,null,null,null,null,null,null,null,null,null,null,null,null,null,455,"2.25-4.25","4.00-8.50","8.25-13.50"]
[null,null,{"$f":"\"      \"&List!$C$372","v":"      Více informací k výběru alurámečků v Nápovědě"},null,null,null,null,null,null,null,null,null,null,null,null,null,null,null,null,null,null,null,null,null,null,null,null,null,null,null,null,null,null,null,null,null,null,null,null,null,null,null,null,null,370,367,373,2,0,4.625,0,9.125,0,11.000999999999999,null,{"$f":"\" * \"&List!$C$110","v":" * Doplňte hodnoty"},null,null,null,null,null,null,null,null,null,null,null,null,null,null,null,null,null,null,null,null,null,null,"KH [mm]","20S2D00.05","20S2E00.05","20S2F00.05",null,450,"2.25-4.25","4.00-8.50","8.25-13.50"]
[null,null,null,null,null,null,null,null,null,null,null,null,null,null,null,null,null,null,null,null,null,null,null,null,null,null,null,null,null,null,null,null,null,null,null,null,null,null,null,null,null,null,null,null,365,362,368,2,0,4.625,0,9.125,0,11.000999999999999,null,null,null,null,null,null,null,null,null,null,null,null,null,null,null,null,null,null,null,null,null,null,null,null,675,"3.00-5.25","5.00-11.00","  9.75-19.00",null,445,"2.25-4.50","4.25-8.50","8.25-13.25"]
[null,null,null,null,null,null,null,null,null,null,null,null,null,null,null,null,null,null,null,null,null,null,null,null,null,null,null,null,null,null,null,null,null,null,null,null,null,null,null,null,null,null,null,null,{"$f":"AS37-5","v":360},357,363,2,0,4.625,0,9.375,0,10.750999999999999,null,{"$f":"List!$C$107&\"!\"","v":"Překročena maximální hmotnost!"},null,null,null,null,null,null,null,null,null,null,null,null,null,null,null,null,null,null,null,null,null,null,670,"3.00-5.25","5.00-11.00","  9.75-19.00",null,440,"2.25-4.50","4.25-8.50","8.25-13.00"]
[null,null,null,null,null,null,null,null,null,null,null,null,null,null,null,null,null,null,null,null,null,null,null,null,null,null,null,null,null,null,null,null,null,null,null,null,null,null,null,null,null,null,null,null,355,352,358,2,0,4.625,0,9.375,0,10.500999999999999,null,{"$f":"\" max. 9 000! \"&List!$C$105","v":" max. 9 000! Upravte hmotnost nebo výšku"},null,null,null,null,null,null,null,null,null,null,null,null,null,null,null,null,null,null,null,null,null,null,665,"3.00-5.25","5.00-11.00","  9.75-19.00",null,435,"2.25-4.50","4.25-8.75","8.50-13.00"]
[null,null,null,null,null,null,null,null,null,null,null,null,null,null,null,null,null,null,null,null,null,null,null,null,null,null,null,null,null,null,null,null,null,null,null,null,null,null,null,null,null,null,null,null,350,349,{"$f":"AU39-5","v":353},2,0,4.75,0,9.375,0,10.500999999999999,null,{"$f":"\" \"&List!$C$216","v":" Nutná mezistěna"},null,null,null,null,null,null,null,null,null,null,null,null,null,null,null,null,null,null,null,null,null,null,660,"3.00-5.50","5.25-11.25","10.00-19.00",null,430,"2.25-4.50","4.25-8.75","8.50-12.75"]
[null,null,null,null,null,null,null,null,null,null,null,null,null,null,null,null,null,null,null,null,null,null,null,null,null,null,null,null,null,null,null,null,null,null,null,null,null,null,null,null,null,null,null,null,null,null,null,null,null,null,null,null,null,null,null,null,null,null,null,null,null,null,null,null,null,null,null,null,null,null,null,null,null,null,null,null,null,null,655,"3.00-5.50","5.25-11.25","10.00-19.00",null,425,"2.25-4.50","4.25-8.75","8.50-12.75"]
[null,null,null,null,null,null,null,null,null,null,null,null,null,null,null,null,null,{"$f":"HS!$K$27","v":1},2,{"$f":"Menu!$Q$27","v":3},null,null,"zdvih B",null,null,"20S1G00",null,"20S1H00",null,"20S1I00",null,"max",null,null,null,null,"20S1D00",null,"20S1E00",null,"20S1F00",null,"max",null,null,null,null,"20S1A00",null,"20S1B00",null,"20S1C00",null,"max",null,null,null,null,null,null,null,null,null,null,null,null,null,null,null,null,null,null,null,null,null,null,null,null,650,"3.00-5.50","5.25-11.25","10.00-19.00",null,420,"2.25-4.50","4.25-8.75","8.50-12.50"]
[null,null,null,null,null,null,null,null,null,null,null,null,null,null,null,null,null,"čelní kov.","alu","kryt.",null,null,800,797,801,4,{"$f":"IF($H$20<$Y43,IF($H$20>$X43,IF($P$24>SUM(Z43-0.01),IF($P$24<AB43,1,0),0),0),0)","v":0},6.5,{"$f":"IF($H$20<$Y43,IF($H$20>$X43,IF($P$24>SUM(AB43-0.01),IF($P$24<AD43,1,0),0),0),0)","v":0},11.375,{"$f":"IF($H$20<$Y43,IF($H$20>$X43,IF($P$24>SUM(AD43-0.01),IF($P$24<AF43,1,0),0),0),0)","v":0},20.001000000000001,null,675,672,676,3,{"$f":"IF($H$20<$AJ43,IF($H$20>$AI43,IF($P$24>SUM(AK43-0.01),IF($P$24<AM43,1,0),0),0),0)","v":0},5.125,{"$f":"IF($H$20<$AJ43,IF($H$20>$AI43,IF($P$24>SUM(AM43-0.01),IF($P$24<AO43,1,0),0),0),0)","v":0},10.375,{"$f":"IF($H$20<$AJ43,IF($H$20>$AI43,IF($P$24>SUM(AO43-0.01),IF($P$24<AQ43,1,0),0),0),0)","v":0},19.001000000000001,null,525,522,526,2.5,{"$f":"IF($H$20<$AU43,IF($H$20>$AT43,IF($P$24>SUM(AV43-0.01),IF($P$24<AX43,1,0),0),0),0)","v":0},3.625,{"$f":"IF($H$20<$AU43,IF($H$20>$AT43,IF($P$24>SUM(AX43-0.01),IF($P$24<AZ43,1,0),0),0),0)","v":0},7.375,{"$f":"IF($H$20<$AU43,IF($H$20>$AT43,IF($P$24>SUM(AZ43-0.01),IF($P$24<BB43,1,0),0),0),0)","v":0},15.000999999999999,null,null,null,null,null,null,null,null,null,null,null,null,null,null,null,null,null,null,null,null,null,null,null,null,645,"3.00-5.50","5.25-11.25","10.00-18.75",null,415,"2.25-4.50","4.25-8.75","8.50-12.50"]
[null,null,null,null,null,null,null,null,null,null,null,null,null,null,null,null,null,{"$f":"List!$C$125","v":"Expando"},null,{"$f":"List!$C$128","v":"Světle šedá (HG/T)"},null,null,{"$f":"W43-5","v":795},792,798,4,{"$f":"IF($H$20<$Y44,IF($H$20>$X44,IF($P$24>SUM(Z44-0.01),IF($P$24<AB44,1,0),0),0),0)","v":0},6.5,{"$f":"IF($H$20<$Y44,IF($H$20>$X44,IF($P$24>SUM(AB44-0.01),IF($P$24<AD44,1,0),0),0),0)","v":0},11.375,{"$f":"IF($H$20<$Y44,IF($H$20>$X44,IF($P$24>SUM(AD44-0.01),IF($P$24<AF44,1,0),0),0),0)","v":0},20.001000000000001,null,{"$f":"AH43-5","v":670},667,673,3,{"$f":"IF($H$20<$AJ44,IF($H$20>$AI44,IF($P$24>SUM(AK44-0.01),IF($P$24<AM44,1,0),0),0),0)","v":0},5.125,{"$f":"IF($H$20<$AJ44,IF($H$20>$AI44,IF($P$24>SUM(AM44-0.01),IF($P$24<AO44,1,0),0),0),0)","v":0},10.375,{"$f":"IF($H$20<$AJ44,IF($H$20>$AI44,IF($P$24>SUM(AO44-0.01),IF($P$24<AQ44,1,0),0),0),0)","v":0},19.001000000000001,null,{"$f":"AS43-5","v":520},517,523,2.5,{"$f":"IF($H$20<$AU44,IF($H$20>$AT44,IF($P$24>SUM(AV44-0.01),IF($P$24<AX44,1,0),0),0),0)","v":0},3.75,{"$f":"IF($H$20<$AU44,IF($H$20>$AT44,IF($P$24>SUM(AX44-0.01),IF($P$24<AZ44,1,0),0),0),0)","v":0},7.375,{"$f":"IF($H$15<$AU44,IF($H$15>$AT44,IF($H$16>SUM(AZ44-0.01),IF($H$16<BB44,1,0),0),0),0)","v":0},15.000999999999999,null,null,null,null,null,null,null,null,null,null,null,null,null,null,null,null,null,null,null,null,null,null,null,null,640,"3.00-5.50","5.25-11.25","10.00-18.75",null,410,"2.25-4.50","4.25-9.00","8.75-12.25"]
[null,null,null,null,null,null,null,null,null,null,null,null,null,null,null,null,null,{"$f":"List!$C$126","v":"na vruty"},null,{"$f":"List!$C$129","v":"Tmavě šedá (TGR)"},null,null,790,787,793,4,0,6.5,0,11.5,0,20.001000000000001,null,665,662,668,3,0,5.125,0,10.375,0,19.001000000000001,null,515,512,518,2.5,0,3.75,0,7.375,0,14.750999999999999,null,null,null,null,null,null,null,null,null,null,null,null,null,null,null,null,null,null,null,null,null,null,null,null,635,"3.00-5.50","5.25-11.50","10.25-18.75",null,405,"2.25-4.50","4.25-9.00","8.75-12.20"]
[null,null,null,null,null,null,null,null,null,null,null,null,null,null,null,null,null,null,null,{"$f":"List!$C$130","v":"Hedvábně bílá (SW/T)"},null,null,785,782,788,4,0,6.625,0,11.625,0,20.001000000000001,null,660,657,663,3,0,5.375,0,10.625,0,19.001000000000001,null,510,507,513,2.5,0,3.75,0,7.625,0,14.750999999999999,null,null,null,null,null,null,null,null,null,null,null,null,null,null,null,null,null,null,null,null,null,null,null,null,630,"3.00-5.75","5.50-11.50","10.25-18.75",null,400,"2.00-4.75","4.25-9.00","8.75-12.20"]
[null,null,null,null,null,null,null,null,null,null,null,null,null,null,null,null,null,null,null,null,null,null,780,777,783,4,0,6.625,0,11.625,0,20.251000000000001,null,655,652,658,3,0,5.375,0,10.625,0,19.001000000000001,null,505,502,508,2.5,0,3.75,0,7.625,0,14.750999999999999,null,{"$f":"List!C169&\". \"","v":"Pro určení typu zdvihače bude použita zadaná hmotnost. "},null,null,null,null,null,null,null,null,null,null,null,null,null,null,null,null,null,null,null,null,null,null,625,"3.00-5.75","5.50-11.50","10.25-18.75",null,395,"2.00-4.75","4.50-9.00","8.75-11.75"]
[null,null,null,null,null,null,null,null,null,null,null,null,null,null,null,null,null,null,null,null,null,null,775,772,778,3.75,0,6.625,0,11.75,0,20.251000000000001,null,650,647,653,3,0,5.375,0,10.625,0,19.001000000000001,null,500,497,503,2.5,0,3.875,0,7.625,0,14.750999999999999,null,{"$f":"List!C170&\". \"","v":"Pro určení typu zdvihače bude použita vypočtená hmotnost. "},null,null,null,null,null,null,null,null,null,null,null,null,null,null,null,null,null,null,null,null,null,null,620,"3.00-5.75","5.50-11.50","10.25-18.75",null,390,"2.00-4.75","4.50-9.00","8.75-11.50"]
[null,null,null,null,null,null,null,null,null,null,null,null,null,null,null,null,null,null,null,null,null,null,770,767,773,3.75,0,6.625,0,11.75,0,20.251000000000001,null,645,642,648,3,0,5.375,0,10.625,0,18.751000000000001,null,495,492,498,2.5,0,4,0,7.625,0,14.500999999999999,null,{"$f":"List!C171","v":"Chcete-li použít vypočtenou hmotnost, smažte zadanou hodnotu"},null,null,null,null,null,null,null,null,null,null,null,null,null,null,null,null,null,null,null,null,null,null,615,"3.00-5.75","5.50-11.50","10.25-18.75",null,385,"2.00-4.75","4.50-9.25","9.00-11.50"]
[null,null,null,null,null,null,null,null,null,null,null,null,null,null,null,null,null,null,null,null,null,null,765,762,768,3.75,0,6.875,0,11.75,0,20.251000000000001,null,640,637,643,3,0,5.375,0,10.625,0,18.751000000000001,null,490,487,493,2.5,0,4,0,7.875,0,14.500999999999999,null,{"$f":"List!C172","v":"Chcete-li použít zadanou hmotnost, zadejte ji do políčka"},null,null,null,null,null,null,null,null,null,null,null,null,null,null,null,null,null,null,null,null,null,null,610,"3.00-6.00","5.50-11.75","10.50-18.50",null,380,"2.00-4.75","4.50-9.25","9.00-11.25"]
[null,null,null,null,null,null,null,null,null,null,null,null,null,null,null,null,null,null,null,null,null,null,760,757,763,3.75,0,6.875,0,12,0,20.251000000000001,null,635,632,638,3,0,5.375,0,10.875,0,18.751000000000001,null,485,482,488,2.5,0,4,0,7.875,0,14.250999999999999,null,null,null,null,null,null,null,null,null,null,null,null,null,null,null,null,null,null,null,null,null,null,null,null,605,"3.00-6.00","5.50-11.75","10.50-18.50",null,375,"2.00-4.75","4.50-9.25","9.00-11.25"]
[null,null,null,null,null,null,null,null,null,null,null,null,null,null,null,null,null,null,null,null,null,null,755,752,758,3.75,0,6.875,0,12,0,20.501000000000001,null,630,627,633,3,0,5.625,0,10.875,0,18.751000000000001,null,480,477,483,2.5,0,4,0,7.875,0,14.250999999999999,null,null,null,null,null,null,null,null,null,null,null,null,null,null,null,null,null,null,null,null,null,null,null,null,600,"3.00-6.00","5.50-11.75","10.50-18.50",null,370,"2.00-4.75","4.50-9.25","9.00-11.00"]
[null,null,null,null,null,null,null,null,null,null,null,null,null,null,null,null,null,null,null,null,null,null,750,747,753,3.5,0,6.875,0,12.125,0,20.501000000000001,null,625,622,628,3,0,5.625,0,10.875,0,18.751000000000001,null,475,472,478,2.5,0,4,0,7.875,0,14.000999999999999,null,null,null,null,null,null,null,null,null,null,null,null,null,null,null,null,null,null,null,null,null,null,null,null,595,"3.00-6.00","5.50-11.75","10.50-18.50",null,365,"2.00-4.75","4.50-9.25","9.00-11.00"]
[null,null,null,null,null,null,null,null,null,null,null,null,null,null,null,null,null,null,null,null,null,null,745,742,748,3.5,0,6.875,0,12.125,0,20.501000000000001,null,620,617,623,3,0,5.625,0,10.875,0,18.751000000000001,null,470,467,473,2.5,0,4.125,0,8.125,0,14.000999999999999,null,null,null,null,null,null,null,null,null,null,null,null,null,null,null,null,null,null,null,null,null,null,null,null,590,"3.00-6.00","5.50-12.00","10.75-18.25",null,360,"2.00-4.75","4.50-9.50","9.25-10.75"]
[null,null,null,null,null,null,null,null,null,null,null,null,null,null,null,null,null,null,null,null,null,null,740,737,743,3.5,0,6.875,0,12.25,0,20.751000000000001,null,615,612,618,3,0,5.625,0,10.875,0,18.751000000000001,null,465,462,468,2.25,0,4.125,0,8.125,0,13.750999999999999,null,null,null,null,null,null,null,null,null,null,null,null,null,null,null,null,null,null,null,null,null,null,null,null,585,"3.00-6.25","5.75-12.00","10.75-18.25",null,355,"2.00-4.75","4.50-9.50","9.25-10.50"]
[null,null,null,null,null,null,null,null,null,null,null,null,null,null,null,null,null,null,null,null,null,null,735,732,738,3.5,0,6.875,0,12.375,0,20.751000000000001,null,610,607,613,3,0,5.75,0,11.125,0,18.501000000000001,null,460,457,463,2.25,0,4.125,0,8.125,0,13.750999999999999,null,null,null,null,null,null,null,null,null,null,null,null,null,null,null,null,null,null,null,null,null,null,null,null,580,"3.00-6.25","5.75-12.00","11.00-18.00",null,350,"2.00-5.00","4.50-9.50","9.25-10.50"]
[null,null,null,null,null,null,null,null,null,null,null,null,null,null,null,null,null,null,null,null,null,null,730,727,733,3.5,0,7.125,0,12.375,0,21.001000000000001,null,605,602,608,3,0,5.75,0,11.125,0,18.501000000000001,null,455,452,458,2.25,0,4.125,0,8.375,0,13.500999999999999,null,null,null,null,null,null,null,null,null,null,null,null,null,null,null,null,null,null,null,null,null,null,null,null,575,"3.00-6.25","5.75-12.00","11.00-18.00",null,{"$f":"List!$C$73&\" KH [mm]  \"","v":"Výška korpusu KH [mm]  "}]
[null,null,null,null,null,null,null,null,null,null,null,null,null,null,null,null,null,null,null,null,null,null,725,722,728,3.5,0,7.125,0,12.5,0,21.001000000000001,null,600,597,603,3,0,5.75,0,11.125,0,18.501000000000001,null,450,447,453,2.25,0,4.125,0,8.375,0,13.500999999999999]
[null,null,null,null,null,null,null,null,null,null,null,null,null,null,null,null,null,null,null,null,null,null,720,717,723,3.5,0,7.125,0,12.5,0,21.251000000000001,null,595,592,598,3,0,5.75,0,11.125,0,18.501000000000001,null,445,442,448,2.25,0,4.375,0,8.375,0,13.250999999999999,null,null,null,null,null,null,null,null,null,null,null,null,null,null,null,null,null,null,null,null,null,null,null,null,{"$f":"List!$C$149","v":"Zpět"}]
[null,null,null,null,null,null,null,null,null,null,null,null,null,null,null,null,null,null,null,null,null,null,{"$f":"W59-5","v":715},712,718,3.5,0,7.125,0,12.5,0,21.251000000000001,null,{"$f":"AH59-5","v":590},587,593,3,0,5.75,0,11.375,0,18.251000000000001,null,{"$f":"AS59-5","v":440},437,443,2.25,0,4.375,0,8.375,0,13.000999999999999]
[null,null,null,null,null,null,null,null,null,null,null,null,null,null,null,null,null,null,null,null,null,null,710,707,713,3.5,0,7.25,0,12.75,0,21.251000000000001,null,585,582,588,3,0,6,0,11.375,0,18.251000000000001,null,435,432,438,2.25,0,4.375,0,8.625,0,13.000999999999999]
[null,null,null,null,null,null,null,null,null,null,null,null,null,null,null,null,null,null,null,null,null,null,705,702,708,3.5,0,7.25,0,12.75,0,21.501000000000001,null,580,577,583,3,0,6,0,11.5,0,18.001000000000001,null,430,427,433,2.25,0,4.375,0,8.625,0,12.750999999999999]
[null,null,null,null,null,null,null,null,null,null,null,null,null,null,null,null,null,null,null,null,null,null,700,697,703,3.5,0,7.25,0,12.875,0,21.501000000000001,null,575,572,578,3,0,6,0,11.5,0,18.001000000000001,null,425,422,428,2.25,0,4.375,0,8.625,0,12.750999999999999]
[null,null,null,null,null,null,null,null,null,null,null,null,null,null,null,null,null,null,null,null,null,null,695,692,698,3.5,0,7.25,0,12.875,0,21.501000000000001,null,570,567,573,3,0,6,0,11.75,0,17.751000000000001,null,420,417,423,2.25,0,4.375,0,8.625,0,12.500999999999999]
[null,null,null,null,null,null,null,null,null,null,null,null,null,null,null,null,null,null,null,null,null,null,690,687,693,3.5,0,7.25,0,13,0,21.501000000000001,null,565,562,568,3,0,6,0,11.75,0,17.751000000000001,null,415,412,418,2.25,0,4.375,0,8.625,0,12.500999999999999]
[null,null,null,null,null,null,null,null,null,null,null,null,null,null,null,null,null,null,null,null,null,null,685,682,688,3.5,0,7.5,0,13,0,21.501000000000001,null,560,557,563,3,0,6.25,0,11.75,0,17.501000000000001,null,410,407,413,2.25,0,4.375,0,8.875,0,12.250999999999999]
[null,null,null,null,null,null,null,null,null,null,null,null,null,null,null,null,null,null,null,null,null,null,680,677,683,3.5,0,7.5,0,13.25,0,21.501000000000001,null,555,552,558,3,0,6.25,0,12,0,17.501000000000001,null,405,402,408,2.25,0,4.375,0,8.875,0,12.000999999999999]
[null,null,null,null,null,null,null,null,null,null,null,null,null,null,null,null,null,null,null,null,null,null,676,675,678,3.5,0,7.5,0,13.25,0,21.501000000000001,null,550,547,553,3,0,6.25,0,12,0,17.251000000000001,null,400,397,403,2,0,4.5,0,8.875,0,12.000999999999999]
[null,null,null,null,null,null,null,null,null,null,null,null,null,null,null,null,null,null,null,null,null,null,null,null,null,null,null,null,null,null,null,null,null,545,542,548,3,0,6.25,0,12,0,17.251000000000001,null,395,392,398,2,0,4.625,0,8.875,0,11.750999999999999]
[null,null,null,null,null,null,null,null,null,null,null,null,null,null,null,null,null,null,null,null,null,null,null,null,null,null,null,null,null,null,null,null,null,540,537,543,3,0,6.25,0,12.25,0,17.001000000000001,null,390,387,393,2,0,4.625,0,8.875,0,11.500999999999999]
[null,null,null,null,null,null,null,null,null,null,null,null,null,null,null,null,null,null,null,null,null,null,null,null,null,null,null,null,null,null,null,null,null,535,532,538,3,0,6.5,0,12.25,0,16.751000000000001,null,385,382,388,2,0,4.625,0,9.125,0,11.500999999999999]
[null,null,null,null,null,null,null,null,null,null,null,null,null,null,null,null,null,null,null,null,null,null,null,null,null,null,null,null,null,null,null,null,null,530,527,533,3,0,6.5,0,12.25,0,16.751000000000001,null,380,377,383,2,0,4.625,0,9.125,0,11.250999999999999]
[null,null,null,null,null,null,null,null,null,null,null,null,null,null,null,null,null,null,null,null,null,null,null,null,null,null,null,null,null,null,null,null,null,526,525,528,3,0,6.5,0,12.5,0,16.501000000000001,null,375,372,378,2,0,4.625,0,9.125,0,11.250999999999999]
[null,null,null,null,null,null,null,null,null,null,null,null,null,null,null,null,null,null,null,null,null,null,null,null,null,null,null,null,null,null,null,null,null,null,null,null,null,null,null,null,null,null,null,null,370,367,373,2,0,4.625,0,9.125,0,11.000999999999999]
[null,null,null,null,null,null,null,null,null,null,null,null,null,null,null,null,null,null,null,null,null,null,null,null,null,null,null,null,null,null,null,null,null,null,null,null,null,null,null,null,null,null,null,null,365,362,368,2,0,4.625,0,9.125,0,11.000999999999999]
[null,null,null,null,null,null,null,null,null,null,null,null,null,null,null,null,null,null,null,null,null,null,null,null,null,null,null,null,null,null,null,null,null,null,null,null,null,null,null,null,null,null,null,null,{"$f":"AS75-5","v":360},357,363,2,0,4.625,0,9.375,0,10.750999999999999]
[null,null,null,null,null,null,null,null,null,null,null,null,null,null,null,null,null,null,null,null,null,null,null,null,null,null,null,null,null,null,null,null,null,null,null,null,null,null,null,null,null,null,null,null,355,352,358,2,0,4.625,0,9.375,0,10.500999999999999]
[null,null,null,null,null,null,null,null,null,null,null,null,null,null,null,null,null,null,null,null,null,null,null,null,null,null,null,null,null,null,null,null,null,null,null,null,null,null,null,null,null,null,null,null,350,349,{"$f":"AU77-5","v":353},2,0,4.75,0,9.375,0,10.500999999999999]
[]
[]
[]
[]
[]
[]
[]
[]
[]
[]
[]
[]
[]
[]
[]
[]
[]
[]
[]
[null,{"$f":"List!C142","v":"Soupis kování"}]
[]
[null,{"$f":"$D$2","v":"AVENTOS HS"},null,{"$f":"B4","v":"Široký alurámeček ***"}]
[null,{"$f":"List!C50","v":"Název"},null,null,null,null,{"$f":"List!$C$51","v":"Číslo artiklu"},null,{"$f":"List!C52","v":"Barva"},{"$f":"List!C54","v":"Ks"},{"$f":"List!C56","v":"Jednotková cena"},{"$f":"List!C57","v":"Celkem"},"A","Cena","B","Cena","C","Cena","Filtr"]
[null,{"$f":"Cen!A36","v":"Sada zdvihačů HS"},null,null,null,null,{"$f":"Cen!E36","v":"20S2A00.05"},null,{"$f":"Cen!G36","v":"ZN"},{"$f":"SUM(M102,O102)","v":0},{"$f":"Cen!I36","v":0},{"$f":"J102*K102","v":0},{"$f":"$M$15*$O4","v":0},{"$f":"$K102*M102","v":0},{"$f":"$M$24*$R4","v":0},{"$f":"$K102*O102","v":0},null,{"$f":"$K102*Q102","v":0},"x"]
[null,{"$f":"Cen!A37","v":"Sada zdvihačů HS"},null,null,null,null,{"$f":"Cen!E37","v":"20S2B00.05"},null,{"$f":"Cen!G37","v":"ZN"},{"$f":"SUM(M103,O103)","v":0},{"$f":"Cen!I37","v":0},{"$f":"J103*K103","v":0},{"$f":"$M$15*$O5","v":0},0,{"$f":"$M$24*$R5","v":0},0,null,0,"x"]
[null,{"$f":"Cen!A38","v":"Sada zdvihačů HS"},null,null,null,null,{"$f":"Cen!E38","v":"20S2C00.05"},null,{"$f":"Cen!G38","v":"ZN"},0,{"$f":"Cen!I38","v":0},0,0,0,0,0,null,0,"x"]
[null,{"$f":"Cen!A39","v":"Sada zdvihačů HS"},null,null,null,null,{"$f":"Cen!E39","v":"20S2D00.05"},null,{"$f":"Cen!G39","v":"ZN"},0,{"$f":"Cen!I39","v":0},0,0,0,0,0,null,0,"x"]
[null,{"$f":"Cen!A40","v":"Sada zdvihačů HS"},null,null,null,null,{"$f":"Cen!E40","v":"20S2E00.05"},null,{"$f":"Cen!G40","v":"ZN"},0,{"$f":"Cen!I40","v":0},0,0,0,0,0,null,0,"x"]
[null,{"$f":"Cen!A41","v":"Sada zdvihačů HS"},null,null,null,null,{"$f":"Cen!E41","v":"20S2F00.05"},null,{"$f":"Cen!G41","v":"ZN"},0,{"$f":"Cen!I41","v":0},0,0,0,0,0,null,0,"x"]
[null,{"$f":"Cen!A42","v":"Sada zdvihačů HS"},null,null,null,null,{"$f":"Cen!E42","v":"20S2G00.05"},null,{"$f":"Cen!G42","v":"ZN"},0,{"$f":"Cen!I42","v":0},0,0,0,0,0,null,0,"x"]
[null,{"$f":"Cen!A43","v":"Sada zdvihačů HS"},null,null,null,null,{"$f":"Cen!E43","v":"20S2H00.05"},null,{"$f":"Cen!G43","v":"ZN"},0,{"$f":"Cen!I43","v":0},0,0,0,0,0,null,0,"x"]
[null,{"$f":"Cen!A44","v":"Sada zdvihačů HS"},null,null,null,null,{"$f":"Cen!E44","v":"20S2I00.05"},null,{"$f":"Cen!G44","v":"ZN"},0,{"$f":"Cen!I44","v":0},0,0,0,0,0,null,0,"x"]
[null,{"$f":"Cen!A45","v":"Sada soustav ramen SERVO-DRIVE"},null,null,null,null,{"$f":"Cen!E45","v":"21S3500.01"},null,{"$f":"Cen!G45","v":"ZN"},{"$f":"SUM(M111,O111,Q111)","v":0},{"$f":"Cen!I45","v":0},0,{"$f":"IF($Q$14=1,SUM($M$102:$M$110),0)","v":0},0,{"$f":"IF($Q$23=1,SUM($O$102:$O$110),0)","v":0},0,null,0,"x"]
[null,{"$f":"Cen!A46","v":"Sada ramen HS"},null,null,null,null,{"$f":"Cen!E46","v":"20S3500.06"},null,{"$f":"Cen!G46","v":"ZN"},0,{"$f":"Cen!I46","v":0},0,{"$f":"IF($Q$14=2,SUM($M$102:$M$110),0)","v":0},0,{"$f":"IF($Q$23=2,SUM($O$102:$O$110),0)","v":0},0,null,0,"x"]
[null,{"$f":"Cen!A47","v":"Sada krytek HS SERVO-DRIVE, sv.šedá"},null,null,null,null,{"$f":"Cen!E47","v":"21S8000"},null,{"$f":"Cen!G47","v":"HG/T"},0,{"$f":"Cen!I47","v":0},0,{"$f":"IF(AND($Q$14=1,$T$42=1),SUM($M$102:$M$110),0)","v":0},0,{"$f":"IF(AND($Q$23=1,$T$42=1),SUM($O$102:$O$110),0)","v":0},0,null,0,"x"]
[null,{"$f":"Cen!A48","v":"Sada krytek HS SERVO-DRIVE, tm.šedá"},null,null,null,null,{"$f":"Cen!E48","v":"21S8000"},null,{"$f":"Cen!G48","v":"TGR"},{"$f":"SUM(M114,O114,Q114)","v":0},{"$f":"Cen!I48","v":0},{"$f":"J114*K114","v":0},{"$f":"IF(AND($Q$14=1,$T$42=2),SUM($M$102:$M$110),0)","v":0},{"$f":"$K114*M114","v":0},{"$f":"IF(AND($Q$23=1,$T$42=2),SUM($O$102:$O$110),0)","v":0},{"$f":"$K114*O114","v":0},null,{"$f":"$K114*Q114","v":0},"x"]
[null,{"$f":"Cen!A49","v":"Sada krytek HS SERVO-DRIVE, bílá"},null,null,null,null,{"$f":"Cen!E49","v":"21S8000"},null,{"$f":"Cen!G49","v":"SW/T"},0,{"$f":"Cen!I49","v":0},0,{"$f":"IF(AND($Q$14=1,$T$42=3),SUM($M$102:$M$110),0)","v":0},0,{"$f":"IF(AND($Q$23=1,$T$42=3),SUM($O$102:$O$110),0)","v":0},0,null,0,"x"]
[]
[null,{"$f":"Cen!A50","v":"Sada krytek HS, světle šedá"},null,null,null,null,{"$f":"Cen!E50","v":"20S8000"},null,{"$f":"Cen!G50","v":"HG/T"},0,{"$f":"Cen!I50","v":0},0,{"$f":"IF(AND($Q$14=2,$T$42=1),SUM($M$102:$M$110),0)","v":0},0,{"$f":"IF(AND($Q$23=2,$T$42=1),SUM($O$102:$O$110),0)","v":0},0,null,0,"x"]
[null,{"$f":"Cen!A51","v":"Sada krytek HS, tmavě šedá"},null,null,null,null,{"$f":"Cen!E51","v":"20S8000"},null,{"$f":"Cen!G51","v":"TGR"},{"$f":"SUM(M118,O118,Q118)","v":0},{"$f":"Cen!I51","v":0},{"$f":"J118*K118","v":0},{"$f":"IF(AND($Q$14=2,$T$42=2),SUM($M$102:$M$110),0)","v":0},{"$f":"$K118*M118","v":0},{"$f":"IF(AND($Q$23=2,$T$42=2),SUM($O$102:$O$110),0)","v":0},{"$f":"$K118*O118","v":0},null,{"$f":"$K118*Q118","v":0},"x"]
[null,{"$f":"Cen!A52","v":"Sada krytek HS, bílá"},null,null,null,null,{"$f":"Cen!E52","v":"20S8000"},null,{"$f":"Cen!G52","v":"SW/T"},0,{"$f":"Cen!I52","v":0},0,{"$f":"IF(AND($Q$14=2,$T$42=3),SUM($M$102:$M$110),0)","v":0},0,{"$f":"IF(AND($Q$23=2,$T$42=3),SUM($O$102:$O$110),0)","v":0},0,null,0,"x"]
[]
[null,{"$f":"Cen!A53","v":"Tyč příčné stabilizace ke zkrác."},null,null,null,null,{"$f":"Cen!E53","v":"20Q1061UN"},null,{"$f":"Cen!G53","v":"EV"},{"$f":"ROUNDUP(SUM($M$15*$O$17,$M$24*$R$17),0)","v":0},{"$f":"Cen!I53","v":0},0,{"$f":"ROUNDUP($M$15*$O$17,0)","v":0},0,{"$f":"ROUNDUP($M$24*$R$17,0)","v":0},0,null,0,"x"]
[]
[null,{"$f":"Cen!A54","v":"Spojovací díl příčné stabilizace"},null,null,null,null,{"$f":"Cen!E54","v":"20Q153ZN"},null,{"$f":"Cen!G54","v":"EV"},{"$f":"SUM(M123,O123,Q123)","v":0},{"$f":"Cen!I54","v":0},0,{"$f":"IF($Q$14<3,$O$18*$M$15,0)","v":0},0,{"$f":"IF($Q$23<3,$R$18*$M$24,0)","v":0},0,null,0,"x"]
[null,{"$f":"Cen!A55","v":0},null,null,null,null,{"$f":"Cen!E55","v":0},null,{"$f":"Cen!G55","v":0},0,{"$f":"Cen!I55","v":0},0,null,0,null,0]
[null,{"$f":"Cen!A56","v":0},null,null,null,null,{"$f":"Cen!E56","v":0},null,{"$f":"Cen!G56","v":0},0,{"$f":"Cen!I56","v":0},0,null,0,null,0]
[null,{"$f":"Cen!A57","v":0},null,null,null,null,{"$f":"Cen!E57","v":0},null,{"$f":"Cen!G57","v":0},0,{"$f":"Cen!I57","v":0},0,null,0,null,0]
[null,{"$f":"Cen!A119","v":0},null,null,null,null,{"$f":"Cen!E119","v":0},null,{"$f":"Cen!G119","v":0},0,{"$f":"Cen!I119","v":0},0,null,0,null,0]
[null,{"$f":"Cen!A120","v":"Sada čel.kování pro dřev. čela"},null,null,null,null,{"$f":"Cen!E120","v":"20S4200"},null,{"$f":"Cen!G120","v":"NI"},0,{"$f":"Cen!I120","v":0},0,{"$f":"IF($S$42=2,SUM(M$102:M$110),0)","v":0},0,{"$f":"IF($S$42=2,SUM(O$102:O$110),0)","v":0},0,null,null,"x"]
[null,{"$f":"Cen!A121","v":"Čelní.kování pro dřev. čela EXPANDO"},null,null,null,null,{"$f":"Cen!E121","v":"20S42E1"},null,{"$f":"Cen!G121","v":"NI"},0,{"$f":"Cen!I121","v":0},0,null,0,null,0]
[null,{"$f":"Cen!A122","v":"Sada čel.kování pro úzké alurámečky"},null,null,null,null,{"$f":"Cen!E122","v":"20S4200A"},null,{"$f":"Cen!G122","v":"NI"},0,{"$f":"Cen!I122","v":0},0,null,0,null,0]
[null,{"$f":"Cen!A151","v":"CLIP top krytka raménka Nikl"},null,null,null,null,{"$f":"Cen!E151","v":"70.1503"},null,{"$f":"Cen!G151","v":"NI"},{"$f":"SUM(M131,O131,Q131)","v":0},{"$f":"Cen!I151","v":0},0,{"$f":"SUM(M$102:M$110)*2","v":0},0,{"$f":"SUM(O$102:O$110)*2","v":0},0,null,null,"x"]
[null,{"$f":"Cen!A195","v":"Samořezný vrut do alurámečků"},null,null,null,null,{"$f":"Cen!E195","v":"660.0950"},null,{"$f":"Cen!G195","v":"NI"},{"$f":"SUM(M132,O132,Q132)","v":0},{"$f":"Cen!I195","v":0},{"$f":"J132*K132","v":0},{"$f":"SUM(M$128)*8","v":0},0,{"$f":"SUM(O$128)*8","v":0},0,null,null,"x"]
[null,null,null,null,null,null,null,null,null,null,null,0,null,0,null,0]
[null,{"$f":"Cen!A199","v":"SERVO-DRIVE jednotka (sada)"},null,null,null,null,{"$f":"Cen!E199","v":"21FA000"},null,{"$f":"Cen!G199","v":"HGR"},{"$f":"SUM(M134,O134,Q134)","v":0},{"$f":"Cen!I199","v":0},0,{"$f":"IF($Q$14=2,0,$M$15)","v":0},0,{"$f":"IF($Q$23=2,0,$M$24)","v":0},0,null,null,"x"]
[null,{"$f":"Cen!A200","v":"SERVO-DRIVE jednotka (sada) pro HK top"},null,null,null,null,{"$f":"Cen!E200","v":"23KA000"},null,{"$f":"Cen!G200","v":"HGR"},null,{"$f":"Cen!I200","v":0},0,null,0,null,0]
[]
[]
[null,null,null,null,null,null,null,null,null,null,{"$f":"List!$C$59&\" \"","v":"Cena celkem bez DPH "},{"$f":"SUM(L102:L136)","v":0},null,{"$f":"SUM(N102:N137)","v":0},null,{"$f":"SUM(P102:P137)","v":0},null,{"$f":"SUM(R102:R137)","v":0}]
[]
[null,null,null,null,null,null,null,null,null,null,null,{"$f":"List!$C$149","v":"Zpět"}]
[]
[]
[]
[]
[]
[]
[]
[]
[]
[]
[]
[]
[]
[]
[]
[]
[]
[]
[]
[]
[]
[]
[]
[]
[]
[]
[]
[]
[]
[]
[]
[]
[]
[]
[]
[]
[]
[]
[]
[]
[]
[]
[]
[]
[]
[]
[]
[]
[]
[]
[]
[]
[]
[]
[]
[]
[]
[]
[null,{"$f":"List!$C$71","v":"Výpočet hmotnosti čel"}]
[null,null,{"$f":"List!$C$161&\"  \"","v":"Provedení čel  "},null,null,null,null,0,{"$f":"IF(U206=3,IF(H200=0,N202,\" \"),IF(H200>0,N203,\" \"))","v":" "},null,null,null,null,{"$f":"IF($U$206=1,$U$227,IF($U$206=2,$U$228,$U$229&\" - \"&$N$210&\"mm\"))","v":"Alurámečky s 4mm sklem"},null,null,null,null,{"$f":"Menu!$Q$205","v":2500}]
[]
[null,null,null,null,null,null,null,null,null,null,null,null,null,{"$f":"\" \"&List!$C$226&\" [mm]\"","v":" Zadejte sílu skla [mm]"}]
[null,null,null,null,null,null,null,null,null,null,null,null,null,{"$f":"\" \"&List!$C$221&\" '\"&List!$C$89&\"'\"","v":" Hodnota platí jen pro volbu 'Alurámečky s jiným sklem'"}]
[]
[null,null,null,null,null,{"$f":"D9","v":"Korpus A"},null,null,null,null,null,null,null,null,null,null,null,null,null,"váha spoj.","tl. skla","typ alu"]
[null,{"$f":"List!$C$72&\" KB [mm]       \"","v":"Šířka korpusu KB [mm]       "},null,null,null,null,null,{"$f":"H10","v":0},null,null,null,null,null,{"$f":"H206*H207*H208","v":0},null,null,null,null,{"$f":"IF($V$206=1,$M$236,$M$237)","v":0.62},{"$f":"$M$238","v":0.61},1,{"$f":"$T$4","v":1}]
[null,{"$f":"List!$C$73&\" KH [mm]       \"","v":"Výška korpusu KH [mm]       "},null,null,null,null,null,{"$f":"H11","v":0},null,null,null,null,null,{"$f":"N206/1000000000","v":0},2,null,null,null,"váha alu",{"$f":"SUM(H206*2,(H207-90)*2)*S206/1000","v":-0.11159999999999999},"A plocha B"]
[null,{"$f":"List!$C$77&\" TS [mm] \"","v":"Síla čela TS [mm] "},null,null,null,null,null,null,null,null,null,null,null,{"$f":"Menu!$L$30","v":760},{"$f":"List!$C$84&\" (\"&N208&\" kg/m3)\"","v":"MDF (760 kg/m3)"},null,null,null,{"$f":"$S$200*4/1000","v":10},{"$f":"IF($V$206=1,U208*S208,V208*S208)","v":6.4000000000000001E-2},{"$f":"SUM(($H$206-80)*($H$207-80)/1000000)","v":6.4000000000000003E-3},{"$f":"SUM(($H$206-6)*($H$207-6)/1000000)","v":3.6000000000000001E-5},"4mm"]
[null,{"$f":"List!$C$78&\" [kg] \"","v":"Hmotnost úchytky [kg] "},null,null,null,null,null,null,{"$f":"IF(SUM(H206,H207)=0,\" \",IF(H209=0,\" ● \"&List!$C$112,\" \"))","v":" "},null,null,null,null,{"$f":"Menu!$L$31","v":680},{"$f":"List!$C$85&\" (\"&N209&\" kg/m3)\"","v":"Dřevotříska (680 kg/m3)"},null,null,null,{"$f":"$S$200*5/1000","v":12.5},{"$f":"IF($V$206=1,U209*S209,V209*S209)","v":0.08},{"$f":"SUM(($H$206-80)*($H$207-80)/1000000)","v":6.4000000000000003E-3},{"$f":"SUM(($H$206-6)*($H$207-6)/1000000)","v":3.6000000000000001E-5},"5mm"]
[null,{"$f":"List!$C$76&\" [kg] \"","v":"Vypočtená hmotnost čela [kg] "},null,null,null,null,null,{"$f":"IF(S211=0,0,S211+H209)","v":0},null,null,null,null,{"$f":"IF(H206*H207*H208=0,0,IF(O207=1,N207*N208,IF(O207=2,N207*N209,N207*N210)))","v":0},{"$f":"$H$200","v":0},{"$f":"List!$C$86","v":"Jiné - volitelná hustota"},null,null,null,{"$f":"$S$200*$H$200/1000","v":0},{"$f":"IF($V$206=1,U210*S210,V210*S210)","v":0},{"$f":"SUM(($H$206-80)*($H$207-80)/1000000)","v":6.4000000000000003E-3},{"$f":"SUM(($H$206-6)*($H$207-6)/1000000)","v":3.6000000000000001E-5},"jiné"]
[null,null,{"$f":"IF(H210>0,IF(H209=0,$N$227,\" \"),\" \")","v":" "},null,null,null,null,null,null,null,null,null,null,null,null,null,null,null,{"$f":"IF(OR(AND(U206=3, $H$200=0), H206*H207=0), 0, SUM(IF(U206=1,T208,IF(U206=2,T209,T210)),T207,T206))","v":0}]
[]
[]
[null,null,null,null,null,{"$f":"D18","v":"Korpus B"},null,null,null,null,null,null,null,null,null,null,null,null,null,"váha spoj.","tl. skla","typ alu"]
[null,{"$f":"List!$C$72&\" KB [mm]       \"","v":"Šířka korpusu KB [mm]       "},null,null,null,null,null,{"$f":"H19","v":0},null,null,null,null,null,{"$f":"H215*H216*H217","v":0},null,null,null,null,{"$f":"IF($V$206=1,$M$236,$M$237)","v":0.62},{"$f":"$M$238","v":0.61},{"$f":"$U$206","v":1},{"$f":"$V$206","v":1}]
[null,{"$f":"List!$C$73&\" KH [mm]       \"","v":"Výška korpusu KH [mm]       "},null,null,null,null,null,{"$f":"H20","v":0},null,null,null,null,null,{"$f":"N215/1000000000","v":0},{"$f":"O207","v":2},null,null,null,"váha alu",{"$f":"SUM(H215*2,(H216-90)*2)*S215/1000","v":-0.11159999999999999},"A plocha B"]
[null,{"$f":"List!$C$77&\" TS [mm] \"","v":"Síla čela TS [mm] "},null,null,null,null,null,null,null,null,null,null,null,{"$f":"$N$208","v":760},{"$f":"$O$208","v":"MDF (760 kg/m3)"},null,null,null,{"$f":"S208","v":10},{"$f":"IF($V$206=1,U217*S217,V217*S217)","v":6.4000000000000001E-2},{"$f":"SUM(($H$215-80)*($H$216-80)/1000000)","v":6.4000000000000003E-3},{"$f":"SUM(($H$215-6)*($H$216-6)/1000000)","v":3.6000000000000001E-5},"4mm"]
[null,{"$f":"List!$C$78&\" [kg] \"","v":"Hmotnost úchytky [kg] "},null,null,null,null,null,null,{"$f":"IF(SUM(H215,H216)=0,\" \",IF(H218=0,\" ● \"&List!$C$112,\" \"))","v":" "},null,null,null,null,{"$f":"$N$209","v":680},{"$f":"$O$209","v":"Dřevotříska (680 kg/m3)"},null,null,null,{"$f":"S209","v":12.5},{"$f":"IF($V$206=1,U218*S218,V218*S218)","v":0.08},{"$f":"SUM(($H$215-80)*($H$216-80)/1000000)","v":6.4000000000000003E-3},{"$f":"SUM(($H$215-6)*($H$216-6)/1000000)","v":3.6000000000000001E-5},"5mm"]
[null,{"$f":"List!$C$76&\" [kg] \"","v":"Vypočtená hmotnost čela [kg] "},null,null,null,null,null,{"$f":"IF(S220=0,0,S220+H218)","v":0},null,null,null,null,{"$f":"IF(H215*H216*H217=0,0,IF(O216=1,N216*N217,IF(O216=2,N216*N218,N216*N219)))","v":0},{"$f":"$N$210","v":0},{"$f":"$O$210","v":"Jiné - volitelná hustota"},null,null,null,{"$f":"S210","v":0},{"$f":"IF($V$206=1,U219*S219,V219*S219)","v":0},{"$f":"SUM(($H$215-80)*($H$216-80)/1000000)","v":6.4000000000000003E-3},{"$f":"SUM(($H$215-6)*($H$216-6)/1000000)","v":3.6000000000000001E-5},"jiné"]
[null,null,{"$f":"IF(H219>0,IF(H218=0,$N$227,\" \"),\" \")","v":" "},null,null,null,null,null,null,null,null,null,null,null,null,null,null,null,{"$f":"IF(OR(AND(U215=3, $H$200=0), H215*H216=0), 0, SUM(IF(U215=1,T217,IF(U215=2,T218,T219)),T216,T215))","v":0}]
[]
[]
[]
[null,null,null,null,null,null,{"$f":"List!$C$149","v":"Zpět"}]
[]
[]
[null,null,{"$f":"List!$C$217&\" \"&List!$C$218","v":"Upozornění: Vypočtené hodnoty jsou pouze orientační.  Firma Blum ani prodejci neručí za jejich správnost."},null,null,null,null,null,null,null,null,null,null,{"$f":"List!$C$95&\"!\"","v":"Není započtena hmotnost úchytky!"},null,null,null,null,null,null,{"$f":"List!$C$87","v":"Alurámečky s 4mm sklem"}]
[null,null,null,null,null,null,null,null,null,null,null,null,null,null,null,null,null,null,null,null,{"$f":"List!$C$88","v":"Alurámečky s 5mm sklem"}]
[null,null,null,null,null,null,null,null,null,null,null,null,null,null,null,null,null,null,null,null,{"$f":"List!$C$89","v":"Alurámečky s jiným sklem"}]
[]
[]
[]
[]
[]
[null,null,null,null,"Hmotnost alurámečků [kg/bm]",null,{"$f":"List!$C$368","v":"Podle Úvodu"},{"$f":"List!$C$58","v":"Změna"}]
[null,null,null,null,null,{"$f":"List!$C$373&\"  \"","v":"S vloženým sklem  "},{"$f":"Menu!$Q215","v":0.62},null,null,null,null,null,{"$f":"IF($H236>0,$H236,$G236)","v":0.62}]
[null,null,null,null,null,{"$f":"List!$C$374&\"  \"","v":"S naloženým nebo nalepeným sklem  "},0.65,null,null,null,null,null,{"$f":"IF($H237>0,$H237,$G237)","v":0.65}]
[null,null,null,null,null,{"$f":"List!$C$377&\" [kg/set] *  \"","v":"Hmotnost spojovacího materiálu [kg/set] *  "},0.61,null,null,null,null,null,{"$f":"IF($H238>0,$H238,$G238)","v":0.61}]
[]
[null,null,{"$f":"\"        * \"& List!$C$378&\"  \"","v":"        * Rohové spojky, šrouby, těsnění pro jeden rámeček  "}]
[]
[]
[null,null,null,null,null,null,{"$f":"List!$C$149","v":"Zpět"}]
[]
[]
[]
[]
[]
[]
[]
[]
[]
[]
[]
[]
[]
[]
[]
[]
[]
[]
[]
[]
[]
[]
[]
[]
[]
[]
[]
[]
[]
[]
[]
[]
[]
[]
[]
[]
[]
[]
[]
[]
[]
[]
[]
[]
[]
[]
[]
[]
[]
[]
[]
[]
[]
[]
[]
[]
[]
[]
[]
[]
[]
[]
[]
[]
[]
[]
[]
[]
[]
[]
[]
[]
[]
[]
[]
[]
[]
[]
[]
[]
[]
[]
[]
[]
[]
[]
[]
[]
[]
[]
[]
[]
[]
[]
[]
[]
[]
[]
[]
[]
[]
[]
[]
[]
[]
[]
[]
[]
[]
[]
[]
[]
[]
[]
[]
[]
[]
[]
[]
[]
[]
[]
[]
[]
[]
[]
[]
[]
[]
[]
[]
[]
[]
[]
[]
[]
[]
[]
[]
[]
[]
[]
[]
[]
[]
[]
[]
[]
[]
[]
[]
[]
[]
[]
[]
[null,"      AVENTOS HS"]
[]
[null,{"$f":"List!$C$311","v":"Pro výběr správného zdvihače potřebujete znát výšku korpusu a hmotnost čela."}]
[]
[null,{"$f":"List!$C$313","v":"Výška korpusu KH = 602 mm zaokrouhlit na KH = 600 mm"}]
[null,{"$f":"List!$C$314","v":"Výška korpusu KH = 603 mm zaokrouhlit na KH = 605 mm"}]
[]
[null,{"$f":"List!$C$289","v":"Pokud znáte hmotnost čela, můžete ji zadat, jinak použijte \"Výpočet hmotnosti\"."}]
[null,{"$f":"List!$C$290","v":"V tabulce má přednost zadaná hodnota. Chcete-li použít vypočtenou hmotnost, smažte zadanou hodnotu."}]
[]
[]
[null,{"$f":"List!$C$284","v":"Chcete-li změnit barvu krytek, přejděte na \"Úvod\""}]
[]
[null,{"$f":"List!$C$383","v":"Věnujte pozornost výběru alurámečků."}]
[null,{"$f":"List!$C$384","v":"Vyberte, který typ lépe odpovídá tvaru použitého alurámečku."}]
[null,{"$f":"List!$C$385","v":"Způsob osazení skla do rámečku výrazně ovlivňuje plochu skla a tím i hmotnost!"}]
[]
[null,null,{"$f":"\"  \"&List!$C$373&\"  \"","v":"  S vloženým sklem  "}]
[]
[null,null,{"$f":"\"  \"&List!$C$374&\"  \"","v":"  S naloženým nebo nalepeným sklem  "}]
[]
[null,null,null,null,null,null,null,null,null,null,null,{"$f":"List!$C$149","v":"Zpět"}]

{"sheet":"HSna","index":17,"n_rows":420,"n_cols":89,"rows_kept":420,"cut":false,"hidden":false,"merged":[[1,13,1,14],[41,29,41,30],[41,22,41,23],[3,51,3,52],[3,49,3,50],[3,38,3,39],[3,29,3,30],[3,27,3,28],[3,25,3,26],[3,22,3,23],[41,51,41,52],[41,49,41,50],[41,47,41,48],[41,40,41,41],[41,38,41,39],[41,36,41,37],[1,16,1,17],[3,36,3,37],[3,40,3,41],[305,12,305,13],[215,20,215,21],[206,20,206,21],[72,22,72,23],[305,8,305,9],[218,1,218,6],[223,6,223,7],[207,1,207,6],[209,1,209,6],[231,0,258,0],[242,6,242,7],[226,2,228,10],[216,1,216,6],[217,1,217,6],[214,1,214,6],[215,1,215,6],[213,5,213,7],[300,0,354,0],[303,1,303,9],[304,1,304,7],[304,8,304,9],[305,1,305,7],[326,8,326,9],[316,1,316,7],[316,8,316,9],[306,1,306,7],[306,8,306,9],[312,1,312,5],[308,1,308,7],[311,1,311,5],[311,6,311,9],[308,8,308,9],[319,1,319,7],[307,8,307,9],[319,8,319,9],[317,1,317,7],[317,8,317,9],[318,1,318,7],[318,8,318,9],[313,1,313,5],[315,1,315,7],[315,8,315,9],[307,1,307,7],[310,1,310,9],[3,5,3,10],[97,0,152,0],[41,25,41,26],[41,27,41,28],[204,5,204,7],[205,1,205,6],[206,1,206,6],[26,15,26,16],[22,14,22,15],[13,14,13,15],[14,1,14,6],[17,3,17,7],[18,1,18,6],[26,1,28,9],[197,0,230,0],[208,1,208,6],[1,5,1,6],[1,9,1,10],[4,6,5,10],[0,78,0,88],[6,78,6,86],[58,78,58,79],[397,0,438,0],[1,1,1,2],[1,3,1,4],[1,7,1,8],[19,1,19,6],[20,1,20,6],[21,1,21,6],[11,1,11,6],[6,1,6,2],[23,1,23,6],[12,1,12,6],[13,1,13,6],[22,1,22,6],[9,1,9,6],[10,1,10,6],[3,47,3,48],[6,6,6,7],[8,3,8,7]]}
[]
[null,"AVENTOS HF",null,"AVENTOS HS",null,"AVENTOS HL",null,"AVENTOS HK top",null,"AVENTOS HK-S",null,"AVENTOS HK-XS",null,"zdvih A",null,null,"zdvih B",null,null,"rámeček",null,null,null,null,null,null,null,null,null,null,null,null,null,null,null,null,null,null,null,null,null,null,null,null,null,null,null,null,null,null,null,null,null,null,null,3,null,null,{"$f":"List!$C$135","v":"Jdi na"}]
[]
[null,{"$f":"List!$C$20&\" ***\"","v":"Úzký alurámeček ***"},null,null,null,{"$f":"N200&\"       \"","v":"Alurámečky s 4mm sklem       "},null,null,null,null,null,null,null,"S1A",{"$f":"SUM(AW5:AW40)","v":0},null,"S1A",{"$f":"SUM(AW43:AW78)","v":0},null,1,null,null,"zdvih A",null,null,"20S1G00",null,"20S1H00",null,"20S1I00",null,"max",null,null,null,null,"20S1D00",null,"20S1E00",null,"20S1F00",null,"max",null,null,null,null,"20S1A00",null,"20S1B00",null,"20S1C00",null,"max",null,{"$f":"\" \"&List!$C$39&\" A \"","v":" Cena za korpus A "},null,null,{"$f":"List!$C$136","v":"Úvod plánování"}]
[null,null,null,null,null,null,{"$f":"List!$C$47&\" \"&List!$C$22&\"       \"","v":"Nastavit hmotnost alurámečků       "},null,null,null,null,null,null,"S1B",{"$f":"SUM(AY5:AY40)","v":0},null,"S1B",{"$f":"SUM(AY43:AY78)","v":0},null,"A = 1",null,null,800,797,801,4,{"$f":"IF($H$11<$Y5,IF($H$11>$X5,IF($P$15>SUM(Z5-0.01),IF($P$15<AB5,1,0),0),0),0)","v":0},6.5,{"$f":"IF($H$11<$Y5,IF($H$11>$X5,IF($P$15>SUM(AB5-0.01),IF($P$15<AD5,1,0),0),0),0)","v":0},11.375,{"$f":"IF($H$11<$Y5,IF($H$11>$X5,IF($P$15>SUM(AD5-0.01),IF($P$15<AF5,1,0),0),0),0)","v":0},20.001000000000001,null,675,672,676,3,{"$f":"IF($H$11<$AJ5,IF($H$11>$AI5,IF($P$15>SUM(AK5-0.01),IF($P$15<AM5,1,0),0),0),0)","v":0},5.125,{"$f":"IF($H$11<$AJ5,IF($H$11>$AI5,IF($P$15>SUM(AM5-0.01),IF($P$15<AO5,1,0),0),0),0)","v":0},10.375,{"$f":"IF($H$11<$AJ5,IF($H$11>$AI5,IF($P$15>SUM(AO5-0.01),IF($P$15<AQ5,1,0),0),0),0)","v":0},19.001000000000001,null,525,522,526,2.5,{"$f":"IF($H$11<$AU5,IF($H$11>$AT5,IF($P$15>SUM(AV5-0.01),IF($P$15<AX5,1,0),0),0),0)","v":0},3.625,{"$f":"IF($H$11<$AU5,IF($H$11>$AT5,IF($P$15>SUM(AX5-0.01),IF($P$15<AZ5,1,0),0),0),0)","v":0},7.375,{"$f":"IF($H$11<$AU5,IF($H$11>$AT5,IF($P$15>SUM(AZ5-0.01),IF($P$15<BB5,1,0),0),0),0)","v":0},15.000999999999999,null,{"$f":"\" \"&List!$C$39&\" B \"","v":" Cena za korpus B "},null,null,{"$f":"List!$C$137","v":"Nápověda"}]
[null,null,null,null,null,null,null,null,null,null,null,null,null,"S1C",{"$f":"SUM(BA5:BA40)","v":0},null,"S1C",{"$f":"SUM(BA43:BA78)","v":0},null,"B = 2",null,null,{"$f":"W5-5","v":795},792,798,4,{"$f":"IF($H$11<$Y6,IF($H$11>$X6,IF($P$15>SUM(Z6-0.01),IF($P$15<AB6,1,0),0),0),0)","v":0},6.5,{"$f":"IF($H$11<$Y6,IF($H$11>$X6,IF($P$15>SUM(AB6-0.01),IF($P$15<AD6,1,0),0),0),0)","v":0},11.375,{"$f":"IF($H$11<$Y6,IF($H$11>$X6,IF($P$15>SUM(AD6-0.01),IF($P$15<AF6,1,0),0),0),0)","v":0},20.001000000000001,null,{"$f":"AH5-5","v":670},667,673,3,{"$f":"IF($H$11<$AJ6,IF($H$11>$AI6,IF($P$15>SUM(AK6-0.01),IF($P$15<AM6,1,0),0),0),0)","v":0},5.125,{"$f":"IF($H$11<$AJ6,IF($H$11>$AI6,IF($P$15>SUM(AM6-0.01),IF($P$15<AO6,1,0),0),0),0)","v":0},10.375,{"$f":"IF($H$11<$AJ6,IF($H$11>$AI6,IF($P$15>SUM(AO6-0.01),IF($P$15<AQ6,1,0),0),0),0)","v":0},19.001000000000001,null,{"$f":"AS5-5","v":520},517,523,2.5,{"$f":"IF($H$11<$AU6,IF($H$11>$AT6,IF($P$15>SUM(AV6-0.01),IF($P$15<AX6,1,0),0),0),0)","v":0},3.75,{"$f":"IF($H$11<$AU6,IF($H$11>$AT6,IF($P$15>SUM(AX6-0.01),IF($P$15<AZ6,1,0),0),0),0)","v":0},7.375,{"$f":"IF($H$11<$AU6,IF($H$11>$AT6,IF($P$15>SUM(AZ6-0.01),IF($P$15<BB6,1,0),0),0),0)","v":0},15.000999999999999,null,{"$f":"\" \"&List!$C$59","v":" Cena celkem bez DPH"}]
[null,{"$f":"List!$C$142","v":"Soupis kování"},null,null,null,null,{"$f":"IF($BD$2=1,$N$138,IF($BD$2=2,$P$138,IF($BD$2=3,$L$138,0)))","v":0},null,null,null,null,null,null,"S1D",{"$f":"SUM(AL5:AL35)","v":0},null,"S1D",{"$f":"SUM(AL43:AL73)","v":0},null,null,null,null,790,787,793,4,0,6.5,0,11.5,0,20.001000000000001,null,665,662,668,3,0,5.125,0,10.375,0,19.001000000000001,null,515,512,518,2.5,0,3.75,0,7.375,0,14.750999999999999,null,null,null,null,{"$f":"List!$C$141","v":"Doplňky"},null,null,null,null,null,null,null,null,null,null,null,null,null,null,null,null,null,null,null,{"$f":"List!$C$74&\" [kg]\"","v":"Hmotnost čela včetně úchytky [kg]"}]
[null,null,null,null,null,null,null,{"$f":"IF(AND(OR($Q$14=1, $Q$23=1), $L$138>0), $N$32, \" \")","v":" "},null,null,null,null,null,"S1E",{"$f":"SUM(AN5:AN35)","v":0},null,"S1E",{"$f":"SUM(AN43:AN73)","v":0},null,null,null,null,785,782,788,4,0,6.625,0,11.625,0,20.001000000000001,null,660,657,663,3,0,5.375,0,10.625,0,19.001000000000001,null,510,507,513,2.5,0,3.75,0,7.625,0,14.750999999999999,null,null,null,null,null,null,null,null,null,null,null,null,null,null,null,null,null,null,null,null,null,null,null,null,"KH [mm]","20S2G00.05","20S2H00.05","20S2I00.05",null,"KH [mm]","20S2D00.05","20S2E00.05","20S2F00.05",null,{"$f":"List!$C$149","v":"Zpět"}]
[null,"SERVO-DRIVE",null,{"$f":"List!$C$62&\" A\"","v":"Korpus A"},null,null,null,null,null,null,null,null,null,"S1F",{"$f":"SUM(AP5:AP35)","v":0},null,"S1F",{"$f":"SUM(AP43:AP73)","v":0},null,null,null,null,780,777,783,4,0,6.625,0,11.625,0,20.251000000000001,null,655,652,658,3,0,5.375,0,10.625,0,19.001000000000001,null,505,502,508,2.5,0,3.75,0,7.625,0,14.750999999999999,null,null,null,null,{"$f":"List!$C$139","v":"Přehled korpusů"},null,null,null,null,null,null,null,null,null,null,null,null,null,null,null,null,null,null,null,800,"4.00-7.00","6.00-12.25","10.50-20.00",null,570,"3.00-6.25","5.75-12.25","11.25-17.75"]
[null,{"$f":"List!$C$72&\" KB [mm] \"","v":"Šířka korpusu KB [mm] "},null,null,null,null,null,null,{"$f":"IF($H10=0,\" \",IF($H10<220,\" min. 220mm\",IF($H10>1800,\" max. 1 800mm\",\" \")))&IF(H15>0,IF(H10=0,\"● \"&List!$C$111,\" \"),\" \")","v":"  "},null,null,null,null,"S1G",{"$f":"SUM(AA5:AA30)","v":0},null,"S1G",{"$f":"SUM(AA43:AA68)","v":0},null,null,null,null,775,772,778,3.75,0,6.625,0,11.75,0,20.251000000000001,null,650,647,653,3,0,5.375,0,10.625,0,19.001000000000001,null,500,497,503,2.5,0,3.875,0,7.625,0,14.750999999999999,null,null,null,null,{"$f":"List!$C$140","v":"Objednávka"},null,null,null,null,null,null,null,null,null,null,null,null,null,null,null,null,null,null,null,795,"4.00-7.00","6.00-12.25","10.50-20.00",null,656,"3.00-6.25","5.75-12.25","11.25-17.75"]
[null,{"$f":"List!$C$73&\" KH [mm]  \"","v":"Výška korpusu KH [mm]  "},null,null,null,null,null,null,{"$f":"IF($H11=0,\" \",IF($H11<350,\" min. 350mm\",IF($H11>800,\" max. 800 mm\",\" \")))&IF(H15>0,IF(H11=0,\"● \"&List!$C$111,\" \"),\" \")","v":"  "},null,null,null,null,"S1H",{"$f":"SUM(AC5:AC30)","v":0},null,"S1H",{"$f":"SUM(AC43:AC68)","v":0},null,null,null,null,770,767,773,3.75,0,6.625,0,11.75,0,20.251000000000001,null,645,642,648,3,0,5.375,0,10.625,0,18.751000000000001,null,495,492,498,2.5,0,4,0,7.625,0,14.500999999999999,null,null,null,null,null,null,null,null,null,null,null,null,null,null,null,null,null,null,null,null,null,null,null,null,790,"4.00-7.00","6.00-12.25","10.75-20.00",null,560,"3.00-6.50","6.00-12.25","11.25-17.50"]
[null,{"$f":"List!$C$74&\" [kg] ** \"","v":"Hmotnost čela včetně úchytky [kg] ** "},null,null,null,null,null,null,{"$f":"IF($H15=0,\" \",IF(SUM($H12,$H13)=0,$BD$34,\" \"))&IF(AND(SUM($O$4:$O$12)=0,$T12=\"ano\",H12>0),$BD$38,IF(AND($H15>0,$H12>0,T$12=\"ano\"),$BD$35,\" \"))","v":"  "},null,null,null,null,"S1I",{"$f":"SUM(AE5:AE31)","v":0},null,"S1I",{"$f":"SUM(AE43:AE68)","v":0},"limit v/š",{"$f":"IF(AND(219<H10,H10<1801,349<H11,H11<801),\"ano\",\"ne\")","v":"ne"},null,null,765,762,768,3.75,0,6.875,0,11.75,0,20.251000000000001,null,640,637,643,3,0,5.375,0,10.625,0,18.751000000000001,null,490,487,493,2.5,0,4,0,7.875,0,14.500999999999999,null,null,null,null,null,null,null,null,null,null,null,null,null,null,null,null,null,null,null,null,null,null,null,null,785,"4.00-7.00","6.25-12.50","10.75-20.00",null,555,"3.00-6.50","6.00-12.50","11.50-17.50"]
[null,{"$f":"List!$C$76&\" [kg]       \"","v":"Vypočtená hmotnost čela [kg]       "},null,null,null,null,null,{"$f":"$H$210","v":0},{"$f":"IF($H15>0,IF($H13>0,IF($H12=0,$BD$35,\" \"),\" \"),\" \")","v":" "},null,null,null,null,null,null,"Servo-Drive",null,null,null,null,null,null,760,757,763,3.75,0,6.875,0,12,0,20.251000000000001,null,635,632,638,3,0,5.375,0,10.875,0,18.751000000000001,null,485,482,488,2.5,0,4,0,7.875,0,14.250999999999999,null,null,null,null,{"$f":"\" \"&List!$C$177&\" A\"","v":" Výpočet hmotnosti A"},null,null,null,null,null,null,null,null,null,null,null,null,null,null,null,null,null,null,null,780,"4.00-7.00","6.25-12.50","10.75-20.00",null,550,"3.00-6.50","6.00-12.50","11.50-17.25"]
[null,{"$f":"List!$C$27&\" * \"","v":"Počet mezistěn * "},null,null,null,null,null,null,null,null,null,null,null,null,false,null,{"$f":"IF($O$14=FALSE,2,1)","v":2},null,null,null,null,null,755,752,758,3.75,0,6.875,0,12,0,20.501000000000001,null,630,627,633,3,0,5.625,0,10.875,0,18.751000000000001,null,480,477,483,2.5,0,4,0,7.875,0,14.250999999999999,null,null,null,null,null,null,null,null,null,null,null,null,null,null,null,null,null,null,null,null,null,null,null,null,775,"3.75-7.00","6.25-12.50","11.00-20.25",null,545,"3.00-6.50","6.00-12.50","11.50-17.25"]
[null,{"$f":"List!$C$69","v":"Počet skříněk"},null,null,null,null,null,null,null,null,null,null,{"$f":"IF($H10*$H$11*$P15=0,0,IF(SUM(O4:O12)=0,0,IF(H10>1800,0,IF(H10<220,0,H15))))","v":0},null,"hmot =",{"$f":"IF(H12>0,H12,H13)","v":0},{"$f":"IF(SUM(H12,H13)=0,0,IF(H12>0,1,2))","v":0},"zadaná / vypočtená",null,null,null,null,750,747,753,3.5,0,6.875,0,12.125,0,20.501000000000001,null,625,622,628,3,0,5.625,0,10.875,0,18.751000000000001,null,475,472,478,2.5,0,4,0,7.875,0,14.000999999999999,null,null,null,null,null,null,null,null,null,null,null,null,null,null,null,null,null,null,null,null,null,null,null,null,770,"3.75-7.00","6.25-12.50","11.00-20.25",null,540,"3.00-6.50","6.00-12.75","11.75-17.00"]
[null,{"$f":"IF(H15>0,IF(Q15=0,\" \",IF(Q15=1,$BD$47,$BD$48)),\" \")&IF(H15>0,IF(Q15=0,\" \",IF(Q15=1,$BD$49,$BD$50)),\" \")","v":"  "},null,null,null,null,null,null,null,null,null,null,null,null,null,null,null,null,null,null,null,null,745,742,748,3.5,0,6.875,0,12.125,0,20.501000000000001,null,620,617,623,3,0,5.625,0,10.875,0,18.751000000000001,null,470,467,473,2.5,0,4.125,0,8.125,0,14.000999999999999,null,null,null,null,null,null,null,null,null,null,null,null,null,null,null,null,null,null,null,null,null,null,null,null,765,"3.75-7.25","6.50-12.50","11.00-20.25",null,535,"3.00-6.75","6.25-12.75","11.75-16.75"]
[null,null,null,null,null,null,null,null,null,null,null,null,null,"tyč",{"$f":"IF($H$10>1360,1.5,IF($H$10<610,0.5,1))","v":0.5},null,"tyč",{"$f":"IF($H$19>1360,1.5,IF($H$19<610,0.5,1))","v":0.5},null,null,null,null,740,737,743,3.5,0,6.875,0,12.25,0,20.751000000000001,null,615,612,618,3,0,5.625,0,10.875,0,18.751000000000001,null,465,462,468,2.25,0,4.125,0,8.125,0,13.750999999999999,null,null,null,null,{"$f":"\" \"&List!$C$361","v":" Ověření síly zdvihače"},null,null,null,null,null,null,null,null,null,null,null,null,null,null,null,null,null,null,null,760,"3.75-7.25","6.50-12.75","11.25-20.25",null,530,"3.00-6.75","6.25-12.75","11.75-16.75"]
[null,"SERVO-DRIVE",null,{"$f":"List!$C$62&\" B\"","v":"Korpus B"},null,null,null,null,null,null,null,null,null,"mezistěny",{"$f":"IF($H$14>0,$H$14,IF($H$10>1219,1,0))","v":0},null,"mezistěny",{"$f":"IF($H$23>0,$H$23,IF($H$19>1219,1,0))","v":0},null,null,null,null,735,732,738,3.5,0,6.875,0,12.375,0,20.751000000000001,null,610,607,613,3,0,5.75,0,11.125,0,18.501000000000001,null,460,457,463,2.25,0,4.125,0,8.125,0,13.750999999999999,null,null,null,null,null,null,null,null,null,null,null,null,null,null,null,null,null,null,null,null,null,null,null,null,755,"3.75-7.25","6.50-12.75","11.25-20.50",null,526,"3.00-6.75","6.25-13.00","12.00-16.50"]
[null,{"$f":"List!$C$72&\" KB [mm] \"","v":"Šířka korpusu KB [mm] "},null,null,null,null,null,null,{"$f":"IF($H19=0,\" \",IF($H19<220,\" min. 220mm\",IF($H19>1800,\" max. 1 800mm\",\" \")))&IF(H24>0,IF(H19=0,\"● \"&List!$C$111,\" \"),\" \")","v":"  "},null,null,null,null,null,null,null,null,null,null,null,null,null,730,727,733,3.5,0,7.125,0,12.375,0,21.001000000000001,null,605,602,608,3,0,5.75,0,11.125,0,18.501000000000001,null,455,452,458,2.25,0,4.125,0,8.375,0,13.500999999999999,null,null,null,null,null,null,null,null,null,null,null,null,null,null,null,null,null,null,null,null,null,null,null,null,750,"3.50-7.25","6.50-12.75","11.50-20.50"]
[null,{"$f":"List!$C$73&\" KH [mm] \"","v":"Výška korpusu KH [mm] "},null,null,null,null,null,null,{"$f":"IF($H20=0,\" \",IF($H20<350,\" min. 350mm\",IF($H20>800,\" max. 800 mm\",\" \")))&IF(H24>0,IF(H20=0,\"● \"&List!$C$111,\" \"),\" \")","v":"  "},null,null,null,null,null,null,null,null,null,null,null,null,null,725,722,728,3.5,0,7.125,0,12.5,0,21.001000000000001,null,600,597,603,3,0,5.75,0,11.125,0,18.501000000000001,null,450,447,453,2.25,0,4.125,0,8.375,0,13.500999999999999,null,null,null,null,null,null,null,null,null,null,null,null,null,null,null,null,null,null,null,null,null,null,null,null,745,"3.50-7.25","6.50-12.75","11.50-20.50",null,"KH [mm]","20S2A00.05","20S2B00.05","20S2C00.05"]
[null,{"$f":"List!$C$74&\" [kg] ** \"","v":"Hmotnost čela včetně úchytky [kg] ** "},null,null,null,null,null,null,{"$f":"IF($H24=0,\" \",IF(SUM($H21,$H22)=0,$BD$34,\" \"))&IF(AND(SUM($R$4:$R$12)=0,$T21=\"ano\",H21>0),$BD$38,IF(AND($H24>0,$H21>0,T$21=\"ano\"),$BD$35,\" \"))","v":"  "},null,null,null,null,null,null,null,null,null,"limit v/š",{"$f":"IF(AND(219<H19,H19<1801,349<H20,H20<801),\"ano\",\"ne\")","v":"ne"},null,null,720,717,723,3.5,0,7.125,0,12.5,0,21.251000000000001,null,595,592,598,3,0,5.75,0,11.125,0,18.501000000000001,null,445,442,448,2.25,0,4.375,0,8.375,0,13.250999999999999,null,null,null,null,null,null,null,null,null,null,null,null,null,null,null,null,null,null,null,null,null,null,null,null,740,"3.50-7.25","6.50-12.75","11.75-20.75",null,525,"2.50-4.00","3.25-7.50","7.25-15.00"]
[null,{"$f":"List!$C$76&\" [kg]       \"","v":"Vypočtená hmotnost čela [kg]       "},null,null,null,null,null,{"$f":"$H$219","v":0},{"$f":"IF($H24>0,IF($H22>0,IF($H21=0,$BD$35,\" \"),\" \"),\" \")","v":" "},null,null,null,null,null,null,"Servo-Drive",null,null,null,null,null,null,{"$f":"W21-5","v":715},712,718,3.5,0,7.125,0,12.5,0,21.251000000000001,null,{"$f":"AH21-5","v":590},587,593,3,0,5.75,0,11.375,0,18.251000000000001,null,{"$f":"AS21-5","v":440},437,443,2.25,0,4.375,0,8.375,0,13.000999999999999,null,null,null,null,{"$f":"\" \"&List!$C$177&\" B\"","v":" Výpočet hmotnosti B"},null,null,null,null,null,null,null,null,null,null,null,null,null,null,null,null,null,null,null,735,"3.50-7.50","6.50-13.00","11.75-20.75",null,520,"2.50-4.00","3.50-7.50","7.25-15.00"]
[null,{"$f":"List!$C$27&\" * \"","v":"Počet mezistěn * "},null,null,null,null,null,null,null,null,null,null,null,null,false,null,{"$f":"IF($O$23=FALSE,2,1)","v":2},null,null,null,null,null,710,707,713,3.5,0,7.25,0,12.75,0,21.251000000000001,null,585,582,588,3,0,6,0,11.375,0,18.251000000000001,null,435,432,438,2.25,0,4.375,0,8.625,0,13.000999999999999,null,null,null,null,null,null,null,null,null,null,null,null,null,null,null,null,null,null,null,null,null,null,null,null,730,"3.50-7.50","6.75-13.00","11.75-21.00",null,515,"2.50-4.00","3.50-7.50","7.25-14.75"]
[null,{"$f":"List!$C$69","v":"Počet skříněk"},null,null,null,null,null,null,null,null,null,null,{"$f":"IF($H19*$H$20*$P24=0,0,IF(SUM(R4:R12)=0,0,IF(H19>1800,0,IF(H19<220,0,H24))))","v":0},null,"hmot =",{"$f":"IF(H21>0,H21,H22)","v":0},{"$f":"IF(SUM(H21,H22)=0,0,IF(H21>0,1,2))","v":0},"zadaná / vypočtená",null,null,null,null,705,702,708,3.5,0,7.25,0,12.75,0,21.501000000000001,null,580,577,583,3,0,6,0,11.5,0,18.001000000000001,null,430,427,433,2.25,0,4.375,0,8.625,0,12.750999999999999,null,null,null,null,null,null,null,null,null,null,null,null,null,null,null,null,null,null,null,null,null,null,null,null,725,"3.50-7.50","6.75-13.00","12.00-21.00",null,510,"2.50-4.00","3.50-7.75","7.50-14.75"]
[null,{"$f":"IF(H24>0,IF(Q24=0,\" \",IF(Q24=1,$BD$47,$BD$48)),\" \")&IF(H24>0,IF(Q24=0,\" \",IF(Q24=1,$BD$49,$BD$50)),\" \")","v":"  "},null,null,null,null,null,null,null,null,null,null,null,null,null,null,null,null,null,null,null,null,700,697,703,3.5,0,7.25,0,12.875,0,21.501000000000001,null,575,572,578,3,0,6,0,11.5,0,18.001000000000001,null,425,422,428,2.25,0,4.375,0,8.625,0,12.750999999999999,null,null,null,null,null,null,null,null,null,null,null,null,null,null,null,null,null,null,null,null,null,null,null,null,720,"3.50-7.50","6.75-13.00","12.00-21.25",null,505,"2.50-4.00","3.50-7.75","7.50-14.75"]
[null,null,null,null,null,null,null,null,null,null,null,null,null,null,null,null,null,null,null,null,null,null,695,692,698,3.5,0,7.25,0,12.875,0,21.501000000000001,null,570,567,573,3,0,6,0,11.75,0,17.751000000000001,null,420,417,423,2.25,0,4.375,0,8.625,0,12.500999999999999,null,null,null,null,null,null,null,null,null,null,null,null,null,null,null,null,null,null,null,null,null,null,null,null,715,"3.50-7.50","6.75-13.00","12.00-21.25",null,500,"2.50-4.25","3.50-7.75","7.50-14.75"]
[null,{"$f":"IF(OR(AND($Q$14=1, $M$15>0), AND($Q$23=1, $M$24>0)), List!$C$157, \" \")","v":" "},null,null,null,null,null,null,null,null,null,null,null,null,{"$f":"IF($P$27=FALSE,2,1)","v":2},false,null," - Zdroj",null,null,null,null,690,687,693,3.5,0,7.25,0,13,0,21.501000000000001,null,565,562,568,3,0,6,0,11.75,0,17.751000000000001,null,415,412,418,2.25,0,4.375,0,8.625,0,12.500999999999999,null,null,null,null,null,null,null,null,null,null,null,null,null,null,null,null,null,null,null,null,null,null,null,null,710,"3.50-7.75","6.75-13.25","12.25-21.25",null,495,"2.50-4.25","3.75-7.75","7.50-14.50"]
[null,null,null,null,null,null,null,null,null,null,null,null,null,null,null,null,null,null,null,null,null,null,685,682,688,3.5,0,7.5,0,13,0,21.501000000000001,null,560,557,563,3,0,6.25,0,11.75,0,17.501000000000001,null,410,407,413,2.25,0,4.375,0,8.875,0,12.250999999999999,null,null,null,null,null,null,null,null,null,null,null,null,null,null,null,null,null,null,null,null,null,null,null,null,705,"3.50-7.75","6.75-13.25","12.25-21.50",null,490,"2.50-4.25","3.75-8.00","7.75-14.50"]
[null,null,null,null,null,null,null,null,null,null,null,null,null,null,null,null,null,null,null,null,null,null,680,677,683,3.5,0,7.5,0,13.25,0,21.501000000000001,null,555,552,558,3,0,6.25,0,12,0,17.501000000000001,null,405,402,408,2.25,0,4.375,0,8.875,0,12.000999999999999,null,null,null,null,null,null,null,null,null,null,null,null,null,null,null,null,null,null,null,null,null,null,null,null,700,"3.50-7.75","6.75-13.25","12.50-21.50",null,485,"2.50-4.25","3.75-8.00","7.75-14.25"]
[null,null,null,null,null,null,null,null,null,null,null,null,null,null,null,null,null,null,null,null,null,null,676,675,678,3.5,0,7.5,0,13.25,0,21.501000000000001,null,550,547,553,3,0,6.25,0,12,0,17.251000000000001,null,400,397,403,2,0,4.5,0,8.875,0,12.000999999999999,null,null,null,null,null,null,null,null,null,null,null,null,null,null,null,null,null,null,null,null,null,null,null,null,695,"3.50-7.75","6.75-13.25","12.50-21.50",null,480,"2.50-4.25","3.75-8.00","7.75-14.25"]
[null,null,null,null,null,null,null,null,null,null,null,null,null,null,null,null,null,null,null,null,null,null,null,null,null,null,null,null,null,null,null,null,null,545,542,548,3,0,6.25,0,12,0,17.251000000000001,null,395,392,398,2,0,4.625,0,8.875,0,11.750999999999999,null,null,null,null,null,null,null,null,null,null,null,null,null,null,null,null,null,null,null,null,null,null,null,null,690,"3.50-7.75","6.75-13.25","12.75-21.50",null,475,"2.50-4.25","3.75-8.00","7.75-14.00"]
[null,null,null,null,null,null,null,null,null,null,null,null,null,{"$f":"List!C158","v":"Cena bez napájecího zdroje!"},null,null,null,null,null,null,null,null,null,null,null,null,null,null,null,null,null,null,null,540,537,543,3,0,6.25,0,12.25,0,17.001000000000001,null,390,387,393,2,0,4.625,0,8.875,0,11.500999999999999,null,null,null,null,null,null,null,null,null,null,null,null,null,null,null,null,null,null,null,null,null,null,null,null,685,"3.50-8.00","7.00-13.25","12.75-21.50",null,470,"2.50-4.25","4.00-8.25","8.00-14.00"]
[null,null,{"$f":"\"* \"&List!$C$215","v":"* Zadejte počet mezistěn v korpusu. "},null,null,null,null,null,null,null,null,null,null,null,null,null,null,null,null,null,null,null,null,null,null,null,null,null,null,null,null,null,null,535,532,538,3,0,6.5,0,12.25,0,16.751000000000001,null,385,382,388,2,0,4.625,0,9.125,0,11.500999999999999,null,null,null,null,null,null,null,null,null,null,null,null,null,null,null,null,null,null,null,null,null,null,null,null,680,"3.50-8.00","7.00-13.50","13.00-21.50",null,465,"2.25-4.25","4.00-8.25","8.00-13.75"]
[null,null,{"$f":"\"** \"&List!$C$168","v":"** Pokud znáte hmotnost a nechcete využít výpočtu hmotnosti"},null,null,null,null,null,null,null,null,null,null,null,null,null,null,null,null,null,null,null,null,null,null,null,null,null,null,null,null,null,null,530,527,533,3,0,6.5,0,12.25,0,16.751000000000001,null,380,377,383,2,0,4.625,0,9.125,0,11.250999999999999,null,{"$f":"\" \"&List!$C$103","v":" Doplňte nebo použijte \"Výpočet hmotnosti\" "},null,null,null,null,null,null,null,null,null,null,null,null,null,null,null,null,null,null,null,null,null,null,676,"3.50-8.00","7.00-13.50","13.00-21.50",null,460,"2.25-4.25","4.00-8.25","8.00-13.75"]
[null,null,{"$f":"\"*** \"&List!$C$371","v":"*** Vyberte typ alurámečku!"},null,null,null,null,null,null,null,null,null,null,null,null,null,null,null,null,null,null,null,null,null,null,null,null,null,null,null,null,null,null,526,525,528,3,0,6.5,0,12.5,0,16.501000000000001,null,375,372,378,2,0,4.625,0,9.125,0,11.250999999999999,null,{"$f":"\"◄ \"&List!$C$101","v":"◄ hodnota bude použita pro výběr zdvihače"},null,null,null,null,null,null,null,null,null,null,null,null,null,null,null,null,null,null,null,null,null,null,null,null,null,null,null,455,"2.25-4.25","4.00-8.50","8.25-13.50"]
[null,null,{"$f":"\"      \"&List!$C$372","v":"      Více informací k výběru alurámečků v Nápovědě"},null,null,null,null,null,null,null,null,null,null,null,null,null,null,null,null,null,null,null,null,null,null,null,null,null,null,null,null,null,null,null,null,null,null,null,null,null,null,null,null,null,370,367,373,2,0,4.625,0,9.125,0,11.000999999999999,null,{"$f":"\" * \"&List!$C$110","v":" * Doplňte hodnoty"},null,null,null,null,null,null,null,null,null,null,null,null,null,null,null,null,null,null,null,null,null,null,"KH [mm]","20S2D00.05","20S2E00.05","20S2F00.05",null,450,"2.25-4.25","4.00-8.50","8.25-13.50"]
[null,null,null,null,null,null,null,null,null,null,null,null,null,null,null,null,null,null,null,null,null,null,null,null,null,null,null,null,null,null,null,null,null,null,null,null,null,null,null,null,null,null,null,null,365,362,368,2,0,4.625,0,9.125,0,11.000999999999999,null,null,null,null,null,null,null,null,null,null,null,null,null,null,null,null,null,null,null,null,null,null,null,null,675,"3.00-5.25","5.00-11.00","  9.75-19.00",null,445,"2.25-4.50","4.25-8.50","8.25-13.25"]
[null,null,null,null,null,null,null,null,null,null,null,null,null,null,null,null,null,null,null,null,null,null,null,null,null,null,null,null,null,null,null,null,null,null,null,null,null,null,null,null,null,null,null,null,{"$f":"AS37-5","v":360},357,363,2,0,4.625,0,9.375,0,10.750999999999999,null,{"$f":"List!$C$107&\"!\"","v":"Překročena maximální hmotnost!"},null,null,null,null,null,null,null,null,null,null,null,null,null,null,null,null,null,null,null,null,null,null,670,"3.00-5.25","5.00-11.00","  9.75-19.00",null,440,"2.25-4.50","4.25-8.50","8.25-13.00"]
[null,null,null,null,null,null,null,null,null,null,null,null,null,null,null,null,null,null,null,null,null,null,null,null,null,null,null,null,null,null,null,null,null,null,null,null,null,null,null,null,null,null,null,null,355,352,358,2,0,4.625,0,9.375,0,10.500999999999999,null,{"$f":"\" max. 9 000! \"&List!$C$105","v":" max. 9 000! Upravte hmotnost nebo výšku"},null,null,null,null,null,null,null,null,null,null,null,null,null,null,null,null,null,null,null,null,null,null,665,"3.00-5.25","5.00-11.00","  9.75-19.00",null,435,"2.25-4.50","4.25-8.75","8.50-13.00"]
[null,null,null,null,null,null,null,null,null,null,null,null,null,null,null,null,null,null,null,null,null,null,null,null,null,null,null,null,null,null,null,null,null,null,null,null,null,null,null,null,null,null,null,null,350,349,{"$f":"AU39-5","v":353},2,0,4.75,0,9.375,0,10.500999999999999,null,{"$f":"\" \"&List!$C$216","v":" Nutná mezistěna"},null,null,null,null,null,null,null,null,null,null,null,null,null,null,null,null,null,null,null,null,null,null,660,"3.00-5.50","5.25-11.25","10.00-19.00",null,430,"2.25-4.50","4.25-8.75","8.50-12.75"]
[null,null,null,null,null,null,null,null,null,null,null,null,null,null,null,null,null,null,null,null,null,null,null,null,null,null,null,null,null,null,null,null,null,null,null,null,null,null,null,null,null,null,null,null,null,null,null,null,null,null,null,null,null,null,null,null,null,null,null,null,null,null,null,null,null,null,null,null,null,null,null,null,null,null,null,null,null,null,655,"3.00-5.50","5.25-11.25","10.00-19.00",null,425,"2.25-4.50","4.25-8.75","8.50-12.75"]
[null,null,null,null,null,null,null,null,null,null,null,null,null,null,null,null,null,{"$f":"HS!$K$27","v":1},2,{"$f":"Menu!$Q$27","v":3},null,null,"zdvih B",null,null,"20S1G00",null,"20S1H00",null,"20S1I00",null,"max",null,null,null,null,"20S1D00",null,"20S1E00",null,"20S1F00",null,"max",null,null,null,null,"20S1A00",null,"20S1B00",null,"20S1C00",null,"max",null,null,null,null,null,null,null,null,null,null,null,null,null,null,null,null,null,null,null,null,null,null,null,null,650,"3.00-5.50","5.25-11.25","10.00-19.00",null,420,"2.25-4.50","4.25-8.75","8.50-12.50"]
[null,null,null,null,null,null,null,null,null,null,null,null,null,null,null,null,null,"čelní kov.","alu","kryt.",null,null,800,797,801,4,{"$f":"IF($H$20<$Y43,IF($H$20>$X43,IF($P$24>SUM(Z43-0.01),IF($P$24<AB43,1,0),0),0),0)","v":0},6.5,{"$f":"IF($H$20<$Y43,IF($H$20>$X43,IF($P$24>SUM(AB43-0.01),IF($P$24<AD43,1,0),0),0),0)","v":0},11.375,{"$f":"IF($H$20<$Y43,IF($H$20>$X43,IF($P$24>SUM(AD43-0.01),IF($P$24<AF43,1,0),0),0),0)","v":0},20.001000000000001,null,675,672,676,3,{"$f":"IF($H$20<$AJ43,IF($H$20>$AI43,IF($P$24>SUM(AK43-0.01),IF($P$24<AM43,1,0),0),0),0)","v":0},5.125,{"$f":"IF($H$20<$AJ43,IF($H$20>$AI43,IF($P$24>SUM(AM43-0.01),IF($P$24<AO43,1,0),0),0),0)","v":0},10.375,{"$f":"IF($H$20<$AJ43,IF($H$20>$AI43,IF($P$24>SUM(AO43-0.01),IF($P$24<AQ43,1,0),0),0),0)","v":0},19.001000000000001,null,525,522,526,2.5,{"$f":"IF($H$20<$AU43,IF($H$20>$AT43,IF($P$24>SUM(AV43-0.01),IF($P$24<AX43,1,0),0),0),0)","v":0},3.625,{"$f":"IF($H$20<$AU43,IF($H$20>$AT43,IF($P$24>SUM(AX43-0.01),IF($P$24<AZ43,1,0),0),0),0)","v":0},7.375,{"$f":"IF($H$20<$AU43,IF($H$20>$AT43,IF($P$24>SUM(AZ43-0.01),IF($P$24<BB43,1,0),0),0),0)","v":0},15.000999999999999,null,null,null,null,null,null,null,null,null,null,null,null,null,null,null,null,null,null,null,null,null,null,null,null,645,"3.00-5.50","5.25-11.25","10.00-18.75",null,415,"2.25-4.50","4.25-8.75","8.50-12.50"]
[null,null,null,null,null,null,null,null,null,null,null,null,null,null,null,null,null,{"$f":"List!$C$125","v":"Expando"},null,{"$f":"List!$C$128","v":"Světle šedá (HG/T)"},null,null,{"$f":"W43-5","v":795},792,798,4,{"$f":"IF($H$20<$Y44,IF($H$20>$X44,IF($P$24>SUM(Z44-0.01),IF($P$24<AB44,1,0),0),0),0)","v":0},6.5,{"$f":"IF($H$20<$Y44,IF($H$20>$X44,IF($P$24>SUM(AB44-0.01),IF($P$24<AD44,1,0),0),0),0)","v":0},11.375,{"$f":"IF($H$20<$Y44,IF($H$20>$X44,IF($P$24>SUM(AD44-0.01),IF($P$24<AF44,1,0),0),0),0)","v":0},20.001000000000001,null,{"$f":"AH43-5","v":670},667,673,3,{"$f":"IF($H$20<$AJ44,IF($H$20>$AI44,IF($P$24>SUM(AK44-0.01),IF($P$24<AM44,1,0),0),0),0)","v":0},5.125,{"$f":"IF($H$20<$AJ44,IF($H$20>$AI44,IF($P$24>SUM(AM44-0.01),IF($P$24<AO44,1,0),0),0),0)","v":0},10.375,{"$f":"IF($H$20<$AJ44,IF($H$20>$AI44,IF($P$24>SUM(AO44-0.01),IF($P$24<AQ44,1,0),0),0),0)","v":0},19.001000000000001,null,{"$f":"AS43-5","v":520},517,523,2.5,{"$f":"IF($H$20<$AU44,IF($H$20>$AT44,IF($P$24>SUM(AV44-0.01),IF($P$24<AX44,1,0),0),0),0)","v":0},3.75,{"$f":"IF($H$20<$AU44,IF($H$20>$AT44,IF($P$24>SUM(AX44-0.01),IF($P$24<AZ44,1,0),0),0),0)","v":0},7.375,{"$f":"IF($H$15<$AU44,IF($H$15>$AT44,IF($H$16>SUM(AZ44-0.01),IF($H$16<BB44,1,0),0),0),0)","v":0},15.000999999999999,null,null,null,null,null,null,null,null,null,null,null,null,null,null,null,null,null,null,null,null,null,null,null,null,640,"3.00-5.50","5.25-11.25","10.00-18.75",null,410,"2.25-4.50","4.25-9.00","8.75-12.25"]
[null,null,null,null,null,null,null,null,null,null,null,null,null,null,null,null,null,{"$f":"List!$C$126","v":"na vruty"},null,{"$f":"List!$C$129","v":"Tmavě šedá (TGR)"},null,null,790,787,793,4,0,6.5,0,11.5,0,20.001000000000001,null,665,662,668,3,0,5.125,0,10.375,0,19.001000000000001,null,515,512,518,2.5,0,3.75,0,7.375,0,14.750999999999999,null,null,null,null,null,null,null,null,null,null,null,null,null,null,null,null,null,null,null,null,null,null,null,null,635,"3.00-5.50","5.25-11.50","10.25-18.75",null,405,"2.25-4.50","4.25-9.00","8.75-12.20"]
[null,null,null,null,null,null,null,null,null,null,null,null,null,null,null,null,null,null,null,{"$f":"List!$C$130","v":"Hedvábně bílá (SW/T)"},null,null,785,782,788,4,0,6.625,0,11.625,0,20.001000000000001,null,660,657,663,3,0,5.375,0,10.625,0,19.001000000000001,null,510,507,513,2.5,0,3.75,0,7.625,0,14.750999999999999,null,null,null,null,null,null,null,null,null,null,null,null,null,null,null,null,null,null,null,null,null,null,null,null,630,"3.00-5.75","5.50-11.50","10.25-18.75",null,400,"2.00-4.75","4.25-9.00","8.75-12.20"]
[null,null,null,null,null,null,null,null,null,null,null,null,null,null,null,null,null,null,null,null,null,null,780,777,783,4,0,6.625,0,11.625,0,20.251000000000001,null,655,652,658,3,0,5.375,0,10.625,0,19.001000000000001,null,505,502,508,2.5,0,3.75,0,7.625,0,14.750999999999999,null,{"$f":"List!C169&\". \"","v":"Pro určení typu zdvihače bude použita zadaná hmotnost. "},null,null,null,null,null,null,null,null,null,null,null,null,null,null,null,null,null,null,null,null,null,null,625,"3.00-5.75","5.50-11.50","10.25-18.75",null,395,"2.00-4.75","4.50-9.00","8.75-11.75"]
[null,null,null,null,null,null,null,null,null,null,null,null,null,null,null,null,null,null,null,null,null,null,775,772,778,3.75,0,6.625,0,11.75,0,20.251000000000001,null,650,647,653,3,0,5.375,0,10.625,0,19.001000000000001,null,500,497,503,2.5,0,3.875,0,7.625,0,14.750999999999999,null,{"$f":"List!C170&\". \"","v":"Pro určení typu zdvihače bude použita vypočtená hmotnost. "},null,null,null,null,null,null,null,null,null,null,null,null,null,null,null,null,null,null,null,null,null,null,620,"3.00-5.75","5.50-11.50","10.25-18.75",null,390,"2.00-4.75","4.50-9.00","8.75-11.50"]
[null,null,null,null,null,null,null,null,null,null,null,null,null,null,null,null,null,null,null,null,null,null,770,767,773,3.75,0,6.625,0,11.75,0,20.251000000000001,null,645,642,648,3,0,5.375,0,10.625,0,18.751000000000001,null,495,492,498,2.5,0,4,0,7.625,0,14.500999999999999,null,{"$f":"List!C171","v":"Chcete-li použít vypočtenou hmotnost, smažte zadanou hodnotu"},null,null,null,null,null,null,null,null,null,null,null,null,null,null,null,null,null,null,null,null,null,null,615,"3.00-5.75","5.50-11.50","10.25-18.75",null,385,"2.00-4.75","4.50-9.25","9.00-11.50"]
[null,null,null,null,null,null,null,null,null,null,null,null,null,null,null,null,null,null,null,null,null,null,765,762,768,3.75,0,6.875,0,11.75,0,20.251000000000001,null,640,637,643,3,0,5.375,0,10.625,0,18.751000000000001,null,490,487,493,2.5,0,4,0,7.875,0,14.500999999999999,null,{"$f":"List!C172","v":"Chcete-li použít zadanou hmotnost, zadejte ji do políčka"},null,null,null,null,null,null,null,null,null,null,null,null,null,null,null,null,null,null,null,null,null,null,610,"3.00-6.00","5.50-11.75","10.50-18.50",null,380,"2.00-4.75","4.50-9.25","9.00-11.25"]
[null,null,null,null,null,null,null,null,null,null,null,null,null,null,null,null,null,null,null,null,null,null,760,757,763,3.75,0,6.875,0,12,0,20.251000000000001,null,635,632,638,3,0,5.375,0,10.875,0,18.751000000000001,null,485,482,488,2.5,0,4,0,7.875,0,14.250999999999999,null,null,null,null,null,null,null,null,null,null,null,null,null,null,null,null,null,null,null,null,null,null,null,null,605,"3.00-6.00","5.50-11.75","10.50-18.50",null,375,"2.00-4.75","4.50-9.25","9.00-11.25"]
[null,null,null,null,null,null,null,null,null,null,null,null,null,null,null,null,null,null,null,null,null,null,755,752,758,3.75,0,6.875,0,12,0,20.501000000000001,null,630,627,633,3,0,5.625,0,10.875,0,18.751000000000001,null,480,477,483,2.5,0,4,0,7.875,0,14.250999999999999,null,null,null,null,null,null,null,null,null,null,null,null,null,null,null,null,null,null,null,null,null,null,null,null,600,"3.00-6.00","5.50-11.75","10.50-18.50",null,370,"2.00-4.75","4.50-9.25","9.00-11.00"]
[null,null,null,null,null,null,null,null,null,null,null,null,null,null,null,null,null,null,null,null,null,null,750,747,753,3.5,0,6.875,0,12.125,0,20.501000000000001,null,625,622,628,3,0,5.625,0,10.875,0,18.751000000000001,null,475,472,478,2.5,0,4,0,7.875,0,14.000999999999999,null,null,null,null,null,null,null,null,null,null,null,null,null,null,null,null,null,null,null,null,null,null,null,null,595,"3.00-6.00","5.50-11.75","10.50-18.50",null,365,"2.00-4.75","4.50-9.25","9.00-11.00"]
[null,null,null,null,null,null,null,null,null,null,null,null,null,null,null,null,null,null,null,null,null,null,745,742,748,3.5,0,6.875,0,12.125,0,20.501000000000001,null,620,617,623,3,0,5.625,0,10.875,0,18.751000000000001,null,470,467,473,2.5,0,4.125,0,8.125,0,14.000999999999999,null,null,null,null,null,null,null,null,null,null,null,null,null,null,null,null,null,null,null,null,null,null,null,null,590,"3.00-6.00","5.50-12.00","10.75-18.25",null,360,"2.00-4.75","4.50-9.50","9.25-10.75"]
[null,null,null,null,null,null,null,null,null,null,null,null,null,null,null,null,null,null,null,null,null,null,740,737,743,3.5,0,6.875,0,12.25,0,20.751000000000001,null,615,612,618,3,0,5.625,0,10.875,0,18.751000000000001,null,465,462,468,2.25,0,4.125,0,8.125,0,13.750999999999999,null,null,null,null,null,null,null,null,null,null,null,null,null,null,null,null,null,null,null,null,null,null,null,null,585,"3.00-6.25","5.75-12.00","10.75-18.25",null,355,"2.00-4.75","4.50-9.50","9.25-10.50"]
[null,null,null,null,null,null,null,null,null,null,null,null,null,null,null,null,null,null,null,null,null,null,735,732,738,3.5,0,6.875,0,12.375,0,20.751000000000001,null,610,607,613,3,0,5.75,0,11.125,0,18.501000000000001,null,460,457,463,2.25,0,4.125,0,8.125,0,13.750999999999999,null,null,null,null,null,null,null,null,null,null,null,null,null,null,null,null,null,null,null,null,null,null,null,null,580,"3.00-6.25","5.75-12.00","11.00-18.00",null,350,"2.00-5.00","4.50-9.50","9.25-10.50"]
[null,null,null,null,null,null,null,null,null,null,null,null,null,null,null,null,null,null,null,null,null,null,730,727,733,3.5,0,7.125,0,12.375,0,21.001000000000001,null,605,602,608,3,0,5.75,0,11.125,0,18.501000000000001,null,455,452,458,2.25,0,4.125,0,8.375,0,13.500999999999999,null,null,null,null,null,null,null,null,null,null,null,null,null,null,null,null,null,null,null,null,null,null,null,null,575,"3.00-6.25","5.75-12.00","11.00-18.00",null,{"$f":"List!$C$73&\" KH [mm]  \"","v":"Výška korpusu KH [mm]  "}]
[null,null,null,null,null,null,null,null,null,null,null,null,null,null,null,null,null,null,null,null,null,null,725,722,728,3.5,0,7.125,0,12.5,0,21.001000000000001,null,600,597,603,3,0,5.75,0,11.125,0,18.501000000000001,null,450,447,453,2.25,0,4.125,0,8.375,0,13.500999999999999]
[null,null,null,null,null,null,null,null,null,null,null,null,null,null,null,null,null,null,null,null,null,null,720,717,723,3.5,0,7.125,0,12.5,0,21.251000000000001,null,595,592,598,3,0,5.75,0,11.125,0,18.501000000000001,null,445,442,448,2.25,0,4.375,0,8.375,0,13.250999999999999,null,null,null,null,null,null,null,null,null,null,null,null,null,null,null,null,null,null,null,null,null,null,null,null,{"$f":"List!$C$149","v":"Zpět"}]
[null,null,null,null,null,null,null,null,null,null,null,null,null,null,null,null,null,null,null,null,null,null,{"$f":"W59-5","v":715},712,718,3.5,0,7.125,0,12.5,0,21.251000000000001,null,{"$f":"AH59-5","v":590},587,593,3,0,5.75,0,11.375,0,18.251000000000001,null,{"$f":"AS59-5","v":440},437,443,2.25,0,4.375,0,8.375,0,13.000999999999999]
[null,null,null,null,null,null,null,null,null,null,null,null,null,null,null,null,null,null,null,null,null,null,710,707,713,3.5,0,7.25,0,12.75,0,21.251000000000001,null,585,582,588,3,0,6,0,11.375,0,18.251000000000001,null,435,432,438,2.25,0,4.375,0,8.625,0,13.000999999999999]
[null,null,null,null,null,null,null,null,null,null,null,null,null,null,null,null,null,null,null,null,null,null,705,702,708,3.5,0,7.25,0,12.75,0,21.501000000000001,null,580,577,583,3,0,6,0,11.5,0,18.001000000000001,null,430,427,433,2.25,0,4.375,0,8.625,0,12.750999999999999]
[null,null,null,null,null,null,null,null,null,null,null,null,null,null,null,null,null,null,null,null,null,null,700,697,703,3.5,0,7.25,0,12.875,0,21.501000000000001,null,575,572,578,3,0,6,0,11.5,0,18.001000000000001,null,425,422,428,2.25,0,4.375,0,8.625,0,12.750999999999999]
[null,null,null,null,null,null,null,null,null,null,null,null,null,null,null,null,null,null,null,null,null,null,695,692,698,3.5,0,7.25,0,12.875,0,21.501000000000001,null,570,567,573,3,0,6,0,11.75,0,17.751000000000001,null,420,417,423,2.25,0,4.375,0,8.625,0,12.500999999999999]
[null,null,null,null,null,null,null,null,null,null,null,null,null,null,null,null,null,null,null,null,null,null,690,687,693,3.5,0,7.25,0,13,0,21.501000000000001,null,565,562,568,3,0,6,0,11.75,0,17.751000000000001,null,415,412,418,2.25,0,4.375,0,8.625,0,12.500999999999999]
[null,null,null,null,null,null,null,null,null,null,null,null,null,null,null,null,null,null,null,null,null,null,685,682,688,3.5,0,7.5,0,13,0,21.501000000000001,null,560,557,563,3,0,6.25,0,11.75,0,17.501000000000001,null,410,407,413,2.25,0,4.375,0,8.875,0,12.250999999999999]
[null,null,null,null,null,null,null,null,null,null,null,null,null,null,null,null,null,null,null,null,null,null,680,677,683,3.5,0,7.5,0,13.25,0,21.501000000000001,null,555,552,558,3,0,6.25,0,12,0,17.501000000000001,null,405,402,408,2.25,0,4.375,0,8.875,0,12.000999999999999]
[null,null,null,null,null,null,null,null,null,null,null,null,null,null,null,null,null,null,null,null,null,null,676,675,678,3.5,0,7.5,0,13.25,0,21.501000000000001,null,550,547,553,3,0,6.25,0,12,0,17.251000000000001,null,400,397,403,2,0,4.5,0,8.875,0,12.000999999999999]
[null,null,null,null,null,null,null,null,null,null,null,null,null,null,null,null,null,null,null,null,null,null,null,null,null,null,null,null,null,null,null,null,null,545,542,548,3,0,6.25,0,12,0,17.251000000000001,null,395,392,398,2,0,4.625,0,8.875,0,11.750999999999999]
[null,null,null,null,null,null,null,null,null,null,null,null,null,null,null,null,null,null,null,null,null,null,null,null,null,null,null,null,null,null,null,null,null,540,537,543,3,0,6.25,0,12.25,0,17.001000000000001,null,390,387,393,2,0,4.625,0,8.875,0,11.500999999999999]
[null,null,null,null,null,null,null,null,null,null,null,null,null,null,null,null,null,null,null,null,null,null,null,null,null,null,null,null,null,null,null,null,null,535,532,538,3,0,6.5,0,12.25,0,16.751000000000001,null,385,382,388,2,0,4.625,0,9.125,0,11.500999999999999]
[null,null,null,null,null,null,null,null,null,null,null,null,null,null,null,null,null,null,null,null,null,null,null,null,null,null,null,null,null,null,null,null,null,530,527,533,3,0,6.5,0,12.25,0,16.751000000000001,null,380,377,383,2,0,4.625,0,9.125,0,11.250999999999999]
[null,null,null,null,null,null,null,null,null,null,null,null,null,null,null,null,null,null,null,null,null,null,null,null,null,null,null,null,null,null,null,null,null,526,525,528,3,0,6.5,0,12.5,0,16.501000000000001,null,375,372,378,2,0,4.625,0,9.125,0,11.250999999999999]
[null,null,null,null,null,null,null,null,null,null,null,null,null,null,null,null,null,null,null,null,null,null,null,null,null,null,null,null,null,null,null,null,null,null,null,null,null,null,null,null,null,null,null,null,370,367,373,2,0,4.625,0,9.125,0,11.000999999999999]
[null,null,null,null,null,null,null,null,null,null,null,null,null,null,null,null,null,null,null,null,null,null,null,null,null,null,null,null,null,null,null,null,null,null,null,null,null,null,null,null,null,null,null,null,365,362,368,2,0,4.625,0,9.125,0,11.000999999999999]
[null,null,null,null,null,null,null,null,null,null,null,null,null,null,null,null,null,null,null,null,null,null,null,null,null,null,null,null,null,null,null,null,null,null,null,null,null,null,null,null,null,null,null,null,{"$f":"AS75-5","v":360},357,363,2,0,4.625,0,9.375,0,10.750999999999999]
[null,null,null,null,null,null,null,null,null,null,null,null,null,null,null,null,null,null,null,null,null,null,null,null,null,null,null,null,null,null,null,null,null,null,null,null,null,null,null,null,null,null,null,null,355,352,358,2,0,4.625,0,9.375,0,10.500999999999999]
[null,null,null,null,null,null,null,null,null,null,null,null,null,null,null,null,null,null,null,null,null,null,null,null,null,null,null,null,null,null,null,null,null,null,null,null,null,null,null,null,null,null,null,null,350,349,{"$f":"AU77-5","v":353},2,0,4.75,0,9.375,0,10.500999999999999]
[]
[]
[]
[]
[]
[]
[]
[]
[]
[]
[]
[]
[]
[]
[]
[]
[]
[]
[]
[null,{"$f":"List!C142","v":"Soupis kování"}]
[]
[null,{"$f":"$D$2","v":"AVENTOS HS"},null,{"$f":"B4","v":"Úzký alurámeček ***"}]
[null,{"$f":"List!C50","v":"Název"},null,null,null,null,{"$f":"List!$C$51","v":"Číslo artiklu"},null,{"$f":"List!C52","v":"Barva"},{"$f":"List!C54","v":"Ks"},{"$f":"List!C56","v":"Jednotková cena"},{"$f":"List!C57","v":"Celkem"},"A","Cena","B","Cena","C","Cena","Filtr"]
[null,{"$f":"Cen!A36","v":"Sada zdvihačů HS"},null,null,null,null,{"$f":"Cen!E36","v":"20S2A00.05"},null,{"$f":"Cen!G36","v":"ZN"},{"$f":"SUM(M102,O102)","v":0},{"$f":"Cen!I36","v":0},{"$f":"J102*K102","v":0},{"$f":"$M$15*$O4","v":0},{"$f":"$K102*M102","v":0},{"$f":"$M$24*$R4","v":0},{"$f":"$K102*O102","v":0},null,{"$f":"$K102*Q102","v":0},"x"]
[null,{"$f":"Cen!A37","v":"Sada zdvihačů HS"},null,null,null,null,{"$f":"Cen!E37","v":"20S2B00.05"},null,{"$f":"Cen!G37","v":"ZN"},0,{"$f":"Cen!I37","v":0},{"$f":"J103*K103","v":0},{"$f":"$M$15*$O5","v":0},0,{"$f":"$M$24*$R5","v":0},0,null,0,"x"]
[null,{"$f":"Cen!A38","v":"Sada zdvihačů HS"},null,null,null,null,{"$f":"Cen!E38","v":"20S2C00.05"},null,{"$f":"Cen!G38","v":"ZN"},0,{"$f":"Cen!I38","v":0},0,0,0,0,0,null,0,"x"]
[null,{"$f":"Cen!A39","v":"Sada zdvihačů HS"},null,null,null,null,{"$f":"Cen!E39","v":"20S2D00.05"},null,{"$f":"Cen!G39","v":"ZN"},0,{"$f":"Cen!I39","v":0},0,0,0,0,0,null,0,"x"]
[null,{"$f":"Cen!A40","v":"Sada zdvihačů HS"},null,null,null,null,{"$f":"Cen!E40","v":"20S2E00.05"},null,{"$f":"Cen!G40","v":"ZN"},0,{"$f":"Cen!I40","v":0},0,0,0,0,0,null,0,"x"]
[null,{"$f":"Cen!A41","v":"Sada zdvihačů HS"},null,null,null,null,{"$f":"Cen!E41","v":"20S2F00.05"},null,{"$f":"Cen!G41","v":"ZN"},0,{"$f":"Cen!I41","v":0},0,0,0,0,0,null,0,"x"]
[null,{"$f":"Cen!A42","v":"Sada zdvihačů HS"},null,null,null,null,{"$f":"Cen!E42","v":"20S2G00.05"},null,{"$f":"Cen!G42","v":"ZN"},0,{"$f":"Cen!I42","v":0},0,0,0,0,0,null,0,"x"]
[null,{"$f":"Cen!A43","v":"Sada zdvihačů HS"},null,null,null,null,{"$f":"Cen!E43","v":"20S2H00.05"},null,{"$f":"Cen!G43","v":"ZN"},0,{"$f":"Cen!I43","v":0},0,0,0,0,0,null,0,"x"]
[null,{"$f":"Cen!A44","v":"Sada zdvihačů HS"},null,null,null,null,{"$f":"Cen!E44","v":"20S2I00.05"},null,{"$f":"Cen!G44","v":"ZN"},0,{"$f":"Cen!I44","v":0},0,0,0,0,0,null,0,"x"]
[null,{"$f":"Cen!A45","v":"Sada soustav ramen SERVO-DRIVE"},null,null,null,null,{"$f":"Cen!E45","v":"21S3500.01"},null,{"$f":"Cen!G45","v":"ZN"},{"$f":"SUM(M111,O111,Q111)","v":0},{"$f":"Cen!I45","v":0},0,{"$f":"IF($Q$14=1,SUM($M$102:$M$110),0)","v":0},0,{"$f":"IF($Q$23=1,SUM($O$102:$O$110),0)","v":0},0,null,0,"x"]
[null,{"$f":"Cen!A46","v":"Sada ramen HS"},null,null,null,null,{"$f":"Cen!E46","v":"20S3500.06"},null,{"$f":"Cen!G46","v":"ZN"},0,{"$f":"Cen!I46","v":0},0,{"$f":"IF($Q$14=2,SUM($M$102:$M$110),0)","v":0},0,{"$f":"IF($Q$23=2,SUM($O$102:$O$110),0)","v":0},0,null,0,"x"]
[null,{"$f":"Cen!A47","v":"Sada krytek HS SERVO-DRIVE, sv.šedá"},null,null,null,null,{"$f":"Cen!E47","v":"21S8000"},null,{"$f":"Cen!G47","v":"HG/T"},0,{"$f":"Cen!I47","v":0},0,{"$f":"IF(AND($Q$14=1,$T$42=1),SUM($M$102:$M$110),0)","v":0},0,{"$f":"IF(AND($Q$23=1,$T$42=1),SUM($O$102:$O$110),0)","v":0},0,null,0,"x"]
[null,{"$f":"Cen!A48","v":"Sada krytek HS SERVO-DRIVE, tm.šedá"},null,null,null,null,{"$f":"Cen!E48","v":"21S8000"},null,{"$f":"Cen!G48","v":"TGR"},0,{"$f":"Cen!I48","v":0},{"$f":"J114*K114","v":0},{"$f":"IF(AND($Q$14=1,$T$42=2),SUM($M$102:$M$110),0)","v":0},{"$f":"$K114*M114","v":0},{"$f":"IF(AND($Q$23=1,$T$42=2),SUM($O$102:$O$110),0)","v":0},{"$f":"$K114*O114","v":0},null,{"$f":"$K114*Q114","v":0},"x"]
[null,{"$f":"Cen!A49","v":"Sada krytek HS SERVO-DRIVE, bílá"},null,null,null,null,{"$f":"Cen!E49","v":"21S8000"},null,{"$f":"Cen!G49","v":"SW/T"},0,{"$f":"Cen!I49","v":0},0,{"$f":"IF(AND($Q$14=1,$T$42=3),SUM($M$102:$M$110),0)","v":0},0,{"$f":"IF(AND($Q$23=1,$T$42=3),SUM($O$102:$O$110),0)","v":0},0,null,0,"x"]
[]
[null,{"$f":"Cen!A50","v":"Sada krytek HS, světle šedá"},null,null,null,null,{"$f":"Cen!E50","v":"20S8000"},null,{"$f":"Cen!G50","v":"HG/T"},0,{"$f":"Cen!I50","v":0},0,{"$f":"IF(AND($Q$14=2,$T$42=1),SUM($M$102:$M$110),0)","v":0},0,{"$f":"IF(AND($Q$23=2,$T$42=1),SUM($O$102:$O$110),0)","v":0},0,null,0,"x"]
[null,{"$f":"Cen!A51","v":"Sada krytek HS, tmavě šedá"},null,null,null,null,{"$f":"Cen!E51","v":"20S8000"},null,{"$f":"Cen!G51","v":"TGR"},0,{"$f":"Cen!I51","v":0},{"$f":"J118*K118","v":0},{"$f":"IF(AND($Q$14=2,$T$42=2),SUM($M$102:$M$110),0)","v":0},{"$f":"$K118*M118","v":0},{"$f":"IF(AND($Q$23=2,$T$42=2),SUM($O$102:$O$110),0)","v":0},{"$f":"$K118*O118","v":0},null,{"$f":"$K118*Q118","v":0},"x"]
[null,{"$f":"Cen!A52","v":"Sada krytek HS, bílá"},null,null,null,null,{"$f":"Cen!E52","v":"20S8000"},null,{"$f":"Cen!G52","v":"SW/T"},0,{"$f":"Cen!I52","v":0},0,{"$f":"IF(AND($Q$14=2,$T$42=3),SUM($M$102:$M$110),0)","v":0},0,{"$f":"IF(AND($Q$23=2,$T$42=3),SUM($O$102:$O$110),0)","v":0},0,null,0,"x"]
[]
[null,{"$f":"Cen!A53","v":"Tyč příčné stabilizace ke zkrác."},null,null,null,null,{"$f":"Cen!E53","v":"20Q1061UN"},null,{"$f":"Cen!G53","v":"EV"},{"$f":"ROUNDUP(SUM($M$15*$O$17,$M$24*$R$17),0)","v":0},{"$f":"Cen!I53","v":0},0,{"$f":"ROUNDUP($M$15*$O$17,0)","v":0},0,{"$f":"ROUNDUP($M$24*$R$17,0)","v":0},0,null,0,"x"]
[]
[null,{"$f":"Cen!A54","v":"Spojovací díl příčné stabilizace"},null,null,null,null,{"$f":"Cen!E54","v":"20Q153ZN"},null,{"$f":"Cen!G54","v":"EV"},{"$f":"SUM(M123,O123,Q123)","v":0},{"$f":"Cen!I54","v":0},0,{"$f":"IF($Q$14<3,$O$18*$M$15,0)","v":0},0,{"$f":"IF($Q$23<3,$R$18*$M$24,0)","v":0},0,null,0,"x"]
[null,{"$f":"Cen!A55","v":0},null,null,null,null,{"$f":"Cen!E55","v":0},null,{"$f":"Cen!G55","v":0},0,{"$f":"Cen!I55","v":0},0,null,0,null,0]
[null,{"$f":"Cen!A56","v":0},null,null,null,null,{"$f":"Cen!E56","v":0},null,{"$f":"Cen!G56","v":0},0,{"$f":"Cen!I56","v":0},0,null,0,null,0]
[null,{"$f":"Cen!A57","v":0},null,null,null,null,{"$f":"Cen!E57","v":0},null,{"$f":"Cen!G57","v":0},0,{"$f":"Cen!I57","v":0},0,null,0,null,0]
[null,{"$f":"Cen!A119","v":0},null,null,null,null,{"$f":"Cen!E119","v":0},null,{"$f":"Cen!G119","v":0},0,{"$f":"Cen!I119","v":0},0,null,0,null,0]
[null,{"$f":"Cen!A120","v":"Sada čel.kování pro dřev. čela"},null,null,null,null,{"$f":"Cen!E120","v":"20S4200"},null,{"$f":"Cen!G120","v":"NI"},0,{"$f":"Cen!I120","v":0},0,null,0,null,0]
[null,{"$f":"Cen!A121","v":"Čelní.kování pro dřev. čela EXPANDO"},null,null,null,null,{"$f":"Cen!E121","v":"20S42E1"},null,{"$f":"Cen!G121","v":"NI"},0,{"$f":"Cen!I121","v":0},0,null,0,null,0]
[null,{"$f":"Cen!A122","v":"Sada čel.kování pro úzké alurámečky"},null,null,null,null,{"$f":"Cen!E122","v":"20S4200A"},null,{"$f":"Cen!G122","v":"NI"},0,{"$f":"Cen!I122","v":0},0,{"$f":"SUM(M102:M110)","v":0},0,{"$f":"SUM(O102:O110)","v":0},0,null,null,"x"]
[null,{"$f":"Cen!A151","v":"CLIP top krytka raménka Nikl"},null,null,null,null,{"$f":"Cen!E151","v":"70.1503"},null,{"$f":"Cen!G151","v":"NI"},0,{"$f":"Cen!I151","v":0},0,{"$f":"SUM(M$102:M$110)*2","v":0},null,{"$f":"SUM(O$102:O$110)*2","v":0},null,null,null,"x"]
[null,null,null,null,null,null,null,null,null,null,null,0,null,0,null,0]
[null,null,null,null,null,null,null,null,null,null,null,0,null,0,null,0]
[null,{"$f":"Cen!A199","v":"SERVO-DRIVE jednotka (sada)"},null,null,null,null,{"$f":"Cen!E199","v":"21FA000"},null,{"$f":"Cen!G199","v":"HGR"},{"$f":"SUM(M134,O134,Q134)","v":0},{"$f":"Cen!I199","v":0},0,{"$f":"IF($Q$14=2,0,$M$15)","v":0},0,{"$f":"IF($Q$23=2,0,$M$24)","v":0},0,null,null,"x"]
[null,{"$f":"Cen!A200","v":"SERVO-DRIVE jednotka (sada) pro HK top"},null,null,null,null,{"$f":"Cen!E200","v":"23KA000"},null,{"$f":"Cen!G200","v":"HGR"},null,{"$f":"Cen!I200","v":0},0,null,0,null,0]
[]
[]
[null,null,null,null,null,null,null,null,null,null,{"$f":"List!$C$59&\" \"","v":"Cena celkem bez DPH "},{"$f":"SUM(L102:L136)","v":0},null,{"$f":"SUM(N102:N137)","v":0},null,{"$f":"SUM(P102:P137)","v":0},null,{"$f":"SUM(R102:R137)","v":0}]
[]
[null,null,null,null,null,null,null,null,null,null,null,{"$f":"List!$C$149","v":"Zpět"}]
[]
[]
[]
[]
[]
[]
[]
[]
[]
[]
[]
[]
[]
[]
[]
[]
[]
[]
[]
[]
[]
[]
[]
[]
[]
[]
[]
[]
[]
[]
[]
[]
[]
[]
[]
[]
[]
[]
[]
[]
[]
[]
[]
[]
[]
[]
[]
[]
[]
[]
[]
[]
[]
[]
[]
[]
[]
[]
[null,{"$f":"List!$C$71","v":"Výpočet hmotnosti čel"}]
[null,null,{"$f":"List!$C$161&\"  \"","v":"Provedení čel  "},null,null,null,null,null,{"$f":"IF(U206=3,IF(H200=0,N202,\" \"),IF(H200>0,N203,\" \"))","v":" "},null,null,null,null,{"$f":"IF($U$206=1,$U$227,IF($U$206=2,$U$228,$U$229&\" - \"&$N$210&\"mm\"))","v":"Alurámečky s 4mm sklem"},null,null,null,null,{"$f":"Menu!$Q$205","v":2500}]
[]
[null,null,null,null,null,null,null,null,null,null,null,null,null,{"$f":"\" \"&List!$C$226&\" [mm]\"","v":" Zadejte sílu skla [mm]"}]
[null,null,null,null,null,null,null,null,null,null,null,null,null,{"$f":"\" \"&List!$C$221&\" '\"&List!$C$89&\"'\"","v":" Hodnota platí jen pro volbu 'Alurámečky s jiným sklem'"}]
[]
[null,null,null,null,null,{"$f":"D9","v":"Korpus A"},null,null,null,null,null,null,null,null,null,null,null,null,null,"váha spoj.","tl. skla","typ alu"]
[null,{"$f":"List!$C$72&\" KB [mm]       \"","v":"Šířka korpusu KB [mm]       "},null,null,null,null,null,{"$f":"H10","v":0},null,null,null,null,null,{"$f":"H206*H207*H208","v":0},null,null,null,null,{"$f":"IF($V$206=1,$M$236,$M$237)","v":0.31},{"$f":"$M$238","v":0.46},1,{"$f":"$T$4","v":1}]
[null,{"$f":"List!$C$73&\" KH [mm]       \"","v":"Výška korpusu KH [mm]       "},null,null,null,null,null,{"$f":"H11","v":0},null,null,null,null,null,{"$f":"N206/1000000000","v":0},2,null,null,null,"váha alu",{"$f":"SUM(H206*2,(H207-40)*2)*S206/1000","v":-2.4799999999999999E-2},"A plocha B"]
[null,{"$f":"List!$C$77&\" TS [mm] \"","v":"Síla čela TS [mm] "},null,null,null,null,null,null,null,null,null,null,null,{"$f":"Menu!$L$30","v":760},{"$f":"List!$C$84&\" (\"&N208&\" kg/m3)\"","v":"MDF (760 kg/m3)"},null,null,null,{"$f":"$S$200*4/1000","v":10},{"$f":"IF($V$206=1,U208*S208,V208*S208)","v":8.9999999999999993E-3},{"$f":"SUM(($H$206-30)*($H$207-30)/1000000)","v":8.9999999999999998E-4},{"$f":"SUM(($H$206-6)*($H$207-6)/1000000)","v":3.6000000000000001E-5},"4mm"]
[null,{"$f":"List!$C$78&\" [kg] \"","v":"Hmotnost úchytky [kg] "},null,null,null,null,null,null,{"$f":"IF(SUM(H206,H207)=0,\" \",IF(H209=0,\" ● \"&List!$C$112,\" \"))","v":" "},null,null,null,null,{"$f":"Menu!$L$31","v":680},{"$f":"List!$C$85&\" (\"&N209&\" kg/m3)\"","v":"Dřevotříska (680 kg/m3)"},null,null,null,{"$f":"$S$200*5/1000","v":12.5},{"$f":"IF($V$206=1,U209*S209,V209*S209)","v":1.125E-2},{"$f":"SUM(($H$206-30)*($H$207-30)/1000000)","v":8.9999999999999998E-4},{"$f":"SUM(($H$206-6)*($H$207-6)/1000000)","v":3.6000000000000001E-5},"5mm"]
[null,{"$f":"List!$C$76&\" [kg] \"","v":"Vypočtená hmotnost čela [kg] "},null,null,null,null,null,{"$f":"IF(S211=0,0,S211+H209)","v":0},null,null,null,null,{"$f":"IF(H206*H207*H208=0,0,IF(O207=1,N207*N208,IF(O207=2,N207*N209,N207*N210)))","v":0},{"$f":"$H$200","v":0},{"$f":"List!$C$86","v":"Jiné - volitelná hustota"},null,null,null,{"$f":"$S$200*$H$200/1000","v":0},{"$f":"IF($V$206=1,U210*S210,V210*S210)","v":0},{"$f":"SUM(($H$206-30)*($H$207-30)/1000000)","v":8.9999999999999998E-4},{"$f":"SUM(($H$206-6)*($H$207-6)/1000000)","v":3.6000000000000001E-5},"jiné"]
[null,null,{"$f":"IF(H210>0,IF(H209=0,$N$227,\" \"),\" \")","v":" "},null,null,null,null,null,null,null,null,null,null,null,null,null,null,null,{"$f":"IF(OR(AND(U206=3, $H$200=0), H206*H207=0), 0, SUM(IF(U206=1,T208,IF(U206=2,T209,T210)),T207,T206))","v":0}]
[]
[]
[null,null,null,null,null,{"$f":"D18","v":"Korpus B"},null,null,null,null,null,null,null,null,null,null,null,null,null,"váha spoj.","tl. skla","typ alu"]
[null,{"$f":"List!$C$72&\" KB [mm]       \"","v":"Šířka korpusu KB [mm]       "},null,null,null,null,null,{"$f":"H19","v":0},null,null,null,null,null,{"$f":"H215*H216*H217","v":0},null,null,null,null,{"$f":"IF($V$206=1,$M$236,$M$237)","v":0.31},{"$f":"$M$238","v":0.46},{"$f":"$U$206","v":1},{"$f":"$V$206","v":1}]
[null,{"$f":"List!$C$73&\" KH [mm]       \"","v":"Výška korpusu KH [mm]       "},null,null,null,null,null,{"$f":"H20","v":0},null,null,null,null,null,{"$f":"N215/1000000000","v":0},{"$f":"O207","v":2},null,null,null,"váha alu",{"$f":"SUM(H215*2,(H216-40)*2)*S215/1000","v":-2.4799999999999999E-2},"A plocha B"]
[null,{"$f":"List!$C$77&\" TS [mm] \"","v":"Síla čela TS [mm] "},null,null,null,null,null,null,null,null,null,null,null,{"$f":"$N$208","v":760},{"$f":"$O$208","v":"MDF (760 kg/m3)"},null,null,null,{"$f":"S208","v":10},{"$f":"IF($V$206=1,U217*S217,V217*S217)","v":8.9999999999999993E-3},{"$f":"SUM(($H$215-30)*($H$216-30)/1000000)","v":8.9999999999999998E-4},{"$f":"SUM(($H$215-6)*($H$216-6)/1000000)","v":3.6000000000000001E-5},"4mm"]
[null,{"$f":"List!$C$78&\" [kg] \"","v":"Hmotnost úchytky [kg] "},null,null,null,null,null,null,{"$f":"IF(SUM(H215,H216)=0,\" \",IF(H218=0,\" ● \"&List!$C$112,\" \"))","v":" "},null,null,null,null,{"$f":"$N$209","v":680},{"$f":"$O$209","v":"Dřevotříska (680 kg/m3)"},null,null,null,{"$f":"S209","v":12.5},{"$f":"IF($V$206=1,U218*S218,V218*S218)","v":1.125E-2},{"$f":"SUM(($H$215-30)*($H$216-30)/1000000)","v":8.9999999999999998E-4},{"$f":"SUM(($H$215-6)*($H$216-6)/1000000)","v":3.6000000000000001E-5},"5mm"]
[null,{"$f":"List!$C$76&\" [kg] \"","v":"Vypočtená hmotnost čela [kg] "},null,null,null,null,null,{"$f":"IF(S220=0,0,S220+H218)","v":0},null,null,null,null,{"$f":"IF(H215*H216*H217=0,0,IF(O216=1,N216*N217,IF(O216=2,N216*N218,N216*N219)))","v":0},{"$f":"$N$210","v":0},{"$f":"$O$210","v":"Jiné - volitelná hustota"},null,null,null,{"$f":"S210","v":0},{"$f":"IF($V$206=1,U219*S219,V219*S219)","v":0},{"$f":"SUM(($H$215-30)*($H$216-30)/1000000)","v":8.9999999999999998E-4},{"$f":"SUM(($H$215-6)*($H$216-6)/1000000)","v":3.6000000000000001E-5},"jiné"]
[null,null,{"$f":"IF(H219>0,IF(H218=0,$N$227,\" \"),\" \")","v":" "},null,null,null,null,null,null,null,null,null,null,null,null,null,null,null,{"$f":"IF(OR(AND(U215=3, $H$200=0), H215*H216=0), 0, SUM(IF(U215=1,T217,IF(U215=2,T218,T219)),T216,T215))","v":0}]
[]
[]
[]
[null,null,null,null,null,null,{"$f":"List!$C$149","v":"Zpět"}]
[]
[]
[null,null,{"$f":"List!$C$217&\" \"&List!$C$218","v":"Upozornění: Vypočtené hodnoty jsou pouze orientační.  Firma Blum ani prodejci neručí za jejich správnost."},null,null,null,null,null,null,null,null,null,null,{"$f":"List!$C$95&\"!\"","v":"Není započtena hmotnost úchytky!"},null,null,null,null,null,null,{"$f":"List!$C$87","v":"Alurámečky s 4mm sklem"}]
[null,null,null,null,null,null,null,null,null,null,null,null,null,null,null,null,null,null,null,null,{"$f":"List!$C$88","v":"Alurámečky s 5mm sklem"}]
[null,null,null,null,null,null,null,null,null,null,null,null,null,null,null,null,null,null,null,null,{"$f":"List!$C$89","v":"Alurámečky s jiným sklem"}]
[]
[]
[]
[]
[]
[null,null,null,null,"Hmotnost alurámečků [kg/bm]",null,{"$f":"List!$C$368","v":"Podle Úvodu"},{"$f":"List!$C$58","v":"Změna"}]
[null,null,null,null,null,{"$f":"List!$C$375&\"  \"","v":"S vloženým sklem  "},{"$f":"Menu!$Q220","v":0.31},null,null,null,null,null,{"$f":"IF($H236>0,$H236,$G236)","v":0.31}]
[null,null,null,null,null,{"$f":"List!$C$376&\"  \"","v":"S naloženým nebo nalepeným sklem  "},{"$f":"Menu!$Q221","v":0.32},null,null,null,null,null,{"$f":"IF($H237>0,$H237,$G237)","v":0.32}]
[null,null,null,null,null,{"$f":"List!$C$377&\" [kg/set] *  \"","v":"Hmotnost spojovacího materiálu [kg/set] *  "},{"$f":"Menu!$Q222","v":0.46},null,null,null,null,null,{"$f":"IF($H238>0,$H238,$G238)","v":0.46}]
[]
[null,null,{"$f":"\"        * \"& List!$C$378&\"  \"","v":"        * Rohové spojky, šrouby, těsnění pro jeden rámeček  "}]
[]
[]
[null,null,null,null,null,null,{"$f":"List!$C$149","v":"Zpět"}]
[]
[]
[]
[]
[]
[]
[]
[]
[]
[]
[]
[]
[]
[]
[]
[]
[]
[]
[]
[]
[]
[]
[]
[]
[]
[]
[]
[]
[]
[]
[]
[]
[]
[]
[]
[]
[]
[]
[]
[]
[]
[]
[]
[]
[]
[]
[]
[]
[]
[]
[]
[]
[]
[]
[]
[]
[]
[]
[]
[]
[]
[]
[]
[]
[]
[]
[]
[]
[]
[]
[]
[]
[]
[]
[]
[]
[]
[]
[]
[]
[]
[]
[]
[]
[]
[]
[]
[]
[]
[]
[]
[]
[]
[]
[]
[]
[]
[]
[]
[]
[]
[]
[]
[]
[]
[]
[]
[]
[]
[]
[]
[]
[]
[]
[]
[]
[]
[]
[]
[]
[]
[]
[]
[]
[]
[]
[]
[]
[]
[]
[]
[]
[]
[]
[]
[]
[]
[]
[]
[]
[]
[]
[]
[]
[]
[]
[]
[]
[]
[]
[]
[]
[]
[]
[]
[null,"      AVENTOS HS"]
[]
[null,{"$f":"List!$C$311","v":"Pro výběr správného zdvihače potřebujete znát výšku korpusu a hmotnost čela."}]
[]
[null,{"$f":"List!$C$313","v":"Výška korpusu KH = 602 mm zaokrouhlit na KH = 600 mm"}]
[null,{"$f":"List!$C$314","v":"Výška korpusu KH = 603 mm zaokrouhlit na KH = 605 mm"}]
[]
[null,{"$f":"List!$C$289","v":"Pokud znáte hmotnost čela, můžete ji zadat, jinak použijte \"Výpočet hmotnosti\"."}]
[null,{"$f":"List!$C$290","v":"V tabulce má přednost zadaná hodnota. Chcete-li použít vypočtenou hmotnost, smažte zadanou hodnotu."}]
[]
[]
[null,{"$f":"List!$C$284","v":"Chcete-li změnit barvu krytek, přejděte na \"Úvod\""}]
[]
[null,{"$f":"List!$C$383","v":"Věnujte pozornost výběru alurámečků."}]
[null,{"$f":"List!$C$384","v":"Vyberte, který typ lépe odpovídá tvaru použitého alurámečku."}]
[null,{"$f":"List!$C$385","v":"Způsob osazení skla do rámečku výrazně ovlivňuje plochu skla a tím i hmotnost!"}]
[]
[null,null,{"$f":"\"  \"&List!$C$375&\"  \"","v":"  S vloženým sklem  "}]
[]
[null,null,{"$f":"\"  \"&List!$C$376&\"  \"","v":"  S naloženým nebo nalepeným sklem  "}]
[]
[null,null,null,null,null,null,null,null,null,null,null,{"$f":"List!$C$149","v":"Zpět"}]

{"sheet":"HLw","index":18,"n_rows":411,"n_cols":48,"rows_kept":411,"cut":false,"hidden":false,"merged":[[304,3,304,4],[223,6,223,7],[310,3,310,4],[7,43,11,43],[26,1,28,9],[218,1,218,6],[200,3,200,7],[19,1,19,6],[26,15,26,16],[206,1,206,6],[204,5,204,7],[209,1,209,6],[205,1,205,6],[23,1,23,6],[217,1,217,6],[215,1,215,6],[213,5,213,7],[208,1,208,6],[11,1,11,6],[9,1,9,6],[18,1,18,6],[20,1,20,6],[21,1,21,6],[22,15,22,16],[22,1,22,6],[12,1,12,6],[14,1,14,6],[17,3,17,7],[7,44,7,47],[0,43,0,51],[13,1,13,6],[1,7,1,8],[1,9,1,10],[10,1,10,6],[13,15,13,16],[6,1,6,2],[6,43,6,47],[3,5,3,10],[1,1,1,2],[1,3,1,4],[1,5,1,6],[6,6,6,7],[8,3,8,7],[9,44,9,47],[397,0,438,0],[313,3,313,4],[97,0,152,0],[207,1,207,6],[216,1,216,6],[314,3,314,4],[308,3,308,4],[303,3,303,4],[214,1,214,6],[307,3,307,4],[226,2,228,10],[297,0,351,0],[326,8,326,9],[197,0,248,0],[305,3,305,4],[311,3,311,4]]}
[]
[null,"AVENTOS HF",null,"AVENTOS HS",null,"AVENTOS HL",null,"AVENTOS HK top",null,"AVENTOS HK-S",null,"AVENTOS HK-XS",null,null,null,null,null,null,3,null,null,null,null,null,null,{"$f":"List!$C$135","v":"Jdi na"}]
[]
[null,{"$f":"List!$C$15","v":"Dřevěné čelo"},null,null,null,{"$f":"N200&\"       \"","v":"MDF (760 kg/m3) A~18/ B~mm       "},null,null,null,null,null,null,null,null,null,null,null,null,{"$f":"\" \"&List!$C$39&\" A \"","v":" Cena za korpus A "},null,null,null,null,null,null,{"$f":"List!$C$136","v":"Úvod plánování"}]
[null,null,null,null,null,null,null,null,null,null,null,null,null,null,null,null,null,null,{"$f":"\" \"&List!$C$39&\" B \"","v":" Cena za korpus B "},null,null,null,null,null,null,{"$f":"List!$C$137","v":"Nápověda"}]
[null,null,null,null,null,null,null,null,null,null,null,null,null,null,null,null,null,null,{"$f":"\" \"&List!$C$59","v":" Cena celkem bez DPH"}]
[null,{"$f":"List!$C$142","v":"Soupis kování"},null,null,null,null,{"$f":"IF(S2=1,$N$138,IF($S$2=2,$P$138,IF($S$2=3,$L$138,0)))","v":0},null,null,null,null,null,null,null,null,null,null,null,null,null,null,null,null,null,null,{"$f":"List!$C$141","v":"Doplňky"},null,null,null,null,null,null,null,null,null,null,null,null,null,null,null,null,null,{"$f":"List!$C$74&\" [kg]\"","v":"Hmotnost čela včetně úchytky [kg]"}]
[null,null,null,null,null,null,null,{"$f":"IF(AND(OR($R$14=1, $R$23=1), $L$138>0), $N$32, \" \")","v":" "},null,null,null,null,null,null,null,null,null,null,null,null,null,null,null,null,null,null,null,null,null,null,null,null,null,null,null,null,null,null,null,null,null,null,null,{"$f":"List!$C$79","v":"Zdvihací mechanizmus"},{"$f":"List!$C$73&\" KH [mm]  \"","v":"Výška korpusu KH [mm]  "}]
[null,"SERVO-DRIVE  ",null,{"$f":"List!$C$62&\" A\"","v":"Korpus A"},null,null,null,null,null,null,null,null,null,null,null,null,null,null,"L21","L23","L25","L27","L29",null,null,{"$f":"List!$C$139","v":"Přehled korpusů"},null,null,null,null,null,null,null,null,null,null,null,null,null,null,null,null,null,null,"300 - 349","350 - 399","400 - 550","450 - 580"]
[null,{"$f":"List!$C$72&\" KB [mm] \"","v":"Šířka korpusu KB [mm] "},null,null,null,null,null,null,{"$f":"IF($H10=0,\" \",IF($H10<220,\" min. 220mm\",IF($H10>1800,\" max. 1 800mm\",\" \")))&IF(H15>0,IF(H10=0,\"● \"&List!$C$111,\" \"),\" \")","v":"  "},null,null,null,null,"L21",{"$f":"SUM(S10:S11)","v":0},"F32",{"$f":"IF($H11<Cen!$E$269,0,IF($H11<Cen!$E$270,1,0))","v":0},null,{"$f":"IF($Q10=1,IF($Q15>1.2499,IF($Q15<Cen!$F$261,1,0),0),0)","v":0},{"$f":"IF($Q10=1,IF($Q15>Cen!$E$261,IF($Q15<Cen!$I$261,1,0),0),0)","v":0},{"$f":"IF($Q10=1,IF($Q15>Cen!$G$261,IF($Q15<Cen!$L$261,1,0),0),0)","v":0},{"$f":"IF($Q10=1,IF($Q15>Cen!$J$261,IF($Q15<20.01,1,0),0),0)","v":0},null,null,null,{"$f":"List!$C$140","v":"Objednávka"},null,null,null,null,null,null,null,null,null,null,null,null,null,null,null,null,null,null,{"$f":"List!$C$354&\" (Standard / SERVO-DRIVE)\"","v":"Sada ramen (Standard / SERVO-DRIVE)"}]
[null,{"$f":"List!$C$73&\" KH [mm]  \"","v":"Výška korpusu KH [mm]  "},null,null,null,null,null,null,{"$f":"IF($H11=0,\" \",IF($H11<300,\" min. 300mm\",IF($H11>580,\" max. 580 mm\",\" \")))&IF(H15>0,IF(H11=0,\"● \"&List!$C$111,\" \"),\" \")","v":"  "},null,null,null,null,"L23",{"$f":"SUM(T10:T12)","v":0},"F35",{"$f":"IF($H11<Cen!$E$270,0,IF($H11<Cen!$E$271,1,0))","v":0},null,{"$f":"IF($Q11=1,IF($Q15>1.2499,IF($Q15<Cen!$F$262,1,0),0),0)","v":0},{"$f":"IF($Q11=1,IF($Q15>Cen!$E$262,IF($Q15<Cen!$I$262,1,0),0),0)","v":0},{"$f":"IF($Q11=1,IF($Q15>Cen!$G$262,IF($Q15<Cen!$L$262,1,0),0),0)","v":0},{"$f":"IF($Q11=1,IF($Q15>Cen!$J$262,IF($Q15<Cen!$N$262,1,0),0),0)","v":0},{"$f":"IF($Q11=1,IF($Q15>Cen!$M$262,IF($Q15<20.01,1,0),0),0)","v":0},null,null,null,null,null,null,null,null,null,null,null,null,null,null,null,null,null,null,null,null,null,"20L3200.06","20L3500.06","20L3800.06","20L3900.06"]
[null,{"$f":"List!$C$74&\" [kg] ** \"","v":"Hmotnost čela včetně úchytky [kg] ** "},null,null,null,null,null,null,{"$f":"IF($H15=0,\" \",IF(SUM($H12,$H13)=0,$N$34,\" \"))&IF(AND(SUM($O$10:$O$14)=0,$V15=\"ano\",H12>0),$N$38,IF(AND($H15>0,$H12>0,V$15=\"ano\"),$N$35,\" \"))","v":"  "},null,null,null,null,"L25",{"$f":"SUM(U10:U13)","v":0},"F38",{"$f":"IF($H11<Cen!$E$271,0,IF($H11<Cen!$E$272,1,0))","v":0},null,null,{"$f":"IF($Q12=1,IF($Q15>1.7499,IF($Q15<Cen!$I$263,1,0),0),0)","v":0},{"$f":"IF($Q12=1,IF($Q15>Cen!$G$263,IF($Q15<Cen!$L$263,1,0),0),0)","v":0},{"$f":"IF($Q12=1,IF($Q15>Cen!$J$263,IF($Q15<Cen!$N$263,1,0),0),0)","v":0},{"$f":"IF($Q12=1,IF($Q15>Cen!$M$263,IF($Q15<20.01,1,0),0),0)","v":0},null,null,null,null,null,null,null,null,null,null,null,null,null,null,null,null,null,null,null,null,null,"21L3200.01","21L3500.02","21L3800.03","21L3900.04"]
[null,{"$f":"List!$C$76&\" [kg]       \"","v":"Vypočtená hmotnost čela [kg]       "},null,null,null,null,null,{"$f":"$H$210","v":0},{"$f":"IF($H15>0,IF($H13>0,IF($H12=0,$N$35,\" \"),\" \"),\" \")","v":" "},null,null,null,null,"L27",{"$f":"SUM(V10:V13)","v":0},"F39",{"$f":"IF($H11>Cen!$F$273,0,IF($H11<Cen!$E$272,0,IF($H11<Cen!$E$273,1,0)))","v":0},null,"tyč","mezistěny",{"$f":"IF($Q13=1,IF($Q15>1.9999,IF($Q15<Cen!$L$264,1,0),0),0)","v":0},{"$f":"IF($Q13=1,IF($Q15>Cen!$J$264,IF($Q15<Cen!$N$264,1,0),0),0)","v":0},{"$f":"IF($Q13=1,IF($Q15>Cen!$M$264,IF($Q15<16.51,1,0),0),0)","v":0},null,null,{"$f":"\" \"&List!$C$177&\" A\"","v":" Výpočet hmotnosti A"},null,null,null,null,null,null,null,null,null,null,null,null,null,null,null,null,null,"20L2100.05","1.25 - 4.25","1.25 - 2.50"]
[null,{"$f":"List!$C$27&\" * \"","v":"Počet mezistěn * "},null,null,null,null,null,null,null,null,null,null,null,"L29",{"$f":"SUM(W11:W13)","v":0},false,null,{"$f":"IF($P$14=FALSE,2,1)","v":2},{"$f":"IF($H$10>1360,1.5,IF($H$10<610,0.5,1))","v":0.5},{"$f":"IF($H$14>0,$H$14,IF($H$10>1219,1,0))","v":0},null,null,null,null,null,null,null,null,null,null,null,null,null,null,null,null,null,null,null,null,null,null,null,"20L2300.05","3.50 - 7.25","1.75 - 5.00","1.75 - 3.50"]
[null,{"$f":"List!$C$69","v":"Počet skříněk"},null,null,null,null,null,null,null,null,null,null,{"$f":"IF($H10*$H$11*$Q15=0,0,IF(SUM(O10:O14)=0,0,IF(H10>1800,0,IF(H10<220,0,H15))))","v":0},null,null,"hmot =",{"$f":"IF(H12>0,H12,H13)","v":0},{"$f":"IF(SUM(H12,H13)=0,0,IF(H12>0,1,2))","v":0},"zadaná / vypočtená",null,"limit v/š",{"$f":"IF(AND(219<H10,H10<1801,299<H11,H11<581),\"ano\",\"ne\")","v":"ne"},null,null,null,null,null,null,null,null,null,null,null,null,null,null,null,null,null,null,null,null,null,"20L2500.05","6.50 - 12.00","4.25 - 9.00","2.75 - 6.75","2.00 - 5.25"]
[null,{"$f":"IF(H15>0,IF(R15=0,\" \",IF(R15=1,$N$47,$N$48)),\" \")&IF(H15>0,IF(R15=0,\" \",IF(R15=1,$N$49,$N$50)),\" \")","v":"  "},null,null,null,null,null,null,null,null,null,null,null,null,null,null,null,null,null,null,null,null,null,null,null,null,null,null,null,null,null,null,null,null,null,null,null,null,null,null,null,null,null,"20L2700.05","11.00 - 20.00","8.00 - 14.75","5.75 - 11.75","4.25 - 9.25"]
[null,null,null,null,null,null,null,null,null,null,null,null,null,null,null,null,null,null,null,null,null,null,null,null,null,{"$f":"\" \"&List!$C$361","v":" Ověření síly zdvihače"},null,null,null,null,null,null,null,null,null,null,null,null,null,null,null,null,null,"20L2900.05",null,"13.50 - 20.00","10.50 - 20.00","8.25 - 16.50"]
[null,"SERVO-DRIVE  ",null,{"$f":"List!$C$62&\" B\"","v":"Korpus B"},null,null,null,null,null,null,null,null,null,null,null,null,null,null,"L21","L23","L25","L27","L29",null,null,{"$f":"\" \"&List!$C$362","v":" Odstup čela od korpusu"}]
[null,{"$f":"List!$C$72&\" KB [mm] \"","v":"Šířka korpusu KB [mm] "},null,null,null,null,null,null,{"$f":"IF($H19=0,\" \",IF($H19<220,\" min. 220mm\",IF($H19>1800,\" max. 1 800mm\",\" \")))&IF(H24>0,IF(H19=0,\"● \"&List!$C$111,\" \"),\" \")","v":"  "},null,null,null,null,"L21",{"$f":"SUM(S19:S20)","v":0},"F32",{"$f":"IF($H20<Cen!$E$269,0,IF($H20<Cen!$E$270,1,0))","v":0},null,{"$f":"IF($Q19=1,IF($Q24>1.2499,IF($Q24<Cen!$F$261,1,0),0),0)","v":0},{"$f":"IF($Q19=1,IF($Q24>Cen!$E$261,IF($Q24<Cen!$I$261,1,0),0),0)","v":0},{"$f":"IF($P19=1,IF($Q24>Cen!$G$261,IF($Q24<Cen!$L$261,1,0),0),0)","v":0},{"$f":"IF($Q19=1,IF($Q24>Cen!$J$261,IF($Q24<20.01,1,0),0),0)","v":0}]
[null,{"$f":"List!$C$73&\" KH [mm] \"","v":"Výška korpusu KH [mm] "},null,null,null,null,null,null,{"$f":"IF($H20=0,\" \",IF($H20<300,\" min. 300mm\",IF($H20>580,\" max. 580 mm\",\" \")))&IF(H24>0,IF(H20=0,\"● \"&List!$C$111,\" \"),\" \")","v":"  "},null,null,null,null,"L23",{"$f":"SUM(T19:T21)","v":0},"F35",{"$f":"IF($H20<Cen!$E$270,0,IF($H20<Cen!$E$271,1,0))","v":0},null,{"$f":"IF($Q20=1,IF($Q24>1.2499,IF($Q24<Cen!$F$262,1,0),0),0)","v":0},{"$f":"IF($Q20=1,IF($Q24>Cen!$E$262,IF($Q24<Cen!$I$262,1,0),0),0)","v":0},{"$f":"IF($Q20=1,IF($Q24>Cen!$G$262,IF($Q24<Cen!$L$262,1,0),0),0)","v":0},{"$f":"IF($Q20=1,IF($Q24>Cen!$J$262,IF($Q24<Cen!$N$262,1,0),0),0)","v":0},{"$f":"IF($Q20=1,IF($Q24>Cen!$M$262,IF($Q24<20.01,1,0),0),0)","v":0},null,null,null,null,null,null,null,null,null,null,null,null,null,null,null,null,null,null,null,null,{"$f":"List!$C$149","v":"Zpět"}]
[null,{"$f":"List!$C$74&\" [kg] ** \"","v":"Hmotnost čela včetně úchytky [kg] ** "},null,null,null,null,null,null,{"$f":"IF($H24=0,\" \",IF(SUM($H21,$H22)=0,$N$34,\" \"))&IF(AND(SUM($O$19:$O$23)=0,$V24=\"ano\",H21>0),$N$38,IF(AND($H24>0,$H21>0,V$24=\"ano\"),$N$35,\" \"))","v":"  "},null,null,null,null,"L25",{"$f":"SUM(U19:U22)","v":0},"F38",{"$f":"IF($H20<Cen!$E$271,0,IF($H20<Cen!$E$272,1,0))","v":0},null,null,{"$f":"IF($Q21=1,IF($Q24>1.74,IF($Q24<Cen!$I$263,1,0),0),0)","v":0},{"$f":"IF($Q21=1,IF($Q24>Cen!$G$263,IF($Q24<Cen!$L$263,1,0),0),0)","v":0},{"$f":"IF($Q21=1,IF($Q24>Cen!$J$263,IF($Q24<Cen!$N$263,1,0),0),0)","v":0},{"$f":"IF($Q21=1,IF($Q24>Cen!$M$263,IF($Q24<20.01,1,0),0),0)","v":0}]
[null,{"$f":"List!$C$76&\" [kg]       \"","v":"Vypočtená hmotnost čela [kg]       "},null,null,null,null,null,{"$f":"$H$219","v":0},{"$f":"IF($H24>0,IF($H22>0,IF($H21=0,$N$35,\" \"),\" \"),\" \")","v":" "},null,null,null,null,"L27",{"$f":"SUM(V19:V22)","v":0},"F39",{"$f":"IF($H20>Cen!$F$273,0,IF($H20<Cen!$E$272,0,IF($H20<Cen!$E$273,1,0)))","v":0},null,"tyč","mezistěny",{"$f":"IF($Q22=1,IF($Q24>1.9999,IF($Q24<Cen!$L$264,1,0),0),0)","v":0},{"$f":"IF($Q22=1,IF($Q24>Cen!$J$264,IF($Q24<Cen!$N$264,1,0),0),0)","v":0},{"$f":"IF($Q22=1,IF($Q24>Cen!$M$264,IF($Q24<16.51,1,0),0),0)","v":0},null,null,{"$f":"\" \"&List!$C$177&\" B\"","v":" Výpočet hmotnosti B"}]
[null,{"$f":"List!$C$27&\" * \"","v":"Počet mezistěn * "},null,null,null,null,null,null,null,null,null,null,null,"L29",{"$f":"SUM(W20:W22)","v":0},false,null,{"$f":"IF($P$23=FALSE,2,1)","v":2},{"$f":"IF($H$19>1360,1.5,IF($H$19<610,0.5,1))","v":0.5},{"$f":"IF($H$23>0,$H$23,IF($H$19>1219,1,0))","v":0}]
[null,{"$f":"List!$C$69","v":"Počet skříněk"},null,null,null,null,null,null,null,null,null,null,{"$f":"IF($H19*$H$20*$Q24=0,0,IF(SUM(O19:O23)=0,0,IF(H19>1800,0,IF(H19<220,0,H24))))","v":0},null,null,"hmot =",{"$f":"IF(H21>0,H21,H22)","v":0},{"$f":"IF(SUM(H21,H22)=0,0,IF(H21>0,1,2))","v":0},"zadaná / vypočtená",null,"limit v/š",{"$f":"IF(AND(219<H19,H19<1801,299<H20,H20<581),\"ano\",\"ne\")","v":"ne"}]
[null,{"$f":"IF(H24>0,IF(R24=0,\" \",IF(R24=1,$N$47,$N$48)),\" \")&IF(H24>0,IF(R24=0,\" \",IF(R24=1,$N$49,$N$50)),\" \")","v":"  "}]
[]
[null,{"$f":"IF(OR(AND($R$14=1, $M$15>0), AND($R$23=1, $M$24>0)), List!$C$157, \" \")","v":" "},null,null,null,null,null,null,null,null,null,null,null,null,{"$f":"IF($P$27=FALSE,2,1)","v":2},false,null," - Zdroj"]
[]
[]
[]
[]
[null,null,null,null,null,null,null,null,null,null,null,null,null,{"$f":"List!C158","v":"Cena bez napájecího zdroje!"}]
[null," *",{"$f":"List!$C$215","v":"Zadejte počet mezistěn v korpusu. "}]
[null," **",{"$f":"List!$C$168","v":"Pokud znáte hmotnost a nechcete využít výpočtu hmotnosti"},null,null,null,null,null,null,null,null,null,null,{"$f":"\" \"&List!$C$103","v":" Doplňte nebo použijte \"Výpočet hmotnosti\" "}]
[null,null,null,null,null,null,null,null,null,null,null,null,null,{"$f":"\"◄ \"&List!$C$101","v":"◄ hodnota bude použita pro výběr zdvihače"}]
[null,null,null,null,null,null,null,null,null,null,null,null,null,{"$f":"\" * \"&List!$C$110","v":" * Doplňte hodnoty"}]
[]
[null,null,null,null,null,null,null,null,null,null,null,null,null,{"$f":"List!$C$107&\"!\"","v":"Překročena maximální hmotnost!"}]
[null,null,null,null,null,null,null,null,null,null,null,null,null,{"$f":"\" max. 9 000! \"&List!$C$105","v":" max. 9 000! Upravte hmotnost nebo výšku"}]
[null,null,null,null,null,null,null,null,null,null,null,null,null,{"$f":"\" \"&List!$C$216","v":" Nutná mezistěna"}]
[]
[null,null,null,null,null,null,null,null,null,null,null,null,null,null,null,null,null,{"$f":"HL!$K$27","v":1},null,{"$f":"Menu!$Q$27","v":3}]
[null,null,null,null,null,null,null,null,null,null,null,null,null,null,null,null,null,"čelní kov.",null,"kryt."]
[null,null,null,null,null,null,null,null,null,null,null,null,null,null,null,null,null,{"$f":"List!$C$125","v":"Expando"},null,{"$f":"List!$C$128","v":"Světle šedá (HG/T)"}]
[null,null,null,null,null,null,null,null,null,null,null,null,null,null,null,null,null,{"$f":"List!$C$126","v":"na vruty"},null,{"$f":"List!$C$129","v":"Tmavě šedá (TGR)"}]
[null,null,null,null,null,null,null,null,null,null,null,null,null,null,null,null,null,null,null,{"$f":"List!$C$130","v":"Hedvábně bílá (SW/T)"}]
[null,null,null,null,null,null,null,null,null,null,null,null,null,{"$f":"List!C169&\". \"","v":"Pro určení typu zdvihače bude použita zadaná hmotnost. "}]
[null,null,null,null,null,null,null,null,null,null,null,null,null,{"$f":"List!C170&\". \"","v":"Pro určení typu zdvihače bude použita vypočtená hmotnost. "}]
[null,null,null,null,null,null,null,null,null,null,null,null,null,{"$f":"List!C171","v":"Chcete-li použít vypočtenou hmotnost, smažte zadanou hodnotu"}]
[null,null,null,null,null,null,null,null,null,null,null,null,null,{"$f":"List!C172","v":"Chcete-li použít zadanou hmotnost, zadejte ji do políčka"}]
[]
[]
[]
[]
[]
[]
[]
[]
[]
[]
[]
[]
[]
[]
[]
[]
[]
[]
[]
[]
[]
[]
[]
[]
[]
[]
[]
[]
[]
[]
[]
[]
[]
[]
[]
[]
[]
[]
[]
[]
[]
[]
[]
[]
[]
[]
[]
[null,{"$f":"List!C142","v":"Soupis kování"}]
[]
[null,{"$f":"$F$2","v":"AVENTOS HL"},null,{"$f":"B4","v":"Dřevěné čelo"}]
[null,{"$f":"List!C50","v":"Název"},null,null,null,null,{"$f":"List!$C$51","v":"Číslo artiklu"},null,{"$f":"List!C52","v":"Barva"},{"$f":"List!C54","v":"Ks"},{"$f":"List!C56","v":"Jednotková cena"},{"$f":"List!C57","v":"Celkem"},"A","Cena","B","Cena","C","Cena","Filtr"]
[null,{"$f":"Cen!A64","v":"Sada zdvihačů HL"},null,null,null,null,{"$f":"Cen!E64","v":"20L2100.05"},null,{"$f":"Cen!G64","v":"ZN"},{"$f":"SUM(M102,O102)","v":0},{"$f":"Cen!I64","v":0},{"$f":"J102*K102","v":0},{"$f":"$M$15*$O10","v":0},{"$f":"$K102*M102","v":0},{"$f":"$M$24*$O19","v":0},{"$f":"$K102*O102","v":0},null,{"$f":"$K102*Q102","v":0},"x"]
[null,{"$f":"Cen!A65","v":"Sada zdvihačů HL"},null,null,null,null,{"$f":"Cen!E65","v":"20L2300.05"},null,{"$f":"Cen!G65","v":"ZN"},{"$f":"SUM(M103,O103)","v":0},{"$f":"Cen!I65","v":0},{"$f":"J103*K103","v":0},{"$f":"$M$15*$O11","v":0},0,{"$f":"$M$24*$O20","v":0},0,null,0,"x"]
[null,{"$f":"Cen!A66","v":"Sada zdvihačů HL"},null,null,null,null,{"$f":"Cen!E66","v":"20L2500.05"},null,{"$f":"Cen!G66","v":"ZN"},0,{"$f":"Cen!I66","v":0},0,{"$f":"$M$15*$O12","v":0},0,{"$f":"$M$24*$O21","v":0},0,null,0,"x"]
[null,{"$f":"Cen!A67","v":"Sada zdvihačů HL"},null,null,null,null,{"$f":"Cen!E67","v":"20L2700.05"},null,{"$f":"Cen!G67","v":"ZN"},0,{"$f":"Cen!I67","v":0},0,{"$f":"$M$15*$O13","v":0},0,{"$f":"$M$24*$O22","v":0},0,null,0,"x"]
[null,{"$f":"Cen!A68","v":"Sada zdvihačů HL"},null,null,null,null,{"$f":"Cen!E68","v":"20L2900.05"},null,{"$f":"Cen!G68","v":"ZN"},0,{"$f":"Cen!I68","v":0},0,{"$f":"$M$15*$O14","v":0},0,{"$f":"$M$24*$O23","v":0},0,null,0,"x"]
[null,{"$f":"Cen!A69","v":"Sada soustav ramen SERVO-DRIVE"},null,null,null,null,{"$f":"Cen!E69","v":"21L3200.01"},null,{"$f":"Cen!G69","v":"NI"},0,{"$f":"Cen!I69","v":0},0,{"$f":"IF($R$14=1,$M$15*$Q10,0)","v":0},0,{"$f":"IF($R$23=1,$M$24*$Q19,0)","v":0},0,null,0,"x"]
[null,{"$f":"Cen!A70","v":"Sada soustav ramen SERVO-DRIVE"},null,null,null,null,{"$f":"Cen!E70","v":"21L3500.01"},null,{"$f":"Cen!G70","v":"NI"},0,{"$f":"Cen!I70","v":0},0,{"$f":"IF($R$14=1,$M$15*$Q11,0)","v":0},0,{"$f":"IF($R$23=1,$M$24*$Q20,0)","v":0},0,null,0,"x"]
[null,{"$f":"Cen!A71","v":"Sada soustav ramen SERVO-DRIVE"},null,null,null,null,{"$f":"Cen!E71","v":"21L3800.01"},null,{"$f":"Cen!G71","v":"NI"},0,{"$f":"Cen!I71","v":0},0,{"$f":"IF($R$14=1,$M$15*$Q12,0)","v":0},0,{"$f":"IF($R$23=1,$M$24*$Q21,0)","v":0},0,null,0,"x"]
[null,{"$f":"Cen!A72","v":"Sada soustav ramen SERVO-DRIVE"},null,null,null,null,{"$f":"Cen!E72","v":"21L3900.01"},null,{"$f":"Cen!G72","v":"NI"},0,{"$f":"Cen!I72","v":0},0,{"$f":"IF($R$14=1,$M$15*$Q13,0)","v":0},0,{"$f":"IF($R$23=1,$M$24*$Q22,0)","v":0},0,null,0,"x"]
[null,{"$f":"Cen!A73","v":"Sada ramen HL"},null,null,null,null,{"$f":"Cen!E73","v":"20L3200.06"},null,{"$f":"Cen!G73","v":"NI"},0,{"$f":"Cen!I73","v":0},0,{"$f":"IF($R$14=2,$M$15*$Q10,0)","v":0},0,{"$f":"IF($R$23=2,$M$24*$Q19,0)","v":0},0,null,0,"x"]
[null,{"$f":"Cen!A74","v":"Sada ramen HL"},null,null,null,null,{"$f":"Cen!E74","v":"20L3500.06"},null,{"$f":"Cen!G74","v":"NI"},0,{"$f":"Cen!I74","v":0},0,{"$f":"IF($R$14=2,$M$15*$Q11,0)","v":0},0,{"$f":"IF($R$23=2,$M$24*$Q20,0)","v":0},0,null,0,"x"]
[null,{"$f":"Cen!A75","v":"Sada ramen HL"},null,null,null,null,{"$f":"Cen!E75","v":"20L3800.06"},null,{"$f":"Cen!G75","v":"NI"},0,{"$f":"Cen!I75","v":0},0,{"$f":"IF($R$14=2,$M$15*$Q12,0)","v":0},0,{"$f":"IF($R$23=2,$M$24*$Q21,0)","v":0},0,null,0,"x"]
[null,{"$f":"Cen!A76","v":"Sada ramen HL"},null,null,null,null,{"$f":"Cen!E76","v":"20L3900.06"},null,{"$f":"Cen!G76","v":"NI"},0,{"$f":"Cen!I76","v":0},0,{"$f":"IF($R$14=2,$M$15*$Q13,0)","v":0},0,{"$f":"IF($R$23=2,$M$24*$Q22,0)","v":0},0,null,0,"x"]
[null,{"$f":"Cen!A77","v":"Sada krytek HL SERVO-DRIVE, sv.šedá"},null,null,null,null,{"$f":"Cen!E77","v":"21L8000"},null,{"$f":"Cen!G77","v":"HG/T"},0,{"$f":"Cen!I77","v":0},0,{"$f":"IF(AND($R$14=1,$T$42=1),SUM($M$102:$M$106),0)","v":0},0,{"$f":"IF(AND($R$23=1,$T$42=1),SUM($O$102:$O$106),0)","v":0},0,null,0,"x"]
[null,{"$f":"Cen!A78","v":"Sada krytek HL SERVO-DRIVE, tm.šedá"},null,null,null,null,{"$f":"Cen!E78","v":"21L8000"},null,{"$f":"Cen!G78","v":"TGR"},{"$f":"SUM(M116,O116)","v":0},{"$f":"Cen!I78","v":0},{"$f":"J116*K116","v":0},{"$f":"IF(AND($R$14=1,$T$42=2),SUM($M$102:$M$106),0)","v":0},{"$f":"$K116*M116","v":0},{"$f":"IF(AND($R$23=1,$T$42=1),SUM($O$102:$O$106),0)","v":0},{"$f":"$K116*O116","v":0},null,{"$f":"$K116*Q116","v":0},"x"]
[null,{"$f":"Cen!A79","v":"Sada krytek HL SERVO-DRIVE, bílá"},null,null,null,null,{"$f":"Cen!E79","v":"21L8000"},null,{"$f":"Cen!G79","v":"SW/T"},0,{"$f":"Cen!I79","v":0},0,{"$f":"IF(AND($R$14=1,$T$42=3),SUM($M$102:$M$106),0)","v":0},0,{"$f":"IF(AND($R$23=1,$T$42=2),SUM($O$102:$O$106),0)","v":0},0,null,0,"x"]
[]
[null,{"$f":"Cen!A80","v":"Sada krytek HL, světle šedá"},null,null,null,null,{"$f":"Cen!E80","v":"20L8000.01"},null,{"$f":"Cen!G80","v":"HG/T"},0,{"$f":"Cen!I80","v":0},0,{"$f":"IF(AND($R$14=2,$T$42=1),SUM($M$102:$M$106),0)","v":0},0,{"$f":"IF(AND($R$23=2,$T$42=1),SUM($O$102:$O$106),0)","v":0},0,null,0,"x"]
[null,{"$f":"Cen!A81","v":"Sada krytek HL, tmavě šedá"},null,null,null,null,{"$f":"Cen!E81","v":"20L8000.01"},null,{"$f":"Cen!G81","v":"TGR"},{"$f":"SUM(M120,O120)","v":0},{"$f":"Cen!I81","v":0},{"$f":"J120*K120","v":0},{"$f":"IF(AND($R$14=2,$T$42=2),SUM($M$102:$M$106),0)","v":0},{"$f":"$K120*M120","v":0},{"$f":"IF(AND($R$23=2,$T$42=2),SUM($O$102:$O$106),0)","v":0},{"$f":"$K120*O120","v":0},null,{"$f":"$K120*Q120","v":0},"x"]
[null,{"$f":"Cen!A82","v":"Sada krytek HL, bílá"},null,null,null,null,{"$f":"Cen!E82","v":"20L8000.01"},null,{"$f":"Cen!G82","v":"SW/T"},0,{"$f":"Cen!I82","v":0},0,{"$f":"IF(AND($R$14=2,$T$42=3),SUM($M$102:$M$106),0)","v":0},0,{"$f":"IF(AND($R$23=2,$T$42=3),SUM($O$102:$O$106),0)","v":0},0,null,0,"x"]
[]
[null,{"$f":"Cen!A83","v":"Tyč příč.stabizace - oválná"},null,null,null,null,{"$f":"Cen!E83","v":"20Q1061UA"},null,{"$f":"Cen!G83","v":"EV"},{"$f":"ROUNDUP(SUM($M$15*$S$14,$M$24*$S$23),0)","v":0},{"$f":"Cen!I83","v":0},0,{"$f":"ROUNDUP($M$15*$S$14,0)","v":0},0,{"$f":"ROUNDUP($M$24*$S$23,0)","v":0},0,null,0,"x"]
[]
[null,{"$f":"Cen!A84","v":"Spojovací díl příčné stabilizace"},null,null,null,null,{"$f":"Cen!E84","v":"20Q153ZA"},null,{"$f":"Cen!G84","v":"EV"},0,{"$f":"Cen!I84","v":0},0,{"$f":"IF($R$14<3,$T$14*$M$15,0)","v":0},0,{"$f":"IF($R$23<3,$T$23*$M$24,0)","v":0},0,null,null,"x"]
[null,{"$f":"Cen!A85","v":0},null,null,null,null,{"$f":"Cen!E85","v":0},null,{"$f":"Cen!G85","v":0},0,{"$f":"Cen!I85","v":0},0,null,0,null,0]
[null,{"$f":"Cen!A86","v":0},null,null,null,null,{"$f":"Cen!E86","v":0},null,{"$f":"Cen!G86","v":0},0,{"$f":"Cen!I86","v":0},0,null,0,null,0]
[null,{"$f":"Cen!A120","v":"Sada čel.kování pro dřev. čela"},null,null,null,null,{"$f":"Cen!E120","v":"20S4200"},null,{"$f":"Cen!G120","v":"NI"},0,{"$f":"Cen!I120","v":0},0,{"$f":"IF($R$42=2,SUM(M$102:M$106),0)","v":0},0,{"$f":"IF($R$42=2,SUM(O$102:O$106),0)","v":0},0,null,null,"x"]
[null,{"$f":"Cen!A121","v":"Čelní.kování pro dřev. čela EXPANDO"},null,null,null,null,{"$f":"Cen!E121","v":"20S42E1"},null,{"$f":"Cen!G121","v":"NI"},0,{"$f":"Cen!I121","v":0},0,{"$f":"IF($R$42=1,SUM(M$102:M$106)*2,0)","v":0},0,{"$f":"IF($R$42=1,SUM(O$102:O$106)*2,0)","v":0},0,null,null,"x"]
[null,{"$f":"Cen!A122","v":"Sada čel.kování pro úzké alurámečky"},null,null,null,null,{"$f":"Cen!E122","v":"20S4200A"},null,{"$f":"Cen!G122","v":"NI"},0,{"$f":"Cen!I122","v":0},0,null,0,null,0]
[null,{"$f":"Cen!A151","v":"CLIP top krytka raménka Nikl"},null,null,null,null,{"$f":"Cen!E151","v":"70.1503"},null,{"$f":"Cen!G151","v":"NI"},{"$f":"SUM(M131,O131,Q131)","v":0},{"$f":"Cen!I151","v":0},0,{"$f":"SUM(M$102:M$106)*2","v":0},0,{"$f":"SUM(O$102:O$106)*2","v":0},0,null,null,"x"]
[null,null,null,null,null,null,null,null,null,null,null,0,null,0,null,0]
[null,null,null,null,null,null,null,null,null,null,null,0,null,0,null,0]
[null,{"$f":"Cen!A199","v":"SERVO-DRIVE jednotka (sada)"},null,null,null,null,{"$f":"Cen!E199","v":"21FA000"},null,{"$f":"Cen!G199","v":"HGR"},{"$f":"SUM(M134,O134,Q134)","v":0},{"$f":"Cen!I199","v":0},0,{"$f":"IF($R$14=2,0,$M$15)","v":0},0,{"$f":"IF($R$23=2,0,$M$24)","v":0},0,null,null,"x"]
[null,{"$f":"Cen!A200","v":"SERVO-DRIVE jednotka (sada) pro HK top"},null,null,null,null,{"$f":"Cen!E200","v":"23KA000"},null,{"$f":"Cen!G200","v":"HGR"},null,{"$f":"Cen!I200","v":0},0,null,0,null,0]
[]
[]
[null,null,null,null,null,null,null,null,null,null,{"$f":"List!$C$59&\" \"","v":"Cena celkem bez DPH "},{"$f":"SUM(L102:L136)","v":0},null,{"$f":"SUM(N102:N137)","v":0},null,{"$f":"SUM(P102:P137)","v":0},null,{"$f":"SUM(R102:R137)","v":0}]
[]
[null,null,null,null,null,null,null,null,null,null,null,{"$f":"List!$C$149","v":"Zpět"}]
[]
[]
[]
[]
[]
[]
[]
[]
[]
[]
[]
[]
[]
[]
[]
[]
[]
[]
[]
[]
[]
[]
[]
[]
[]
[]
[]
[]
[]
[]
[]
[]
[]
[]
[]
[]
[]
[]
[]
[]
[]
[]
[]
[]
[]
[]
[]
[]
[]
[]
[]
[]
[]
[]
[]
[]
[]
[]
[null,{"$f":"List!$C$71","v":"Výpočet hmotnosti čel"}]
[null,null,{"$f":"List!$C$161&\"  \"","v":"Provedení čel  "},null,null,null,null,null,{"$f":"IF(O207=3,IF(H200=0,N202,\" \"),IF(H200>0,N203,\" \"))","v":" "},null,null,null,null,{"$f":"IF($O$207=1,$O$208,IF($O$207=2,$O$209,$O$210&\" \"&$N$210&\"kg/m3\"))&\" A~\"&$H$208&\"/ B~\"&$H$217&\"mm\"","v":"MDF (760 kg/m3) A~18/ B~mm"}]
[null,null,null,{"$f":"IF($O$207<>3,$N$201,\" \")&\"      \"","v":" Změnit hodnoty můžete v Úvodu plánování      "},null,null,null,null,null,null,null,null,null,{"$f":"\" \"&List!$C$382","v":" Změnit hodnoty můžete v Úvodu plánování"}]
[null,null,null,null,null,null,null,null,null,null,null,null,null,{"$f":"\" \"&List!$C$225&\" [kg/m3]\"","v":" Zadejte objemovou hmotnost  [kg/m3]"}]
[null,null,null,null,null,null,null,null,null,null,null,null,null,{"$f":"\" \"&List!$C$221&\" '\"&List!$C$86&\"'\"","v":" Hodnota platí jen pro volbu 'Jiné - volitelná hustota'"}]
[]
[null,null,null,null,null,{"$f":"D9","v":"Korpus A"}]
[null,{"$f":"List!$C$72&\" KB [mm]       \"","v":"Šířka korpusu KB [mm]       "},null,null,null,null,null,{"$f":"H10","v":0},null,null,null,null,null,{"$f":"H206*H207*H208","v":0},null,null,null,null,3.51,"alu"]
[null,{"$f":"List!$C$73&\" KH [mm]       \"","v":"Výška korpusu KH [mm]       "},null,null,null,null,null,{"$f":"H11","v":0},null,null,null,null,null,{"$f":"N206/1000000000","v":0},1,null,null,null,"váha alu",{"$f":"SUM(H206*2,H207*2)*S206/10000","v":0},3]
[null,{"$f":"List!$C$77&\" TS [mm] \"","v":"Síla čela TS [mm] "},null,null,null,null,null,18,{"$f":"IF(SUM(H206,H207)=0,\" \",IF(H208=0,\" ● \"&List!$C$111,\" \"))","v":" "},null,null,null,null,{"$f":"Menu!$L$30","v":760},{"$f":"List!$C$84&\" (\"&N208&\" kg/m3)\"","v":"MDF (760 kg/m3)"},null,null,null,10,{"$f":"SUM($H$206*$H$207*$S208)/1000000","v":0},{"$f":"List!$C$87","v":"Alurámečky s 4mm sklem"}]
[null,{"$f":"List!$C$78&\" [kg] \"","v":"Hmotnost úchytky [kg] "},null,null,null,null,null,0.5,{"$f":"IF(SUM(H206,H207)=0,\" \",IF(H209=0,\" ● \"&List!$C$112,\" \"))","v":" "},null,null,null,null,{"$f":"Menu!$L$31","v":680},{"$f":"List!$C$85&\" (\"&N209&\" kg/m3)\"","v":"Dřevotříska (680 kg/m3)"},null,null,null,15,{"$f":"SUM($H$206*$H$207*$S209)/1000000","v":0},{"$f":"List!$C$88","v":"Alurámečky s 5mm sklem"}]
[null,{"$f":"List!$C$76&\" [kg] \"","v":"Vypočtená hmotnost čela [kg] "},null,null,null,null,null,{"$f":"IF(M210=0,0,M210+H209)","v":0},null,null,null,null,{"$f":"IF(H206*H207*H208=0,0,IF(O207=1,N207*N208,IF(O207=2,N207*N209,N207*N210)))","v":0},{"$f":"$H$200","v":0},{"$f":"List!$C$86","v":"Jiné - volitelná hustota"},null,null,null,{"$f":"2.5*$H$200","v":0},{"$f":"SUM($H$206*$H$207*$S210)/1000000","v":0},{"$f":"List!$C$89","v":"Alurámečky s jiným sklem"}]
[null,null,{"$f":"IF(H210>0,IF(H209=0,$N$227,\" \"),\" \")","v":" "},null,null,null,null,null,null,null,null,null,null,null,null,null,null,null,{"$f":"SUM(IF(U207=1,T208,IF(U207=2,T209,T210)),T207)","v":0}]
[]
[]
[null,null,null,null,null,{"$f":"D18","v":"Korpus B"}]
[null,{"$f":"List!$C$72&\" KB [mm]       \"","v":"Šířka korpusu KB [mm]       "},null,null,null,null,null,{"$f":"H19","v":0},null,null,null,null,null,{"$f":"H215*H216*H217","v":0},null,null,null,null,{"$f":"S206","v":3.51},"alu"]
[null,{"$f":"List!$C$73&\" KH [mm]       \"","v":"Výška korpusu KH [mm]       "},null,null,null,null,null,{"$f":"H20","v":0},null,null,null,null,null,{"$f":"N215/1000000000","v":0},{"$f":"O207","v":1},null,null,null,"váha alu",{"$f":"SUM(H215*2,H216*2)*S215/10000","v":0},{"$f":"U207","v":3}]
[null,{"$f":"List!$C$77&\" TS [mm] \"","v":"Síla čela TS [mm] "},null,null,null,null,null,null,{"$f":"IF(SUM(H215,H216)=0,\" \",IF(H217=0,\" ● \"&List!$C$111,\" \"))","v":" "},null,null,null,null,{"$f":"$N$208","v":760},{"$f":"$O$208","v":"MDF (760 kg/m3)"},null,null,null,{"$f":"S208","v":10},{"$f":"SUM($H$215*$H$216*$S217)/1000000","v":0},{"$f":"List!$C$87","v":"Alurámečky s 4mm sklem"}]
[null,{"$f":"List!$C$78&\" [kg] \"","v":"Hmotnost úchytky [kg] "},null,null,null,null,null,null,{"$f":"IF(SUM(H215,H216)=0,\" \",IF(H218=0,\" ● \"&List!$C$112,\" \"))","v":" "},null,null,null,null,{"$f":"$N$209","v":680},{"$f":"$O$209","v":"Dřevotříska (680 kg/m3)"},null,null,null,{"$f":"S209","v":15},{"$f":"SUM($H$215*$H$216*$S218)/1000000","v":0},{"$f":"List!$C$88","v":"Alurámečky s 5mm sklem"}]
[null,{"$f":"List!$C$76&\" [kg] \"","v":"Vypočtená hmotnost čela [kg] "},null,null,null,null,null,{"$f":"IF(M219=0,0,M219+H218)","v":0},null,null,null,null,{"$f":"IF(H215*H216*H217=0,0,IF(O216=1,N216*N217,IF(O216=2,N216*N218,N216*N219)))","v":0},{"$f":"$N$210","v":0},{"$f":"$O$210","v":"Jiné - volitelná hustota"},null,null,null,{"$f":"S210","v":0},{"$f":"SUM($H$215*$H$216*$S219)/1000000","v":0},{"$f":"List!$C$89","v":"Alurámečky s jiným sklem"}]
[null,null,{"$f":"IF(H219>0,IF(H218=0,$N$227,\" \"),\" \")","v":" "},null,null,null,null,null,null,null,null,null,null,null,null,null,null,null,{"$f":"SUM(IF(U216=1,T217,IF(U216=2,T218,T219)),T216)","v":0}]
[]
[]
[]
[null,null,null,null,null,null,{"$f":"List!$C$149","v":"Zpět"}]
[]
[]
[null,null,{"$f":"List!$C$217&\" \"&List!$C$218","v":"Upozornění: Vypočtené hodnoty jsou pouze orientační.  Firma Blum ani prodejci neručí za jejich správnost."},null,null,null,null,null,null,null,null,null,null,{"$f":"List!$C$95&\"!\"","v":"Není započtena hmotnost úchytky!"}]
[]
[]
[]
[]
[]
[]
[]
[]
[]
[]
[]
[]
[]
[]
[]
[]
[]
[]
[]
[]
[]
[]
[]
[]
[]
[]
[]
[]
[]
[]
[]
[]
[]
[]
[]
[]
[]
[]
[]
[]
[]
[]
[]
[]
[]
[]
[]
[]
[]
[]
[]
[]
[]
[]
[]
[]
[]
[]
[]
[]
[]
[]
[]
[]
[]
[]
[]
[]
[]
[]
[]
[]
[]
[]
[]
[]
[null,null,"KH","Sada ramen",null,"A","B"]
[null,null,300,"2xL32000",null,"\n159","\n140,5"]
[null,null,"349","2xL32000",null,"159","189,5"]
[]
[null,null,"350","2xL35000",null,"209","140,5"]
[null,null,"399","2xL35000",null,"209","189,5"]
[]
[null,null,"400","2xL38000",null,"259","140,5"]
[null,null,"550","2xL38000",null,"259","189,5"]
[]
[null,null,"450","2xL39000",null,"309,5","140,5"]
[null,null,"580","2xL39000",null,"309,5","189,5"]
[]
[]
[]
[]
[]
[]
[]
[]
[]
[]
[]
[null,null,null,null,null,null,null,null,{"$f":"List!$C$149","v":"Zpět"}]
[]
[]
[]
[]
[]
[]
[]
[]
[]
[]
[]
[]
[]
[]
[]
[]
[]
[]
[]
[]
[]
[]
[]
[]
[]
[]
[]
[]
[]
[]
[]
[]
[]
[]
[]
[]
[]
[]
[]
[]
[]
[]
[]
[]
[]
[]
[]
[]
[]
[]
[]
[]
[]
[]
[]
[]
[]
[]
[]
[]
[]
[]
[]
[]
[]
[]
[]
[]
[]
[]
[]
[null,"      AVENTOS HL"]
[]
[null,{"$f":"List!$C$311","v":"Pro výběr správného zdvihače potřebujete znát výšku korpusu a hmotnost čela."}]
[]
[null,{"$f":"List!$C$289","v":"Pokud znáte hmotnost čela, můžete ji zadat, jinak použijte \"Výpočet hmotnosti\"."}]
[null,{"$f":"List!$C$290","v":"V tabulce má přednost zadaná hodnota. Chcete-li použít vypočtenou hmotnost, smažte zadanou hodnotu."}]
[]
[]
[null,{"$f":"List!$C$284","v":"Chcete-li změnit barvu krytek, přejděte na \"Úvod\""}]
[]
[]
[]
[null,null,null,null,null,null,null,null,null,null,null,{"$f":"List!$C$149","v":"Zpět"}]

{"sheet":"HLwa","index":19,"n_rows":417,"n_cols":48,"rows_kept":417,"cut":false,"hidden":false,"merged":[[12,1,12,6],[13,1,13,6],[1,5,1,6],[6,1,6,2],[6,6,6,7],[4,6,5,10],[1,9,1,10],[3,5,3,10],[1,7,1,8],[97,0,152,0],[23,1,23,6],[207,1,207,6],[26,1,28,9],[22,1,22,6],[197,0,230,0],[209,1,209,6],[19,1,19,6],[14,1,14,6],[18,1,18,6],[0,43,0,51],[6,43,6,47],[7,43,11,43],[7,44,7,47],[9,44,9,47],[8,3,8,7],[9,1,9,6],[10,1,10,6],[1,1,1,2],[1,3,1,4],[13,15,13,16],[11,1,11,6],[17,3,17,7],[305,3,305,4],[215,20,215,21],[206,20,206,21],[26,15,26,16],[20,1,20,6],[208,1,208,6],[22,15,22,16],[21,1,21,6],[213,5,213,7],[216,1,216,6],[214,1,214,6],[217,1,217,6],[204,5,204,7],[205,1,205,6],[206,1,206,6],[215,1,215,6],[397,0,438,0],[326,8,326,9],[242,6,242,7],[218,1,218,6],[223,6,223,7],[226,2,228,10],[310,3,310,4],[311,3,311,4],[297,0,351,0],[303,3,303,4],[231,0,258,0],[313,3,313,4],[314,3,314,4],[307,3,307,4],[308,3,308,4],[304,3,304,4]]}
[]
[null,"AVENTOS HF",null,"AVENTOS HS",null,"AVENTOS HL",null,"AVENTOS HK top",null,"AVENTOS HK-S",null,"AVENTOS HK-XS",null,null,"rámeček",null,null,null,3,null,null,null,null,null,null,{"$f":"List!$C$135","v":"Jdi na"}]
[]
[null,{"$f":"List!$C$18&\" ***\"","v":"Široký alurámeček ***"},null,null,null,{"$f":"N200&\"       \"","v":"Alurámečky s 4mm sklem       "},null,null,null,null,null,null,null,null,1,null,null,null,{"$f":"\" \"&List!$C$39&\" A \"","v":" Cena za korpus A "},null,null,null,null,null,null,{"$f":"List!$C$136","v":"Úvod plánování"}]
[null,null,null,null,null,null,{"$f":"List!$C$47&\" \"&List!$C$22&\"       \"","v":"Nastavit hmotnost alurámečků       "},null,null,null,null,null,null,null,"A = 1",null,null,null,{"$f":"\" \"&List!$C$39&\" B \"","v":" Cena za korpus B "},null,null,null,null,null,null,{"$f":"List!$C$137","v":"Nápověda"}]
[null,null,null,null,null,null,null,null,null,null,null,null,null,null,"B = 2",null,null,null,{"$f":"\" \"&List!$C$59","v":" Cena celkem bez DPH"}]
[null,{"$f":"List!$C$142","v":"Soupis kování"},null,null,null,null,{"$f":"IF(S2=1,$N$138,IF($S$2=2,$P$138,IF($S$2=3,$L$138,0)))","v":0},null,null,null,null,null,null,null,null,null,null,null,null,null,null,null,null,null,null,{"$f":"List!$C$141","v":"Doplňky"},null,null,null,null,null,null,null,null,null,null,null,null,null,null,null,null,null,{"$f":"List!$C$74&\" [kg]\"","v":"Hmotnost čela včetně úchytky [kg]"}]
[null,null,null,null,null,null,null,{"$f":"IF(AND(OR($R$14=1, $R$23=1), $L$138>0), $N$32, \" \")","v":" "},null,null,null,null,null,null,null,null,null,null,null,null,null,null,null,null,null,null,null,null,null,null,null,null,null,null,null,null,null,null,null,null,null,null,null,{"$f":"List!$C$79","v":"Zdvihací mechanizmus"},{"$f":"List!$C$73&\" KH [mm]  \"","v":"Výška korpusu KH [mm]  "}]
[null,"SERVO-DRIVE",null,{"$f":"List!$C$62&\" A\"","v":"Korpus A"},null,null,null,null,null,null,null,null,null,null,null,null,null,null,"L21","L23","L25","L27","L29",null,null,{"$f":"List!$C$139","v":"Přehled korpusů"},null,null,null,null,null,null,null,null,null,null,null,null,null,null,null,null,null,null,"300 - 349","350 - 399","400 - 550","450 - 580"]
[null,{"$f":"List!$C$72&\" KB [mm] \"","v":"Šířka korpusu KB [mm] "},null,null,null,null,null,null,{"$f":"IF($H10=0,\" \",IF($H10<220,\" min. 220mm\",IF($H10>1800,\" max. 1 800mm\",\" \")))&IF(H15>0,IF(H10=0,\"● \"&List!$C$111,\" \"),\" \")","v":"  "},null,null,null,null,"L21",{"$f":"SUM(S10:S11)","v":0},"F32",{"$f":"IF($H11<Cen!$E$269,0,IF($H11<Cen!$E$270,1,0))","v":0},null,{"$f":"IF($Q10=1,IF($Q15>1.2499,IF($Q15<Cen!$F$261,1,0),0),0)","v":0},{"$f":"IF($Q10=1,IF($Q15>Cen!$E$261,IF($Q15<Cen!$I$261,1,0),0),0)","v":0},{"$f":"IF($Q10=1,IF($Q15>Cen!$G$261,IF($Q15<Cen!$L$261,1,0),0),0)","v":0},{"$f":"IF($Q10=1,IF($Q15>Cen!$J$261,IF($Q15<20.01,1,0),0),0)","v":0},null,null,null,{"$f":"List!$C$140","v":"Objednávka"},null,null,null,null,null,null,null,null,null,null,null,null,null,null,null,null,null,null,{"$f":"List!$C$354&\" (Standard / SERVO-DRIVE)\"","v":"Sada ramen (Standard / SERVO-DRIVE)"}]
[null,{"$f":"List!$C$73&\" KH [mm]  \"","v":"Výška korpusu KH [mm]  "},null,null,null,null,null,null,{"$f":"IF($H11=0,\" \",IF($H11<300,\" min. 300mm\",IF($H11>580,\" max. 580 mm\",\" \")))&IF(H15>0,IF(H11=0,\"● \"&List!$C$111,\" \"),\" \")","v":"  "},null,null,null,null,"L23",{"$f":"SUM(T10:T12)","v":0},"F35",{"$f":"IF($H11<Cen!$E$270,0,IF($H11<Cen!$E$271,1,0))","v":0},null,{"$f":"IF($Q11=1,IF($Q15>1.2499,IF($Q15<Cen!$F$262,1,0),0),0)","v":0},{"$f":"IF($Q11=1,IF($Q15>Cen!$E$262,IF($Q15<Cen!$I$262,1,0),0),0)","v":0},{"$f":"IF($Q11=1,IF($Q15>Cen!$G$262,IF($Q15<Cen!$L$262,1,0),0),0)","v":0},{"$f":"IF($Q11=1,IF($Q15>Cen!$J$262,IF($Q15<Cen!$N$262,1,0),0),0)","v":0},{"$f":"IF($Q11=1,IF($Q15>Cen!$M$262,IF($Q15<20.01,1,0),0),0)","v":0},null,null,null,null,null,null,null,null,null,null,null,null,null,null,null,null,null,null,null,null,null,"20L3200.06","20L3500.06","20L3800.06","20L3900.06"]
[null,{"$f":"List!$C$74&\" [kg] ** \"","v":"Hmotnost čela včetně úchytky [kg] ** "},null,null,null,null,null,null,{"$f":"IF($H15=0,\" \",IF(SUM($H12,$H13)=0,$N$34,\" \"))&IF(AND(SUM($O$10:$O$14)=0,$V15=\"ano\",H12>0),$N$38,IF(AND($H15>0,$H12>0,V$15=\"ano\"),$N$35,\" \"))","v":"  "},null,null,null,null,"L25",{"$f":"SUM(U10:U13)","v":0},"F38",{"$f":"IF($H11<Cen!$E$271,0,IF($H11<Cen!$E$272,1,0))","v":0},null,null,{"$f":"IF($Q12=1,IF($Q15>1.7499,IF($Q15<Cen!$I$263,1,0),0),0)","v":0},{"$f":"IF($Q12=1,IF($Q15>Cen!$G$263,IF($Q15<Cen!$L$263,1,0),0),0)","v":0},{"$f":"IF($Q12=1,IF($Q15>Cen!$J$263,IF($Q15<Cen!$N$263,1,0),0),0)","v":0},{"$f":"IF($Q12=1,IF($Q15>Cen!$M$263,IF($Q15<20.01,1,0),0),0)","v":0},null,null,null,null,null,null,null,null,null,null,null,null,null,null,null,null,null,null,null,null,null,"21L3200.01","21L3500.02","21L3800.03","21L3900.04"]
[null,{"$f":"List!$C$76&\" [kg]       \"","v":"Vypočtená hmotnost čela [kg]       "},null,null,null,null,null,{"$f":"$H$210","v":0},{"$f":"IF($H15>0,IF($H13>0,IF($H12=0,$N$35,\" \"),\" \"),\" \")","v":" "},null,null,null,null,"L27",{"$f":"SUM(V10:V13)","v":0},"F39",{"$f":"IF($H11>Cen!$F$273,0,IF($H11<Cen!$E$272,0,IF($H11<Cen!$E$273,1,0)))","v":0},null,"tyč","mezistěny",{"$f":"IF($Q13=1,IF($Q15>1.9999,IF($Q15<Cen!$L$264,1,0),0),0)","v":0},{"$f":"IF($Q13=1,IF($Q15>Cen!$J$264,IF($Q15<Cen!$N$264,1,0),0),0)","v":0},{"$f":"IF($Q13=1,IF($Q15>Cen!$M$264,IF($Q15<16.51,1,0),0),0)","v":0},null,null,{"$f":"\" \"&List!$C$177&\" A\"","v":" Výpočet hmotnosti A"},null,null,null,null,null,null,null,null,null,null,null,null,null,null,null,null,null,"20L2100.05","1.25 - 4.25","1.25 - 2.50"]
[null,{"$f":"List!$C$27&\" * \"","v":"Počet mezistěn * "},null,null,null,null,null,null,null,null,null,null,null,"L29",{"$f":"SUM(W11:W13)","v":0},false,null,{"$f":"IF($P$14=FALSE,2,1)","v":2},{"$f":"IF($H$10>1360,1.5,IF($H$10<610,0.5,1))","v":0.5},{"$f":"IF($H$14>0,$H$14,IF($H$10>1219,1,0))","v":0},null,null,null,null,null,null,null,null,null,null,null,null,null,null,null,null,null,null,null,null,null,null,null,"20L2300.05","3.50 - 7.25","1.75 - 5.00","1.75 - 3.50"]
[null,{"$f":"List!$C$69","v":"Počet skříněk"},null,null,null,null,null,null,null,null,null,null,{"$f":"IF($H10*$H$11*$Q15=0,0,IF(SUM(O10:O14)=0,0,IF(H10>1800,0,IF(H10<220,0,H15))))","v":0},null,null,"hmot =",{"$f":"IF(H12>0,H12,H13)","v":0},{"$f":"IF(SUM(H12,H13)=0,0,IF(H12>0,1,2))","v":0},"zadaná / vypočtená",null,"limit v/š",{"$f":"IF(AND(219<H10,H10<1801,299<H11,H11<581),\"ano\",\"ne\")","v":"ne"},null,null,null,null,null,null,null,null,null,null,null,null,null,null,null,null,null,null,null,null,null,"20L2500.05","6.50 - 12.00","4.25 - 9.00","2.75 - 6.75","2.00 - 5.25"]
[null,{"$f":"IF(H15>0,IF(R15=0,\" \",IF(R15=1,$N$47,$N$48)),\" \")&IF(H15>0,IF(R15=0,\" \",IF(R15=1,$N$49,$N$50)),\" \")","v":"  "},null,null,null,null,null,null,null,null,null,null,null,null,null,null,null,null,null,null,null,null,null,null,null,null,null,null,null,null,null,null,null,null,null,null,null,null,null,null,null,null,null,"20L2700.05","11.00 - 20.00","8.00 - 14.75","5.75 - 11.75","4.25 - 9.25"]
[null,null,null,null,null,null,null,null,null,null,null,null,null,null,null,null,null,null,null,null,null,null,null,null,null,{"$f":"\" \"&List!$C$361","v":" Ověření síly zdvihače"},null,null,null,null,null,null,null,null,null,null,null,null,null,null,null,null,null,"20L2900.05",null,"13.50 - 20.00","10.50 - 20.00","8.25 - 16.50"]
[null,"SERVO-DRIVE",null,{"$f":"List!$C$62&\" B\"","v":"Korpus B"},null,null,null,null,null,null,null,null,null,null,null,null,null,null,"L21","L23","L25","L27","L29",null,null,{"$f":"\" \"&List!$C$362","v":" Odstup čela od korpusu"}]
[null,{"$f":"List!$C$72&\" KB [mm] \"","v":"Šířka korpusu KB [mm] "},null,null,null,null,null,null,{"$f":"IF($H19=0,\" \",IF($H19<220,\" min. 220mm\",IF($H19>1800,\" max. 1 800mm\",\" \")))&IF(H24>0,IF(H19=0,\"● \"&List!$C$111,\" \"),\" \")","v":"  "},null,null,null,null,"L21",{"$f":"SUM(S19:S20)","v":0},"F32",{"$f":"IF($H20<Cen!$E$269,0,IF($H20<Cen!$E$270,1,0))","v":0},null,{"$f":"IF($Q19=1,IF($Q24>1.2499,IF($Q24<Cen!$F$261,1,0),0),0)","v":0},{"$f":"IF($Q19=1,IF($Q24>Cen!$E$261,IF($Q24<Cen!$I$261,1,0),0),0)","v":0},{"$f":"IF($P19=1,IF($Q24>Cen!$G$261,IF($Q24<Cen!$L$261,1,0),0),0)","v":0},{"$f":"IF($Q19=1,IF($Q24>Cen!$J$261,IF($Q24<20.01,1,0),0),0)","v":0}]
[null,{"$f":"List!$C$73&\" KH [mm] \"","v":"Výška korpusu KH [mm] "},null,null,null,null,null,null,{"$f":"IF($H20=0,\" \",IF($H20<300,\" min. 300mm\",IF($H20>580,\" max. 580 mm\",\" \")))&IF(H24>0,IF(H20=0,\"● \"&List!$C$111,\" \"),\" \")","v":"  "},null,null,null,null,"L23",{"$f":"SUM(T19:T21)","v":0},"F35",{"$f":"IF($H20<Cen!$E$270,0,IF($H20<Cen!$E$271,1,0))","v":0},null,{"$f":"IF($Q20=1,IF($Q24>1.2499,IF($Q24<Cen!$F$262,1,0),0),0)","v":0},{"$f":"IF($Q20=1,IF($Q24>Cen!$E$262,IF($Q24<Cen!$I$262,1,0),0),0)","v":0},{"$f":"IF($Q20=1,IF($Q24>Cen!$G$262,IF($Q24<Cen!$L$262,1,0),0),0)","v":0},{"$f":"IF($Q20=1,IF($Q24>Cen!$J$262,IF($Q24<Cen!$N$262,1,0),0),0)","v":0},{"$f":"IF($Q20=1,IF($Q24>Cen!$M$262,IF($Q24<20.01,1,0),0),0)","v":0},null,null,null,null,null,null,null,null,null,null,null,null,null,null,null,null,null,null,null,null,{"$f":"List!$C$149","v":"Zpět"}]
[null,{"$f":"List!$C$74&\" [kg] ** \"","v":"Hmotnost čela včetně úchytky [kg] ** "},null,null,null,null,null,null,{"$f":"IF($H24=0,\" \",IF(SUM($H21,$H22)=0,$N$34,\" \"))&IF(AND(SUM($O$19:$O$23)=0,$V24=\"ano\",H21>0),$N$38,IF(AND($H24>0,$H21>0,V$24=\"ano\"),$N$35,\" \"))","v":"  "},null,null,null,null,"L25",{"$f":"SUM(U19:U22)","v":0},"F38",{"$f":"IF($H20<Cen!$E$271,0,IF($H20<Cen!$E$272,1,0))","v":0},null,null,{"$f":"IF($Q21=1,IF($Q24>1.7499,IF($Q24<Cen!$I$263,1,0),0),0)","v":0},{"$f":"IF($Q21=1,IF($Q24>Cen!$G$263,IF($Q24<Cen!$L$263,1,0),0),0)","v":0},{"$f":"IF($Q21=1,IF($Q24>Cen!$J$263,IF($Q24<Cen!$N$263,1,0),0),0)","v":0},{"$f":"IF($Q21=1,IF($Q24>Cen!$M$263,IF($Q24<20.01,1,0),0),0)","v":0}]
[null,{"$f":"List!$C$76&\" [kg]       \"","v":"Vypočtená hmotnost čela [kg]       "},null,null,null,null,null,{"$f":"$H$219","v":0},{"$f":"IF($H24>0,IF($H22>0,IF($H21=0,$N$35,\" \"),\" \"),\" \")","v":" "},null,null,null,null,"L27",{"$f":"SUM(V19:V22)","v":0},"F39",{"$f":"IF($H20>Cen!$F$273,0,IF($H20<Cen!$E$272,0,IF($H20<Cen!$E$273,1,0)))","v":0},null,"tyč","mezistěny",{"$f":"IF($Q22=1,IF($Q24>1.9999,IF($Q24<Cen!$L$264,1,0),0),0)","v":0},{"$f":"IF($Q22=1,IF($Q24>Cen!$J$264,IF($Q24<Cen!$N$264,1,0),0),0)","v":0},{"$f":"IF($Q22=1,IF($Q24>Cen!$M$264,IF($Q24<16.51,1,0),0),0)","v":0},null,null,{"$f":"\" \"&List!$C$177&\" B\"","v":" Výpočet hmotnosti B"}]
[null,{"$f":"List!$C$27&\" * \"","v":"Počet mezistěn * "},null,null,null,null,null,null,null,null,null,null,null,"L29",{"$f":"SUM(W20:W22)","v":0},false,null,{"$f":"IF($P$23=FALSE,2,1)","v":2},{"$f":"IF($H$19>1360,1.5,IF($H$19<610,0.5,1))","v":0.5},{"$f":"IF($H$23>0,$H$23,IF($H$19>1219,1,0))","v":0}]
[null,{"$f":"List!$C$69","v":"Počet skříněk"},null,null,null,null,null,null,null,null,null,null,{"$f":"IF($H19*$H$20*$Q24=0,0,IF(SUM(O19:O23)=0,0,IF(H19>1800,0,IF(H19<220,0,H24))))","v":0},null,null,"hmot =",{"$f":"IF(H21>0,H21,H22)","v":0},{"$f":"IF(SUM(H21,H22)=0,0,IF(H21>0,1,2))","v":0},"zadaná / vypočtená",null,"limit v/š",{"$f":"IF(AND(219<H19,H19<1801,299<H20,H20<581),\"ano\",\"ne\")","v":"ne"}]
[null,{"$f":"IF(H24>0,IF(R24=0,\" \",IF(R24=1,$N$47,$N$48)),\" \")&IF(H24>0,IF(R24=0,\" \",IF(R24=1,$N$49,$N$50)),\" \")","v":"  "}]
[]
[null,{"$f":"IF(OR(AND($R$14=1, $M$15>0), AND($R$23=1, $M$24>0)), List!$C$157, \" \")","v":" "},null,null,null,null,null,null,null,null,null,null,null,null,{"$f":"IF($P$27=FALSE,2,1)","v":2},false,null," - Zdroj"]
[]
[]
[]
[]
[null,null,null,null,null,null,null,null,null,null,null,null,null,{"$f":"List!C158","v":"Cena bez napájecího zdroje!"}]
[null,null,{"$f":"\"* \"&List!$C$215","v":"* Zadejte počet mezistěn v korpusu. "}]
[null,null,{"$f":"\"** \"&List!$C$168","v":"** Pokud znáte hmotnost a nechcete využít výpočtu hmotnosti"},null,null,null,null,null,null,null,null,null,null,{"$f":"\" \"&List!$C$103","v":" Doplňte nebo použijte \"Výpočet hmotnosti\" "}]
[null,null,{"$f":"\"*** \"&List!$C$371","v":"*** Vyberte typ alurámečku!"},null,null,null,null,null,null,null,null,null,null,{"$f":"\"◄ \"&List!$C$101","v":"◄ hodnota bude použita pro výběr zdvihače"}]
[null,null,{"$f":"\"      \"&List!$C$372","v":"      Více informací k výběru alurámečků v Nápovědě"},null,null,null,null,null,null,null,null,null,null,{"$f":"\" * \"&List!$C$110","v":" * Doplňte hodnoty"}]
[]
[null,null,null,null,null,null,null,null,null,null,null,null,null,{"$f":"List!$C$107&\"!\"","v":"Překročena maximální hmotnost!"}]
[null,null,null,null,null,null,null,null,null,null,null,null,null,{"$f":"\" max. 9 000! \"&List!$C$105","v":" max. 9 000! Upravte hmotnost nebo výšku"}]
[null,null,null,null,null,null,null,null,null,null,null,null,null,{"$f":"\" \"&List!$C$216","v":" Nutná mezistěna"}]
[]
[null,null,null,null,null,null,null,null,null,null,null,null,null,null,null,null,null,{"$f":"HL!$K$27","v":1},null,{"$f":"Menu!$Q$27","v":3}]
[null,null,null,null,null,null,null,null,null,null,null,null,null,null,null,null,null,"čelní kov.",null,"kryt."]
[null,null,null,null,null,null,null,null,null,null,null,null,null,null,null,null,null,{"$f":"List!$C$125","v":"Expando"},null,{"$f":"List!$C$128","v":"Světle šedá (HG/T)"}]
[null,null,null,null,null,null,null,null,null,null,null,null,null,null,null,null,null,{"$f":"List!$C$126","v":"na vruty"},null,{"$f":"List!$C$129","v":"Tmavě šedá (TGR)"}]
[null,null,null,null,null,null,null,null,null,null,null,null,null,null,null,null,null,null,null,{"$f":"List!$C$130","v":"Hedvábně bílá (SW/T)"}]
[null,null,null,null,null,null,null,null,null,null,null,null,null,{"$f":"List!C169&\". \"","v":"Pro určení typu zdvihače bude použita zadaná hmotnost. "}]
[null,null,null,null,null,null,null,null,null,null,null,null,null,{"$f":"List!C170&\". \"","v":"Pro určení typu zdvihače bude použita vypočtená hmotnost. "}]
[null,null,null,null,null,null,null,null,null,null,null,null,null,{"$f":"List!C171","v":"Chcete-li použít vypočtenou hmotnost, smažte zadanou hodnotu"}]
[null,null,null,null,null,null,null,null,null,null,null,null,null,{"$f":"List!C172","v":"Chcete-li použít zadanou hmotnost, zadejte ji do políčka"}]
[]
[]
[]
[]
[]
[]
[]
[]
[]
[]
[]
[]
[]
[]
[]
[]
[]
[]
[]
[]
[]
[]
[]
[]
[]
[]
[]
[]
[]
[]
[]
[]
[]
[]
[]
[]
[]
[]
[]
[]
[]
[]
[]
[]
[]
[]
[]
[null,{"$f":"List!C142","v":"Soupis kování"}]
[]
[null,{"$f":"$F$2","v":"AVENTOS HL"},null,{"$f":"B4","v":"Široký alurámeček ***"}]
[null,{"$f":"List!C50","v":"Název"},null,null,null,null,{"$f":"List!$C$51","v":"Číslo artiklu"},null,{"$f":"List!C52","v":"Barva"},{"$f":"List!C54","v":"Ks"},{"$f":"List!C56","v":"Jednotková cena"},{"$f":"List!C57","v":"Celkem"},"A","Cena","B","Cena","C","Cena","Filtr"]
[null,{"$f":"Cen!A64","v":"Sada zdvihačů HL"},null,null,null,null,{"$f":"Cen!E64","v":"20L2100.05"},null,{"$f":"Cen!G64","v":"ZN"},{"$f":"SUM(M102,O102)","v":0},{"$f":"Cen!I64","v":0},{"$f":"J102*K102","v":0},{"$f":"$M$15*$O10","v":0},{"$f":"$K102*M102","v":0},{"$f":"$M$24*$O19","v":0},{"$f":"$K102*O102","v":0},null,{"$f":"$K102*Q102","v":0},"x"]
[null,{"$f":"Cen!A65","v":"Sada zdvihačů HL"},null,null,null,null,{"$f":"Cen!E65","v":"20L2300.05"},null,{"$f":"Cen!G65","v":"ZN"},{"$f":"SUM(M103,O103)","v":0},{"$f":"Cen!I65","v":0},{"$f":"J103*K103","v":0},{"$f":"$M$15*$O11","v":0},0,{"$f":"$M$24*$O20","v":0},0,null,0,"x"]
[null,{"$f":"Cen!A66","v":"Sada zdvihačů HL"},null,null,null,null,{"$f":"Cen!E66","v":"20L2500.05"},null,{"$f":"Cen!G66","v":"ZN"},0,{"$f":"Cen!I66","v":0},0,{"$f":"$M$15*$O12","v":0},0,{"$f":"$M$24*$O21","v":0},0,null,0,"x"]
[null,{"$f":"Cen!A67","v":"Sada zdvihačů HL"},null,null,null,null,{"$f":"Cen!E67","v":"20L2700.05"},null,{"$f":"Cen!G67","v":"ZN"},0,{"$f":"Cen!I67","v":0},0,{"$f":"$M$15*$O13","v":0},0,{"$f":"$M$24*$O22","v":0},0,null,0,"x"]
[null,{"$f":"Cen!A68","v":"Sada zdvihačů HL"},null,null,null,null,{"$f":"Cen!E68","v":"20L2900.05"},null,{"$f":"Cen!G68","v":"ZN"},0,{"$f":"Cen!I68","v":0},0,{"$f":"$M$15*$O14","v":0},0,{"$f":"$M$24*$O23","v":0},0,null,0,"x"]
[null,{"$f":"Cen!A69","v":"Sada soustav ramen SERVO-DRIVE"},null,null,null,null,{"$f":"Cen!E69","v":"21L3200.01"},null,{"$f":"Cen!G69","v":"NI"},0,{"$f":"Cen!I69","v":0},0,{"$f":"IF($R$14=1,$M$15*$Q10,0)","v":0},0,{"$f":"IF($R$23=1,$M$24*$Q19,0)","v":0},0,null,0,"x"]
[null,{"$f":"Cen!A70","v":"Sada soustav ramen SERVO-DRIVE"},null,null,null,null,{"$f":"Cen!E70","v":"21L3500.01"},null,{"$f":"Cen!G70","v":"NI"},0,{"$f":"Cen!I70","v":0},0,{"$f":"IF($R$14=1,$M$15*$Q11,0)","v":0},0,{"$f":"IF($R$23=1,$M$24*$Q20,0)","v":0},0,null,0,"x"]
[null,{"$f":"Cen!A71","v":"Sada soustav ramen SERVO-DRIVE"},null,null,null,null,{"$f":"Cen!E71","v":"21L3800.01"},null,{"$f":"Cen!G71","v":"NI"},0,{"$f":"Cen!I71","v":0},0,{"$f":"IF($R$14=1,$M$15*$Q12,0)","v":0},0,{"$f":"IF($R$23=1,$M$24*$Q21,0)","v":0},0,null,0,"x"]
[null,{"$f":"Cen!A72","v":"Sada soustav ramen SERVO-DRIVE"},null,null,null,null,{"$f":"Cen!E72","v":"21L3900.01"},null,{"$f":"Cen!G72","v":"NI"},0,{"$f":"Cen!I72","v":0},0,{"$f":"IF($R$14=1,$M$15*$Q13,0)","v":0},0,{"$f":"IF($R$23=1,$M$24*$Q22,0)","v":0},0,null,0,"x"]
[null,{"$f":"Cen!A73","v":"Sada ramen HL"},null,null,null,null,{"$f":"Cen!E73","v":"20L3200.06"},null,{"$f":"Cen!G73","v":"NI"},0,{"$f":"Cen!I73","v":0},0,{"$f":"IF($R$14=2,$M$15*$Q10,0)","v":0},0,{"$f":"IF($R$23=2,$M$24*$Q19,0)","v":0},0,null,0,"x"]
[null,{"$f":"Cen!A74","v":"Sada ramen HL"},null,null,null,null,{"$f":"Cen!E74","v":"20L3500.06"},null,{"$f":"Cen!G74","v":"NI"},0,{"$f":"Cen!I74","v":0},0,{"$f":"IF($R$14=2,$M$15*$Q11,0)","v":0},0,{"$f":"IF($R$23=2,$M$24*$Q20,0)","v":0},0,null,0,"x"]
[null,{"$f":"Cen!A75","v":"Sada ramen HL"},null,null,null,null,{"$f":"Cen!E75","v":"20L3800.06"},null,{"$f":"Cen!G75","v":"NI"},0,{"$f":"Cen!I75","v":0},0,{"$f":"IF($R$14=2,$M$15*$Q12,0)","v":0},0,{"$f":"IF($R$23=2,$M$24*$Q21,0)","v":0},0,null,0,"x"]
[null,{"$f":"Cen!A76","v":"Sada ramen HL"},null,null,null,null,{"$f":"Cen!E76","v":"20L3900.06"},null,{"$f":"Cen!G76","v":"NI"},0,{"$f":"Cen!I76","v":0},0,{"$f":"IF($R$14=2,$M$15*$Q13,0)","v":0},0,{"$f":"IF($R$23=2,$M$24*$Q22,0)","v":0},0,null,0,"x"]
[null,{"$f":"Cen!A77","v":"Sada krytek HL SERVO-DRIVE, sv.šedá"},null,null,null,null,{"$f":"Cen!E77","v":"21L8000"},null,{"$f":"Cen!G77","v":"HG/T"},0,{"$f":"Cen!I77","v":0},0,{"$f":"IF(AND($R$14=1,$T$42=1),SUM($M$102:$M$106),0)","v":0},0,{"$f":"IF(AND($R$23=1,$T$42=1),SUM($O$102:$O$106),0)","v":0},0,null,0,"x"]
[null,{"$f":"Cen!A78","v":"Sada krytek HL SERVO-DRIVE, tm.šedá"},null,null,null,null,{"$f":"Cen!E78","v":"21L8000"},null,{"$f":"Cen!G78","v":"TGR"},{"$f":"SUM(M116,O116)","v":0},{"$f":"Cen!I78","v":0},{"$f":"J116*K116","v":0},{"$f":"IF(AND($R$14=1,$T$42=2),SUM($M$102:$M$106),0)","v":0},{"$f":"$K116*M116","v":0},{"$f":"IF(AND($R$23=1,$T$42=2),SUM($O$102:$O$106),0)","v":0},{"$f":"$K116*O116","v":0},null,{"$f":"$K116*Q116","v":0},"x"]
[null,{"$f":"Cen!A79","v":"Sada krytek HL SERVO-DRIVE, bílá"},null,null,null,null,{"$f":"Cen!E79","v":"21L8000"},null,{"$f":"Cen!G79","v":"SW/T"},0,{"$f":"Cen!I79","v":0},0,{"$f":"IF(AND($R$14=1,$T$42=3),SUM($M$102:$M$106),0)","v":0},0,{"$f":"IF(AND($R$23=1,$T$42=3),SUM($O$102:$O$106),0)","v":0},0,null,0,"x"]
[]
[null,{"$f":"Cen!A80","v":"Sada krytek HL, světle šedá"},null,null,null,null,{"$f":"Cen!E80","v":"20L8000.01"},null,{"$f":"Cen!G80","v":"HG/T"},0,{"$f":"Cen!I80","v":0},0,{"$f":"IF(AND($R$14=2,$T$42=1),SUM($M$102:$M$106),0)","v":0},0,{"$f":"IF(AND($R$23=2,$T$42=1),SUM($O$102:$O$106),0)","v":0},0,null,0,"x"]
[null,{"$f":"Cen!A81","v":"Sada krytek HL, tmavě šedá"},null,null,null,null,{"$f":"Cen!E81","v":"20L8000.01"},null,{"$f":"Cen!G81","v":"TGR"},{"$f":"SUM(M120,O120)","v":0},{"$f":"Cen!I81","v":0},{"$f":"J120*K120","v":0},{"$f":"IF(AND($R$14=2,$T$42=2),SUM($M$102:$M$106),0)","v":0},{"$f":"$K120*M120","v":0},{"$f":"IF(AND($R$23=2,$T$42=2),SUM($O$102:$O$106),0)","v":0},{"$f":"$K120*O120","v":0},null,{"$f":"$K120*Q120","v":0},"x"]
[null,{"$f":"Cen!A82","v":"Sada krytek HL, bílá"},null,null,null,null,{"$f":"Cen!E82","v":"20L8000.01"},null,{"$f":"Cen!G82","v":"SW/T"},0,{"$f":"Cen!I82","v":0},0,{"$f":"IF(AND($R$14=2,$T$42=3),SUM($M$102:$M$106),0)","v":0},0,{"$f":"IF(AND($R$23=2,$T$42=3),SUM($O$102:$O$106),0)","v":0},0,null,0,"x"]
[]
[null,{"$f":"Cen!A83","v":"Tyč příč.stabizace - oválná"},null,null,null,null,{"$f":"Cen!E83","v":"20Q1061UA"},null,{"$f":"Cen!G83","v":"EV"},{"$f":"ROUNDUP(SUM($M$15*$S$14,$M$24*$S$23),0)","v":0},{"$f":"Cen!I83","v":0},0,{"$f":"ROUNDUP($M$15*$S$14,0)","v":0},0,{"$f":"ROUNDUP($M$24*$S$23,0)","v":0},0,null,0,"x"]
[]
[null,{"$f":"Cen!A84","v":"Spojovací díl příčné stabilizace"},null,null,null,null,{"$f":"Cen!E84","v":"20Q153ZA"},null,{"$f":"Cen!G84","v":"EV"},0,{"$f":"Cen!I84","v":0},0,{"$f":"IF($R$14<3,$T$14*$M$15,0)","v":0},0,{"$f":"IF($R$23<3,$T$23*$M$24,0)","v":0},0,null,null,"x"]
[null,{"$f":"Cen!A85","v":0},null,null,null,null,{"$f":"Cen!E85","v":0},null,{"$f":"Cen!G85","v":0},0,{"$f":"Cen!I85","v":0},0,null,0,null,0]
[null,{"$f":"Cen!A86","v":0},null,null,null,null,{"$f":"Cen!E86","v":0},null,{"$f":"Cen!G86","v":0},0,{"$f":"Cen!I86","v":0},0,null,0,null,0]
[null,{"$f":"Cen!A120","v":"Sada čel.kování pro dřev. čela"},null,null,null,null,{"$f":"Cen!E120","v":"20S4200"},null,{"$f":"Cen!G120","v":"NI"},0,{"$f":"Cen!I120","v":0},0,{"$f":"SUM(M$102:M$106)","v":0},0,{"$f":"SUM(O$102:O$106)","v":0},0,null,null,"x"]
[null,{"$f":"Cen!A121","v":"Čelní.kování pro dřev. čela EXPANDO"},null,null,null,null,{"$f":"Cen!E121","v":"20S42E1"},null,{"$f":"Cen!G121","v":"NI"},0,{"$f":"Cen!I121","v":0},0,null,0,null,0]
[null,{"$f":"Cen!A122","v":"Sada čel.kování pro úzké alurámečky"},null,null,null,null,{"$f":"Cen!E122","v":"20S4200A"},null,{"$f":"Cen!G122","v":"NI"},0,{"$f":"Cen!I122","v":0},0,null,0,null,0]
[null,{"$f":"Cen!A151","v":"CLIP top krytka raménka Nikl"},null,null,null,null,{"$f":"Cen!E151","v":"70.1503"},null,{"$f":"Cen!G151","v":"NI"},{"$f":"SUM(M131,O131,Q131)","v":0},{"$f":"Cen!I151","v":0},0,{"$f":"SUM(M$102:M$106)*2","v":0},0,{"$f":"SUM(O$102:O$106)*2","v":0},0,null,null,"x"]
[null,{"$f":"Cen!A195","v":"Samořezný vrut do alurámečků"},null,null,null,null,{"$f":"Cen!E195","v":"660.0950"},null,{"$f":"Cen!G195","v":"NI"},{"$f":"SUM(M132,O132,Q132)","v":0},{"$f":"Cen!I195","v":0},{"$f":"J132*K132","v":0},{"$f":"M128*8","v":0},0,{"$f":"O128*8","v":0},0,null,null,"x"]
[null,null,null,null,null,null,null,null,null,null,null,0,null,0,null,0]
[null,{"$f":"Cen!A199","v":"SERVO-DRIVE jednotka (sada)"},null,null,null,null,{"$f":"Cen!E199","v":"21FA000"},null,{"$f":"Cen!G199","v":"HGR"},{"$f":"SUM(M134,O134,Q134)","v":0},{"$f":"Cen!I199","v":0},0,{"$f":"IF($R$14=2,0,$M$15)","v":0},0,{"$f":"IF($R$23=2,0,$M$24)","v":0},0,null,null,"x"]
[null,{"$f":"Cen!A200","v":"SERVO-DRIVE jednotka (sada) pro HK top"},null,null,null,null,{"$f":"Cen!E200","v":"23KA000"},null,{"$f":"Cen!G200","v":"HGR"},null,{"$f":"Cen!I200","v":0},0,null,0,null,0]
[]
[]
[null,null,null,null,null,null,null,null,null,null,{"$f":"List!$C$59&\" \"","v":"Cena celkem bez DPH "},{"$f":"SUM(L102:L136)","v":0},null,{"$f":"SUM(N102:N137)","v":0},null,{"$f":"SUM(P102:P137)","v":0},null,{"$f":"SUM(R102:R137)","v":0}]
[]
[null,null,null,null,null,null,null,null,null,null,null,{"$f":"List!$C$149","v":"Zpět"}]
[]
[]
[]
[]
[]
[]
[]
[]
[]
[]
[]
[]
[]
[]
[]
[]
[]
[]
[]
[]
[]
[]
[]
[]
[]
[]
[]
[]
[]
[]
[]
[]
[]
[]
[]
[]
[]
[]
[]
[]
[]
[]
[]
[]
[]
[]
[]
[]
[]
[]
[]
[]
[]
[]
[]
[]
[]
[]
[null,{"$f":"List!$C$71","v":"Výpočet hmotnosti čel"}]
[null,null,{"$f":"List!$C$161&\"  \"","v":"Provedení čel  "},null,null,null,null,null,{"$f":"IF(U206=3,IF(H200=0,N202,\" \"),IF(H200>0,N203,\" \"))","v":" "},null,null,null,null,{"$f":"IF($U$206=1,$U$227,IF($U$206=2,$U$228,$U$229&\" - \"&$N$210&\"mm\"))","v":"Alurámečky s 4mm sklem"},null,null,null,null,{"$f":"Menu!$Q$205","v":2500}]
[]
[null,null,null,null,null,null,null,null,null,null,null,null,null,{"$f":"\" \"&List!$C$226&\" [mm]\"","v":" Zadejte sílu skla [mm]"}]
[null,null,null,null,null,null,null,null,null,null,null,null,null,{"$f":"\" \"&List!$C$221&\" '\"&List!$C$89&\"'\"","v":" Hodnota platí jen pro volbu 'Alurámečky s jiným sklem'"}]
[]
[null,null,null,null,null,{"$f":"D9","v":"Korpus A"},null,null,null,null,null,null,null,null,null,null,null,null,null,"váha spoj.","tl. skla","typ alu"]
[null,{"$f":"List!$C$72&\" KB [mm]       \"","v":"Šířka korpusu KB [mm]       "},null,null,null,null,null,{"$f":"H10","v":0},null,null,null,null,null,{"$f":"H206*H207*H208","v":0},null,null,null,null,{"$f":"IF($V$206=1,$M$236,$M$237)","v":0.62},{"$f":"$M$238","v":0.61},1,{"$f":"$O$4","v":1}]
[null,{"$f":"List!$C$73&\" KH [mm]       \"","v":"Výška korpusu KH [mm]       "},null,null,null,null,null,{"$f":"H11","v":0},null,null,null,null,null,{"$f":"N206/1000000000","v":0},2,null,null,null,"váha alu",{"$f":"SUM(H206*2,(H207-90)*2)*S206/1000","v":-0.11159999999999999},"A plocha B"]
[null,{"$f":"List!$C$77&\" TS [mm] \"","v":"Síla čela TS [mm] "},null,null,null,null,null,null,null,null,null,null,null,{"$f":"Menu!$L$30","v":760},{"$f":"List!$C$84&\" (\"&N208&\" kg/m3)\"","v":"MDF (760 kg/m3)"},null,null,null,{"$f":"$S$200*4/1000","v":10},{"$f":"IF($V$206=1,U208*S208,V208*S208)","v":6.4000000000000001E-2},{"$f":"SUM(($H$206-80)*($H$207-80)/1000000)","v":6.4000000000000003E-3},{"$f":"SUM(($H$206-6)*($H$207-6)/1000000)","v":3.6000000000000001E-5},"4mm"]
[null,{"$f":"List!$C$78&\" [kg] \"","v":"Hmotnost úchytky [kg] "},null,null,null,null,null,null,{"$f":"IF(SUM(H206,H207)=0,\" \",IF(H209=0,\" ● \"&List!$C$112,\" \"))","v":" "},null,null,null,null,{"$f":"Menu!$L$31","v":680},{"$f":"List!$C$85&\" (\"&N209&\" kg/m3)\"","v":"Dřevotříska (680 kg/m3)"},null,null,null,{"$f":"$S$200*5/1000","v":12.5},{"$f":"IF($V$206=1,U209*S209,V209*S209)","v":0.08},{"$f":"SUM(($H$206-80)*($H$207-80)/1000000)","v":6.4000000000000003E-3},{"$f":"SUM(($H$206-6)*($H$207-6)/1000000)","v":3.6000000000000001E-5},"5mm"]
[null,{"$f":"List!$C$76&\" [kg] \"","v":"Vypočtená hmotnost čela [kg] "},null,null,null,null,null,{"$f":"IF(S211=0,0,S211+H209)","v":0},null,null,null,null,{"$f":"IF(H206*H207*H208=0,0,IF(O207=1,N207*N208,IF(O207=2,N207*N209,N207*N210)))","v":0},{"$f":"$H$200","v":0},{"$f":"List!$C$86","v":"Jiné - volitelná hustota"},null,null,null,{"$f":"$S$200*$H$200/1000","v":0},{"$f":"IF($V$206=1,U210*S210,V210*S210)","v":0},{"$f":"SUM(($H$206-80)*($H$207-80)/1000000)","v":6.4000000000000003E-3},{"$f":"SUM(($H$206-6)*($H$207-6)/1000000)","v":3.6000000000000001E-5},"jiné"]
[null,null,{"$f":"IF(H210>0,IF(H209=0,$N$227,\" \"),\" \")","v":" "},null,null,null,null,null,null,null,null,null,null,null,null,null,null,null,{"$f":"IF(OR(AND(U206=3, $H$200=0), H206*H207=0), 0, SUM(IF(U206=1,T208,IF(U206=2,T209,T210)),T207,T206))","v":0}]
[]
[]
[null,null,null,null,null,{"$f":"D18","v":"Korpus B"},null,null,null,null,null,null,null,null,null,null,null,null,null,"váha spoj.","tl. skla","typ alu"]
[null,{"$f":"List!$C$72&\" KB [mm]       \"","v":"Šířka korpusu KB [mm]       "},null,null,null,null,null,{"$f":"H19","v":0},null,null,null,null,null,{"$f":"H215*H216*H217","v":0},null,null,null,null,{"$f":"IF($V$206=1,$M$236,$M$237)","v":0.62},{"$f":"$M$238","v":0.61},{"$f":"$U$206","v":1},{"$f":"$V$206","v":1}]
[null,{"$f":"List!$C$73&\" KH [mm]       \"","v":"Výška korpusu KH [mm]       "},null,null,null,null,null,{"$f":"H20","v":0},null,null,null,null,null,{"$f":"N215/1000000000","v":0},{"$f":"O207","v":2},null,null,null,"váha alu",{"$f":"SUM(H215*2,(H216-90)*2)*S215/1000","v":-0.11159999999999999},"A plocha B"]
[null,{"$f":"List!$C$77&\" TS [mm] \"","v":"Síla čela TS [mm] "},null,null,null,null,null,null,null,null,null,null,null,{"$f":"$N$208","v":760},{"$f":"$O$208","v":"MDF (760 kg/m3)"},null,null,null,{"$f":"S208","v":10},{"$f":"IF($V$206=1,U217*S217,V217*S217)","v":6.4000000000000001E-2},{"$f":"SUM(($H$215-80)*($H$216-80)/1000000)","v":6.4000000000000003E-3},{"$f":"SUM(($H$215-6)*($H$216-6)/1000000)","v":3.6000000000000001E-5},"4mm"]
[null,{"$f":"List!$C$78&\" [kg] \"","v":"Hmotnost úchytky [kg] "},null,null,null,null,null,null,{"$f":"IF(SUM(H215,H216)=0,\" \",IF(H218=0,\" ● \"&List!$C$112,\" \"))","v":" "},null,null,null,null,{"$f":"$N$209","v":680},{"$f":"$O$209","v":"Dřevotříska (680 kg/m3)"},null,null,null,{"$f":"S209","v":12.5},{"$f":"IF($V$206=1,U218*S218,V218*S218)","v":0.08},{"$f":"SUM(($H$215-80)*($H$216-80)/1000000)","v":6.4000000000000003E-3},{"$f":"SUM(($H$215-6)*($H$216-6)/1000000)","v":3.6000000000000001E-5},"5mm"]
[null,{"$f":"List!$C$76&\" [kg] \"","v":"Vypočtená hmotnost čela [kg] "},null,null,null,null,null,{"$f":"IF(S220=0,0,S220+H218)","v":0},null,null,null,null,{"$f":"IF(H215*H216*H217=0,0,IF(O216=1,N216*N217,IF(O216=2,N216*N218,N216*N219)))","v":0},{"$f":"$N$210","v":0},{"$f":"$O$210","v":"Jiné - volitelná hustota"},null,null,null,{"$f":"S210","v":0},{"$f":"IF($V$206=1,U219*S219,V219*S219)","v":0},{"$f":"SUM(($H$215-80)*($H$216-80)/1000000)","v":6.4000000000000003E-3},{"$f":"SUM(($H$215-6)*($H$216-6)/1000000)","v":3.6000000000000001E-5},"jiné"]
[null,null,{"$f":"IF(H219>0,IF(H218=0,$N$227,\" \"),\" \")","v":" "},null,null,null,null,null,null,null,null,null,null,null,null,null,null,null,{"$f":"IF(OR(AND(U215=3, $H$200=0), H215*H216=0), 0, SUM(IF(U215=1,T217,IF(U215=2,T218,T219)),T216,T215))","v":0}]
[]
[]
[]
[null,null,null,null,null,null,{"$f":"List!$C$149","v":"Zpět"}]
[]
[]
[null,null,{"$f":"List!$C$217&\" \"&List!$C$218","v":"Upozornění: Vypočtené hodnoty jsou pouze orientační.  Firma Blum ani prodejci neručí za jejich správnost."},null,null,null,null,null,null,null,null,null,null,{"$f":"List!$C$95&\"!\"","v":"Není započtena hmotnost úchytky!"},null,null,null,null,null,null,{"$f":"List!$C$87","v":"Alurámečky s 4mm sklem"}]
[null,null,null,null,null,null,null,null,null,null,null,null,null,null,null,null,null,null,null,null,{"$f":"List!$C$88","v":"Alurámečky s 5mm sklem"}]
[null,null,null,null,null,null,null,null,null,null,null,null,null,null,null,null,null,null,null,null,{"$f":"List!$C$89","v":"Alurámečky s jiným sklem"}]
[]
[]
[]
[]
[]
[null,null,null,null,"Hmotnost alurámečků [kg/bm]",null,{"$f":"List!$C$368","v":"Podle Úvodu"},{"$f":"List!$C$58","v":"Změna"}]
[null,null,null,null,null,{"$f":"List!$C$373&\"  \"","v":"S vloženým sklem  "},{"$f":"Menu!$Q215","v":0.62},null,null,null,null,null,{"$f":"IF($H236>0,$H236,$G236)","v":0.62}]
[null,null,null,null,null,{"$f":"List!$C$374&\"  \"","v":"S naloženým nebo nalepeným sklem  "},0.65,null,null,null,null,null,{"$f":"IF($H237>0,$H237,$G237)","v":0.65}]
[null,null,null,null,null,{"$f":"List!$C$377&\" [kg/set] *  \"","v":"Hmotnost spojovacího materiálu [kg/set] *  "},0.61,null,null,null,null,null,{"$f":"IF($H238>0,$H238,$G238)","v":0.61}]
[]
[null,null,{"$f":"\"        * \"& List!$C$378&\"  \"","v":"        * Rohové spojky, šrouby, těsnění pro jeden rámeček  "}]
[]
[]
[null,null,null,null,null,null,{"$f":"List!$C$149","v":"Zpět"}]
[]
[]
[]
[]
[]
[]
[]
[]
[]
[]
[]
[]
[]
[]
[]
[]
[]
[]
[]
[]
[]
[]
[]
[]
[]
[]
[]
[]
[]
[]
[]
[]
[]
[]
[]
[]
[]
[]
[]
[]
[]
[]
[]
[]
[]
[]
[]
[]
[]
[]
[]
[]
[]
[]
[]
[]
[]
[]
[]
[]
[null,null,"KH","Sada ramen",null,"A","B"]
[null,null,300,"2xL32000",null,"\n159","\n140,5"]
[null,null,"349","2xL32000",null,"159","189,5"]
[]
[null,null,"350","2xL35000",null,"209","140,5"]
[null,null,"399","2xL35000",null,"209","189,5"]
[]
[null,null,"400","2xL38000",null,"259","140,5"]
[null,null,"550","2xL38000",null,"259","189,5"]
[]
[null,null,"450","2xL39000",null,"309,5","140,5"]
[null,null,"580","2xL39000",null,"309,5","189,5"]
[]
[]
[]
[]
[]
[]
[]
[]
[]
[]
[]
[null,null,null,null,null,null,null,null,{"$f":"List!$C$149","v":"Zpět"}]
[]
[]
[]
[]
[]
[]
[]
[]
[]
[]
[]
[]
[]
[]
[]
[]
[]
[]
[]
[]
[]
[]
[]
[]
[]
[]
[]
[]
[]
[]
[]
[]
[]
[]
[]
[]
[]
[]
[]
[]
[]
[]
[]
[]
[]
[]
[]
[]
[]
[]
[]
[]
[]
[]
[]
[]
[]
[]
[]
[]
[]
[]
[]
[]
[]
[]
[]
[]
[]
[]
[]
[null,"      AVENTOS HL"]
[]
[null,{"$f":"List!$C$311","v":"Pro výběr správného zdvihače potřebujete znát výšku korpusu a hmotnost čela."}]
[]
[null,{"$f":"List!$C$289","v":"Pokud znáte hmotnost čela, můžete ji zadat, jinak použijte \"Výpočet hmotnosti\"."}]
[null,{"$f":"List!$C$290","v":"V tabulce má přednost zadaná hodnota. Chcete-li použít vypočtenou hmotnost, smažte zadanou hodnotu."}]
[]
[]
[null,{"$f":"List!$C$284","v":"Chcete-li změnit barvu krytek, přejděte na \"Úvod\""}]
[]
[null,{"$f":"List!$C$383","v":"Věnujte pozornost výběru alurámečků."}]
[null,{"$f":"List!$C$384","v":"Vyberte, který typ lépe odpovídá tvaru použitého alurámečku."}]
[null,{"$f":"List!$C$385","v":"Způsob osazení skla do rámečku výrazně ovlivňuje plochu skla a tím i hmotnost!"}]
[]
[null,null,{"$f":"\"  \"&List!$C$373&\"  \"","v":"  S vloženým sklem  "}]
[]
[null,null,{"$f":"\"  \"&List!$C$374&\"  \"","v":"  S naloženým nebo nalepeným sklem  "}]
[]
[null,null,null,null,null,null,null,null,null,null,null,{"$f":"List!$C$149","v":"Zpět"}]

{"sheet":"HLna","index":20,"n_rows":417,"n_cols":48,"rows_kept":417,"cut":false,"hidden":false,"merged":[[97,0,152,0],[20,1,20,6],[21,1,21,6],[22,1,22,6],[11,1,11,6],[14,1,14,6],[26,1,28,9],[12,1,12,6],[13,1,13,6],[23,1,23,6],[18,1,18,6],[4,6,5,10],[8,3,8,7],[9,1,9,6],[1,1,1,2],[1,3,1,4],[1,5,1,6],[1,7,1,8],[6,1,6,2],[10,1,10,6],[6,6,6,7],[397,0,438,0],[326,8,326,9],[223,6,223,7],[226,2,228,10],[297,0,351,0],[303,3,303,4],[242,6,242,7],[314,3,314,4],[313,3,313,4],[305,3,305,4],[307,3,307,4],[311,3,311,4],[308,3,308,4],[310,3,310,4],[231,0,258,0],[197,0,230,0],[0,43,0,51],[6,43,6,47],[7,43,11,43],[7,44,7,47],[9,44,9,47],[206,20,206,21],[1,9,1,10],[3,5,3,10],[215,20,215,21],[13,15,13,16],[17,3,17,7],[26,15,26,16],[22,15,22,16],[19,1,19,6],[304,3,304,4],[204,5,204,7],[208,1,208,6],[216,1,216,6],[209,1,209,6],[217,1,217,6],[214,1,214,6],[213,5,213,7],[218,1,218,6],[215,1,215,6],[205,1,205,6],[206,1,206,6],[207,1,207,6]]}
[]
[null,"AVENTOS HF",null,"AVENTOS HS",null,"AVENTOS HL",null,"AVENTOS HK top",null,"AVENTOS HK-S",null,"AVENTOS HK-XS",null,null,"rámeček",null,null,null,3,null,null,null,null,null,null,{"$f":"List!$C$135","v":"Jdi na"}]
[]
[null,{"$f":"List!$C$20&\" ***\"","v":"Úzký alurámeček ***"},null,null,null,{"$f":"N200&\"       \"","v":"Alurámečky s 4mm sklem       "},null,null,null,null,null,null,null,null,1,null,null,null,{"$f":"\" \"&List!$C$39&\" A \"","v":" Cena za korpus A "},null,null,null,null,null,null,{"$f":"List!$C$136","v":"Úvod plánování"}]
[null,null,null,null,null,null,{"$f":"List!$C$47&\" \"&List!$C$22&\"       \"","v":"Nastavit hmotnost alurámečků       "},null,null,null,null,null,null,null,"A = 1",null,null,null,{"$f":"\" \"&List!$C$39&\" B \"","v":" Cena za korpus B "},null,null,null,null,null,null,{"$f":"List!$C$137","v":"Nápověda"}]
[null,null,null,null,null,null,null,null,null,null,null,null,null,null,"B = 2",null,null,null,{"$f":"\" \"&List!$C$59","v":" Cena celkem bez DPH"}]
[null,{"$f":"List!$C$142","v":"Soupis kování"},null,null,null,null,{"$f":"IF(S2=1,$N$138,IF($S$2=2,$P$138,IF($S$2=3,$L$138,0)))","v":0},null,null,null,null,null,null,null,null,null,null,null,null,null,null,null,null,null,null,{"$f":"List!$C$141","v":"Doplňky"},null,null,null,null,null,null,null,null,null,null,null,null,null,null,null,null,null,{"$f":"List!$C$74&\" [kg]\"","v":"Hmotnost čela včetně úchytky [kg]"}]
[null,null,null,null,null,null,null,{"$f":"IF(AND(OR($R$14=1, $R$23=1), $L$138>0), $N$32, \" \")","v":" "},null,null,null,null,null,null,null,null,null,null,null,null,null,null,null,null,null,null,null,null,null,null,null,null,null,null,null,null,null,null,null,null,null,null,null,{"$f":"List!$C$79","v":"Zdvihací mechanizmus"},{"$f":"List!$C$73&\" KH [mm]  \"","v":"Výška korpusu KH [mm]  "}]
[null,"SERVO-DRIVE",null,{"$f":"List!$C$62&\" A\"","v":"Korpus A"},null,null,null,null,null,null,null,null,null,null,null,null,null,null,"L21","L23","L25","L27","L29",null,null,{"$f":"List!$C$139","v":"Přehled korpusů"},null,null,null,null,null,null,null,null,null,null,null,null,null,null,null,null,null,null,"300 - 349","350 - 399","400 - 550","450 - 580"]
[null,{"$f":"List!$C$72&\" KB [mm] \"","v":"Šířka korpusu KB [mm] "},null,null,null,null,null,null,{"$f":"IF($H10=0,\" \",IF($H10<220,\" min. 220mm\",IF($H10>1800,\" max. 1 800mm\",\" \")))&IF(H15>0,IF(H10=0,\"● \"&List!$C$111,\" \"),\" \")","v":"  "},null,null,null,null,"L21",{"$f":"SUM(S10:S11)","v":0},"F32",{"$f":"IF($H11<Cen!$E$269,0,IF($H11<Cen!$E$270,1,0))","v":0},null,{"$f":"IF($Q10=1,IF($Q15>1.2499,IF($Q15<Cen!$F$261,1,0),0),0)","v":0},{"$f":"IF($Q10=1,IF($Q15>Cen!$E$261,IF($Q15<Cen!$I$261,1,0),0),0)","v":0},{"$f":"IF($Q10=1,IF($Q15>Cen!$G$261,IF($Q15<Cen!$L$261,1,0),0),0)","v":0},{"$f":"IF($Q10=1,IF($Q15>Cen!$J$261,IF($Q15<20.01,1,0),0),0)","v":0},null,null,null,{"$f":"List!$C$140","v":"Objednávka"},null,null,null,null,null,null,null,null,null,null,null,null,null,null,null,null,null,null,{"$f":"List!$C$354&\" (Standard / SERVO-DRIVE)\"","v":"Sada ramen (Standard / SERVO-DRIVE)"}]
[null,{"$f":"List!$C$73&\" KH [mm]  \"","v":"Výška korpusu KH [mm]  "},null,null,null,null,null,null,{"$f":"IF($H11=0,\" \",IF($H11<300,\" min. 300mm\",IF($H11>580,\" max. 580 mm\",\" \")))&IF(H15>0,IF(H11=0,\"● \"&List!$C$111,\" \"),\" \")","v":"  "},null,null,null,null,"L23",{"$f":"SUM(T10:T12)","v":0},"F35",{"$f":"IF($H11<Cen!$E$270,0,IF($H11<Cen!$E$271,1,0))","v":0},null,{"$f":"IF($Q11=1,IF($Q15>1.2499,IF($Q15<Cen!$F$262,1,0),0),0)","v":0},{"$f":"IF($Q11=1,IF($Q15>Cen!$E$262,IF($Q15<Cen!$I$262,1,0),0),0)","v":0},{"$f":"IF($Q11=1,IF($Q15>Cen!$G$262,IF($Q15<Cen!$L$262,1,0),0),0)","v":0},{"$f":"IF($Q11=1,IF($Q15>Cen!$J$262,IF($Q15<Cen!$N$262,1,0),0),0)","v":0},{"$f":"IF($Q11=1,IF($Q15>Cen!$M$262,IF($Q15<20.01,1,0),0),0)","v":0},null,null,null,null,null,null,null,null,null,null,null,null,null,null,null,null,null,null,null,null,null,"20L3200.06","20L3500.06","20L3800.06","20L3900.06"]
[null,{"$f":"List!$C$74&\" [kg] ** \"","v":"Hmotnost čela včetně úchytky [kg] ** "},null,null,null,null,null,null,{"$f":"IF($H15=0,\" \",IF(SUM($H12,$H13)=0,$N$34,\" \"))&IF(AND(SUM($O$10:$O$14)=0,$V15=\"ano\",H12>0),$N$38,IF(AND($H15>0,$H12>0,V$15=\"ano\"),$N$35,\" \"))","v":"  "},null,null,null,null,"L25",{"$f":"SUM(U10:U13)","v":0},"F38",{"$f":"IF($H11<Cen!$E$271,0,IF($H11<Cen!$E$272,1,0))","v":0},null,null,{"$f":"IF($Q12=1,IF($Q15>1.74,IF($Q15<Cen!$I$263,1,0),0),0)","v":0},{"$f":"IF($Q12=1,IF($Q15>Cen!$G$263,IF($Q15<Cen!$L$263,1,0),0),0)","v":0},{"$f":"IF($Q12=1,IF($Q15>Cen!$J$263,IF($Q15<Cen!$N$263,1,0),0),0)","v":0},{"$f":"IF($Q12=1,IF($Q15>Cen!$M$263,IF($Q15<20.01,1,0),0),0)","v":0},null,null,null,null,null,null,null,null,null,null,null,null,null,null,null,null,null,null,null,null,null,"21L3200.01","21L3500.02","21L3800.03","21L3900.04"]
[null,{"$f":"List!$C$76&\" [kg]       \"","v":"Vypočtená hmotnost čela [kg]       "},null,null,null,null,null,{"$f":"$H$210","v":0},{"$f":"IF($H15>0,IF($H13>0,IF($H12=0,$N$35,\" \"),\" \"),\" \")","v":" "},null,null,null,null,"L27",{"$f":"SUM(V10:V13)","v":0},"F39",{"$f":"IF($H11>Cen!$F$273,0,IF($H11<Cen!$E$272,0,IF($H11<Cen!$E$273,1,0)))","v":0},null,"tyč","mezistěny",{"$f":"IF($Q13=1,IF($Q15>1.99,IF($Q15<Cen!$L$264,1,0),0),0)","v":0},{"$f":"IF($Q13=1,IF($Q15>Cen!$J$264,IF($Q15<Cen!$N$264,1,0),0),0)","v":0},{"$f":"IF($Q13=1,IF($Q15>Cen!$M$264,IF($Q15<16.51,1,0),0),0)","v":0},null,null,{"$f":"\" \"&List!$C$177&\" A\"","v":" Výpočet hmotnosti A"},null,null,null,null,null,null,null,null,null,null,null,null,null,null,null,null,null,"20L2100.05","1.25 - 4.25","1.25 - 2.50"]
[null,{"$f":"List!$C$27&\" * \"","v":"Počet mezistěn * "},null,null,null,null,null,null,null,null,null,null,null,"L29",{"$f":"SUM(W11:W13)","v":0},false,null,{"$f":"IF($P$14=FALSE,2,1)","v":2},{"$f":"IF($H$10>1360,1.5,IF($H$10<610,0.5,1))","v":0.5},{"$f":"IF($H$14>0,$H$14,IF($H$10>1219,1,0))","v":0},null,null,null,null,null,null,null,null,null,null,null,null,null,null,null,null,null,null,null,null,null,null,null,"20L2300.05","3.50 - 7.25","1.75 - 5.00","1.75 - 3.50"]
[null,{"$f":"List!$C$69","v":"Počet skříněk"},null,null,null,null,null,null,null,null,null,null,{"$f":"IF($H10*$H$11*$Q15=0,0,IF(SUM(O10:O14)=0,0,IF(H10>1800,0,IF(H10<220,0,H15))))","v":0},null,null,"hmot =",{"$f":"IF(H12>0,H12,H13)","v":0},{"$f":"IF(SUM(H12,H13)=0,0,IF(H12>0,1,2))","v":0},"zadaná / vypočtená",null,"limit v/š",{"$f":"IF(AND(219<H10,H10<1801,299<H11,H11<581),\"ano\",\"ne\")","v":"ne"},null,null,null,null,null,null,null,null,null,null,null,null,null,null,null,null,null,null,null,null,null,"20L2500.05","6.50 - 12.00","4.25 - 9.00","2.75 - 6.75","2.00 - 5.25"]
[null,{"$f":"IF(H15>0,IF(R15=0,\" \",IF(R15=1,$N$47,$N$48)),\" \")&IF(H15>0,IF(R15=0,\" \",IF(R15=1,$N$49,$N$50)),\" \")","v":"  "},null,null,null,null,null,null,null,null,null,null,null,null,null,null,null,null,null,null,null,null,null,null,null,null,null,null,null,null,null,null,null,null,null,null,null,null,null,null,null,null,null,"20L2700.05","11.00 - 20.00","8.00 - 14.75","5.75 - 11.75","4.25 - 9.25"]
[null,null,null,null,null,null,null,null,null,null,null,null,null,null,null,null,null,null,null,null,null,null,null,null,null,{"$f":"\" \"&List!$C$361","v":" Ověření síly zdvihače"},null,null,null,null,null,null,null,null,null,null,null,null,null,null,null,null,null,"20L2900.05",null,"13.50 - 20.00","10.50 - 20.00","8.25 - 16.50"]
[null,"SERVO-DRIVE",null,{"$f":"List!$C$62&\" B\"","v":"Korpus B"},null,null,null,null,null,null,null,null,null,null,null,null,null,null,"L21","L23","L25","L27","L29",null,null,{"$f":"\" \"&List!$C$362","v":" Odstup čela od korpusu"}]
[null,{"$f":"List!$C$72&\" KB [mm] \"","v":"Šířka korpusu KB [mm] "},null,null,null,null,null,null,{"$f":"IF($H19=0,\" \",IF($H19<220,\" min. 220mm\",IF($H19>1800,\" max. 1 800mm\",\" \")))&IF(H24>0,IF(H19=0,\"● \"&List!$C$111,\" \"),\" \")","v":"  "},null,null,null,null,"L21",{"$f":"SUM(S19:S20)","v":0},"F32",{"$f":"IF($H20<Cen!$E$269,0,IF($H20<Cen!$E$270,1,0))","v":0},null,{"$f":"IF($Q19=1,IF($Q24>1.2499,IF($Q24<Cen!$F$261,1,0),0),0)","v":0},{"$f":"IF($Q19=1,IF($Q24>Cen!$E$261,IF($Q24<Cen!$I$261,1,0),0),0)","v":0},{"$f":"IF($P19=1,IF($Q24>Cen!$G$261,IF($Q24<Cen!$L$261,1,0),0),0)","v":0},{"$f":"IF($Q19=1,IF($Q24>Cen!$J$261,IF($Q24<20.01,1,0),0),0)","v":0}]
[null,{"$f":"List!$C$73&\" KH [mm] \"","v":"Výška korpusu KH [mm] "},null,null,null,null,null,null,{"$f":"IF($H20=0,\" \",IF($H20<300,\" min. 300mm\",IF($H20>580,\" max. 580 mm\",\" \")))&IF(H24>0,IF(H20=0,\"● \"&List!$C$111,\" \"),\" \")","v":"  "},null,null,null,null,"L23",{"$f":"SUM(T19:T21)","v":0},"F35",{"$f":"IF($H20<Cen!$E$270,0,IF($H20<Cen!$E$271,1,0))","v":0},null,{"$f":"IF($Q20=1,IF($Q24>1.2499,IF($Q24<Cen!$F$262,1,0),0),0)","v":0},{"$f":"IF($Q20=1,IF($Q24>Cen!$E$262,IF($Q24<Cen!$I$262,1,0),0),0)","v":0},{"$f":"IF($Q20=1,IF($Q24>Cen!$G$262,IF($Q24<Cen!$L$262,1,0),0),0)","v":0},{"$f":"IF($Q20=1,IF($Q24>Cen!$J$262,IF($Q24<Cen!$N$262,1,0),0),0)","v":0},{"$f":"IF($Q20=1,IF($Q24>Cen!$M$262,IF($Q24<20.01,1,0),0),0)","v":0},null,null,null,null,null,null,null,null,null,null,null,null,null,null,null,null,null,null,null,null,{"$f":"List!$C$149","v":"Zpět"}]
[null,{"$f":"List!$C$74&\" [kg] ** \"","v":"Hmotnost čela včetně úchytky [kg] ** "},null,null,null,null,null,null,{"$f":"IF($H24=0,\" \",IF(SUM($H21,$H22)=0,$N$34,\" \"))&IF(AND(SUM($O$19:$O$23)=0,$V24=\"ano\",H21>0),$N$38,IF(AND($H24>0,$H21>0,V$24=\"ano\"),$N$35,\" \"))","v":"  "},null,null,null,null,"L25",{"$f":"SUM(U19:U22)","v":0},"F38",{"$f":"IF($H20<Cen!$E$271,0,IF($H20<Cen!$E$272,1,0))","v":0},null,null,{"$f":"IF($Q21=1,IF($Q24>1.7499,IF($Q24<Cen!$I$263,1,0),0),0)","v":0},{"$f":"IF($Q21=1,IF($Q24>Cen!$G$263,IF($Q24<Cen!$L$263,1,0),0),0)","v":0},{"$f":"IF($Q21=1,IF($Q24>Cen!$J$263,IF($Q24<Cen!$N$263,1,0),0),0)","v":0},{"$f":"IF($Q21=1,IF($Q24>Cen!$M$263,IF($Q24<20.01,1,0),0),0)","v":0}]
[null,{"$f":"List!$C$76&\" [kg]       \"","v":"Vypočtená hmotnost čela [kg]       "},null,null,null,null,null,{"$f":"$H$219","v":0},{"$f":"IF($H24>0,IF($H22>0,IF($H21=0,$N$35,\" \"),\" \"),\" \")","v":" "},null,null,null,null,"L27",{"$f":"SUM(V19:V22)","v":0},"F39",{"$f":"IF($H20>Cen!$F$273,0,IF($H20<Cen!$E$272,0,IF($H20<Cen!$E$273,1,0)))","v":0},null,"tyč","mezistěny",{"$f":"IF($Q22=1,IF($Q24>1.9999,IF($Q24<Cen!$L$264,1,0),0),0)","v":0},{"$f":"IF($Q22=1,IF($Q24>Cen!$J$264,IF($Q24<Cen!$N$264,1,0),0),0)","v":0},{"$f":"IF($Q22=1,IF($Q24>Cen!$M$264,IF($Q24<16.51,1,0),0),0)","v":0},null,null,{"$f":"\" \"&List!$C$177&\" B\"","v":" Výpočet hmotnosti B"}]
[null,{"$f":"List!$C$27&\" * \"","v":"Počet mezistěn * "},null,null,null,null,null,null,null,null,null,null,null,"L29",{"$f":"SUM(W20:W22)","v":0},false,null,{"$f":"IF($P$23=FALSE,2,1)","v":2},{"$f":"IF($H$19>1360,1.5,IF($H$19<610,0.5,1))","v":0.5},{"$f":"IF($H$23>0,$H$23,IF($H$19>1219,1,0))","v":0}]
[null,{"$f":"List!$C$69","v":"Počet skříněk"},null,null,null,null,null,null,null,null,null,null,{"$f":"IF($H19*$H$20*$Q24=0,0,IF(SUM(O19:O23)=0,0,IF(H19>1800,0,IF(H19<220,0,H24))))","v":0},null,null,"hmot =",{"$f":"IF(H21>0,H21,H22)","v":0},{"$f":"IF(SUM(H21,H22)=0,0,IF(H21>0,1,2))","v":0},"zadaná / vypočtená",null,"limit v/š",{"$f":"IF(AND(219<H19,H19<1801,299<H20,H20<581),\"ano\",\"ne\")","v":"ne"}]
[null,{"$f":"IF(H24>0,IF(R24=0,\" \",IF(R24=1,$N$47,$N$48)),\" \")&IF(H24>0,IF(R24=0,\" \",IF(R24=1,$N$49,$N$50)),\" \")","v":"  "}]
[]
[null,{"$f":"IF(OR(AND($R$14=1, $M$15>0), AND($R$23=1, $M$24>0)), List!$C$157, \" \")","v":" "},null,null,null,null,null,null,null,null,null,null,null,null,{"$f":"IF($P$27=FALSE,2,1)","v":2},false,null," - Zdroj"]
[]
[]
[]
[]
[null,null,null,null,null,null,null,null,null,null,null,null,null,{"$f":"List!C158","v":"Cena bez napájecího zdroje!"}]
[null,null,{"$f":"\"* \"&List!$C$215","v":"* Zadejte počet mezistěn v korpusu. "}]
[null,null,{"$f":"\"** \"&List!$C$168","v":"** Pokud znáte hmotnost a nechcete využít výpočtu hmotnosti"},null,null,null,null,null,null,null,null,null,null,{"$f":"\" \"&List!$C$103","v":" Doplňte nebo použijte \"Výpočet hmotnosti\" "}]
[null,null,{"$f":"\"*** \"&List!$C$371","v":"*** Vyberte typ alurámečku!"},null,null,null,null,null,null,null,null,null,null,{"$f":"\"◄ \"&List!$C$101","v":"◄ hodnota bude použita pro výběr zdvihače"}]
[null,null,{"$f":"\"      \"&List!$C$372","v":"      Více informací k výběru alurámečků v Nápovědě"},null,null,null,null,null,null,null,null,null,null,{"$f":"\" * \"&List!$C$110","v":" * Doplňte hodnoty"}]
[]
[null,null,null,null,null,null,null,null,null,null,null,null,null,{"$f":"List!$C$107&\"!\"","v":"Překročena maximální hmotnost!"}]
[null,null,null,null,null,null,null,null,null,null,null,null,null,{"$f":"\" max. 9 000! \"&List!$C$105","v":" max. 9 000! Upravte hmotnost nebo výšku"}]
[null,null,null,null,null,null,null,null,null,null,null,null,null,{"$f":"\" \"&List!$C$216","v":" Nutná mezistěna"}]
[]
[null,null,null,null,null,null,null,null,null,null,null,null,null,null,null,null,null,{"$f":"HL!$K$27","v":1},null,{"$f":"Menu!$Q$27","v":3}]
[null,null,null,null,null,null,null,null,null,null,null,null,null,null,null,null,null,"čelní kov.",null,"kryt."]
[null,null,null,null,null,null,null,null,null,null,null,null,null,null,null,null,null,{"$f":"List!$C$125","v":"Expando"},null,{"$f":"List!$C$128","v":"Světle šedá (HG/T)"}]
[null,null,null,null,null,null,null,null,null,null,null,null,null,null,null,null,null,{"$f":"List!$C$126","v":"na vruty"},null,{"$f":"List!$C$129","v":"Tmavě šedá (TGR)"}]
[null,null,null,null,null,null,null,null,null,null,null,null,null,null,null,null,null,null,null,{"$f":"List!$C$130","v":"Hedvábně bílá (SW/T)"}]
[null,null,null,null,null,null,null,null,null,null,null,null,null,{"$f":"List!C169&\". \"","v":"Pro určení typu zdvihače bude použita zadaná hmotnost. "}]
[null,null,null,null,null,null,null,null,null,null,null,null,null,{"$f":"List!C170&\". \"","v":"Pro určení typu zdvihače bude použita vypočtená hmotnost. "}]
[null,null,null,null,null,null,null,null,null,null,null,null,null,{"$f":"List!C171","v":"Chcete-li použít vypočtenou hmotnost, smažte zadanou hodnotu"}]
[null,null,null,null,null,null,null,null,null,null,null,null,null,{"$f":"List!C172","v":"Chcete-li použít zadanou hmotnost, zadejte ji do políčka"}]
[]
[]
[]
[]
[]
[]
[]
[]
[]
[]
[]
[]
[]
[]
[]
[]
[]
[]
[]
[]
[]
[]
[]
[]
[]
[]
[]
[]
[]
[]
[]
[]
[]
[]
[]
[]
[]
[]
[]
[]
[]
[]
[]
[]
[]
[]
[]
[null,{"$f":"List!C142","v":"Soupis kování"}]
[]
[null,{"$f":"$F$2","v":"AVENTOS HL"},null,{"$f":"B4","v":"Úzký alurámeček ***"}]
[null,{"$f":"List!C50","v":"Název"},null,null,null,null,{"$f":"List!$C$51","v":"Číslo artiklu"},null,{"$f":"List!C52","v":"Barva"},{"$f":"List!C54","v":"Ks"},{"$f":"List!C56","v":"Jednotková cena"},{"$f":"List!C57","v":"Celkem"},"A","Cena","B","Cena","C","Cena","Filtr"]
[null,{"$f":"Cen!A64","v":"Sada zdvihačů HL"},null,null,null,null,{"$f":"Cen!E64","v":"20L2100.05"},null,{"$f":"Cen!G64","v":"ZN"},{"$f":"SUM(M102,O102)","v":0},{"$f":"Cen!I64","v":0},{"$f":"J102*K102","v":0},{"$f":"$M$15*$O10","v":0},{"$f":"$K102*M102","v":0},{"$f":"$M$24*$O19","v":0},{"$f":"$K102*O102","v":0},null,{"$f":"$K102*Q102","v":0},"x"]
[null,{"$f":"Cen!A65","v":"Sada zdvihačů HL"},null,null,null,null,{"$f":"Cen!E65","v":"20L2300.05"},null,{"$f":"Cen!G65","v":"ZN"},{"$f":"SUM(M103,O103)","v":0},{"$f":"Cen!I65","v":0},{"$f":"J103*K103","v":0},{"$f":"$M$15*$O11","v":0},0,{"$f":"$M$24*$O20","v":0},0,null,0,"x"]
[null,{"$f":"Cen!A66","v":"Sada zdvihačů HL"},null,null,null,null,{"$f":"Cen!E66","v":"20L2500.05"},null,{"$f":"Cen!G66","v":"ZN"},0,{"$f":"Cen!I66","v":0},0,{"$f":"$M$15*$O12","v":0},0,{"$f":"$M$24*$O21","v":0},0,null,0,"x"]
[null,{"$f":"Cen!A67","v":"Sada zdvihačů HL"},null,null,null,null,{"$f":"Cen!E67","v":"20L2700.05"},null,{"$f":"Cen!G67","v":"ZN"},0,{"$f":"Cen!I67","v":0},0,{"$f":"$M$15*$O13","v":0},0,{"$f":"$M$24*$O22","v":0},0,null,0,"x"]
[null,{"$f":"Cen!A68","v":"Sada zdvihačů HL"},null,null,null,null,{"$f":"Cen!E68","v":"20L2900.05"},null,{"$f":"Cen!G68","v":"ZN"},0,{"$f":"Cen!I68","v":0},0,{"$f":"$M$15*$O14","v":0},0,{"$f":"$M$24*$O23","v":0},0,null,0,"x"]
[null,{"$f":"Cen!A69","v":"Sada soustav ramen SERVO-DRIVE"},null,null,null,null,{"$f":"Cen!E69","v":"21L3200.01"},null,{"$f":"Cen!G69","v":"NI"},0,{"$f":"Cen!I69","v":0},0,{"$f":"IF($R$14=1,$M$15*$Q10,0)","v":0},0,{"$f":"IF($R$23=1,$M$24*$Q19,0)","v":0},0,null,0,"x"]
[null,{"$f":"Cen!A70","v":"Sada soustav ramen SERVO-DRIVE"},null,null,null,null,{"$f":"Cen!E70","v":"21L3500.01"},null,{"$f":"Cen!G70","v":"NI"},0,{"$f":"Cen!I70","v":0},0,{"$f":"IF($R$14=1,$M$15*$Q11,0)","v":0},0,{"$f":"IF($R$23=1,$M$24*$Q20,0)","v":0},0,null,0,"x"]
[null,{"$f":"Cen!A71","v":"Sada soustav ramen SERVO-DRIVE"},null,null,null,null,{"$f":"Cen!E71","v":"21L3800.01"},null,{"$f":"Cen!G71","v":"NI"},0,{"$f":"Cen!I71","v":0},0,{"$f":"IF($R$14=1,$M$15*$Q12,0)","v":0},0,{"$f":"IF($R$23=1,$M$24*$Q21,0)","v":0},0,null,0,"x"]
[null,{"$f":"Cen!A72","v":"Sada soustav ramen SERVO-DRIVE"},null,null,null,null,{"$f":"Cen!E72","v":"21L3900.01"},null,{"$f":"Cen!G72","v":"NI"},0,{"$f":"Cen!I72","v":0},0,{"$f":"IF($R$14=1,$M$15*$Q13,0)","v":0},0,{"$f":"IF($R$23=1,$M$24*$Q22,0)","v":0},0,null,0,"x"]
[null,{"$f":"Cen!A73","v":"Sada ramen HL"},null,null,null,null,{"$f":"Cen!E73","v":"20L3200.06"},null,{"$f":"Cen!G73","v":"NI"},0,{"$f":"Cen!I73","v":0},0,{"$f":"IF($R$14=2,$M$15*$Q10,0)","v":0},0,{"$f":"IF($R$23=2,$M$24*$Q19,0)","v":0},0,null,0,"x"]
[null,{"$f":"Cen!A74","v":"Sada ramen HL"},null,null,null,null,{"$f":"Cen!E74","v":"20L3500.06"},null,{"$f":"Cen!G74","v":"NI"},0,{"$f":"Cen!I74","v":0},0,{"$f":"IF($R$14=2,$M$15*$Q11,0)","v":0},0,{"$f":"IF($R$23=2,$M$24*$Q20,0)","v":0},0,null,0,"x"]
[null,{"$f":"Cen!A75","v":"Sada ramen HL"},null,null,null,null,{"$f":"Cen!E75","v":"20L3800.06"},null,{"$f":"Cen!G75","v":"NI"},0,{"$f":"Cen!I75","v":0},0,{"$f":"IF($R$14=2,$M$15*$Q12,0)","v":0},0,{"$f":"IF($R$23=2,$M$24*$Q21,0)","v":0},0,null,0,"x"]
[null,{"$f":"Cen!A76","v":"Sada ramen HL"},null,null,null,null,{"$f":"Cen!E76","v":"20L3900.06"},null,{"$f":"Cen!G76","v":"NI"},0,{"$f":"Cen!I76","v":0},0,{"$f":"IF($R$14=2,$M$15*$Q13,0)","v":0},0,{"$f":"IF($R$23=2,$M$24*$Q22,0)","v":0},0,null,0,"x"]
[null,{"$f":"Cen!A77","v":"Sada krytek HL SERVO-DRIVE, sv.šedá"},null,null,null,null,{"$f":"Cen!E77","v":"21L8000"},null,{"$f":"Cen!G77","v":"HG/T"},0,{"$f":"Cen!I77","v":0},0,{"$f":"IF(AND($R$14=1,$T$42=1),SUM($M$102:$M$106),0)","v":0},0,{"$f":"IF(AND($R$23=1,$T$42=1),SUM($O$102:$O$106),0)","v":0},0,null,0,"x"]
[null,{"$f":"Cen!A78","v":"Sada krytek HL SERVO-DRIVE, tm.šedá"},null,null,null,null,{"$f":"Cen!E78","v":"21L8000"},null,{"$f":"Cen!G78","v":"TGR"},{"$f":"SUM(M116,O116)","v":0},{"$f":"Cen!I78","v":0},{"$f":"J116*K116","v":0},{"$f":"IF(AND($R$14=1,$T$42=2),SUM($M$102:$M$106),0)","v":0},{"$f":"$K116*M116","v":0},{"$f":"IF(AND($R$23=1,$T$42=2),SUM($O$102:$O$106),0)","v":0},{"$f":"$K116*O116","v":0},null,{"$f":"$K116*Q116","v":0},"x"]
[null,{"$f":"Cen!A79","v":"Sada krytek HL SERVO-DRIVE, bílá"},null,null,null,null,{"$f":"Cen!E79","v":"21L8000"},null,{"$f":"Cen!G79","v":"SW/T"},0,{"$f":"Cen!I79","v":0},0,{"$f":"IF(AND($R$14=1,$T$42=3),SUM($M$102:$M$106),0)","v":0},0,{"$f":"IF(AND($R$23=1,$T$42=3),SUM($O$102:$O$106),0)","v":0},0,null,0,"x"]
[]
[null,{"$f":"Cen!A80","v":"Sada krytek HL, světle šedá"},null,null,null,null,{"$f":"Cen!E80","v":"20L8000.01"},null,{"$f":"Cen!G80","v":"HG/T"},0,{"$f":"Cen!I80","v":0},0,{"$f":"IF(AND($R$14=2,$T$42=1),SUM($M$102:$M$106),0)","v":0},0,{"$f":"IF(AND($R$23=2,$T$42=1),SUM($O$102:$O$106),0)","v":0},0,null,0,"x"]
[null,{"$f":"Cen!A81","v":"Sada krytek HL, tmavě šedá"},null,null,null,null,{"$f":"Cen!E81","v":"20L8000.01"},null,{"$f":"Cen!G81","v":"TGR"},{"$f":"SUM(M120,O120)","v":0},{"$f":"Cen!I81","v":0},{"$f":"J120*K120","v":0},{"$f":"IF(AND($R$14=2,$T$42=2),SUM($M$102:$M$106),0)","v":0},{"$f":"$K120*M120","v":0},{"$f":"IF(AND($R$23=2,$T$42=2),SUM($O$102:$O$106),0)","v":0},{"$f":"$K120*O120","v":0},null,{"$f":"$K120*Q120","v":0},"x"]
[null,{"$f":"Cen!A82","v":"Sada krytek HL, bílá"},null,null,null,null,{"$f":"Cen!E82","v":"20L8000.01"},null,{"$f":"Cen!G82","v":"SW/T"},0,{"$f":"Cen!I82","v":0},0,{"$f":"IF(AND($R$14=2,$T$42=3),SUM($M$102:$M$106),0)","v":0},0,{"$f":"IF(AND($R$23=2,$T$42=3),SUM($O$102:$O$106),0)","v":0},0,null,0,"x"]
[]
[null,{"$f":"Cen!A83","v":"Tyč příč.stabizace - oválná"},null,null,null,null,{"$f":"Cen!E83","v":"20Q1061UA"},null,{"$f":"Cen!G83","v":"EV"},{"$f":"ROUNDUP(SUM($M$15*$S$14,$M$24*$S$23),0)","v":0},{"$f":"Cen!I83","v":0},0,{"$f":"ROUNDUP($M$15*$S$14,0)","v":0},0,{"$f":"ROUNDUP($M$24*$S$23,0)","v":0},0,null,0,"x"]
[]
[null,{"$f":"Cen!A84","v":"Spojovací díl příčné stabilizace"},null,null,null,null,{"$f":"Cen!E84","v":"20Q153ZA"},null,{"$f":"Cen!G84","v":"EV"},0,{"$f":"Cen!I84","v":0},0,{"$f":"IF($R$14<3,$T$14*$M$15,0)","v":0},0,{"$f":"IF($R$23<3,$T$23*$M$24,0)","v":0},0,null,null,"x"]
[null,{"$f":"Cen!A85","v":0},null,null,null,null,{"$f":"Cen!E85","v":0},null,{"$f":"Cen!G85","v":0},0,{"$f":"Cen!I85","v":0},0,null,0,null,0]
[null,{"$f":"Cen!A86","v":0},null,null,null,null,{"$f":"Cen!E86","v":0},null,{"$f":"Cen!G86","v":0},0,{"$f":"Cen!I86","v":0},0,null,0,null,0]
[null,{"$f":"Cen!A120","v":"Sada čel.kování pro dřev. čela"},null,null,null,null,{"$f":"Cen!E120","v":"20S4200"},null,{"$f":"Cen!G120","v":"NI"},0,{"$f":"Cen!I120","v":0},0,null,0,null,0]
[null,{"$f":"Cen!A121","v":"Čelní.kování pro dřev. čela EXPANDO"},null,null,null,null,{"$f":"Cen!E121","v":"20S42E1"},null,{"$f":"Cen!G121","v":"NI"},0,{"$f":"Cen!I121","v":0},0,null,0,null,0]
[null,{"$f":"Cen!A122","v":"Sada čel.kování pro úzké alurámečky"},null,null,null,null,{"$f":"Cen!E122","v":"20S4200A"},null,{"$f":"Cen!G122","v":"NI"},0,{"$f":"Cen!I122","v":0},0,{"$f":"SUM(M$102:M$106)","v":0},0,{"$f":"SUM(O$102:O$106)","v":0},0,null,null,"x"]
[null,{"$f":"Cen!A151","v":"CLIP top krytka raménka Nikl"},null,null,null,null,{"$f":"Cen!E151","v":"70.1503"},null,{"$f":"Cen!G151","v":"NI"},{"$f":"SUM(M131,O131,Q131)","v":0},{"$f":"Cen!I151","v":0},0,{"$f":"SUM(M$102:M$106)*2","v":0},null,{"$f":"SUM(O$102:O$106)*2","v":0},null,null,null,"x"]
[null,null,null,null,null,null,null,null,null,null,null,0,null,0,null,0]
[null,null,null,null,null,null,null,null,null,null,null,0,null,0,null,0]
[null,{"$f":"Cen!A199","v":"SERVO-DRIVE jednotka (sada)"},null,null,null,null,{"$f":"Cen!E199","v":"21FA000"},null,{"$f":"Cen!G199","v":"HGR"},{"$f":"SUM(M134,O134,Q134)","v":0},{"$f":"Cen!I199","v":0},0,{"$f":"IF($R$14=2,0,$M$15)","v":0},0,{"$f":"IF($R$23=2,0,$M$24)","v":0},0,null,null,"x"]
[null,{"$f":"Cen!A200","v":"SERVO-DRIVE jednotka (sada) pro HK top"},null,null,null,null,{"$f":"Cen!E200","v":"23KA000"},null,{"$f":"Cen!G200","v":"HGR"},null,{"$f":"Cen!I200","v":0},0,null,0,null,0]
[]
[]
[null,null,null,null,null,null,null,null,null,null,{"$f":"List!$C$59&\" \"","v":"Cena celkem bez DPH "},{"$f":"SUM(L102:L136)","v":0},null,{"$f":"SUM(N102:N137)","v":0},null,{"$f":"SUM(P102:P137)","v":0},null,{"$f":"SUM(R102:R137)","v":0}]
[]
[null,null,null,null,null,null,null,null,null,null,null,{"$f":"List!$C$149","v":"Zpět"}]
[]
[]
[]
[]
[]
[]
[]
[]
[]
[]
[]
[]
[]
[]
[]
[]
[]
[]
[]
[]
[]
[]
[]
[]
[]
[]
[]
[]
[]
[]
[]
[]
[]
[]
[]
[]
[]
[]
[]
[]
[]
[]
[]
[]
[]
[]
[]
[]
[]
[]
[]
[]
[]
[]
[]
[]
[]
[]
[null,{"$f":"List!$C$71","v":"Výpočet hmotnosti čel"}]
[null,null,{"$f":"List!$C$161&\"  \"","v":"Provedení čel  "},null,null,null,null,null,{"$f":"IF(U206=3,IF(H200=0,N202,\" \"),IF(H200>0,N203,\" \"))","v":" "},null,null,null,null,{"$f":"IF($U$206=1,$U$227,IF($U$206=2,$U$228,$U$229&\" - \"&$N$210&\"mm\"))","v":"Alurámečky s 4mm sklem"},null,null,null,null,{"$f":"Menu!$Q$205","v":2500}]
[]
[null,null,null,null,null,null,null,null,null,null,null,null,null,{"$f":"\" \"&List!$C$226&\" [mm]\"","v":" Zadejte sílu skla [mm]"}]
[null,null,null,null,null,null,null,null,null,null,null,null,null,{"$f":"\" \"&List!$C$221&\" '\"&List!$C$89&\"'\"","v":" Hodnota platí jen pro volbu 'Alurámečky s jiným sklem'"}]
[]
[null,null,null,null,null,{"$f":"D9","v":"Korpus A"},null,null,null,null,null,null,null,null,null,null,null,null,null,"váha spoj.","tl. skla","typ alu"]
[null,{"$f":"List!$C$72&\" KB [mm]       \"","v":"Šířka korpusu KB [mm]       "},null,null,null,null,null,{"$f":"H10","v":0},null,null,null,null,null,{"$f":"H206*H207*H208","v":0},null,null,null,null,{"$f":"IF($V$206=1,$M$236,$M$237)","v":0.31},{"$f":"$M$238","v":0.46},1,{"$f":"$O$4","v":1}]
[null,{"$f":"List!$C$73&\" KH [mm]       \"","v":"Výška korpusu KH [mm]       "},null,null,null,null,null,{"$f":"H11","v":0},null,null,null,null,null,{"$f":"N206/1000000000","v":0},2,null,null,null,"váha alu",{"$f":"SUM(H206*2,(H207-40)*2)*S206/1000","v":-2.4799999999999999E-2},"A plocha B"]
[null,{"$f":"List!$C$77&\" TS [mm] \"","v":"Síla čela TS [mm] "},null,null,null,null,null,null,null,null,null,null,null,{"$f":"Menu!$L$30","v":760},{"$f":"List!$C$84&\" (\"&N208&\" kg/m3)\"","v":"MDF (760 kg/m3)"},null,null,null,{"$f":"$S$200*4/1000","v":10},{"$f":"IF($V$206=1,U208*S208,V208*S208)","v":8.9999999999999993E-3},{"$f":"SUM(($H$206-30)*($H$207-30)/1000000)","v":8.9999999999999998E-4},{"$f":"SUM(($H$206-6)*($H$207-6)/1000000)","v":3.6000000000000001E-5},"4mm"]
[null,{"$f":"List!$C$78&\" [kg] \"","v":"Hmotnost úchytky [kg] "},null,null,null,null,null,null,{"$f":"IF(SUM(H206,H207)=0,\" \",IF(H209=0,\" ● \"&List!$C$112,\" \"))","v":" "},null,null,null,null,{"$f":"Menu!$L$31","v":680},{"$f":"List!$C$85&\" (\"&N209&\" kg/m3)\"","v":"Dřevotříska (680 kg/m3)"},null,null,null,{"$f":"$S$200*5/1000","v":12.5},{"$f":"IF($V$206=1,U209*S209,V209*S209)","v":1.125E-2},{"$f":"SUM(($H$206-30)*($H$207-30)/1000000)","v":8.9999999999999998E-4},{"$f":"SUM(($H$206-6)*($H$207-6)/1000000)","v":3.6000000000000001E-5},"5mm"]
[null,{"$f":"List!$C$76&\" [kg] \"","v":"Vypočtená hmotnost čela [kg] "},null,null,null,null,null,{"$f":"IF(S211=0,0,S211+H209)","v":0},null,null,null,null,{"$f":"IF(H206*H207*H208=0,0,IF(O207=1,N207*N208,IF(O207=2,N207*N209,N207*N210)))","v":0},{"$f":"$H$200","v":0},{"$f":"List!$C$86","v":"Jiné - volitelná hustota"},null,null,null,{"$f":"$S$200*$H$200/1000","v":0},{"$f":"IF($V$206=1,U210*S210,V210*S210)","v":0},{"$f":"SUM(($H$206-30)*($H$207-30)/1000000)","v":8.9999999999999998E-4},{"$f":"SUM(($H$206-6)*($H$207-6)/1000000)","v":3.6000000000000001E-5},"jiné"]
[null,null,{"$f":"IF(H210>0,IF(H209=0,$N$227,\" \"),\" \")","v":" "},null,null,null,null,null,null,null,null,null,null,null,null,null,null,null,{"$f":"IF(OR(AND(U206=3, $H$200=0), H206*H207=0), 0, SUM(IF(U206=1,T208,IF(U206=2,T209,T210)),T207,T206))","v":0}]
[]
[]
[null,null,null,null,null,{"$f":"D18","v":"Korpus B"},null,null,null,null,null,null,null,null,null,null,null,null,null,"váha spoj.","tl. skla","typ alu"]
[null,{"$f":"List!$C$72&\" KB [mm]       \"","v":"Šířka korpusu KB [mm]       "},null,null,null,null,null,{"$f":"H19","v":0},null,null,null,null,null,{"$f":"H215*H216*H217","v":0},null,null,null,null,{"$f":"IF($V$206=1,$M$236,$M$237)","v":0.31},{"$f":"$M$238","v":0.46},{"$f":"$U$206","v":1},{"$f":"$V$206","v":1}]
[null,{"$f":"List!$C$73&\" KH [mm]       \"","v":"Výška korpusu KH [mm]       "},null,null,null,null,null,{"$f":"H20","v":0},null,null,null,null,null,{"$f":"N215/1000000000","v":0},{"$f":"O207","v":2},null,null,null,"váha alu",{"$f":"SUM(H215*2,(H216-40)*2)*S215/1000","v":-2.4799999999999999E-2},"A plocha B"]
[null,{"$f":"List!$C$77&\" TS [mm] \"","v":"Síla čela TS [mm] "},null,null,null,null,null,null,null,null,null,null,null,{"$f":"$N$208","v":760},{"$f":"$O$208","v":"MDF (760 kg/m3)"},null,null,null,{"$f":"S208","v":10},{"$f":"IF($V$206=1,U217*S217,V217*S217)","v":8.9999999999999993E-3},{"$f":"SUM(($H$215-30)*($H$216-30)/1000000)","v":8.9999999999999998E-4},{"$f":"SUM(($H$215-6)*($H$216-6)/1000000)","v":3.6000000000000001E-5},"4mm"]
[null,{"$f":"List!$C$78&\" [kg] \"","v":"Hmotnost úchytky [kg] "},null,null,null,null,null,null,{"$f":"IF(SUM(H215,H216)=0,\" \",IF(H218=0,\" ● \"&List!$C$112,\" \"))","v":" "},null,null,null,null,{"$f":"$N$209","v":680},{"$f":"$O$209","v":"Dřevotříska (680 kg/m3)"},null,null,null,{"$f":"S209","v":12.5},{"$f":"IF($V$206=1,U218*S218,V218*S218)","v":1.125E-2},{"$f":"SUM(($H$215-30)*($H$216-30)/1000000)","v":8.9999999999999998E-4},{"$f":"SUM(($H$215-6)*($H$216-6)/1000000)","v":3.6000000000000001E-5},"5mm"]
[null,{"$f":"List!$C$76&\" [kg] \"","v":"Vypočtená hmotnost čela [kg] "},null,null,null,null,null,{"$f":"IF(S220=0,0,S220+H218)","v":0},null,null,null,null,{"$f":"IF(H215*H216*H217=0,0,IF(O216=1,N216*N217,IF(O216=2,N216*N218,N216*N219)))","v":0},{"$f":"$N$210","v":0},{"$f":"$O$210","v":"Jiné - volitelná hustota"},null,null,null,{"$f":"S210","v":0},{"$f":"IF($V$206=1,U219*S219,V219*S219)","v":0},{"$f":"SUM(($H$215-30)*($H$216-30)/1000000)","v":8.9999999999999998E-4},{"$f":"SUM(($H$215-6)*($H$216-6)/1000000)","v":3.6000000000000001E-5},"jiné"]
[null,null,{"$f":"IF(H219>0,IF(H218=0,$N$227,\" \"),\" \")","v":" "},null,null,null,null,null,null,null,null,null,null,null,null,null,null,null,{"$f":"IF(OR(AND(U215=3, $H$200=0), H215*H216=0), 0, SUM(IF(U215=1,T217,IF(U215=2,T218,T219)),T216,T215))","v":0}]
[]
[]
[]
[null,null,null,null,null,null,{"$f":"List!$C$149","v":"Zpět"}]
[]
[]
[null,null,{"$f":"List!$C$217&\" \"&List!$C$218","v":"Upozornění: Vypočtené hodnoty jsou pouze orientační.  Firma Blum ani prodejci neručí za jejich správnost."},null,null,null,null,null,null,null,null,null,null,{"$f":"List!$C$95&\"!\"","v":"Není započtena hmotnost úchytky!"},null,null,null,null,null,null,{"$f":"List!$C$87","v":"Alurámečky s 4mm sklem"}]
[null,null,null,null,null,null,null,null,null,null,null,null,null,null,null,null,null,null,null,null,{"$f":"List!$C$88","v":"Alurámečky s 5mm sklem"}]
[null,null,null,null,null,null,null,null,null,null,null,null,null,null,null,null,null,null,null,null,{"$f":"List!$C$89","v":"Alurámečky s jiným sklem"}]
[]
[]
[]
[]
[]
[null,null,null,null,"Hmotnost alurámečků [kg/bm]",null,{"$f":"List!$C$368","v":"Podle Úvodu"},{"$f":"List!$C$58","v":"Změna"}]
[null,null,null,null,null,{"$f":"List!$C$375&\"  \"","v":"S vloženým sklem  "},{"$f":"Menu!$Q220","v":0.31},null,null,null,null,null,{"$f":"IF($H236>0,$H236,$G236)","v":0.31}]
[null,null,null,null,null,{"$f":"List!$C$376&\"  \"","v":"S naloženým nebo nalepeným sklem  "},{"$f":"Menu!$Q221","v":0.32},null,null,null,null,null,{"$f":"IF($H237>0,$H237,$G237)","v":0.32}]
[null,null,null,null,null,{"$f":"List!$C$377&\" [kg/set] *  \"","v":"Hmotnost spojovacího materiálu [kg/set] *  "},{"$f":"Menu!$Q222","v":0.46},null,null,null,null,null,{"$f":"IF($H238>0,$H238,$G238)","v":0.46}]
[]
[null,null,{"$f":"\"        * \"& List!$C$378&\"  \"","v":"        * Rohové spojky, šrouby, těsnění pro jeden rámeček  "}]
[]
[]
[null,null,null,null,null,null,{"$f":"List!$C$149","v":"Zpět"}]
[]
[]
[]
[]
[]
[]
[]
[]
[]
[]
[]
[]
[]
[]
[]
[]
[]
[]
[]
[]
[]
[]
[]
[]
[]
[]
[]
[]
[]
[]
[]
[]
[]
[]
[]
[]
[]
[]
[]
[]
[]
[]
[]
[]
[]
[]
[]
[]
[]
[]
[]
[]
[]
[]
[]
[]
[]
[]
[]
[]
[null,null,"KH","Sada ramen",null,"A","B"]
[null,null,300,"2xL32000",null,"\n159","\n140,5"]
[null,null,"349","2xL32000",null,"159","189,5"]
[]
[null,null,"350","2xL35000",null,"209","140,5"]
[null,null,"399","2xL35000",null,"209","189,5"]
[]
[null,null,"400","2xL38000",null,"259","140,5"]
[null,null,"550","2xL38000",null,"259","189,5"]
[]
[null,null,"450","2xL39000",null,"309,5","140,5"]
[null,null,"580","2xL39000",null,"309,5","189,5"]
[]
[]
[]
[]
[]
[]
[]
[]
[]
[]
[]
[null,null,null,null,null,null,null,null,{"$f":"List!$C$149","v":"Zpět"}]
[]
[]
[]
[]
[]
[]
[]
[]
[]
[]
[]
[]
[]
[]
[]
[]
[]
[]
[]
[]
[]
[]
[]
[]
[]
[]
[]
[]
[]
[]
[]
[]
[]
[]
[]
[]
[]
[]
[]
[]
[]
[]
[]
[]
[]
[]
[]
[]
[]
[]
[]
[]
[]
[]
[]
[]
[]
[]
[]
[]
[]
[]
[]
[]
[]
[]
[]
[]
[]
[]
[]
[null,"      AVENTOS HL"]
[]
[null,{"$f":"List!$C$311","v":"Pro výběr správného zdvihače potřebujete znát výšku korpusu a hmotnost čela."}]
[]
[null,{"$f":"List!$C$289","v":"Pokud znáte hmotnost čela, můžete ji zadat, jinak použijte \"Výpočet hmotnosti\"."}]
[null,{"$f":"List!$C$290","v":"V tabulce má přednost zadaná hodnota. Chcete-li použít vypočtenou hmotnost, smažte zadanou hodnotu."}]
[]
[]
[null,{"$f":"List!$C$284","v":"Chcete-li změnit barvu krytek, přejděte na \"Úvod\""}]
[]
[null,{"$f":"List!$C$383","v":"Věnujte pozornost výběru alurámečků."}]
[null,{"$f":"List!$C$384","v":"Vyberte, který typ lépe odpovídá tvaru použitého alurámečku."}]
[null,{"$f":"List!$C$385","v":"Způsob osazení skla do rámečku výrazně ovlivňuje plochu skla a tím i hmotnost!"}]
[]
[null,null,{"$f":"\"  \"&List!$C$375&\"  \"","v":"  S vloženým sklem  "}]
[]
[null,null,{"$f":"\"  \"&List!$C$376&\"  \"","v":"  S naloženým nebo nalepeným sklem  "}]
[]
[null,null,null,null,null,null,null,null,null,null,null,{"$f":"List!$C$149","v":"Zpět"}]

{"sheet":"HKw","index":21,"n_rows":421,"n_cols":46,"rows_kept":421,"cut":false,"hidden":false,"merged":[[305,12,305,13],[18,21,18,22],[26,19,26,20],[310,1,310,9],[218,1,218,6],[307,8,307,9],[22,3,22,6],[22,1,22,2],[26,1,28,9],[300,0,354,0],[303,1,303,9],[304,1,304,7],[304,8,304,9],[305,1,305,7],[306,1,306,7],[306,8,306,9],[315,8,315,9],[312,1,312,5],[326,8,326,9],[307,1,307,7],[311,1,311,5],[311,6,311,9],[318,1,318,7],[318,8,318,9],[317,1,317,7],[0,43,0,51],[16,43,17,47],[14,43,15,47],[7,43,8,44],[7,45,8,45],[9,43,9,44],[10,43,10,44],[11,43,11,44],[12,43,12,44],[315,1,315,7],[319,8,319,9],[308,1,308,7],[308,8,308,9],[215,1,215,6],[317,8,317,9],[316,1,316,7],[316,8,316,9],[305,8,305,9],[97,0,160,0],[197,0,248,0],[204,5,204,7],[205,1,205,6],[206,1,206,6],[207,1,207,6],[226,2,228,10],[208,1,208,6],[209,1,209,6],[213,5,213,7],[214,1,214,6],[217,1,217,6],[223,6,223,7],[8,21,8,22],[9,21,9,22],[9,1,9,6],[38,2,40,10],[18,1,18,6],[19,1,19,6],[13,3,13,6],[20,1,20,6],[21,1,21,6],[23,1,23,6],[13,1,13,2],[32,2,35,10],[17,21,17,22],[17,17,17,18],[1,1,1,2],[1,3,1,4],[1,5,1,6],[1,7,1,8],[1,9,1,10],[6,1,6,2],[6,6,6,7],[398,0,439,0],[8,17,8,18],[3,5,3,10],[10,1,10,6],[8,3,8,7],[11,1,11,6],[216,1,216,6],[12,1,12,6],[14,1,14,6],[17,3,17,7],[405,4,405,11],[313,1,313,5],[319,1,319,7],[200,3,200,7]]}
[]
[null,"AVENTOS HF",null,"AVENTOS HS",null,"AVENTOS HL",null,"AVENTOS HK top",null,"AVENTOS HK-S",null,"AVENTOS HK-XS",null,null,null,null,null,null,3,null,null,null,null,null,null,{"$f":"List!$C$135","v":"Jdi na"}]
[]
[null,{"$f":"List!$C$15","v":"Dřevěné čelo"},null,null,null,{"$f":"N200&\"       \"","v":"MDF (760 kg/m3) A~18/ B~18mm       "},null,null,null,null,null,null,null,null,null,null,null,null,{"$f":"\" \"&List!$C$39&\" A \"","v":" Cena za korpus A "},null,null,null,null,null,null,{"$f":"List!$C$136","v":"Úvod plánování"}]
[null,null,null,null,null,null,null,null,null,null,null,null,null,null,null,null,null,null,{"$f":"\" \"&List!$C$39&\" B \"","v":" Cena za korpus B "},null,null,null,null,null,null,{"$f":"List!$C$137","v":"Nápověda"}]
[null,null,null,null,null,null,null,null,null,null,null,null,null,null,null,null,null,null,{"$f":"\" \"&List!$C$59","v":" Cena celkem bez DPH"}]
[null,{"$f":"List!$C$142","v":"Soupis kování"},null,null,null,null,{"$f":"IF(S2=1,$N$146,IF($S$2=2,$P$146,IF($S$2=3,$L$146,0)))","v":0},null,null,null,null,null,null,null,null,null,null,null,null,null,null,null,null,null,null,{"$f":"List!$C$141","v":"Doplňky"}]
[null,null,null,null,null,null,null,{"$f":"IF(AND(OR($U$14=1, $U$23=1), $L$146>0), $N$32, \" \")","v":" "},null,null,null,null,null,null,null,null,null,null,null,null,null,null,null,null,null,null,null,null,null,null,null,null,null,null,null,null,null,null,null,null,null,null,null,{"$f":"\"  \"&List!$C$80&\" LF \"","v":"  Ukazatel výkonnosti LF "},null,{"$f":"List!$C$79","v":"Zdvihací mechanizmus"}]
[null,null,null,{"$f":"List!$C$62&\" A\"","v":"Korpus A"},null,null,null,null,null,null,null,null,null,null,null,null,null,"dva zdvihače",null,2000,{"$f":"T9-1","v":1999},"tři zdvihače",null,null,null,{"$f":"List!$C$139","v":"Přehled korpusů"}]
[null,{"$f":"List!$C$72&\" KB [mm] \"","v":"Šířka korpusu KB [mm] "},null,null,null,null,null,1400,{"$f":"IF($H10=0,\" \",IF($H10<220,\" min. 220mm\",IF($H10>1800,\" max. 1 800mm\",\" \")))&IF(H15>0,IF(H10=0,\"● \"&List!$C$111,\" \"),\" \")","v":"  "},null,null,null,null,"zdvih A","dva","tři",null,"min","max","š.max","š. min",false,null,null,null,{"$f":"List!$C$140","v":"Objednávka"},null,null,null,null,null,null,null,null,null,null,null,null,null,null,null,null,null,"  420 - 1610",null,"22K2300/2310"]
[null,{"$f":"List!$C$73&\" KH [mm]  \"","v":"Výška korpusu KH [mm]  "},null,null,null,null,null,450,{"$f":"IF($H11=0,\" \",IF($H11<210,\" min. 210mm\",IF($H11>600,\" max. 600 mm ***\",\" \")))&IF(H15>0,IF(H11=0,\"● \"&List!$C$111,\" \"),\" \")","v":"  "},null,null,null,null,"K23",{"$f":"IF($V$10=FALSE,IF($H$14>R11,IF($H$14<S11,1,0),0),0)","v":0},{"$f":"IF($V$10=TRUE,IF($H$14>V11,IF($H$14<W11,1.5,0),0),0)","v":0},null,419,1200,null,null,629,1800,null,null,null,null,null,null,null,null,null,null,null,null,null,null,null,null,null,null,null,null,"  930 - 2800",null,"22K2500/2510"]
[null,{"$f":"List!$C$75&\" [kg] ** \"","v":"Hmotnost čela vč. 2x hmotnost úchytky [kg] ** "},null,null,null,null,null,6.8,{"$f":"IF($H15=0,\" \",IF(SUM($H12,$H13)=0,$N$34,\" \"))&IF($H15>0,IF($H12>0,$N$35,\" \"),\" \")","v":" ◄ hodnota bude použita pro výpočet LF"},null,null,null,null,"K25",{"$f":"IF($V$10=FALSE,IF($H$14>R12,IF($H$14<S12,1,0),0),0)","v":0},{"$f":"IF($V$10=TRUE,IF($H$14>V12,IF($H$14<W12,1.5,0),0),0)","v":0},null,1200,2200,null,null,1800,3300,null,null,null,null,null,null,null,null,null,null,null,null,null,null,null,null,null,null,null,null,"  1730 - 5200",null,"22K2700/2710"]
[null,{"$f":"List!$C$76&\" [kg]       \"","v":"Vypočtená hmotnost čela [kg]       "},null,null,null,null,null,{"$f":"$H$210","v":8.6183999999999994},{"$f":"IF($H15>0,IF($H13>0,IF($H12=0,$N$35,\" \"),\" \"),\" \")","v":" "},null,null,null,null,"K27",{"$f":"IF($V$10=FALSE,IF($H$14>R13,IF($H$14<S13,1,0),0),0)","v":1},{"$f":"IF($V$10=TRUE,IF($H$14>V13,IF($H$14<W13,1.5,0),0),0)","v":0},null,2200,4200,null,{"$f":"IF(U14=1,$V$44,IF(U14=2,$V$45,$V$46))","v":"SERVO-DRIVE"},3300,6300,null,null,{"$f":"\" \"&List!$C$177&\" A\"","v":" Výpočet hmotnosti A"},null,null,null,null,null,null,null,null,null,null,null,null,null,null,null,null,null,"  3200 - 9000",null,"22K2900/2910"]
[null,{"$f":"List!$C$81&\" *      \"","v":"Třetí zdvihač *      "},null,{"$f":"List!$C$80&\" LF \"","v":"Ukazatel výkonnosti LF "},null,null,null,{"$f":"IF(H12>0,H11*H12,H11*H13)","v":3060},{"$f":"IF(H15=0,\" \",IF($H14<420,$N$37,IF($H14>13500,$N$38,IF($H14>9000,IF(V10=FALSE,$N$39,\" \"),\" \"))))","v":" "},null,null,null,null,"K29",{"$f":"IF($V$10=FALSE,IF($H$14>R14,IF($H$14<S14,1,0),0),0)","v":0},{"$f":"IF($V$10=TRUE,IF($H$14>V14,IF($H$14<W14,1.5,0),0),0)","v":0},null,4200,9001,null,2,6300,13501]
[null,{"$f":"List!$C$69&\" \"","v":"Počet skříněk "},null,null,null,null,null,2,{"$f":"IF($H14>13500,\" \",IF($H14>9000,IF(V10=FALSE,$N$40,\" \"),\" \"))","v":" "},null,null,null,{"$f":"IF($H10*$H$11*$T15=0,0,IF($H11<210,0,IF(H14<420,0,IF($H14>13500,0,IF(H14>9000,IF(V10=FALSE,0,$H15),H$15)))))","v":2},null,null,null,null,null,"hmot =",{"$f":"IF(H12>0,H12,H13)","v":6.8},{"$f":"IF(SUM(H12,H13)=0,0,IF(H12>0,1,2))","v":1},"zadaná / vypočtená",null,null,null,null,null,null,null,null,null,null,null,null,null,null,null,null,null,null,null,null,null,{"$f":"List!$C$80&\" LF = \"&List!$C$73&\" KH [mm] x \"&List!$C$75&\" [kg]\"","v":"Ukazatel výkonnosti LF = Výška korpusu KH [mm] x Hmotnost čela vč. 2x hmotnost úchytky [kg]"}]
[null,{"$f":"IF(H15>0,IF(U15=0,\" \",IF(U15=1,$N$47,$N$48)),\" \")&IF(H15>0,IF(U15=0,\" \",IF(U15=1,$N$49,$N$50)),\" \")","v":"Pro určení typu zdvihače bude použita zadaná hmotnost. Chcete-li použít vypočtenou hmotnost, smažte zadanou hodnotu"}]
[null,null,null,null,null,null,null,null,null,null,null,null,null,null,null,null,null,null,null,null,null,null,null,null,null,null,null,null,null,null,null,null,null,null,null,null,null,null,null,null,null,null,null,{"$f":"List!$C$322","v":"V případě využití třetího zdvihače můžete zvýšit ukazatel výkonnosti a tudíž hmotnost čílka o 50%."}]
[null,null,null,{"$f":"List!$C$62&\" B\"","v":"Korpus B"},null,null,null,null,null,null,null,null,null,null,null,null,null,"dva zdvihače",null,null,null,"tři zdvihače",null,null,null,{"$f":"\" \"&List!$C$361","v":" Ověření síly zdvihače"}]
[null,{"$f":"List!$C$72&\" KB [mm] \"","v":"Šířka korpusu KB [mm] "},null,null,null,null,null,null,{"$f":"IF($H19=0,\" \",IF($H19<220,\" min. 220mm\",IF($H19>1800,\" max. 1 800mm\",\" \")))&IF(H24>0,IF(H19=0,\"● \"&List!$C$111,\" \"),\" \")","v":"  "},null,null,null,null,"zdvih B","dva","tři",null,"min","max",null,null,false]
[null,{"$f":"List!$C$73&\" KH [mm] \"","v":"Výška korpusu KH [mm] "},null,null,null,null,null,null,{"$f":"IF($H20=0,\" \",IF($H20<210,\" min. 210mm\",IF($H20>600,\" max. 600 mm ***\",\" \")))&IF(H24>0,IF(H20=0,\"● \"&List!$C$111,\" \"),\" \")","v":"  "},null,null,null,null,"K23",{"$f":"IF($V$19=FALSE,IF($H$23>R20,IF($H$23<S20,1,0),0),0)","v":0},{"$f":"IF($V$19=TRUE,IF($H$23>V20,IF($H$23<W20,1.5,0),0),0)","v":0},null,419,1200,null,null,629,1800]
[null,{"$f":"List!$C$75&\" [kg] ** \"","v":"Hmotnost čela vč. 2x hmotnost úchytky [kg] ** "},null,null,null,null,null,null,{"$f":"IF($H24=0,\" \",IF(SUM($H21,$H22)=0,$N$34,\" \"))&IF($H24>0,IF($H21>0,$N$35,\" \"),\" \")","v":"  "},null,null,null,null,"K25",{"$f":"IF($V$19=FALSE,IF($H$23>R21,IF($H$23<S21,1,0),0),0)","v":0},{"$f":"IF($V$19=TRUE,IF($H$23>V21,IF($H$23<W21,1.5,0),0),0)","v":0},null,1200,2200,null,null,1800,3300,null,null,null,null,null,null,null,null,null,null,null,null,null,null,null,null,null,null,null,null,{"$f":"List!$C$149","v":"Zpět"}]
[null,{"$f":"List!$C$76&\" [kg]       \"","v":"Vypočtená hmotnost čela [kg]       "},null,null,null,null,null,{"$f":"$H$219","v":0},{"$f":"IF($H24>0,IF($H22>0,IF($H21=0,$N$35,\" \"),\" \"),\" \")","v":" "},null,null,null,null,"K27",{"$f":"IF($V$19=FALSE,IF($H$23>R22,IF($H$23<S22,1,0),0),0)","v":0},{"$f":"IF($V$19=TRUE,IF($H$23>V22,IF($H$23<W22,1.5,0),0),0)","v":0},null,2200,4200,null,{"$f":"IF(U23=1,$V$44,IF(U23=2,$V$45,$V$46))","v":"Standard"},3300,6300,null,null,{"$f":"\" \"&List!$C$177&\" B\"","v":" Výpočet hmotnosti B"}]
[null,{"$f":"List!$C$81&\" *      \"","v":"Třetí zdvihač *      "},null,{"$f":"List!$C$80&\" LF \"","v":"Ukazatel výkonnosti LF "},null,null,null,{"$f":"IF(H21>0,H20*H21,H20*H22)","v":0},{"$f":"IF(H24=0,\" \",IF($H23<420,$N$37,IF($H23>13500,$N$38,IF($H23>9000,IF(V19=FALSE,$N$39,\" \"),\" \"))))","v":" "},null,null,null,null,"K29",{"$f":"IF($V$19=FALSE,IF($H$23>R23,IF($H$23<S23,1,0),0),0)","v":0},{"$f":"IF($V$19=TRUE,IF($H$23>V23,IF($H$23<W23,1.5,0),0),0)","v":0},null,4200,9001,null,1,6300,13501]
[null,{"$f":"List!$C$69&\" \"","v":"Počet skříněk "},null,null,null,null,null,null,{"$f":"IF($H23>13500,\" \",IF($H23>9000,IF(V19=FALSE,$N$40,\" \"),\" \"))","v":" "},null,null,null,{"$f":"IF($H19*$H$20*$T24=0,0,IF($H20<210,0,IF(H23<420,0,IF($H23>13500,0,IF(H23>9000,IF(V19=FALSE,0,$H24),H$24)))))","v":0},null,null,null,null,null,"hmot =",{"$f":"IF(H21>0,H21,H22)","v":0},{"$f":"IF(SUM(H21,H22)=0,0,IF(H21>0,1,2))","v":0},"zadaná / vypočtená"]
[null,{"$f":"IF(H24>0,IF(U24=0,\" \",IF(U24=1,$N$47,$N$48)),\" \")&IF(H24>0,IF(U24=0,\" \",IF(U24=1,$N$49,$N$50)),\" \")","v":"  "}]
[]
[null,{"$f":"IF(OR(AND($U$14=2, $M$15>0), AND($U$23=2, $M$24>0)), List!$C$157, \" \")","v":"Pokud u jakéhokoli výklopu zvolíte SERVO-DRIVE, bude do objednávky, bez ohledu na celkový počet výklopů, přidán 1x zdroj Blum 24W, 1x napájecí kabel a 1x držák zdroje. Případnou změnu množsví upravte v objednávce."},null,null,null,null,null,null,null,null,null,null,null,null,null,null,null,null,{"$f":"IF($T$27=FALSE,2,1)","v":2},false,null," - Zdroj"]
[]
[]
[]
[null,null,{"$f":"IF(OR($V$10=TRUE, $V$19=TRUE), List!$C$164, \" \")","v":" "}]
[null,null,null,null,null,null,null,null,null,null,null,null,null,{"$f":"List!C158","v":"Cena bez napájecího zdroje!"}]
[null," *",{"$f":"List!$C$212&\" \"&List!$C$213","v":"U širokých korpusů doporučujeme nainstalovat třetí zdvihač na střed korpusu. Důvodem je prohýbání čela v otevřené pozici. Také faktor výkonnosti LF a váha dveří mohou být o 50% navýšeny."}]
[null,null,null,null,null,null,null,null,null,null,null,null,null,{"$f":"\" \"&List!$C$103","v":" Doplňte nebo použijte \"Výpočet hmotnosti\" "}]
[null,null,null,null,null,null,null,null,null,null,null,null,null,{"$f":"\"◄ \"&List!$C$100","v":"◄ hodnota bude použita pro výpočet LF"}]
[null,null,null,null,null,null,null,null,null,null,null,null,null,{"$f":"\" * \"&List!$C$110","v":" * Doplňte hodnoty"}]
[null," **",{"$f":"List!$C$168","v":"Pokud znáte hmotnost a nechcete využít výpočtu hmotnosti"},null,null,null,null,null,null,null,null,null,null,{"$f":"\" min. 420! \"&List!$C$105","v":" min. 420! Upravte hmotnost nebo výšku"}]
[null,null,null,null,null,null,null,null,null,null,null,null,null,{"$f":"\" max. 13.500! \"&List!$C$105","v":" max. 13.500! Upravte hmotnost nebo výšku"}]
[null,{"$f":"IF($H$11>600,\"***\",IF($H$20>600,\"***\",\" \"))","v":" "},{"$f":"IF($H$11>600,List!$C$211,IF($H$20>600,List!$C$211,\" \"))","v":" "},null,null,null,null,null,null,null,null,null,null,{"$f":"\" max. 9 000! \"&List!$C$105","v":" max. 9 000! Upravte hmotnost nebo výšku"}]
[null,null,null,null,null,null,null,null,null,null,null,null,null,{"$f":"\"                       \"&List!$C$106","v":"                       nebo přidejte třetí zdvihač"}]
[]
[null,null,null,null,null,null,null,null,null,null,null,null,null,{"$f":"HK!$M$27","v":1},null,1,null,{"$f":"HK!$K$27","v":2},null,{"$f":"Menu!$Q$27","v":3},null,1]
[null,null,null,null,null,null,null,null,null,null,null,null,null,"zdvihač",null,"střed.",null,"čelní kov.",null,"kryt.",null,"provedení"]
[null,null,null,null,null,null,null,null,null,null,null,null,null,"vruty",null,null,null,{"$f":"List!$C$125","v":"Expando"},null,{"$f":"List!$C$128","v":"Světle šedá (HG/T)"},null,"Standard"]
[null,null,null,null,null,null,null,null,null,null,null,null,null,"šrouby",null,null,null,{"$f":"List!$C$126","v":"na vruty"},null,{"$f":"List!$C$129","v":"Tmavě šedá (TGR)"},null,"SERVO-DRIVE"]
[null,null,null,null,null,null,null,null,null,null,null,null,null,null,null,null,null,null,null,{"$f":"List!$C$130","v":"Hedvábně bílá (SW/T)"},null,"TIP-ON"]
[null,null,null,null,null,null,null,null,null,null,null,null,null,{"$f":"List!C169&\". \"","v":"Pro určení typu zdvihače bude použita zadaná hmotnost. "}]
[null,null,null,null,null,null,null,null,null,null,null,null,null,{"$f":"List!C170&\". \"","v":"Pro určení typu zdvihače bude použita vypočtená hmotnost. "}]
[null,null,null,null,null,null,null,null,null,null,null,null,null,{"$f":"List!C171","v":"Chcete-li použít vypočtenou hmotnost, smažte zadanou hodnotu"}]
[null,null,null,null,null,null,null,null,null,null,null,null,null,{"$f":"List!C172","v":"Chcete-li použít zadanou hmotnost, zadejte ji do políčka"}]
[]
[]
[]
[]
[]
[]
[]
[]
[]
[]
[]
[]
[]
[]
[]
[]
[]
[]
[]
[]
[]
[]
[]
[]
[]
[]
[]
[]
[]
[]
[]
[]
[]
[]
[]
[]
[]
[]
[]
[]
[]
[]
[]
[]
[]
[]
[]
[null,{"$f":"List!C142","v":"Soupis kování"}]
[]
[null,{"$f":"$H$2","v":"AVENTOS HK top"},null,{"$f":"B4","v":"Dřevěné čelo"}]
[null,{"$f":"List!C50","v":"Název"},null,null,null,null,{"$f":"List!$C$51","v":"Číslo artiklu"},null,{"$f":"List!C52","v":"Barva"},{"$f":"List!C54","v":"Ks"},{"$f":"List!C56","v":"Jednotková cena"},{"$f":"List!C57","v":"Celkem"},"A","Cena","B","Cena","C","Cena","Filtr"]
[null,{"$f":"Cen!A92","v":"Sada zdvihačů HK top, na vruty"},null,null,null,null,{"$f":"Cen!E92","v":"22K2300"},null,{"$f":"Cen!G92","v":"ZN"},{"$f":"SUM(M102,O102,Q102)","v":0},{"$f":"Cen!I92","v":0},{"$f":"J102*K102","v":0},{"$f":"IF(AND($U$14<>3,$N$42=1),ROUNDUP(SUM($O11:$P11)*$M$15,0),0)","v":0},{"$f":"$K102*M102","v":0},{"$f":"IF(AND($U$23<>3,$N$42=1),ROUNDUP(SUM($O20:$P20)*$M$24,0),0)","v":0},{"$f":"$K102*O102","v":0},null,{"$f":"$K102*Q102","v":0},"x"]
[null,{"$f":"Cen!A93","v":"Sada zdvihačů HK top, na vruty"},null,null,null,null,{"$f":"Cen!E93","v":"22K2500"},null,{"$f":"Cen!G93","v":"ZN"},0,{"$f":"Cen!I93","v":0},{"$f":"J103*K103","v":0},{"$f":"IF(AND($U$14<>3,$N$42=1),ROUNDUP(SUM($O12:$P12)*$M$15,0),0)","v":0},0,{"$f":"IF(AND($U$23<>3,$N$42=1),ROUNDUP(SUM($O21:$P21)*$M$24,0),0)","v":0},0,null,0,"x"]
[null,{"$f":"Cen!A94","v":"Sada zdvihačů HK top, na vruty"},null,null,null,null,{"$f":"Cen!E94","v":"22K2700"},null,{"$f":"Cen!G94","v":"ZN"},2,{"$f":"Cen!I94","v":0},0,{"$f":"IF(AND($U$14<>3,$N$42=1),ROUNDUP(SUM($O13:$P13)*$M$15,0),0)","v":2},0,{"$f":"IF(AND($U$23<>3,$N$42=1),ROUNDUP(SUM($O22:$P22)*$M$24,0),0)","v":0},0,null,0,"x"]
[null,{"$f":"Cen!A95","v":"Sada zdvihačů HK top, na vruty"},null,null,null,null,{"$f":"Cen!E95","v":"22K2900"},null,{"$f":"Cen!G95","v":"ZN"},0,{"$f":"Cen!I95","v":0},0,{"$f":"IF(AND($U$14<>3,$N$42=1),ROUNDUP(SUM($O14:$P14)*$M$15,0),0)","v":0},0,{"$f":"IF(AND($U$23<>3,$N$42=1),ROUNDUP(SUM($O23:$P23)*$M$24,0),0)","v":0},0,null,0,"x"]
[null,{"$f":"Cen!A96","v":"Sada zdvihačů HK top, se šrouby"},null,null,null,null,{"$f":"Cen!E96","v":"22K2310"},null,{"$f":"Cen!G96","v":"ZN"},{"$f":"SUM(M106,O106,Q106)","v":0},{"$f":"Cen!I96","v":0},{"$f":"J106*K106","v":0},{"$f":"IF(AND($U$14<>3,$N$42=2),ROUNDUP(SUM($O11:$P11)*$M$15,0),0)","v":0},{"$f":"$K106*M106","v":0},{"$f":"IF(AND($U$23<>3,$N$42=2),ROUNDUP(SUM($O20:$P20)*$M$24,0),0)","v":0},{"$f":"$K106*O106","v":0},null,{"$f":"$K106*Q106","v":0},"x"]
[null,{"$f":"Cen!A97","v":"Sada zdvihačů HK top, se šrouby"},null,null,null,null,{"$f":"Cen!E97","v":"22K2510"},null,{"$f":"Cen!G97","v":"ZN"},{"$f":"SUM(M107,O107,Q107)","v":0},{"$f":"Cen!I97","v":0},{"$f":"J107*K107","v":0},{"$f":"IF(AND($U$14<>3,$N$42=2),ROUNDUP(SUM($O12:$P12)*$M$15,0),0)","v":0},{"$f":"$K107*M107","v":0},{"$f":"IF(AND($U$23<>3,$N$42=2),ROUNDUP(SUM($O21:$P21)*$M$24,0),0)","v":0},{"$f":"$K107*O107","v":0},null,{"$f":"$K107*Q107","v":0},"x"]
[null,{"$f":"Cen!A98","v":"Sada zdvihačů HK top, se šrouby"},null,null,null,null,{"$f":"Cen!E98","v":"22K2710"},null,{"$f":"Cen!G98","v":"ZN"},{"$f":"SUM(M108,O108,Q108)","v":0},{"$f":"Cen!I98","v":0},{"$f":"J108*K108","v":0},{"$f":"IF(AND($U$14<>3,$N$42=2),ROUNDUP(SUM($O13:$P13)*$M$15,0),0)","v":0},{"$f":"$K108*M108","v":0},{"$f":"IF(AND($U$23<>3,$N$42=2),ROUNDUP(SUM($O22:$P22)*$M$24,0),0)","v":0},{"$f":"$K108*O108","v":0},null,{"$f":"$K108*Q108","v":0},"x"]
[null,{"$f":"Cen!A99","v":"Sada zdvihačů HK top, se šrouby"},null,null,null,null,{"$f":"Cen!E99","v":"22K2910"},null,{"$f":"Cen!G99","v":"ZN"},{"$f":"SUM(M109,O109,Q109)","v":0},{"$f":"Cen!I99","v":0},{"$f":"J109*K109","v":0},{"$f":"IF(AND($U$14<>3,$N$42=2),ROUNDUP(SUM($O14:$P14)*$M$15,0),0)","v":0},{"$f":"$K109*M109","v":0},{"$f":"IF(AND($U$23<>3,$N$42=2),ROUNDUP(SUM($O23:$P23)*$M$24,0),0)","v":0},{"$f":"$K109*O109","v":0},null,{"$f":"$K109*Q109","v":0},"x"]
[null,{"$f":"Cen!A100","v":"Sada krytek HK top, SERVO-DRIVE, sv.šedá"},null,null,null,null,{"$f":"Cen!E100","v":"23K8000"},null,{"$f":"Cen!G100","v":"HG "},0,{"$f":"Cen!I100","v":0},0,{"$f":"IF($U$14=2,IF($T$42=1,$M$15*IF($V$10=TRUE,2,1),0),0)","v":0},0,{"$f":"IF($U$23=2,IF($T$42=1,$M$24*IF($V$19=TRUE,2,1),0),0)","v":0},0,null,0,"x"]
[null,{"$f":"Cen!A101","v":"Sada krytek HK top, SERVO-DRIVE, tm.šedá"},null,null,null,null,{"$f":"Cen!E101","v":"23K8000"},null,{"$f":"Cen!G101","v":"TGR"},{"$f":"SUM(M111,O111,Q111)","v":0},{"$f":"Cen!I101","v":0},{"$f":"J111*K111","v":0},{"$f":"IF($U$14=2,IF($T$42=2,$M$15*IF($V$10=TRUE,2,1),0),0)","v":0},{"$f":"$K111*M111","v":0},{"$f":"IF($U$23=2,IF($T$42=2,$M$24*IF($V$19=TRUE,2,1),0),0)","v":0},{"$f":"$K111*O111","v":0},null,{"$f":"$K111*Q111","v":0},"x"]
[null,{"$f":"Cen!A102","v":"Sada krytek HK top, SERVO-DRIVE, bílá"},null,null,null,null,{"$f":"Cen!E102","v":"23K8000"},null,{"$f":"Cen!G102","v":"SW "},2,{"$f":"Cen!I102","v":0},0,{"$f":"IF($U$14=2,IF($T$42=3,$M$15*IF($V$10=TRUE,2,1),0),0)","v":2},0,{"$f":"IF($U$23=2,IF($T$42=3,$M$24*IF($V$19=TRUE,2,1),0),0)","v":0},0,null,0,"x"]
[]
[null,{"$f":"Cen!A103","v":"Sada krytek HK top, světle šedá"},null,null,null,null,{"$f":"Cen!E103","v":"22K8000"},null,{"$f":"Cen!G103","v":"HG "},{"$f":"SUM(M114,O114,Q114)","v":0},{"$f":"Cen!I103","v":0},0,{"$f":"IF($U$14<>2,IF($T$42=1,SUM($M$102:$M$109,$M$123:$M$130),0),0)","v":0},0,{"$f":"IF($U$23<>2,IF($T$42=1,SUM($O$102:$O$109,$O$123:$O$130),0),0)","v":0},0,null,0,"x"]
[null,{"$f":"Cen!A104","v":"Sada krytek HK top, tmavě šedá"},null,null,null,null,{"$f":"Cen!E104","v":"22K8000"},null,{"$f":"Cen!G104","v":"TGR"},{"$f":"SUM(M115,O115,Q115)","v":0},{"$f":"Cen!I104","v":0},{"$f":"J115*K115","v":0},{"$f":"IF($U$14<>2,IF($T$42=2,SUM($M$102:$M$109,$M$123:$M$130),0),0)","v":0},{"$f":"$K115*M115","v":0},{"$f":"IF($U$23<>2,IF($T$42=2,SUM($O$102:$O$109,$O$123:$O$130),0),0)","v":0},{"$f":"$K115*O115","v":0},null,{"$f":"$K115*Q115","v":0},"x"]
[null,{"$f":"Cen!A105","v":"Sada krytek HK top, bílá"},null,null,null,null,{"$f":"Cen!E105","v":"22K8000"},null,{"$f":"Cen!G105","v":"SW "},{"$f":"SUM(M116,O116,Q116)","v":0},{"$f":"Cen!I105","v":0},0,{"$f":"IF($U$14<>2,IF($T$42=3,SUM($M$102:$M$109,M123:M130),0),0)","v":0},0,{"$f":"IF($U$23<>2,IF($T$42=3,SUM($O$102:$O$109,$O$123:$O$130),0),0)","v":0},0,null,0,"x"]
[]
[]
[]
[null,{"$f":"Cen!A108","v":0},null,null,null,null,{"$f":"Cen!E108","v":0},null,{"$f":"Cen!G108","v":0},null,{"$f":"Cen!I108","v":0},0,null,0,null,0,null,0]
[null,{"$f":"Cen!A109","v":0},null,null,null,null,{"$f":"Cen!E109","v":0},null,{"$f":"Cen!G109","v":0},null,{"$f":"Cen!I109","v":0},0,null,0,null,0,null,0]
[null,{"$f":"Cen!A110","v":"AVETOS HK top TIP-ON"},null,null,null,null,{"$f":"Cen!E110","v":0},null,{"$f":"Cen!G110","v":0},null,{"$f":"Cen!I110","v":0},0,null,0,null,0,null,0]
[null,{"$f":"Cen!A111","v":"Sada zdvihačů HK top, TIP-ON, na vruty"},null,null,null,null,{"$f":"Cen!E111","v":"22K2300T"},null,{"$f":"Cen!G111","v":"ZN"},{"$f":"SUM(M123,O123,Q123)","v":0},{"$f":"Cen!I111","v":0},0,{"$f":"IF(AND($U$14=3,$N$42=1),ROUNDUP(SUM($O11:$P11)*$M$15,0),0)","v":0},0,{"$f":"IF(AND($U$23=3,$N$42=1),ROUNDUP(SUM($O20:$P20)*$M$24,0),0)","v":0},0,null,0,"x"]
[null,{"$f":"Cen!A112","v":"Sada zdvihačů HK top, TIP-ON, na vruty"},null,null,null,null,{"$f":"Cen!E112","v":"22K2500T"},null,{"$f":"Cen!G112","v":"ZN"},0,{"$f":"Cen!I112","v":0},0,{"$f":"IF(AND($U$14=3,$N$42=1),ROUNDUP(SUM($O12:$P12)*$M$15,0),0)","v":0},0,{"$f":"IF(AND($U$23=3,$N$42=1),ROUNDUP(SUM($O21:$P21)*$M$24,0),0)","v":0},0,null,0,"x"]
[null,{"$f":"Cen!A113","v":"Sada zdvihačů HK top, TIP-ON, na vruty"},null,null,null,null,{"$f":"Cen!E113","v":"22K2700T"},null,{"$f":"Cen!G113","v":"ZN"},0,{"$f":"Cen!I113","v":0},0,{"$f":"IF(AND($U$14=3,$N$42=1),ROUNDUP(SUM($O13:$P13)*$M$15,0),0)","v":0},0,{"$f":"IF(AND($U$23=3,$N$42=1),ROUNDUP(SUM($O22:$P22)*$M$24,0),0)","v":0},0,null,0,"x"]
[null,{"$f":"Cen!A114","v":"Sada zdvihačů HK top, TIP-ON, na vruty"},null,null,null,null,{"$f":"Cen!E114","v":"22K2900T"},null,{"$f":"Cen!G114","v":"ZN"},0,{"$f":"Cen!I114","v":0},0,{"$f":"IF(AND($U$14=3,$N$42=1),ROUNDUP(SUM($O14:$P14)*$M$15,0),0)","v":0},0,{"$f":"IF(AND($U$23=3,$N$42=1),ROUNDUP(SUM($O23:$P23)*$M$24,0),0)","v":0},0,null,0,"x"]
[null,{"$f":"Cen!A115","v":"Sada zdvihačů HK top, TIP-ON, se šrouby"},null,null,null,null,{"$f":"Cen!E115","v":"22K2310T"},null,{"$f":"Cen!G115","v":"ZN"},{"$f":"SUM(M127,O127,Q127)","v":0},{"$f":"Cen!I115","v":0},{"$f":"J127*K127","v":0},{"$f":"IF(AND($U$14=3,$N$42=2),ROUNDUP(SUM($O11:$P11)*$M$15,0),0)","v":0},{"$f":"$K127*M127","v":0},{"$f":"IF(AND($U$23=3,$N$42=2),ROUNDUP(SUM($O20:$P20)*$M$24,0),0)","v":0},{"$f":"$K127*O127","v":0},null,{"$f":"$K127*Q127","v":0},"x"]
[null,{"$f":"Cen!A116","v":"Sada zdvihačů HK top, TIP-ON, se šrouby"},null,null,null,null,{"$f":"Cen!E116","v":"22K2510T"},null,{"$f":"Cen!G116","v":"ZN"},{"$f":"SUM(M128,O128,Q128)","v":0},{"$f":"Cen!I116","v":0},{"$f":"J128*K128","v":0},{"$f":"IF(AND($U$14=3,$N$42=2),ROUNDUP(SUM($O12:$P12)*$M$15,0),0)","v":0},{"$f":"$K128*M128","v":0},{"$f":"IF(AND($U$23=3,$N$42=2),ROUNDUP(SUM($O21:$P21)*$M$24,0),0)","v":0},{"$f":"$K128*O128","v":0},null,{"$f":"$K128*Q128","v":0},"x"]
[null,{"$f":"Cen!A117","v":"Sada zdvihačů HK top, TIP-ON, se šrouby"},null,null,null,null,{"$f":"Cen!E117","v":"22K2710T"},null,{"$f":"Cen!G117","v":"ZN"},{"$f":"SUM(M129,O129,Q129)","v":0},{"$f":"Cen!I117","v":0},{"$f":"J129*K129","v":0},{"$f":"IF(AND($U$14=3,$N$42=2),ROUNDUP(SUM($O13:$P13)*$M$15,0),0)","v":0},{"$f":"$K129*M129","v":0},{"$f":"IF(AND($U$23=3,$N$42=2),ROUNDUP(SUM($O22:$P22)*$M$24,0),0)","v":0},{"$f":"$K129*O129","v":0},null,{"$f":"$K129*Q129","v":0},"x"]
[null,{"$f":"Cen!A118","v":"Sada zdvihačů HK top, TIP-ON, se šrouby"},null,null,null,null,{"$f":"Cen!E118","v":"22K2910T"},null,{"$f":"Cen!G118","v":"ZN"},{"$f":"SUM(M130,O130,Q130)","v":0},{"$f":"Cen!I118","v":0},{"$f":"J130*K130","v":0},{"$f":"IF(AND($U$14=3,$N$42=2),ROUNDUP(SUM($O14:$P14)*$M$15,0),0)","v":0},{"$f":"$K130*M130","v":0},{"$f":"IF(AND($U$23=3,$N$42=2),ROUNDUP(SUM($O23:$P23)*$M$24,0),0)","v":0},{"$f":"$K130*O130","v":0},null,{"$f":"$K130*Q130","v":0},"x"]
[null,{"$f":"Cen!A180","v":"TIP-ON, zkrácená délka, šedý"},null,null,null,null,{"$f":"Cen!E180","v":"956.1004"},null,{"$f":"Cen!G180","v":"PG"},0,{"$f":"Cen!I180","v":0},0,{"$f":"IF(AND($T$42<3,$U$14=3),IF($H$11<=500,$M$15,0),0)","v":0},0,{"$f":"IF(AND($T$42<3,$U$23=3),IF($H$20<=500,$M$24,0),0)","v":0},0,null,0,"x"]
[null,{"$f":"Cen!A181","v":"TIP-ON, zkrácená délka, hedv.bílý"},null,null,null,null,{"$f":"Cen!E181","v":"956.1004"},null,{"$f":"Cen!G181","v":"SW"},0,{"$f":"Cen!I181","v":0},{"$f":"J132*K132","v":0},{"$f":"IF(AND($T$42=3,$U$14=3),IF($H$11<=500,$M$15,0),0)","v":0},0,{"$f":"IF(AND($T$42=3,$U$23=3),IF($H$20<=500,$M$24,0),0)","v":0},0,null,0,"x"]
[null,{"$f":"Cen!A183","v":"TIP-ON, prodloužená délka, šedý"},null,null,null,null,{"$f":"Cen!E183","v":"956A1004"},null,{"$f":"Cen!G183","v":"PG"},0,{"$f":"Cen!I183","v":0},0,{"$f":"IF(AND($T$42<3,$U$14=3),IF($H$11>500,$M$15,0),0)","v":0},0,{"$f":"IF(AND($T$42<3,$U$23=3),IF($H$20>500,$M$24,0),0)","v":0},0,null,0,"x"]
[null,{"$f":"Cen!A184","v":"TIP-ON, prodloužená délka, hedv.bílý"},null,null,null,null,{"$f":"Cen!E184","v":"956A1004"},null,{"$f":"Cen!G184","v":"SW"},0,{"$f":"Cen!I184","v":0},{"$f":"J134*K134","v":0},{"$f":"IF(AND($T$42=3,$U$14=3),IF($H$11>500,$M$15,0),0)","v":0},0,{"$f":"IF(AND($T$42=3,$U$23=3),IF($H$20>500,$M$24,0),0)","v":0},0,null,0,"x"]
[null,{"$f":"Cen!A119","v":0},null,null,null,null,{"$f":"Cen!E119","v":0},null,{"$f":"Cen!G119","v":0},null,{"$f":"Cen!I119","v":0},0,null,0,null,0]
[null,{"$f":"Cen!A120","v":"Sada čel.kování pro dřev. čela"},null,null,null,null,{"$f":"Cen!E120","v":"20S4200"},null,{"$f":"Cen!G120","v":"NI"},{"$f":"SUM(M136,O136,Q136)","v":2},{"$f":"Cen!I120","v":0},0,{"$f":"IF($R$42=2,SUM(M$102:M$109,M$123:M$130),0)","v":2},0,{"$f":"IF($R$42=2,SUM(O$102:O$109,O$123:O$130),0)","v":0},0,null,null,"x"]
[null,{"$f":"Cen!A121","v":"Čelní.kování pro dřev. čela EXPANDO"},null,null,null,null,{"$f":"Cen!E121","v":"20S42E1"},null,{"$f":"Cen!G121","v":"NI"},{"$f":"SUM(M137,O137,Q137)","v":0},{"$f":"Cen!I121","v":0},0,{"$f":"IF($R$42=1,SUM(M$102:M$109,M$123:M$130)*2,0)","v":0},0,{"$f":"IF($R$42=1,SUM(O$102:O$109,O$123:O$130)*2,0)","v":0},0,null,null,"x"]
[null,{"$f":"Cen!A122","v":"Sada čel.kování pro úzké alurámečky"},null,null,null,null,{"$f":"Cen!E122","v":"20S4200A"},null,{"$f":"Cen!G122","v":"NI"},null,{"$f":"Cen!I122","v":0},0]
[null,{"$f":"Cen!A151","v":"CLIP top krytka raménka Nikl"},null,null,null,null,{"$f":"Cen!E151","v":"70.1503"},null,{"$f":"Cen!G151","v":"NI"},{"$f":"SUM(M139,O139,Q139)","v":4},{"$f":"Cen!I151","v":0},0,{"$f":"SUM(M$102:M$109,M123:M130)*2","v":4},0,{"$f":"SUM(O$102:O$109,O123:O130)*2","v":0},0,null,null,"x"]
[null,null,null,null,null,null,null,null,null,null,null,0,null,0,null,0]
[null,null,null,null,null,null,null,null,null,null,null,0,null,0,null,0]
[]
[null,{"$f":"Cen!A106","v":"SERVO-DRIVE top, sada pro HK top"},null,null,null,null,{"$f":"Cen!E106","v":"23KA000"},null,{"$f":"Cen!G106","v":"TGR"},{"$f":"SUM(M143,O143,Q143)","v":2},{"$f":"Cen!I106","v":0},0,{"$f":"IF($U$14=2,$M$15*IF($V$10=TRUE,2,1),0)","v":2},0,{"$f":"IF($U$23=2,$M$24*IF($V$19=TRUE,2,1),0)","v":0},0,null,null,"x"]
[]
[]
[null,null,null,null,null,null,null,null,null,null,{"$f":"List!$C$59&\" \"","v":"Cena celkem bez DPH "},{"$f":"SUM(L102:L144)","v":0},null,{"$f":"SUM(N102:N145)","v":0},null,{"$f":"SUM(P102:P145)","v":0},null,{"$f":"SUM(R102:R145)","v":0}]
[]
[null,null,null,null,null,null,null,null,null,null,null,{"$f":"List!$C$149","v":"Zpět"}]
[]
[]
[]
[]
[]
[]
[]
[]
[]
[]
[]
[]
[]
[]
[]
[]
[]
[]
[]
[]
[]
[]
[]
[]
[]
[]
[]
[]
[]
[]
[]
[]
[]
[]
[]
[]
[]
[]
[]
[]
[]
[]
[]
[]
[]
[]
[]
[]
[]
[]
[null,{"$f":"List!$C$71","v":"Výpočet hmotnosti čel"}]
[null,null,{"$f":"List!$C$161&\"  \"","v":"Provedení čel  "},null,null,null,null,null,{"$f":"IF(O207=3,IF(H200=0,N202,\" \"),IF(H200>0,N203,\" \"))","v":" "},null,null,null,null,{"$f":"IF($O$207=1,$O$208,IF($O$207=2,$O$209,$O$210&\" \"&$N$210&\"kg/m3\"))&\" A~\"&$H$208&\"/ B~\"&$H$217&\"mm\"","v":"MDF (760 kg/m3) A~18/ B~18mm"}]
[null,null,null,{"$f":"IF($O$207<>3,$N$201,\" \")&\"      \"","v":" Změnit hodnoty můžete v Úvodu plánování      "},null,null,null,null,null,null,null,null,null,{"$f":"\" \"&List!$C$382","v":" Změnit hodnoty můžete v Úvodu plánování"}]
[null,null,null,null,null,null,null,null,null,null,null,null,null,{"$f":"\" \"&List!$C$225&\" [kg/m3]\"","v":" Zadejte objemovou hmotnost  [kg/m3]"}]
[null,null,null,null,null,null,null,null,null,null,null,null,null,{"$f":"\" \"&List!$C$221&\" '\"&List!$C$86&\"'\"","v":" Hodnota platí jen pro volbu 'Jiné - volitelná hustota'"}]
[]
[null,null,null,null,null,{"$f":"D9","v":"Korpus A"}]
[null,{"$f":"List!$C$72&\" KB [mm]       \"","v":"Šířka korpusu KB [mm]       "},null,null,null,null,null,{"$f":"H10","v":1400},null,null,null,null,null,{"$f":"H206*H207*H208","v":11340000},null,null,null,null,3.51,"alu"]
[null,{"$f":"List!$C$73&\" KH [mm]       \"","v":"Výška korpusu KH [mm]       "},null,null,null,null,null,{"$f":"H11","v":450},null,null,null,null,null,{"$f":"N206/1000000000","v":1.1339999999999999E-2},1,null,null,null,"váha alu",{"$f":"SUM(H206*2,H207*2)*S206/10000","v":1.2987},3]
[null,{"$f":"List!$C$77&\" TS [mm] \"","v":"Síla čela TS [mm] "},null,null,null,null,null,18,{"$f":"IF(SUM(H206,H207)=0,\" \",IF(H208=0,\" ● \"&List!$C$111,\" \"))","v":" "},null,null,null,null,{"$f":"Menu!$L$30","v":760},{"$f":"List!$C$84&\" (\"&N208&\" kg/m3)\"","v":"MDF (760 kg/m3)"},null,null,null,10,{"$f":"SUM($H$206*$H$207*$S208)/1000000","v":6.3},{"$f":"List!$C$87","v":"Alurámečky s 4mm sklem"}]
[null,{"$f":"List!$C$78&\" [kg] \"","v":"Hmotnost úchytky [kg] "},null,null,null,null,null,null,{"$f":"IF($U$14=3,\" \",IF(SUM(H206,H207)=0,\" \",IF(H209=0,\" ● \"&List!$C$112,\" \")))","v":" ● Doporučená hodnota"},null,null,null,null,{"$f":"Menu!$L$31","v":680},{"$f":"List!$C$85&\" (\"&N209&\" kg/m3)\"","v":"Dřevotříska (680 kg/m3)"},null,null,null,15,{"$f":"SUM($H$206*$H$207*$S209)/1000000","v":9.4499999999999993},{"$f":"List!$C$88","v":"Alurámečky s 5mm sklem"}]
[null,{"$f":"List!$C$76&\" [kg] \"","v":"Vypočtená hmotnost čela [kg] "},null,null,null,null,null,{"$f":"IF(M210=0,0,M210+2*H209)","v":8.6183999999999994},null,null,null,null,{"$f":"IF(H206*H207*H208=0,0,IF(O207=1,N207*N208,IF(O207=2,N207*N209,N207*N210)))","v":8.6183999999999994},{"$f":"$H$200","v":0},{"$f":"List!$C$86","v":"Jiné - volitelná hustota"},null,null,null,{"$f":"2.5*$H$200","v":0},{"$f":"SUM($H$206*$H$207*$S210)/1000000","v":0},{"$f":"List!$C$89","v":"Alurámečky s jiným sklem"}]
[null,null,{"$f":"IF((U14=3)*AND(H210>0)*AND(H209>0),$N$228&\" \"&$N$229,IF((U14<>3)*AND(H210>0),IF(H209=0,$N$227,\" \"),\" \"))","v":"Není započtena hmotnost úchytky!"},null,null,null,null,null,null,null,null,null,null,null,null,null,null,null,{"$f":"IF(U207=1,T208,IF(U207=2,T209,T210))","v":0}]
[]
[]
[null,null,null,null,null,{"$f":"D18","v":"Korpus B"}]
[null,{"$f":"List!$C$72&\" KB [mm]       \"","v":"Šířka korpusu KB [mm]       "},null,null,null,null,null,{"$f":"H19","v":0},null,null,null,null,null,{"$f":"H215*H216*H217","v":0},null,null,null,null,{"$f":"S206","v":3.51},"alu"]
[null,{"$f":"List!$C$73&\" KH [mm]       \"","v":"Výška korpusu KH [mm]       "},null,null,null,null,null,{"$f":"H20","v":0},null,null,null,null,null,{"$f":"N215/1000000000","v":0},{"$f":"O207","v":1},null,null,null,"váha alu",{"$f":"SUM(H215*2,H216*2)*S215/10000","v":0},{"$f":"U207","v":3}]
[null,{"$f":"List!$C$77&\" TS [mm] \"","v":"Síla čela TS [mm] "},null,null,null,null,null,18,{"$f":"IF(SUM(H215,H216)=0,\" \",IF(H217=0,\" ● \"&List!$C$111,\" \"))","v":" "},null,null,null,null,{"$f":"$N$208","v":760},{"$f":"$O$208","v":"MDF (760 kg/m3)"},null,null,null,{"$f":"S208","v":10},{"$f":"SUM($H$215*$H$216*$S217)/1000000","v":0},{"$f":"List!$C$87","v":"Alurámečky s 4mm sklem"}]
[null,{"$f":"List!$C$78&\" [kg] \"","v":"Hmotnost úchytky [kg] "},null,null,null,null,null,null,{"$f":"IF($U$23=3,\" \",IF(SUM(H215,H216)=0,\" \",IF(H218=0,\" ● \"&List!$C$112,\" \")))","v":" "},null,null,null,null,{"$f":"$N$209","v":680},{"$f":"$O$209","v":"Dřevotříska (680 kg/m3)"},null,null,null,{"$f":"S209","v":15},{"$f":"SUM($H$215*$H$216*$S218)/1000000","v":0},{"$f":"List!$C$88","v":"Alurámečky s 5mm sklem"}]
[null,{"$f":"List!$C$76&\" [kg] \"","v":"Vypočtená hmotnost čela [kg] "},null,null,null,null,null,{"$f":"IF(M219=0,0,M219+2*H218)","v":0},null,null,null,null,{"$f":"IF(H215*H216*H217=0,0,IF(O216=1,N216*N217,IF(O216=2,N216*N218,N216*N219)))","v":0},{"$f":"$N$210","v":0},{"$f":"$O$210","v":"Jiné - volitelná hustota"},null,null,null,{"$f":"S210","v":0},{"$f":"SUM($H$215*$H$216*$S219)/1000000","v":0},{"$f":"List!$C$89","v":"Alurámečky s jiným sklem"}]
[null,null,{"$f":"IF((U23=3)*AND(H219>0)*AND(H218>0),$N$228&\" \"&$N$229,IF((U23<>3)*AND(H219>0),IF(H218=0,$N$227,\" \"),\" \"))","v":" "},null,null,null,null,null,null,null,null,null,null,null,null,null,null,null,{"$f":"IF(U216=1,T217,IF(U216=2,T218,T219))","v":0}]
[]
[]
[]
[null,null,null,null,null,null,{"$f":"List!$C$149","v":"Zpět"}]
[]
[]
[null,null,{"$f":"List!$C$217&\" \"&List!$C$218","v":"Upozornění: Vypočtené hodnoty jsou pouze orientační.  Firma Blum ani prodejci neručí za jejich správnost."},null,null,null,null,null,null,null,null,null,null,{"$f":"List!$C$95&\"!\"","v":"Není započtena hmotnost úchytky!"}]
[null,null,null,null,null,null,null,null,null,null,null,null,null,{"$f":"List!C96","v":"Opravdu máte úchytku na TIP-ON?"}]
[null,null,null,null,null,null,null,null,null,null,null,null,null,{"$f":"List!C97&\"!\"","v":"Jestli ne, smažte hmotnost úchytky.!"}]
[]
[]
[]
[]
[]
[]
[]
[]
[]
[]
[]
[]
[]
[]
[]
[]
[]
[]
[]
[]
[]
[]
[]
[]
[]
[]
[]
[]
[]
[]
[]
[]
[]
[]
[]
[]
[]
[]
[]
[]
[]
[]
[]
[]
[]
[]
[]
[]
[]
[]
[]
[]
[]
[]
[]
[]
[]
[]
[]
[]
[]
[]
[]
[]
[]
[]
[]
[]
[]
[]
[]
[]
[]
[]
[]
[]
[]
[]
[]
[]
[]
[]
[]
[]
[]
[]
[]
[]
[]
[]
[]
[]
[]
[]
[]
[]
[]
[]
[]
[]
[]
[]
[]
[]
[]
[]
[]
[]
[]
[]
[]
[]
[]
[]
[]
[]
[]
[]
[]
[]
[]
[]
[]
[]
[]
[]
[]
[]
[]
[]
[]
[]
[]
[]
[]
[]
[]
[]
[]
[]
[]
[]
[]
[]
[]
[]
[]
[]
[]
[]
[]
[]
[]
[]
[]
[]
[]
[]
[]
[]
[]
[]
[]
[]
[]
[]
[]
[]
[]
[]
[null,"      AVENTOS HK"]
[]
[null,{"$f":"List!$C$281","v":"Potřebný zdvihač se určí pomocí ukazatele výkonnosti."}]
[null,{"$f":"List!$C$318","v":"Ukazatel výkonnosti závisí na hmotnosti čela (včetně dvojnásobné hmotnosti úchytky) a na výšce korpusu."}]
[]
[null,{"$f":"\" \"&List!$C$295","v":" Tak se to dělá:"}]
[null,null,null,{"$f":"List!$C$80&\" = \"","v":"Ukazatel výkonnosti = "},{"$f":"List!$C$319&\" [kg]\"","v":"výška korpusu (KH) [mm] x hmotnost čela včetně dvojnásobné hmotnosti úchytky [kg]"}]
[]
[null,{"$f":"List!$C$322","v":"V případě využití třetího zdvihače můžete zvýšit ukazatel výkonnosti a tudíž hmotnost čílka o 50%."}]
[]
[null,{"$f":"List!$C$164","v":"Přídavný třetí zdvihač může být použit pouze s plným čelem!"}]
[]
[null,{"$f":"List!$C$289","v":"Pokud znáte hmotnost čela, můžete ji zadat, jinak použijte \"Výpočet hmotnosti\"."}]
[null,{"$f":"List!$C$290","v":"V tabulce má přednost zadaná hodnota. Chcete-li použít vypočtenou hmotnost, smažte zadanou hodnotu."}]
[]
[]
[null,{"$f":"List!$C$284","v":"Chcete-li změnit barvu krytek, přejděte na \"Úvod\""}]
[]
[]
[]
[]
[null,null,null,null,null,null,null,null,null,null,null,{"$f":"List!$C$149","v":"Zpět"}]

{"sheet":"HKwa","index":22,"n_rows":426,"n_cols":46,"rows_kept":426,"cut":false,"hidden":false,"merged":[[308,1,308,7],[307,8,307,9],[313,1,313,5],[315,1,315,7],[326,8,326,9],[316,1,316,7],[316,8,316,9],[317,1,317,7],[317,8,317,9],[318,1,318,7],[318,8,318,9],[34,2,36,10],[305,12,305,13],[306,8,306,9],[242,6,242,7],[213,5,213,7],[215,1,215,6],[216,1,216,6],[218,1,218,6],[223,6,223,7],[226,2,228,10],[300,0,354,0],[303,1,303,9],[304,1,304,7],[304,8,304,9],[305,1,305,7],[312,1,312,5],[308,8,308,9],[307,1,307,7],[305,8,305,9],[310,1,310,9],[306,1,306,7],[311,1,311,5],[311,6,311,9],[315,8,315,9],[319,1,319,7],[319,8,319,9],[17,3,17,7],[21,1,21,6],[231,0,258,0],[17,21,17,22],[18,1,18,6],[18,21,18,22],[20,1,20,6],[19,1,19,6],[207,1,207,6],[208,1,208,6],[197,0,230,0],[217,1,217,6],[209,1,209,6],[17,17,17,18],[215,20,215,21],[26,19,26,20],[398,0,439,0],[405,4,405,11],[6,6,6,7],[8,3,8,7],[11,1,11,6],[26,1,28,9],[12,1,12,6],[22,1,22,2],[22,3,22,6],[214,1,214,6],[13,3,13,6],[6,1,6,2],[97,0,160,0],[204,5,204,7],[205,1,205,6],[206,1,206,6],[1,1,1,2],[1,3,1,4],[206,20,206,21],[8,17,8,18],[8,21,8,22],[10,1,10,6],[9,1,9,6],[9,21,9,22],[13,1,13,2],[3,5,3,10],[1,5,1,6],[1,7,1,8],[4,6,5,10],[1,9,1,10],[23,1,23,6],[14,1,14,6],[11,43,11,44],[12,43,12,44],[14,43,15,47],[16,43,17,47],[0,43,0,51],[7,43,8,44],[7,45,8,45],[9,43,9,44],[10,43,10,44]]}
[]
[null,"AVENTOS HF",null,"AVENTOS HS",null,"AVENTOS HL",null,"AVENTOS HK top",null,"AVENTOS HK-S",null,"AVENTOS HK-XS",null,null,"rámeček",null,null,null,3,null,null,null,null,null,null,{"$f":"List!$C$135","v":"Jdi na"}]
[]
[null,{"$f":"List!$C$18&\" ***\"","v":"Široký alurámeček ***"},null,null,null,{"$f":"N200&\"       \"","v":"Alurámečky s 4mm sklem       "},null,null,null,null,null,null,null,null,1,null,null,null,{"$f":"\" \"&List!$C$39&\" A \"","v":" Cena za korpus A "},null,null,null,null,null,null,{"$f":"List!$C$136","v":"Úvod plánování"}]
[null,null,null,null,null,null,{"$f":"List!$C$47&\" \"&List!$C$22&\"       \"","v":"Nastavit hmotnost alurámečků       "},null,null,null,null,null,null,null,"A = 1",null,null,null,{"$f":"\" \"&List!$C$39&\" B \"","v":" Cena za korpus B "},null,null,null,null,null,null,{"$f":"List!$C$137","v":"Nápověda"}]
[null,null,null,null,null,null,null,null,null,null,null,null,null,null,"B = 2",null,null,null,{"$f":"\" \"&List!$C$59","v":" Cena celkem bez DPH"}]
[null,{"$f":"List!$C$142","v":"Soupis kování"},null,null,null,null,{"$f":"IF(S2=1,$N$146,IF($S$2=2,$P$146,IF($S$2=3,$L$146,0)))","v":0},null,null,null,null,null,null,null,null,null,null,null,null,null,null,null,null,null,null,{"$f":"List!$C$141","v":"Doplňky"}]
[null,null,null,null,null,null,null,{"$f":"IF(AND(OR($U$14=1, $U$23=1), $L$146>0), $N$32, \" \")","v":" "},null,null,null,null,null,null,null,null,null,null,null,null,null,null,null,null,null,null,null,null,null,null,null,null,null,null,null,null,null,null,null,null,null,null,null,{"$f":"\"  \"&List!$C$80&\" LF \"","v":"  Ukazatel výkonnosti LF "},null,{"$f":"List!$C$79","v":"Zdvihací mechanizmus"}]
[null,null,null,{"$f":"List!$C$62&\" A\"","v":"Korpus A"},null,null,null,null,null,null,null,null,null,null,null,null,null,"dva zdvihače",null,2000,{"$f":"T9-1","v":1999},"tři zdvihače",null,null,null,{"$f":"List!$C$139","v":"Přehled korpusů"}]
[null,{"$f":"List!$C$72&\" KB [mm] \"","v":"Šířka korpusu KB [mm] "},null,null,null,null,null,null,{"$f":"IF($H10=0,\" \",IF($H10<220,\" min. 220mm\",IF($H10>1800,\" max. 1 800mm\",\" \")))&IF(H15>0,IF(H10=0,\"● \"&List!$C$111,\" \"),\" \")","v":"  "},null,null,null,null,"zdvih A","dva","tři",null,"min","max","š.max","š. min",false,null,null,null,{"$f":"List!$C$140","v":"Objednávka"},null,null,null,null,null,null,null,null,null,null,null,null,null,null,null,null,null,"  420 - 1610",null,"22K2300/2310"]
[null,{"$f":"List!$C$73&\" KH [mm]  \"","v":"Výška korpusu KH [mm]  "},null,null,null,null,null,null,{"$f":"IF($H11=0,\" \",IF($H11<210,\" min. 210mm\",IF($H11>600,\" max. 600 mm ***\",\" \")))&IF(H15>0,IF(H11=0,\"● \"&List!$C$111,\" \"),\" \")","v":"  "},null,null,null,null,"K23",{"$f":"IF($V$10=FALSE,IF($H$14>R11,IF($H$14<S11,1,0),0),0)","v":0},{"$f":"IF($V$10=TRUE,IF($H$14>V11,IF($H$14<W11,1.5,0),0),0)","v":0},null,419,1200,null,null,629,1800,null,null,null,null,null,null,null,null,null,null,null,null,null,null,null,null,null,null,null,null,"  930 - 2800",null,"22K2500/2510"]
[null,{"$f":"List!$C$75&\" [kg] ** \"","v":"Hmotnost čela vč. 2x hmotnost úchytky [kg] ** "},null,null,null,null,null,null,{"$f":"IF($H15=0,\" \",IF(SUM($H12,$H13)=0,$N$34,\" \"))&IF($H15>0,IF($H12>0,$N$35,\" \"),\" \")","v":"  "},null,null,null,null,"K25",{"$f":"IF($V$10=FALSE,IF($H$14>R12,IF($H$14<S12,1,0),0),0)","v":0},{"$f":"IF($V$10=TRUE,IF($H$14>V12,IF($H$14<W12,1.5,0),0),0)","v":0},null,1200,2200,null,null,1800,3300,null,null,null,null,null,null,null,null,null,null,null,null,null,null,null,null,null,null,null,null,"  1730 - 5200",null,"22K2700/2710"]
[null,{"$f":"List!$C$76&\" [kg]       \"","v":"Vypočtená hmotnost čela [kg]       "},null,null,null,null,null,{"$f":"$H$210","v":0},{"$f":"IF($H15>0,IF($H13>0,IF($H12=0,$N$35,\" \"),\" \"),\" \")","v":" "},null,null,null,null,"K27",{"$f":"IF($V$10=FALSE,IF($H$14>R13,IF($H$14<S13,1,0),0),0)","v":0},{"$f":"IF($V$10=TRUE,IF($H$14>V13,IF($H$14<W13,1.5,0),0),0)","v":0},null,2200,4200,null,{"$f":"IF(U14=1,$V$44,IF(U14=2,$V$45,$V$46))","v":"Standard"},3300,6300,null,null,{"$f":"\" \"&List!$C$177&\" A\"","v":" Výpočet hmotnosti A"},null,null,null,null,null,null,null,null,null,null,null,null,null,null,null,null,null,"  3200 - 9000",null,"22K2900/2910"]
[null,null,null,{"$f":"List!$C$80&\" LF \"","v":"Ukazatel výkonnosti LF "},null,null,null,{"$f":"IF(H12>0,H11*H12,H11*H13)","v":0},{"$f":"IF(H15=0,\" \",IF($H14<420,$N$37,IF($H14>13500,$N$38,IF($H14>9000,IF(V10=FALSE,$N$39,\" \"),\" \"))))","v":" "},null,null,null,null,"K29",{"$f":"IF($V$10=FALSE,IF($H$14>R14,IF($H$14<S14,1,0),0),0)","v":0},{"$f":"IF($V$10=TRUE,IF($H$14>V14,IF($H$14<W14,1.5,0),0),0)","v":0},null,4200,9001,null,1,6300,13501]
[null,{"$f":"List!$C$69&\" \"","v":"Počet skříněk "},null,null,null,null,null,null,null,null,null,null,{"$f":"IF($H10*$H$11*$T15=0,0,IF($H11<210,0,IF($H14<420,0,IF($H14>13500,0,IF(H14>9000,IF(V10=FALSE,0,$H15),H$15)))))","v":0},null,null,null,null,null,"hmot =",{"$f":"IF(H12>0,H12,H13)","v":0},{"$f":"IF(SUM(H12,H13)=0,0,IF(H12>0,1,2))","v":0},"zadaná / vypočtená",null,null,null,null,null,null,null,null,null,null,null,null,null,null,null,null,null,null,null,null,null,{"$f":"List!$C$80&\" LF = \"&List!$C$73&\" KH [mm] x \"&List!$C$75&\" [kg]\"","v":"Ukazatel výkonnosti LF = Výška korpusu KH [mm] x Hmotnost čela vč. 2x hmotnost úchytky [kg]"}]
[null,{"$f":"IF(H15>0,IF(U15=0,\" \",IF(U15=1,$N$47,$N$48)),\" \")&IF(H15>0,IF(U15=0,\" \",IF(U15=1,$N$49,$N$50)),\" \")","v":"  "}]
[null,null,null,null,null,null,null,null,null,null,null,null,null,null,null,null,null,null,null,null,null,null,null,null,null,{"$f":"\" \"&List!$C$361","v":" Ověření síly zdvihače"}]
[null,null,null,{"$f":"List!$C$62&\" B\"","v":"Korpus B"},null,null,null,null,null,null,null,null,null,null,null,null,null,"dva zdvihače",null,null,null,"tři zdvihače"]
[null,{"$f":"List!$C$72&\" KB [mm] \"","v":"Šířka korpusu KB [mm] "},null,null,null,null,null,null,{"$f":"IF($H19=0,\" \",IF($H19<220,\" min. 220mm\",IF($H19>1800,\" max. 1 800mm\",\" \")))&IF(H24>0,IF(H19=0,\"● \"&List!$C$111,\" \"),\" \")","v":"  "},null,null,null,null,"zdvih B","dva","tři",null,"min","max",null,null,false]
[null,{"$f":"List!$C$73&\" KH [mm] \"","v":"Výška korpusu KH [mm] "},null,null,null,null,null,null,{"$f":"IF($H20=0,\" \",IF($H20<210,\" min. 210mm\",IF($H20>600,\" max. 600 mm ***\",\" \")))&IF(H24>0,IF(H20=0,\"● \"&List!$C$111,\" \"),\" \")","v":"  "},null,null,null,null,"K23",{"$f":"IF($V$19=FALSE,IF($H$23>R20,IF($H$23<S20,1,0),0),0)","v":0},{"$f":"IF($V$19=TRUE,IF($H$23>V20,IF($H$23<W20,1.5,0),0),0)","v":0},null,419,1200,null,null,629,1800]
[null,{"$f":"List!$C$75&\" [kg] ** \"","v":"Hmotnost čela vč. 2x hmotnost úchytky [kg] ** "},null,null,null,null,null,null,{"$f":"IF($H24=0,\" \",IF(SUM($H21,$H22)=0,$N$34,\" \"))&IF($H24>0,IF($H21>0,$N$35,\" \"),\" \")","v":"  "},null,null,null,null,"K25",{"$f":"IF($V$19=FALSE,IF($H$23>R21,IF($H$23<S21,1,0),0),0)","v":0},{"$f":"IF($V$19=TRUE,IF($H$23>V21,IF($H$23<W21,1.5,0),0),0)","v":0},null,1200,2200,null,null,1800,3300,null,null,null,null,null,null,null,null,null,null,null,null,null,null,null,null,null,null,null,null,{"$f":"List!$C$149","v":"Zpět"}]
[null,{"$f":"List!$C$76&\" [kg]       \"","v":"Vypočtená hmotnost čela [kg]       "},null,null,null,null,null,{"$f":"$H$219","v":0},{"$f":"IF($H24>0,IF($H22>0,IF($H21=0,$N$35,\" \"),\" \"),\" \")","v":" "},null,null,null,null,"K27",{"$f":"IF($V$19=FALSE,IF($H$23>R22,IF($H$23<S22,1,0),0),0)","v":0},{"$f":"IF($V$19=TRUE,IF($H$23>V22,IF($H$23<W22,1.5,0),0),0)","v":0},null,2200,4200,null,{"$f":"IF(U23=1,$V$44,IF(U23=2,$V$45,$V$46))","v":"TIP-ON"},3300,6300,null,null,{"$f":"\" \"&List!$C$177&\" B\"","v":" Výpočet hmotnosti B"}]
[null,null,null,{"$f":"List!$C$80&\" LF \"","v":"Ukazatel výkonnosti LF "},null,null,null,{"$f":"IF(H21>0,H20*H21,H20*H22)","v":0},{"$f":"IF(H24=0,\" \",IF($H23<420,$N$37,IF($H23>13500,$N$38,IF($H23>9000,IF(V19=FALSE,$N$39,\" \"),\" \"))))","v":" "},null,null,null,null,"K29",{"$f":"IF($V$19=FALSE,IF($H$23>R23,IF($H$23<S23,1,0),0),0)","v":0},{"$f":"IF($V$19=TRUE,IF($H$23>V23,IF($H$23<W23,1.5,0),0),0)","v":0},null,4200,9001,null,3,6300,13501]
[null,{"$f":"List!$C$69&\" \"","v":"Počet skříněk "},null,null,null,null,null,null,null,null,null,null,{"$f":"IF($H19*$H$20*$T24=0,0,IF($H20<210,0,IF($H23<420,0,IF($H23>13500,0,IF(H23>9000,IF(V19=FALSE,0,$H24),H$24)))))","v":0},null,null,null,null,null,"hmot =",{"$f":"IF(H21>0,H21,H22)","v":0},{"$f":"IF(SUM(H21,H22)=0,0,IF(H21>0,1,2))","v":0},"zadaná / vypočtená"]
[null,{"$f":"IF(H24>0,IF(U24=0,\" \",IF(U24=1,$N$47,$N$48)),\" \")&IF(H24>0,IF(U24=0,\" \",IF(U24=1,$N$49,$N$50)),\" \")","v":"  "}]
[]
[null,{"$f":"IF(OR(AND($U$14=2, $M$15>0), AND($U$23=2, $M$24>0)), List!$C$157, \" \")","v":" "},null,null,null,null,null,null,null,null,null,null,null,null,null,null,null,null,{"$f":"IF($T$27=FALSE,2,1)","v":2},false,null," - Zdroj"]
[]
[]
[]
[]
[null,null,{"$f":"\"** \"&List!$C$168","v":"** Pokud znáte hmotnost a nechcete využít výpočtu hmotnosti"},null,null,null,null,null,null,null,null,null,null,{"$f":"List!C158","v":"Cena bez napájecího zdroje!"}]
[null,null,{"$f":"\"*** \"&List!$C$371","v":"*** Vyberte typ alurámečku!"}]
[null,null,{"$f":"\"      \"&List!$C$372","v":"      Více informací k výběru alurámečků v Nápovědě"},null,null,null,null,null,null,null,null,null,null,{"$f":"\" \"&List!$C$103","v":" Doplňte nebo použijte \"Výpočet hmotnosti\" "}]
[null,{"$f":"IF($H$11>600,\"***\",IF($H$20>600,\"***\",\" \"))","v":" "},{"$f":"IF($H$11>600,List!$C$211,IF($H$20>600,List!$C$211,\" \"))","v":" "},null,null,null,null,null,null,null,null,null,null,{"$f":"\"◄ \"&List!$C$100","v":"◄ hodnota bude použita pro výpočet LF"}]
[null,null,null,null,null,null,null,null,null,null,null,null,null,{"$f":"\" * \"&List!$C$110","v":" * Doplňte hodnoty"}]
[null,null,null,null,null,null,null,null,null,null,null,null,null,{"$f":"\" min. 420! \"&List!$C$105","v":" min. 420! Upravte hmotnost nebo výšku"}]
[null,null,null,null,null,null,null,null,null,null,null,null,null,{"$f":"\" max. 9 000! \"&List!$C$105","v":" max. 9 000! Upravte hmotnost nebo výšku"}]
[null,null,null,null,null,null,null,null,null,null,null,null,null,{"$f":"\" max. 9 000! \"&List!$C$105","v":" max. 9 000! Upravte hmotnost nebo výšku"}]
[null,null,null,null,null,null,null,null,null,null,null,null,null,{"$f":"\"                       \"&List!$C$106","v":"                       nebo přidejte třetí zdvihač"}]
[]
[null,null,null,null,null,null,null,null,null,null,null,null,null,{"$f":"HK!$M$27","v":1},null,1,null,{"$f":"HK!$K$27","v":2},2,{"$f":"Menu!$Q$27","v":3}]
[null,null,null,null,null,null,null,null,null,null,null,null,null,"zdvihač",null,"střed.",null,"čelní kov.","alu","kryt.",null,"provedení"]
[null,null,null,null,null,null,null,null,null,null,null,null,null,"vruty",null,null,null,{"$f":"List!$C$125","v":"Expando"},null,{"$f":"List!$C$128","v":"Světle šedá (HG/T)"},null,"Standard"]
[null,null,null,null,null,null,null,null,null,null,null,null,null,"šrouby",null,null,null,{"$f":"List!$C$126","v":"na vruty"},null,{"$f":"List!$C$129","v":"Tmavě šedá (TGR)"},null,"SERVO-DRIVE"]
[null,null,null,null,null,null,null,null,null,null,null,null,null,null,null,null,null,null,null,{"$f":"List!$C$130","v":"Hedvábně bílá (SW/T)"},null,"TIP-ON"]
[null,null,null,null,null,null,null,null,null,null,null,null,null,{"$f":"List!C169&\". \"","v":"Pro určení typu zdvihače bude použita zadaná hmotnost. "}]
[null,null,null,null,null,null,null,null,null,null,null,null,null,{"$f":"List!C170&\". \"","v":"Pro určení typu zdvihače bude použita vypočtená hmotnost. "}]
[null,null,null,null,null,null,null,null,null,null,null,null,null,{"$f":"List!C171","v":"Chcete-li použít vypočtenou hmotnost, smažte zadanou hodnotu"}]
[null,null,null,null,null,null,null,null,null,null,null,null,null,{"$f":"List!C172","v":"Chcete-li použít zadanou hmotnost, zadejte ji do políčka"}]
[]
[]
[]
[]
[]
[]
[]
[]
[]
[]
[]
[]
[]
[]
[]
[]
[]
[]
[]
[]
[]
[]
[]
[]
[]
[]
[]
[]
[]
[]
[]
[]
[]
[]
[]
[]
[]
[]
[]
[]
[]
[]
[]
[]
[]
[]
[]
[null,{"$f":"List!C142","v":"Soupis kování"}]
[]
[null,{"$f":"$H$2","v":"AVENTOS HK top"},null,{"$f":"B4","v":"Široký alurámeček ***"}]
[null,{"$f":"List!C50","v":"Název"},null,null,null,null,{"$f":"List!$C$51","v":"Číslo artiklu"},null,{"$f":"List!C52","v":"Barva"},{"$f":"List!C54","v":"Ks"},{"$f":"List!C56","v":"Jednotková cena"},{"$f":"List!C57","v":"Celkem"},"A","Cena","B","Cena","C","Cena","Filtr"]
[null,{"$f":"Cen!A92","v":"Sada zdvihačů HK top, na vruty"},null,null,null,null,{"$f":"Cen!E92","v":"22K2300"},null,{"$f":"Cen!G92","v":"ZN"},{"$f":"SUM(M102,O102,Q102)","v":0},{"$f":"Cen!I92","v":0},{"$f":"J102*K102","v":0},{"$f":"IF(AND($U$14<>3,$N$42=1),ROUNDUP(SUM($O11:$P11)*$M$15,0),0)","v":0},{"$f":"$K102*M102","v":0},{"$f":"IF(AND($U$23<>3,$N$42=1),ROUNDUP(SUM($O20:$P20)*$M$24,0),0)","v":0},{"$f":"$K102*O102","v":0},null,{"$f":"$K102*Q102","v":0},"x"]
[null,{"$f":"Cen!A93","v":"Sada zdvihačů HK top, na vruty"},null,null,null,null,{"$f":"Cen!E93","v":"22K2500"},null,{"$f":"Cen!G93","v":"ZN"},0,{"$f":"Cen!I93","v":0},{"$f":"J103*K103","v":0},{"$f":"IF(AND($U$14<>3,$N$42=1),ROUNDUP(SUM($O12:$P12)*$M$15,0),0)","v":0},0,{"$f":"IF(AND($U$23<>3,$N$42=1),ROUNDUP(SUM($O21:$P21)*$M$24,0),0)","v":0},0,null,0,"x"]
[null,{"$f":"Cen!A94","v":"Sada zdvihačů HK top, na vruty"},null,null,null,null,{"$f":"Cen!E94","v":"22K2700"},null,{"$f":"Cen!G94","v":"ZN"},0,{"$f":"Cen!I94","v":0},0,{"$f":"IF(AND($U$14<>3,$N$42=1),ROUNDUP(SUM($O13:$P13)*$M$15,0),0)","v":0},0,{"$f":"IF(AND($U$23<>3,$N$42=1),ROUNDUP(SUM($O22:$P22)*$M$24,0),0)","v":0},0,null,0,"x"]
[null,{"$f":"Cen!A95","v":"Sada zdvihačů HK top, na vruty"},null,null,null,null,{"$f":"Cen!E95","v":"22K2900"},null,{"$f":"Cen!G95","v":"ZN"},0,{"$f":"Cen!I95","v":0},0,{"$f":"IF(AND($U$14<>3,$N$42=1),ROUNDUP(SUM($O14:$P14)*$M$15,0),0)","v":0},0,{"$f":"IF(AND($U$23<>3,$N$42=1),ROUNDUP(SUM($O23:$P23)*$M$24,0),0)","v":0},0,null,0,"x"]
[null,{"$f":"Cen!A96","v":"Sada zdvihačů HK top, se šrouby"},null,null,null,null,{"$f":"Cen!E96","v":"22K2310"},null,{"$f":"Cen!G96","v":"ZN"},{"$f":"SUM(M106,O106,Q106)","v":0},{"$f":"Cen!I96","v":0},{"$f":"J106*K106","v":0},{"$f":"IF(AND($U$14<>3,$N$42=2),ROUNDUP(SUM($O11:$P11)*$M$15,0),0)","v":0},{"$f":"$K106*M106","v":0},{"$f":"IF(AND($U$23<>3,$N$42=2),ROUNDUP(SUM($O20:$P20)*$M$24,0),0)","v":0},{"$f":"$K106*O106","v":0},null,{"$f":"$K106*Q106","v":0},"x"]
[null,{"$f":"Cen!A97","v":"Sada zdvihačů HK top, se šrouby"},null,null,null,null,{"$f":"Cen!E97","v":"22K2510"},null,{"$f":"Cen!G97","v":"ZN"},{"$f":"SUM(M107,O107,Q107)","v":0},{"$f":"Cen!I97","v":0},{"$f":"J107*K107","v":0},{"$f":"IF(AND($U$14<>3,$N$42=2),ROUNDUP(SUM($O12:$P12)*$M$15,0),0)","v":0},{"$f":"$K107*M107","v":0},{"$f":"IF(AND($U$23<>3,$N$42=2),ROUNDUP(SUM($O21:$P21)*$M$24,0),0)","v":0},{"$f":"$K107*O107","v":0},null,{"$f":"$K107*Q107","v":0},"x"]
[null,{"$f":"Cen!A98","v":"Sada zdvihačů HK top, se šrouby"},null,null,null,null,{"$f":"Cen!E98","v":"22K2710"},null,{"$f":"Cen!G98","v":"ZN"},{"$f":"SUM(M108,O108,Q108)","v":0},{"$f":"Cen!I98","v":0},{"$f":"J108*K108","v":0},{"$f":"IF(AND($U$14<>3,$N$42=2),ROUNDUP(SUM($O13:$P13)*$M$15,0),0)","v":0},{"$f":"$K108*M108","v":0},{"$f":"IF(AND($U$23<>3,$N$42=2),ROUNDUP(SUM($O22:$P22)*$M$24,0),0)","v":0},{"$f":"$K108*O108","v":0},null,{"$f":"$K108*Q108","v":0},"x"]
[null,{"$f":"Cen!A99","v":"Sada zdvihačů HK top, se šrouby"},null,null,null,null,{"$f":"Cen!E99","v":"22K2910"},null,{"$f":"Cen!G99","v":"ZN"},{"$f":"SUM(M109,O109,Q109)","v":0},{"$f":"Cen!I99","v":0},{"$f":"J109*K109","v":0},{"$f":"IF(AND($U$14<>3,$N$42=2),ROUNDUP(SUM($O14:$P14)*$M$15,0),0)","v":0},{"$f":"$K109*M109","v":0},{"$f":"IF(AND($U$23<>3,$N$42=2),ROUNDUP(SUM($O23:$P23)*$M$24,0),0)","v":0},{"$f":"$K109*O109","v":0},null,{"$f":"$K109*Q109","v":0},"x"]
[null,{"$f":"Cen!A100","v":"Sada krytek HK top, SERVO-DRIVE, sv.šedá"},null,null,null,null,{"$f":"Cen!E100","v":"23K8000"},null,{"$f":"Cen!G100","v":"HG "},0,{"$f":"Cen!I100","v":0},0,{"$f":"IF($U$14=2,IF($T$42=1,$M$15,0),0)","v":0},0,{"$f":"IF($U$23=2,IF($T$42=1,$M$24,0),0)","v":0},0,null,0,"x"]
[null,{"$f":"Cen!A101","v":"Sada krytek HK top, SERVO-DRIVE, tm.šedá"},null,null,null,null,{"$f":"Cen!E101","v":"23K8000"},null,{"$f":"Cen!G101","v":"TGR"},{"$f":"SUM(M111,O111,Q111)","v":0},{"$f":"Cen!I101","v":0},{"$f":"J111*K111","v":0},{"$f":"IF($U$14=2,IF($T$42=2,$M$15,0),0)","v":0},{"$f":"$K111*M111","v":0},{"$f":"IF($U$23=2,IF($T$42=2,$M$24,0),0)","v":0},{"$f":"$K111*O111","v":0},null,{"$f":"$K111*Q111","v":0},"x"]
[null,{"$f":"Cen!A102","v":"Sada krytek HK top, SERVO-DRIVE, bílá"},null,null,null,null,{"$f":"Cen!E102","v":"23K8000"},null,{"$f":"Cen!G102","v":"SW "},0,{"$f":"Cen!I102","v":0},0,{"$f":"IF($U$14=2,IF($T$42=3,$M$15,0),0)","v":0},0,{"$f":"IF($U$23=2,IF($T$42=3,$M$24,0),0)","v":0},0,null,0,"x"]
[]
[null,{"$f":"Cen!A103","v":"Sada krytek HK top, světle šedá"},null,null,null,null,{"$f":"Cen!E103","v":"22K8000"},null,{"$f":"Cen!G103","v":"HG "},0,{"$f":"Cen!I103","v":0},0,{"$f":"IF($U$14<>2,IF($T$42=1,SUM($M$102:$M$109,$M$123:$M$130),0),0)","v":0},0,{"$f":"IF($U$23<>2,IF($T$42=1,SUM($O$102:$O$109,$O$123:$O$130),0),0)","v":0},0,null,0,"x"]
[null,{"$f":"Cen!A104","v":"Sada krytek HK top, tmavě šedá"},null,null,null,null,{"$f":"Cen!E104","v":"22K8000"},null,{"$f":"Cen!G104","v":"TGR"},{"$f":"SUM(M115,O115,Q115)","v":0},{"$f":"Cen!I104","v":0},{"$f":"J115*K115","v":0},{"$f":"IF($U$14<>2,IF($T$42=2,SUM($M$102:$M$109,$M$123:$M$130),0),0)","v":0},{"$f":"$K115*M115","v":0},{"$f":"IF($U$23<>2,IF($T$42=2,SUM($O$102:$O$109,$O$123:$O$130),0),0)","v":0},{"$f":"$K115*O115","v":0},null,{"$f":"$K115*Q115","v":0},"x"]
[null,{"$f":"Cen!A105","v":"Sada krytek HK top, bílá"},null,null,null,null,{"$f":"Cen!E105","v":"22K8000"},null,{"$f":"Cen!G105","v":"SW "},{"$f":"SUM(M116,O116,Q116)","v":0},{"$f":"Cen!I105","v":0},0,{"$f":"IF($U$14<>2,IF($T$42=3,SUM($M$102:$M$109,M123:M130),0),0)","v":0},0,{"$f":"IF($U$23<>2,IF($T$42=3,SUM($O$102:$O$109,$O$123:$O$130),0),0)","v":0},0,null,0,"x"]
[]
[]
[]
[null,{"$f":"Cen!A108","v":0},null,null,null,null,{"$f":"Cen!E108","v":0},null,{"$f":"Cen!G108","v":0},null,{"$f":"Cen!I108","v":0},0,null,0,null,0,null,0]
[null,{"$f":"Cen!A109","v":0},null,null,null,null,{"$f":"Cen!E109","v":0},null,{"$f":"Cen!G109","v":0},null,{"$f":"Cen!I109","v":0},0,null,0,null,0,null,0]
[null,{"$f":"Cen!A110","v":"AVETOS HK top TIP-ON"},null,null,null,null,{"$f":"Cen!E110","v":0},null,{"$f":"Cen!G110","v":0},null,{"$f":"Cen!I110","v":0},0,null,0,null,0,null,0]
[null,{"$f":"Cen!A111","v":"Sada zdvihačů HK top, TIP-ON, na vruty"},null,null,null,null,{"$f":"Cen!E111","v":"22K2300T"},null,{"$f":"Cen!G111","v":"ZN"},0,{"$f":"Cen!I111","v":0},0,{"$f":"IF(AND($U$14=3,$N$42=1),ROUNDUP(SUM($O11:$P11)*$M$15,0),0)","v":0},0,{"$f":"IF(AND($U$23=3,$N$42=1),ROUNDUP(SUM($O20:$P20)*$M$24,0),0)","v":0},0,null,0,"x"]
[null,{"$f":"Cen!A112","v":"Sada zdvihačů HK top, TIP-ON, na vruty"},null,null,null,null,{"$f":"Cen!E112","v":"22K2500T"},null,{"$f":"Cen!G112","v":"ZN"},0,{"$f":"Cen!I112","v":0},0,{"$f":"IF(AND($U$14=3,$N$42=1),ROUNDUP(SUM($O12:$P12)*$M$15,0),0)","v":0},0,{"$f":"IF(AND($U$23=3,$N$42=1),ROUNDUP(SUM($O21:$P21)*$M$24,0),0)","v":0},0,null,0,"x"]
[null,{"$f":"Cen!A113","v":"Sada zdvihačů HK top, TIP-ON, na vruty"},null,null,null,null,{"$f":"Cen!E113","v":"22K2700T"},null,{"$f":"Cen!G113","v":"ZN"},0,{"$f":"Cen!I113","v":0},0,{"$f":"IF(AND($U$14=3,$N$42=1),ROUNDUP(SUM($O13:$P13)*$M$15,0),0)","v":0},0,{"$f":"IF(AND($U$23=3,$N$42=1),ROUNDUP(SUM($O22:$P22)*$M$24,0),0)","v":0},0,null,0,"x"]
[null,{"$f":"Cen!A114","v":"Sada zdvihačů HK top, TIP-ON, na vruty"},null,null,null,null,{"$f":"Cen!E114","v":"22K2900T"},null,{"$f":"Cen!G114","v":"ZN"},0,{"$f":"Cen!I114","v":0},0,{"$f":"IF(AND($U$14=3,$N$42=1),ROUNDUP(SUM($O14:$P14)*$M$15,0),0)","v":0},0,{"$f":"IF(AND($U$23=3,$N$42=1),ROUNDUP(SUM($O23:$P23)*$M$24,0),0)","v":0},0,null,0,"x"]
[null,{"$f":"Cen!A115","v":"Sada zdvihačů HK top, TIP-ON, se šrouby"},null,null,null,null,{"$f":"Cen!E115","v":"22K2310T"},null,{"$f":"Cen!G115","v":"ZN"},{"$f":"SUM(M127,O127,Q127)","v":0},{"$f":"Cen!I115","v":0},{"$f":"J127*K127","v":0},{"$f":"IF(AND($U$14=3,$N$42=2),ROUNDUP(SUM($O11:$P11)*$M$15,0),0)","v":0},{"$f":"$K127*M127","v":0},{"$f":"IF(AND($U$23=3,$N$42=2),ROUNDUP(SUM($O20:$P20)*$M$24,0),0)","v":0},{"$f":"$K127*O127","v":0},null,{"$f":"$K127*Q127","v":0},"x"]
[null,{"$f":"Cen!A116","v":"Sada zdvihačů HK top, TIP-ON, se šrouby"},null,null,null,null,{"$f":"Cen!E116","v":"22K2510T"},null,{"$f":"Cen!G116","v":"ZN"},{"$f":"SUM(M128,O128,Q128)","v":0},{"$f":"Cen!I116","v":0},{"$f":"J128*K128","v":0},{"$f":"IF(AND($U$14=3,$N$42=2),ROUNDUP(SUM($O12:$P12)*$M$15,0),0)","v":0},{"$f":"$K128*M128","v":0},{"$f":"IF(AND($U$23=3,$N$42=2),ROUNDUP(SUM($O21:$P21)*$M$24,0),0)","v":0},{"$f":"$K128*O128","v":0},null,{"$f":"$K128*Q128","v":0},"x"]
[null,{"$f":"Cen!A117","v":"Sada zdvihačů HK top, TIP-ON, se šrouby"},null,null,null,null,{"$f":"Cen!E117","v":"22K2710T"},null,{"$f":"Cen!G117","v":"ZN"},{"$f":"SUM(M129,O129,Q129)","v":0},{"$f":"Cen!I117","v":0},{"$f":"J129*K129","v":0},{"$f":"IF(AND($U$14=3,$N$42=2),ROUNDUP(SUM($O13:$P13)*$M$15,0),0)","v":0},{"$f":"$K129*M129","v":0},{"$f":"IF(AND($U$23=3,$N$42=2),ROUNDUP(SUM($O22:$P22)*$M$24,0),0)","v":0},{"$f":"$K129*O129","v":0},null,{"$f":"$K129*Q129","v":0},"x"]
[null,{"$f":"Cen!A118","v":"Sada zdvihačů HK top, TIP-ON, se šrouby"},null,null,null,null,{"$f":"Cen!E118","v":"22K2910T"},null,{"$f":"Cen!G118","v":"ZN"},{"$f":"SUM(M130,O130,Q130)","v":0},{"$f":"Cen!I118","v":0},{"$f":"J130*K130","v":0},{"$f":"IF(AND($U$14=3,$N$42=2),ROUNDUP(SUM($O14:$P14)*$M$15,0),0)","v":0},{"$f":"$K130*M130","v":0},{"$f":"IF(AND($U$23=3,$N$42=2),ROUNDUP(SUM($O23:$P23)*$M$24,0),0)","v":0},{"$f":"$K130*O130","v":0},null,{"$f":"$K130*Q130","v":0},"x"]
[null,{"$f":"Cen!A180","v":"TIP-ON, zkrácená délka, šedý"},null,null,null,null,{"$f":"Cen!E180","v":"956.1004"},null,{"$f":"Cen!G180","v":"PG"},0,{"$f":"Cen!I180","v":0},0,{"$f":"IF(AND($T$42<3,$U$14=3),IF($H$11<=500,$M$15,0),0)","v":0},0,{"$f":"IF(AND($T$42<3,$U$23=3),IF($H$20<=500,$M$24,0),0)","v":0},0,null,0,"x"]
[null,{"$f":"Cen!A181","v":"TIP-ON, zkrácená délka, hedv.bílý"},null,null,null,null,{"$f":"Cen!E181","v":"956.1004"},null,{"$f":"Cen!G181","v":"SW"},0,{"$f":"Cen!I181","v":0},0,{"$f":"IF(AND($T$42=3,$U$14=3),IF($H$11<=500,$M$15,0),0)","v":0},0,{"$f":"IF(AND($T$42=3,$U$23=3),IF($H$20<=500,$M$24,0),0)","v":0},0,null,0,"x"]
[null,{"$f":"Cen!A183","v":"TIP-ON, prodloužená délka, šedý"},null,null,null,null,{"$f":"Cen!E183","v":"956A1004"},null,{"$f":"Cen!G183","v":"PG"},0,{"$f":"Cen!I183","v":0},0,{"$f":"IF(AND($T$42<3,$U$14=3),IF($H$11>500,$M$15,0),0)","v":0},0,{"$f":"IF(AND($T$42<3,$U$23=3),IF($H$20>500,$M$24,0),0)","v":0},0,null,0,"x"]
[null,{"$f":"Cen!A184","v":"TIP-ON, prodloužená délka, hedv.bílý"},null,null,null,null,{"$f":"Cen!E184","v":"956A1004"},null,{"$f":"Cen!G184","v":"SW"},0,{"$f":"Cen!I184","v":0},0,{"$f":"IF(AND($T$42=3,$U$14=3),IF($H$11>500,$M$15,0),0)","v":0},0,{"$f":"IF(AND($T$42=3,$U$23=3),IF($H$20>500,$M$24,0),0)","v":0},0,null,0,"x"]
[null,{"$f":"Cen!A119","v":0},null,null,null,null,{"$f":"Cen!E119","v":0},null,{"$f":"Cen!G119","v":0},null,{"$f":"Cen!I119","v":0},0,null,0,null,0]
[null,{"$f":"Cen!A120","v":"Sada čel.kování pro dřev. čela"},null,null,null,null,{"$f":"Cen!E120","v":"20S4200"},null,{"$f":"Cen!G120","v":"NI"},{"$f":"SUM(M136,O136,Q136)","v":0},{"$f":"Cen!I120","v":0},0,{"$f":"SUM(M$102:M$109,M$123:M$130)","v":0},0,{"$f":"SUM(O$102:O$109,O$123:O$130)","v":0},0,null,null,"x"]
[null,{"$f":"Cen!A121","v":"Čelní.kování pro dřev. čela EXPANDO"},null,null,null,null,{"$f":"Cen!E121","v":"20S42E1"},null,{"$f":"Cen!G121","v":"NI"},{"$f":"SUM(M137,O137,Q137)","v":0},{"$f":"Cen!I121","v":0},0,null,0,null,0]
[null,{"$f":"Cen!A122","v":"Sada čel.kování pro úzké alurámečky"},null,null,null,null,{"$f":"Cen!E122","v":"20S4200A"},null,{"$f":"Cen!G122","v":"NI"},null,{"$f":"Cen!I122","v":0},0,null,0,null,0]
[null,{"$f":"Cen!A151","v":"CLIP top krytka raménka Nikl"},null,null,null,null,{"$f":"Cen!E151","v":"70.1503"},null,{"$f":"Cen!G151","v":"NI"},{"$f":"SUM(M139,O139,Q139)","v":0},{"$f":"Cen!I151","v":0},0,{"$f":"SUM(M$102:M$109,M123:M130)*2","v":0},0,{"$f":"SUM(O$102:O$109,O123:O130)*2","v":0},0,null,null,"x"]
[null,{"$f":"Cen!A195","v":"Samořezný vrut do alurámečků"},null,null,null,null,{"$f":"Cen!E195","v":"660.0950"},null,{"$f":"Cen!G195","v":"NI"},{"$f":"SUM(M140,O140,Q140)","v":0},{"$f":"Cen!I195","v":0},{"$f":"J140*K140","v":0},{"$f":"M136*8","v":0},{"$f":"$K140*M140","v":0},{"$f":"O136*8","v":0},{"$f":"$K140*O140","v":0},null,null,"x"]
[null,null,null,null,null,null,null,null,null,null,null,0,null,0,null,0]
[]
[null,{"$f":"Cen!A106","v":"SERVO-DRIVE top, sada pro HK top"},null,null,null,null,{"$f":"Cen!E106","v":"23KA000"},null,{"$f":"Cen!G106","v":"TGR"},{"$f":"SUM(M143,O143,Q143)","v":0},{"$f":"Cen!I106","v":0},0,{"$f":"IF($U$14=2,$M$15,0)","v":0},0,{"$f":"IF($U$23=2,$M$24,0)","v":0},0,null,null,"x"]
[]
[]
[null,null,null,null,null,null,null,null,null,null,{"$f":"List!$C$59&\" \"","v":"Cena celkem bez DPH "},{"$f":"SUM(L102:L144)","v":0},null,{"$f":"SUM(N102:N145)","v":0},null,{"$f":"SUM(P102:P145)","v":0},null,{"$f":"SUM(R102:R145)","v":0}]
[]
[null,null,null,null,null,null,null,null,null,null,null,{"$f":"List!$C$149","v":"Zpět"}]
[]
[]
[]
[]
[]
[]
[]
[]
[]
[]
[]
[]
[]
[]
[]
[]
[]
[]
[]
[]
[]
[]
[]
[]
[]
[]
[]
[]
[]
[]
[]
[]
[]
[]
[]
[]
[]
[]
[]
[]
[]
[]
[]
[]
[]
[]
[]
[]
[]
[]
[null,{"$f":"List!$C$71","v":"Výpočet hmotnosti čel"}]
[null,null,{"$f":"List!$C$161&\"  \"","v":"Provedení čel  "},null,null,null,null,null,{"$f":"IF(U206=3,IF(H200=0,N202,\" \"),IF(H200>0,N203,\" \"))","v":" "},null,null,null,null,{"$f":"IF($U$206=1,$U$227,IF($U$206=2,$U$228,$U$229&\" - \"&$N$210&\"mm\"))","v":"Alurámečky s 4mm sklem"},null,null,null,null,{"$f":"Menu!$Q$205","v":2500}]
[]
[null,null,null,null,null,null,null,null,null,null,null,null,null,{"$f":"\" \"&List!$C$226&\" [mm]\"","v":" Zadejte sílu skla [mm]"}]
[null,null,null,null,null,null,null,null,null,null,null,null,null,{"$f":"\" \"&List!$C$221&\" '\"&List!$C$89&\"'\"","v":" Hodnota platí jen pro volbu 'Alurámečky s jiným sklem'"}]
[]
[null,null,null,null,null,{"$f":"D9","v":"Korpus A"},null,null,null,null,null,null,null,null,null,null,null,null,null,"váha spoj.","tl. skla","typ alu"]
[null,{"$f":"List!$C$72&\" KB [mm]       \"","v":"Šířka korpusu KB [mm]       "},null,null,null,null,null,{"$f":"H10","v":0},null,null,null,null,null,{"$f":"H206*H207*H208","v":0},null,null,null,null,{"$f":"IF($V$206=1,$M$236,$M$237)","v":0.62},{"$f":"$M$238","v":0.61},1,{"$f":"$O$4","v":1}]
[null,{"$f":"List!$C$73&\" KH [mm]       \"","v":"Výška korpusu KH [mm]       "},null,null,null,null,null,{"$f":"H11","v":0},null,null,null,null,null,{"$f":"N206/1000000000","v":0},1,null,null,null,"váha alu",{"$f":"SUM(H206*2,(H207-90)*2)*S206/1000","v":-0.11159999999999999},"A plocha B"]
[null,{"$f":"List!$C$77&\" TS [mm] \"","v":"Síla čela TS [mm] "},null,null,null,null,null,null,null,null,null,null,null,{"$f":"Menu!$L$30","v":760},{"$f":"List!$C$84&\" (\"&N208&\" kg/m3)\"","v":"MDF (760 kg/m3)"},null,null,null,{"$f":"$S$200*4/1000","v":10},{"$f":"IF($V$206=1,U208*S208,V208*S208)","v":6.4000000000000001E-2},{"$f":"SUM(($H$206-80)*($H$207-80)/1000000)","v":6.4000000000000003E-3},{"$f":"SUM(($H$206-6)*($H$207-6)/1000000)","v":3.6000000000000001E-5},"4mm"]
[null,{"$f":"List!$C$78&\" [kg] \"","v":"Hmotnost úchytky [kg] "},null,null,null,null,null,null,{"$f":"IF($U$14=3,\" \",IF(SUM(H206,H207)=0,\" \",IF(H209=0,\" ● \"&List!$C$112,\" \")))","v":" "},null,null,null,null,{"$f":"Menu!$L$31","v":680},{"$f":"List!$C$85&\" (\"&N209&\" kg/m3)\"","v":"Dřevotříska (680 kg/m3)"},null,null,null,{"$f":"$S$200*5/1000","v":12.5},{"$f":"IF($V$206=1,U209*S209,V209*S209)","v":0.08},{"$f":"SUM(($H$206-80)*($H$207-80)/1000000)","v":6.4000000000000003E-3},{"$f":"SUM(($H$206-6)*($H$207-6)/1000000)","v":3.6000000000000001E-5},"5mm"]
[null,{"$f":"List!$C$76&\" [kg] \"","v":"Vypočtená hmotnost čela [kg] "},null,null,null,null,null,{"$f":"IF(S211=0,0,S211+2*H209)","v":0},null,null,null,null,{"$f":"IF(H206*H207*H208=0,0,IF(O207=1,N207*N208,IF(O207=2,N207*N209,N207*N210)))","v":0},{"$f":"$H$200","v":0},{"$f":"List!$C$86","v":"Jiné - volitelná hustota"},null,null,null,{"$f":"$S$200*$H$200/1000","v":0},{"$f":"IF($V$206=1,U210*S210,V210*S210)","v":0},{"$f":"SUM(($H$206-80)*($H$207-80)/1000000)","v":6.4000000000000003E-3},{"$f":"SUM(($H$206-6)*($H$207-6)/1000000)","v":3.6000000000000001E-5},"jiné"]
[null,null,{"$f":"IF((U14=3)*AND(H210>0)*AND(H209>0),$N$228&\" \"&$N$229,IF((U14<>3)*AND(H210>0),IF(H209=0,$N$227,\" \"),\" \"))","v":" "},null,null,null,null,null,null,null,null,null,null,null,null,null,null,null,{"$f":"IF(OR(AND(U206=3, $H$200=0), H206*H207=0), 0, SUM(IF(U206=1,T208,IF(U206=2,T209,T210)),T207,T206))","v":0}]
[]
[]
[null,null,null,null,null,{"$f":"D18","v":"Korpus B"},null,null,null,null,null,null,null,null,null,null,null,null,null,"váha spoj.","tl. skla","typ alu"]
[null,{"$f":"List!$C$72&\" KB [mm]       \"","v":"Šířka korpusu KB [mm]       "},null,null,null,null,null,{"$f":"H19","v":0},null,null,null,null,null,{"$f":"H215*H216*H217","v":0},null,null,null,null,{"$f":"IF($V$206=1,$M$236,$M$237)","v":0.62},{"$f":"$M$238","v":0.61},{"$f":"$U$206","v":1},{"$f":"$V$206","v":1}]
[null,{"$f":"List!$C$73&\" KH [mm]       \"","v":"Výška korpusu KH [mm]       "},null,null,null,null,null,{"$f":"H20","v":0},null,null,null,null,null,{"$f":"N215/1000000000","v":0},{"$f":"O207","v":1},null,null,null,"váha alu",{"$f":"SUM(H215*2,(H216-90)*2)*S215/1000","v":-0.11159999999999999},"A plocha B"]
[null,{"$f":"List!$C$77&\" TS [mm] \"","v":"Síla čela TS [mm] "},null,null,null,null,null,null,null,null,null,null,null,{"$f":"$N$208","v":760},{"$f":"$O$208","v":"MDF (760 kg/m3)"},null,null,null,{"$f":"S208","v":10},{"$f":"IF($V$206=1,U217*S217,V217*S217)","v":6.4000000000000001E-2},{"$f":"SUM(($H$215-80)*($H$216-80)/1000000)","v":6.4000000000000003E-3},{"$f":"SUM(($H$215-6)*($H$216-6)/1000000)","v":3.6000000000000001E-5},"4mm"]
[null,{"$f":"List!$C$78&\" [kg] \"","v":"Hmotnost úchytky [kg] "},null,null,null,null,null,null,{"$f":"IF($U$23=3,\" \",IF(SUM(H215,H216)=0,\" \",IF(H218=0,\" ● \"&List!$C$112,\" \")))","v":" "},null,null,null,null,{"$f":"$N$209","v":680},{"$f":"$O$209","v":"Dřevotříska (680 kg/m3)"},null,null,null,{"$f":"S209","v":12.5},{"$f":"IF($V$206=1,U218*S218,V218*S218)","v":0.08},{"$f":"SUM(($H$215-80)*($H$216-80)/1000000)","v":6.4000000000000003E-3},{"$f":"SUM(($H$215-6)*($H$216-6)/1000000)","v":3.6000000000000001E-5},"5mm"]
[null,{"$f":"List!$C$76&\" [kg] \"","v":"Vypočtená hmotnost čela [kg] "},null,null,null,null,null,{"$f":"IF(S220=0,0,S220+2*H218)","v":0},null,null,null,null,{"$f":"IF(H215*H216*H217=0,0,IF(O216=1,N216*N217,IF(O216=2,N216*N218,N216*N219)))","v":0},{"$f":"$N$210","v":0},{"$f":"$O$210","v":"Jiné - volitelná hustota"},null,null,null,{"$f":"S210","v":0},{"$f":"IF($V$206=1,U219*S219,V219*S219)","v":0},{"$f":"SUM(($H$215-80)*($H$216-80)/1000000)","v":6.4000000000000003E-3},{"$f":"SUM(($H$215-6)*($H$216-6)/1000000)","v":3.6000000000000001E-5},"jiné"]
[null,null,{"$f":"IF((U23=3)*AND(H219>0)*AND(H218>0),$N$228&\" \"&$N$229,IF((U23<>3)*AND(H219>0),IF(H218=0,$N$227,\" \"),\" \"))","v":" "},null,null,null,null,null,null,null,null,null,null,null,null,null,null,null,{"$f":"IF(OR(AND(U215=3, $H$200=0), H215*H216=0), 0, SUM(IF(U215=1,T217,IF(U215=2,T218,T219)),T216,T215))","v":0}]
[]
[]
[]
[null,null,null,null,null,null,{"$f":"List!$C$149","v":"Zpět"}]
[]
[]
[null,null,{"$f":"List!$C$217&\" \"&List!$C$218","v":"Upozornění: Vypočtené hodnoty jsou pouze orientační.  Firma Blum ani prodejci neručí za jejich správnost."},null,null,null,null,null,null,null,null,null,null,{"$f":"List!$C$95&\"!\"","v":"Není započtena hmotnost úchytky!"},null,null,null,null,null,null,{"$f":"List!$C$87","v":"Alurámečky s 4mm sklem"}]
[null,null,null,null,null,null,null,null,null,null,null,null,null,{"$f":"List!C96","v":"Opravdu máte úchytku na TIP-ON?"},null,null,null,null,null,null,{"$f":"List!$C$88","v":"Alurámečky s 5mm sklem"}]
[null,null,null,null,null,null,null,null,null,null,null,null,null,{"$f":"List!C97&\"!\"","v":"Jestli ne, smažte hmotnost úchytky.!"},null,null,null,null,null,null,{"$f":"List!$C$89","v":"Alurámečky s jiným sklem"}]
[]
[]
[]
[]
[]
[null,null,null,null,"Hmotnost alurámečků [kg/bm]",null,{"$f":"List!$C$368","v":"Podle Úvodu"},{"$f":"List!$C$58","v":"Změna"}]
[null,null,null,null,null,{"$f":"List!$C$373&\"  \"","v":"S vloženým sklem  "},{"$f":"Menu!$Q215","v":0.62},null,null,null,null,null,{"$f":"IF($H236>0,$H236,$G236)","v":0.62}]
[null,null,null,null,null,{"$f":"List!$C$374&\"  \"","v":"S naloženým nebo nalepeným sklem  "},0.65,null,null,null,null,null,{"$f":"IF($H237>0,$H237,$G237)","v":0.65}]
[null,null,null,null,null,{"$f":"List!$C$377&\" [kg/set] *  \"","v":"Hmotnost spojovacího materiálu [kg/set] *  "},0.61,null,null,null,null,null,{"$f":"IF($H238>0,$H238,$G238)","v":0.61}]
[]
[null,null,{"$f":"\"        * \"& List!$C$378&\"  \"","v":"        * Rohové spojky, šrouby, těsnění pro jeden rámeček  "}]
[]
[]
[null,null,null,null,null,null,{"$f":"List!$C$149","v":"Zpět"}]
[]
[]
[]
[]
[]
[]
[]
[]
[]
[]
[]
[]
[]
[]
[]
[]
[]
[]
[]
[]
[]
[]
[]
[]
[]
[]
[]
[]
[]
[]
[]
[]
[]
[]
[]
[]
[]
[]
[]
[]
[]
[]
[]
[]
[]
[]
[]
[]
[]
[]
[]
[]
[]
[]
[]
[]
[]
[]
[]
[]
[]
[]
[]
[]
[]
[]
[]
[]
[]
[]
[]
[]
[]
[]
[]
[]
[]
[]
[]
[]
[]
[]
[]
[]
[]
[]
[]
[]
[]
[]
[]
[]
[]
[]
[]
[]
[]
[]
[]
[]
[]
[]
[]
[]
[]
[]
[]
[]
[]
[]
[]
[]
[]
[]
[]
[]
[]
[]
[]
[]
[]
[]
[]
[]
[]
[]
[]
[]
[]
[]
[]
[]
[]
[]
[]
[]
[]
[]
[]
[]
[]
[]
[]
[]
[]
[]
[]
[]
[]
[]
[]
[]
[]
[]
[]
[]
[null,"      AVENTOS HK"]
[]
[null,{"$f":"List!$C$281","v":"Potřebný zdvihač se určí pomocí ukazatele výkonnosti."}]
[null,{"$f":"List!$C$318","v":"Ukazatel výkonnosti závisí na hmotnosti čela (včetně dvojnásobné hmotnosti úchytky) a na výšce korpusu."}]
[]
[null,{"$f":"\" \"&List!$C$295","v":" Tak se to dělá:"}]
[null,null,null,{"$f":"List!$C$80&\" = \"","v":"Ukazatel výkonnosti = "},{"$f":"List!$C$319&\" [kg]\"","v":"výška korpusu (KH) [mm] x hmotnost čela včetně dvojnásobné hmotnosti úchytky [kg]"}]
[]
[]
[]
[]
[]
[null,{"$f":"List!$C$289","v":"Pokud znáte hmotnost čela, můžete ji zadat, jinak použijte \"Výpočet hmotnosti\"."}]
[null,{"$f":"List!$C$290","v":"V tabulce má přednost zadaná hodnota. Chcete-li použít vypočtenou hmotnost, smažte zadanou hodnotu."}]
[]
[]
[null,{"$f":"List!$C$284","v":"Chcete-li změnit barvu krytek, přejděte na \"Úvod\""}]
[]
[null,{"$f":"List!$C$383","v":"Věnujte pozornost výběru alurámečků."}]
[null,{"$f":"List!$C$384","v":"Vyberte, který typ lépe odpovídá tvaru použitého alurámečku."}]
[null,{"$f":"List!$C$385","v":"Způsob osazení skla do rámečku výrazně ovlivňuje plochu skla a tím i hmotnost!"}]
[]
[null,null,{"$f":"\"  \"&List!$C$373&\"  \"","v":"  S vloženým sklem  "}]
[]
[null,null,{"$f":"\"  \"&List!$C$374&\"  \"","v":"  S naloženým nebo nalepeným sklem  "}]
[]
[null,null,null,null,null,null,null,null,null,null,null,{"$f":"List!$C$149","v":"Zpět"}]

{"sheet":"HKna","index":23,"n_rows":426,"n_cols":46,"rows_kept":426,"cut":false,"hidden":false,"merged":[[8,17,8,18],[8,21,8,22],[9,1,9,6],[6,6,6,7],[8,3,8,7],[9,21,9,22],[1,9,1,10],[3,5,3,10],[11,1,11,6],[26,1,28,9],[305,1,305,7],[304,8,304,9],[214,1,214,6],[1,3,1,4],[1,5,1,6],[1,7,1,8],[12,1,12,6],[10,1,10,6],[4,6,5,10],[1,1,1,2],[6,1,6,2],[17,3,17,7],[307,8,307,9],[310,1,310,9],[306,1,306,7],[306,8,306,9],[13,1,13,2],[13,3,13,6],[22,1,22,2],[398,0,439,0],[405,4,405,11],[318,8,318,9],[319,1,319,7],[319,8,319,9],[300,0,354,0],[304,1,304,7],[316,1,316,7],[313,1,313,5],[305,8,305,9],[326,8,326,9],[308,1,308,7],[315,1,315,7],[317,1,317,7],[317,8,317,9],[307,1,307,7],[305,12,305,13],[34,2,36,10],[205,1,205,6],[0,43,0,51],[7,43,8,44],[7,45,8,45],[9,43,9,44],[10,43,10,44],[18,21,18,22],[20,1,20,6],[19,1,19,6],[23,1,23,6],[18,1,18,6],[22,3,22,6],[226,2,228,10],[223,6,223,7],[318,1,318,7],[303,1,303,9],[308,8,308,9],[21,1,21,6],[206,1,206,6],[311,1,311,5],[218,1,218,6],[217,1,217,6],[213,5,213,7],[209,1,209,6],[207,1,207,6],[208,1,208,6],[316,8,316,9],[315,8,315,9],[311,6,311,9],[312,1,312,5],[231,0,258,0],[242,6,242,7],[215,20,215,21],[215,1,215,6],[216,1,216,6],[17,21,17,22],[14,1,14,6],[11,43,11,44],[97,0,160,0],[206,20,206,21],[197,0,230,0],[204,5,204,7],[12,43,12,44],[14,43,15,47],[16,43,17,47],[26,19,26,20],[17,17,17,18]]}
[]
[null,"AVENTOS HF",null,"AVENTOS HS",null,"AVENTOS HL",null,"AVENTOS HK top",null,"AVENTOS HK-S",null,"AVENTOS HK-XS",null,null,"rámeček",null,null,null,3,null,null,null,null,null,null,{"$f":"List!$C$135","v":"Jdi na"}]
[]
[null,{"$f":"List!$C$20&\" ***\"","v":"Úzký alurámeček ***"},null,null,null,{"$f":"N200&\"       \"","v":"Alurámečky s 4mm sklem       "},null,null,null,null,null,null,null,null,1,null,null,null,{"$f":"\" \"&List!$C$39&\" A \"","v":" Cena za korpus A "},null,null,null,null,null,null,{"$f":"List!$C$136","v":"Úvod plánování"}]
[null,null,null,null,null,null,{"$f":"List!$C$47&\" \"&List!$C$22&\"       \"","v":"Nastavit hmotnost alurámečků       "},null,null,null,null,null,null,null,"A = 1",null,null,null,{"$f":"\" \"&List!$C$39&\" B \"","v":" Cena za korpus B "},null,null,null,null,null,null,{"$f":"List!$C$137","v":"Nápověda"}]
[null,null,null,null,null,null,null,null,null,null,null,null,null,null,"B = 2",null,null,null,{"$f":"\" \"&List!$C$59","v":" Cena celkem bez DPH"}]
[null,{"$f":"List!$C$142","v":"Soupis kování"},null,null,null,null,{"$f":"IF(S2=1,$N$146,IF($S$2=2,$P$146,IF($S$2=3,$L$146,0)))","v":0},null,null,null,null,null,null,null,null,null,null,null,null,null,null,null,null,null,null,{"$f":"List!$C$141","v":"Doplňky"}]
[null,null,null,null,null,null,null,{"$f":"IF(AND(OR($U$14=1, $U$23=1), $L$146>0), $N$32, \" \")","v":" "},null,null,null,null,null,null,null,null,null,null,null,null,null,null,null,null,null,null,null,null,null,null,null,null,null,null,null,null,null,null,null,null,null,null,null,{"$f":"\"  \"&List!$C$80&\" LF \"","v":"  Ukazatel výkonnosti LF "},null,{"$f":"List!$C$79","v":"Zdvihací mechanizmus"}]
[null,null,null,{"$f":"List!$C$62&\" A\"","v":"Korpus A"},null,null,null,null,null,null,null,null,null,null,null,null,null,"dva zdvihače",null,2000,{"$f":"T9-1","v":1999},"tři zdvihače",null,null,null,{"$f":"List!$C$139","v":"Přehled korpusů"}]
[null,{"$f":"List!$C$72&\" KB [mm] \"","v":"Šířka korpusu KB [mm] "},null,null,null,null,null,null,{"$f":"IF($H10=0,\" \",IF($H10<220,\" min. 220mm\",IF($H10>1800,\" max. 1 800mm\",\" \")))&IF(H15>0,IF(H10=0,\"● \"&List!$C$111,\" \"),\" \")","v":"  "},null,null,null,null,"zdvih A","dva","tři",null,"min","max","š.max","š. min",false,null,null,null,{"$f":"List!$C$140","v":"Objednávka"},null,null,null,null,null,null,null,null,null,null,null,null,null,null,null,null,null,"  420 - 1610",null,"22K2300/2310"]
[null,{"$f":"List!$C$73&\" KH [mm]  \"","v":"Výška korpusu KH [mm]  "},null,null,null,null,null,null,{"$f":"IF($H11=0,\" \",IF($H11<210,\" min. 210mm\",IF($H11>600,\" max. 600 mm ***\",\" \")))&IF(H15>0,IF(H11=0,\"● \"&List!$C$111,\" \"),\" \")","v":"  "},null,null,null,null,"K23",{"$f":"IF($V$10=FALSE,IF($H$14>R11,IF($H$14<S11,1,0),0),0)","v":0},{"$f":"IF($V$10=TRUE,IF($H$14>V11,IF($H$14<W11,1.5,0),0),0)","v":0},null,419,1200,null,null,629,1800,null,null,null,null,null,null,null,null,null,null,null,null,null,null,null,null,null,null,null,null,"  930 - 2800",null,"22K2500/2510"]
[null,{"$f":"List!$C$75&\" [kg] ** \"","v":"Hmotnost čela vč. 2x hmotnost úchytky [kg] ** "},null,null,null,null,null,null,{"$f":"IF($H15=0,\" \",IF(SUM($H12,$H13)=0,$N$34,\" \"))&IF($H15>0,IF($H12>0,$N$35,\" \"),\" \")","v":"  "},null,null,null,null,"K25",{"$f":"IF($V$10=FALSE,IF($H$14>R12,IF($H$14<S12,1,0),0),0)","v":0},{"$f":"IF($V$10=TRUE,IF($H$14>V12,IF($H$14<W12,1.5,0),0),0)","v":0},null,1200,2200,null,null,1800,3300,null,null,null,null,null,null,null,null,null,null,null,null,null,null,null,null,null,null,null,null,"  1730 - 5200",null,"22K2700/2710"]
[null,{"$f":"List!$C$76&\" [kg]       \"","v":"Vypočtená hmotnost čela [kg]       "},null,null,null,null,null,{"$f":"$H$210","v":0},{"$f":"IF($H15>0,IF($H13>0,IF($H12=0,$N$35,\" \"),\" \"),\" \")","v":" "},null,null,null,null,"K27",{"$f":"IF($V$10=FALSE,IF($H$14>R13,IF($H$14<S13,1,0),0),0)","v":0},{"$f":"IF($V$10=TRUE,IF($H$14>V13,IF($H$14<W13,1.5,0),0),0)","v":0},null,2200,4200,null,{"$f":"IF(U14=1,$V$44,IF(U14=2,$V$45,$V$46))","v":"SERVO-DRIVE"},3300,6300,null,null,{"$f":"\" \"&List!$C$177&\" A\"","v":" Výpočet hmotnosti A"},null,null,null,null,null,null,null,null,null,null,null,null,null,null,null,null,null,"  3200 - 9000",null,"22K2900/2910"]
[null,null,null,{"$f":"List!$C$80&\" LF \"","v":"Ukazatel výkonnosti LF "},null,null,null,{"$f":"IF(H12>0,H11*H12,H11*H13)","v":0},{"$f":"IF(H15=0,\" \",IF($H14<420,$N$37,IF($H14>13500,$N$38,IF($H14>9000,IF(V10=FALSE,$N$39,\" \"),\" \"))))","v":" "},null,null,null,null,"K29",{"$f":"IF($V$10=FALSE,IF($H$14>R14,IF($H$14<S14,1,0),0),0)","v":0},{"$f":"IF($V$10=TRUE,IF($H$14>V14,IF($H$14<W14,1.5,0),0),0)","v":0},null,4200,9001,null,2,6300,13501]
[null,{"$f":"List!$C$69&\" \"","v":"Počet skříněk "},null,null,null,null,null,null,null,null,null,null,{"$f":"IF($H10*$H$11*$T15=0,0,IF($H11<210,0,IF($H14<420,0,IF($H14>13500,0,IF(H14>9000,IF(V10=FALSE,0,$H15),H$15)))))","v":0},null,null,null,null,null,"hmot =",{"$f":"IF(H12>0,H12,H13)","v":0},{"$f":"IF(SUM(H12,H13)=0,0,IF(H12>0,1,2))","v":0},"zadaná / vypočtená",null,null,null,null,null,null,null,null,null,null,null,null,null,null,null,null,null,null,null,null,null,{"$f":"List!$C$80&\" LF = \"&List!$C$73&\" KH [mm] x \"&List!$C$75&\" [kg]\"","v":"Ukazatel výkonnosti LF = Výška korpusu KH [mm] x Hmotnost čela vč. 2x hmotnost úchytky [kg]"}]
[null,{"$f":"IF(H15>0,IF(U15=0,\" \",IF(U15=1,$N$47,$N$48)),\" \")&IF(H15>0,IF(U15=0,\" \",IF(U15=1,$N$49,$N$50)),\" \")","v":"  "}]
[null,null,null,null,null,null,null,null,null,null,null,null,null,null,null,null,null,null,null,null,null,null,null,null,null,{"$f":"\" \"&List!$C$361","v":" Ověření síly zdvihače"}]
[null,null,null,{"$f":"List!$C$62&\" B\"","v":"Korpus B"},null,null,null,null,null,null,null,null,null,null,null,null,null,"dva zdvihače",null,null,null,"tři zdvihače"]
[null,{"$f":"List!$C$72&\" KB [mm] \"","v":"Šířka korpusu KB [mm] "},null,null,null,null,null,null,{"$f":"IF($H19=0,\" \",IF($H19<220,\" min. 220mm\",IF($H19>1800,\" max. 1 800mm\",\" \")))&IF(H24>0,IF(H19=0,\"● \"&List!$C$111,\" \"),\" \")","v":"  "},null,null,null,null,"zdvih B","dva","tři",null,"min","max",null,null,false]
[null,{"$f":"List!$C$73&\" KH [mm] \"","v":"Výška korpusu KH [mm] "},null,null,null,null,null,null,{"$f":"IF($H20=0,\" \",IF($H20<210,\" min. 210mm\",IF($H20>600,\" max. 600 mm ***\",\" \")))&IF(H24>0,IF(H20=0,\"● \"&List!$C$111,\" \"),\" \")","v":"  "},null,null,null,null,"K23",{"$f":"IF($V$19=FALSE,IF($H$23>R20,IF($H$23<S20,1,0),0),0)","v":0},{"$f":"IF($V$19=TRUE,IF($H$23>V20,IF($H$23<W20,1.5,0),0),0)","v":0},null,419,1200,null,null,629,1800]
[null,{"$f":"List!$C$75&\" [kg] ** \"","v":"Hmotnost čela vč. 2x hmotnost úchytky [kg] ** "},null,null,null,null,null,null,{"$f":"IF($H24=0,\" \",IF(SUM($H21,$H22)=0,$N$34,\" \"))&IF($H24>0,IF($H21>0,$N$35,\" \"),\" \")","v":"  "},null,null,null,null,"K25",{"$f":"IF($V$19=FALSE,IF($H$23>R21,IF($H$23<S21,1,0),0),0)","v":0},{"$f":"IF($V$19=TRUE,IF($H$23>V21,IF($H$23<W21,1.5,0),0),0)","v":0},null,1200,2200,null,null,1800,3300,null,null,null,null,null,null,null,null,null,null,null,null,null,null,null,null,null,null,null,null,{"$f":"List!$C$149","v":"Zpět"}]
[null,{"$f":"List!$C$76&\" [kg]       \"","v":"Vypočtená hmotnost čela [kg]       "},null,null,null,null,null,{"$f":"$H$219","v":0},{"$f":"IF($H24>0,IF($H22>0,IF($H21=0,$N$35,\" \"),\" \"),\" \")","v":" "},null,null,null,null,"K27",{"$f":"IF($V$19=FALSE,IF($H$23>R22,IF($H$23<S22,1,0),0),0)","v":0},{"$f":"IF($V$19=TRUE,IF($H$23>V22,IF($H$23<W22,1.5,0),0),0)","v":0},null,2200,4200,null,{"$f":"IF(U23=1,$V$44,IF(U23=2,$V$45,$V$46))","v":"TIP-ON"},3300,6300,null,null,{"$f":"\" \"&List!$C$177&\" B\"","v":" Výpočet hmotnosti B"}]
[null,null,null,{"$f":"List!$C$80&\" LF \"","v":"Ukazatel výkonnosti LF "},null,null,null,{"$f":"IF(H21>0,H20*H21,H20*H22)","v":0},{"$f":"IF(H24=0,\" \",IF($H23<480,$N$37,IF($H23>13500,$N$38,IF($H23>9000,IF(V19=FALSE,$N$39,\" \"),\" \"))))","v":" "},null,null,null,null,"K29",{"$f":"IF($V$19=FALSE,IF($H$23>R23,IF($H$23<S23,1,0),0),0)","v":0},{"$f":"IF($V$19=TRUE,IF($H$23>V23,IF($H$23<W23,1.5,0),0),0)","v":0},null,4200,9001,null,3,6300,13501]
[null,{"$f":"List!$C$69&\" \"","v":"Počet skříněk "},null,null,null,null,null,null,null,null,null,null,{"$f":"IF($H19*$H$20*$T24=0,0,IF($H20<210,0,IF($H23<420,0,IF($H23>13500,0,IF(H23>9000,IF(V19=FALSE,0,$H24),H$24)))))","v":0},null,null,null,null,null,"hmot =",{"$f":"IF(H21>0,H21,H22)","v":0},{"$f":"IF(SUM(H21,H22)=0,0,IF(H21>0,1,2))","v":0},"zadaná / vypočtená"]
[null,{"$f":"IF(H24>0,IF(U24=0,\" \",IF(U24=1,$N$47,$N$48)),\" \")&IF(H24>0,IF(U24=0,\" \",IF(U24=1,$N$49,$N$50)),\" \")","v":"  "}]
[]
[null,{"$f":"IF(OR(AND($U$14=2, $M$15>0), AND($U$23=2, $M$24>0)), List!$C$157, \" \")","v":" "},null,null,null,null,null,null,null,null,null,null,null,null,null,null,null,null,{"$f":"IF($T$27=FALSE,2,1)","v":2},false,null," - Zdroj"]
[]
[]
[]
[]
[null,null,{"$f":"\"** \"&List!$C$168","v":"** Pokud znáte hmotnost a nechcete využít výpočtu hmotnosti"},null,null,null,null,null,null,null,null,null,null,{"$f":"List!C158","v":"Cena bez napájecího zdroje!"}]
[null,null,{"$f":"\"*** \"&List!$C$371","v":"*** Vyberte typ alurámečku!"}]
[null,null,{"$f":"\"      \"&List!$C$372","v":"      Více informací k výběru alurámečků v Nápovědě"},null,null,null,null,null,null,null,null,null,null,{"$f":"\" \"&List!$C$103","v":" Doplňte nebo použijte \"Výpočet hmotnosti\" "}]
[null,{"$f":"IF($H$11>600,\"***\",IF($H$20>600,\"***\",\" \"))","v":" "},{"$f":"IF($H$11>600,List!$C$211,IF($H$20>600,List!$C$211,\" \"))","v":" "},null,null,null,null,null,null,null,null,null,null,{"$f":"\"◄ \"&List!$C$100","v":"◄ hodnota bude použita pro výpočet LF"}]
[null,null,null,null,null,null,null,null,null,null,null,null,null,{"$f":"\" * \"&List!$C$110","v":" * Doplňte hodnoty"}]
[null,null,null,null,null,null,null,null,null,null,null,null,null,{"$f":"\" min. 420! \"&List!$C$105","v":" min. 420! Upravte hmotnost nebo výšku"}]
[null,null,null,null,null,null,null,null,null,null,null,null,null,{"$f":"\" max. 13.500! \"&List!$C$105","v":" max. 13.500! Upravte hmotnost nebo výšku"}]
[null,null,null,null,null,null,null,null,null,null,null,null,null,{"$f":"\" max. 9 000! \"&List!$C$105","v":" max. 9 000! Upravte hmotnost nebo výšku"}]
[null,null,null,null,null,null,null,null,null,null,null,null,null,{"$f":"\"                       \"&List!$C$106","v":"                       nebo přidejte třetí zdvihač"}]
[]
[null,null,null,null,null,null,null,null,null,null,null,null,null,{"$f":"HK!$M$27","v":1},null,1,null,1,null,{"$f":"Menu!$Q$27","v":3}]
[null,null,null,null,null,null,null,null,null,null,null,null,null,"zdvihač",null,"střed.",null,"čelní kov.",null,"kryt.",null,"provedení"]
[null,null,null,null,null,null,null,null,null,null,null,null,null,"vruty",null,null,null,null,null,{"$f":"List!$C$128","v":"Světle šedá (HG/T)"},null,"Standard"]
[null,null,null,null,null,null,null,null,null,null,null,null,null,"šrouby",null,null,null,null,null,{"$f":"List!$C$129","v":"Tmavě šedá (TGR)"},null,"SERVO-DRIVE"]
[null,null,null,null,null,null,null,null,null,null,null,null,null,null,null,null,null,null,null,{"$f":"List!$C$130","v":"Hedvábně bílá (SW/T)"},null,"TIP-ON"]
[null,null,null,null,null,null,null,null,null,null,null,null,null,{"$f":"List!C169&\". \"","v":"Pro určení typu zdvihače bude použita zadaná hmotnost. "}]
[null,null,null,null,null,null,null,null,null,null,null,null,null,{"$f":"List!C170&\". \"","v":"Pro určení typu zdvihače bude použita vypočtená hmotnost. "}]
[null,null,null,null,null,null,null,null,null,null,null,null,null,{"$f":"List!C171","v":"Chcete-li použít vypočtenou hmotnost, smažte zadanou hodnotu"}]
[null,null,null,null,null,null,null,null,null,null,null,null,null,{"$f":"List!C172","v":"Chcete-li použít zadanou hmotnost, zadejte ji do políčka"}]
[]
[]
[]
[]
[]
[]
[]
[]
[]
[]
[]
[]
[]
[]
[]
[]
[]
[]
[]
[]
[]
[]
[]
[]
[]
[]
[]
[]
[]
[]
[]
[]
[]
[]
[]
[]
[]
[]
[]
[]
[]
[]
[]
[]
[]
[]
[]
[null,{"$f":"List!C142","v":"Soupis kování"}]
[]
[null,{"$f":"$H$2","v":"AVENTOS HK top"},null,{"$f":"B4","v":"Úzký alurámeček ***"}]
[null,{"$f":"List!C50","v":"Název"},null,null,null,null,{"$f":"List!$C$51","v":"Číslo artiklu"},null,{"$f":"List!C52","v":"Barva"},{"$f":"List!C54","v":"Ks"},{"$f":"List!C56","v":"Jednotková cena"},{"$f":"List!C57","v":"Celkem"},"A","Cena","B","Cena","C","Cena","Filtr"]
[null,{"$f":"Cen!A92","v":"Sada zdvihačů HK top, na vruty"},null,null,null,null,{"$f":"Cen!E92","v":"22K2300"},null,{"$f":"Cen!G92","v":"ZN"},{"$f":"SUM(M102,O102,Q102)","v":0},{"$f":"Cen!I92","v":0},{"$f":"J102*K102","v":0},{"$f":"IF(AND($U$14<>3,$N$42=1),ROUNDUP(SUM($O11:$P11)*$M$15,0),0)","v":0},{"$f":"$K102*M102","v":0},{"$f":"IF(AND($U$23<>3,$N$42=1),ROUNDUP(SUM($O20:$P20)*$M$24,0),0)","v":0},{"$f":"$K102*O102","v":0},null,{"$f":"$K102*Q102","v":0},"x"]
[null,{"$f":"Cen!A93","v":"Sada zdvihačů HK top, na vruty"},null,null,null,null,{"$f":"Cen!E93","v":"22K2500"},null,{"$f":"Cen!G93","v":"ZN"},0,{"$f":"Cen!I93","v":0},{"$f":"J103*K103","v":0},{"$f":"IF(AND($U$14<>3,$N$42=1),ROUNDUP(SUM($O12:$P12)*$M$15,0),0)","v":0},0,{"$f":"IF(AND($U$23<>3,$N$42=1),ROUNDUP(SUM($O21:$P21)*$M$24,0),0)","v":0},0,null,0,"x"]
[null,{"$f":"Cen!A94","v":"Sada zdvihačů HK top, na vruty"},null,null,null,null,{"$f":"Cen!E94","v":"22K2700"},null,{"$f":"Cen!G94","v":"ZN"},0,{"$f":"Cen!I94","v":0},0,{"$f":"IF(AND($U$14<>3,$N$42=1),ROUNDUP(SUM($O13:$P13)*$M$15,0),0)","v":0},0,{"$f":"IF(AND($U$23<>3,$N$42=1),ROUNDUP(SUM($O22:$P22)*$M$24,0),0)","v":0},0,null,0,"x"]
[null,{"$f":"Cen!A95","v":"Sada zdvihačů HK top, na vruty"},null,null,null,null,{"$f":"Cen!E95","v":"22K2900"},null,{"$f":"Cen!G95","v":"ZN"},0,{"$f":"Cen!I95","v":0},0,{"$f":"IF(AND($U$14<>3,$N$42=1),ROUNDUP(SUM($O14:$P14)*$M$15,0),0)","v":0},0,{"$f":"IF(AND($U$23<>3,$N$42=1),ROUNDUP(SUM($O23:$P23)*$M$24,0),0)","v":0},0,null,0,"x"]
[null,{"$f":"Cen!A96","v":"Sada zdvihačů HK top, se šrouby"},null,null,null,null,{"$f":"Cen!E96","v":"22K2310"},null,{"$f":"Cen!G96","v":"ZN"},{"$f":"SUM(M106,O106,Q106)","v":0},{"$f":"Cen!I96","v":0},{"$f":"J106*K106","v":0},{"$f":"IF(AND($U$14<>3,$N$42=2),ROUNDUP(SUM($O11:$P11)*$M$15,0),0)","v":0},{"$f":"$K106*M106","v":0},{"$f":"IF(AND($U$23<>3,$N$42=2),ROUNDUP(SUM($O20:$P20)*$M$24,0),0)","v":0},{"$f":"$K106*O106","v":0},null,{"$f":"$K106*Q106","v":0},"x"]
[null,{"$f":"Cen!A97","v":"Sada zdvihačů HK top, se šrouby"},null,null,null,null,{"$f":"Cen!E97","v":"22K2510"},null,{"$f":"Cen!G97","v":"ZN"},{"$f":"SUM(M107,O107,Q107)","v":0},{"$f":"Cen!I97","v":0},{"$f":"J107*K107","v":0},{"$f":"IF(AND($U$14<>3,$N$42=2),ROUNDUP(SUM($O12:$P12)*$M$15,0),0)","v":0},{"$f":"$K107*M107","v":0},{"$f":"IF(AND($U$23<>3,$N$42=2),ROUNDUP(SUM($O21:$P21)*$M$24,0),0)","v":0},{"$f":"$K107*O107","v":0},null,{"$f":"$K107*Q107","v":0},"x"]
[null,{"$f":"Cen!A98","v":"Sada zdvihačů HK top, se šrouby"},null,null,null,null,{"$f":"Cen!E98","v":"22K2710"},null,{"$f":"Cen!G98","v":"ZN"},{"$f":"SUM(M108,O108,Q108)","v":0},{"$f":"Cen!I98","v":0},{"$f":"J108*K108","v":0},{"$f":"IF(AND($U$14<>3,$N$42=2),ROUNDUP(SUM($O13:$P13)*$M$15,0),0)","v":0},{"$f":"$K108*M108","v":0},{"$f":"IF(AND($U$23<>3,$N$42=2),ROUNDUP(SUM($O22:$P22)*$M$24,0),0)","v":0},{"$f":"$K108*O108","v":0},null,{"$f":"$K108*Q108","v":0},"x"]
[null,{"$f":"Cen!A99","v":"Sada zdvihačů HK top, se šrouby"},null,null,null,null,{"$f":"Cen!E99","v":"22K2910"},null,{"$f":"Cen!G99","v":"ZN"},{"$f":"SUM(M109,O109,Q109)","v":0},{"$f":"Cen!I99","v":0},{"$f":"J109*K109","v":0},{"$f":"IF(AND($U$14<>3,$N$42=2),ROUNDUP(SUM($O14:$P14)*$M$15,0),0)","v":0},{"$f":"$K109*M109","v":0},{"$f":"IF(AND($U$23<>3,$N$42=2),ROUNDUP(SUM($O23:$P23)*$M$24,0),0)","v":0},{"$f":"$K109*O109","v":0},null,{"$f":"$K109*Q109","v":0},"x"]
[null,{"$f":"Cen!A100","v":"Sada krytek HK top, SERVO-DRIVE, sv.šedá"},null,null,null,null,{"$f":"Cen!E100","v":"23K8000"},null,{"$f":"Cen!G100","v":"HG "},0,{"$f":"Cen!I100","v":0},0,{"$f":"IF($U$14=2,IF($T$42=1,$M$15,0),0)","v":0},0,{"$f":"IF($U$23=2,IF($T$42=2,$M$24,0),0)","v":0},0,null,0,"x"]
[null,{"$f":"Cen!A101","v":"Sada krytek HK top, SERVO-DRIVE, tm.šedá"},null,null,null,null,{"$f":"Cen!E101","v":"23K8000"},null,{"$f":"Cen!G101","v":"TGR"},{"$f":"SUM(M111,O111,Q111)","v":0},{"$f":"Cen!I101","v":0},{"$f":"J111*K111","v":0},{"$f":"IF($U$14=2,IF($T$42=2,$M$15,0),0)","v":0},{"$f":"$K111*M111","v":0},{"$f":"IF($U$23=2,IF($T$42=3,$M$24,0),0)","v":0},{"$f":"$K111*O111","v":0},null,{"$f":"$K111*Q111","v":0},"x"]
[null,{"$f":"Cen!A102","v":"Sada krytek HK top, SERVO-DRIVE, bílá"},null,null,null,null,{"$f":"Cen!E102","v":"23K8000"},null,{"$f":"Cen!G102","v":"SW "},0,{"$f":"Cen!I102","v":0},0,{"$f":"IF($U$14=2,IF($T$42=3,$M$15,0),0)","v":0},0,{"$f":"IF($U$23=2,IF($T$42=2,$M$24,0),0)","v":0},0,null,0,"x"]
[]
[null,{"$f":"Cen!A103","v":"Sada krytek HK top, světle šedá"},null,null,null,null,{"$f":"Cen!E103","v":"22K8000"},null,{"$f":"Cen!G103","v":"HG "},{"$f":"SUM(M114,O114,Q114)","v":0},{"$f":"Cen!I103","v":0},0,{"$f":"IF($U$14<>2,IF($T$42=1,SUM($M$102:$M$109,$M$123:$M$130),0),0)","v":0},0,{"$f":"IF($U$23<>2,IF($T$42=1,SUM($O$102:$O$109,$O$123:$O$130),0),0)","v":0},0,null,0,"x"]
[null,{"$f":"Cen!A104","v":"Sada krytek HK top, tmavě šedá"},null,null,null,null,{"$f":"Cen!E104","v":"22K8000"},null,{"$f":"Cen!G104","v":"TGR"},{"$f":"SUM(M115,O115,Q115)","v":0},{"$f":"Cen!I104","v":0},{"$f":"J115*K115","v":0},{"$f":"IF($U$14<>2,IF($T$42=2,SUM($M$102:$M$109,$M$123:$M$130),0),0)","v":0},{"$f":"$K115*M115","v":0},{"$f":"IF($U$23<>2,IF($T$42=2,SUM($O$102:$O$109,$O$123:$O$130),0),0)","v":0},{"$f":"$K115*O115","v":0},null,{"$f":"$K115*Q115","v":0},"x"]
[null,{"$f":"Cen!A105","v":"Sada krytek HK top, bílá"},null,null,null,null,{"$f":"Cen!E105","v":"22K8000"},null,{"$f":"Cen!G105","v":"SW "},0,{"$f":"Cen!I105","v":0},0,{"$f":"IF($U$14<>2,IF($T$42=3,SUM($M$102:$M$109,M123:M130),0),0)","v":0},0,{"$f":"IF($U$23<>2,IF($T$42=3,SUM($O$102:$O$109,$O$123:$O$130),0),0)","v":0},0,null,0,"x"]
[]
[]
[]
[null,{"$f":"Cen!A108","v":0},null,null,null,null,{"$f":"Cen!E108","v":0},null,{"$f":"Cen!G108","v":0},null,{"$f":"Cen!I108","v":0},0,null,0,null,0,null,0]
[null,{"$f":"Cen!A109","v":0},null,null,null,null,{"$f":"Cen!E109","v":0},null,{"$f":"Cen!G109","v":0},null,{"$f":"Cen!I109","v":0},0,null,0,null,0,null,0]
[null,{"$f":"Cen!A110","v":"AVETOS HK top TIP-ON"},null,null,null,null,{"$f":"Cen!E110","v":0},null,{"$f":"Cen!G110","v":0},null,{"$f":"Cen!I110","v":0},0,null,0,null,0,null,0]
[null,{"$f":"Cen!A111","v":"Sada zdvihačů HK top, TIP-ON, na vruty"},null,null,null,null,{"$f":"Cen!E111","v":"22K2300T"},null,{"$f":"Cen!G111","v":"ZN"},0,{"$f":"Cen!I111","v":0},0,{"$f":"IF(AND($U$14=3,$N$42=1),ROUNDUP(SUM($O11:$P11)*$M$15,0),0)","v":0},0,{"$f":"IF(AND($U$23=3,$N$42=1),ROUNDUP(SUM($O20:$P20)*$M$24,0),0)","v":0},0,null,0,"x"]
[null,{"$f":"Cen!A112","v":"Sada zdvihačů HK top, TIP-ON, na vruty"},null,null,null,null,{"$f":"Cen!E112","v":"22K2500T"},null,{"$f":"Cen!G112","v":"ZN"},0,{"$f":"Cen!I112","v":0},0,{"$f":"IF(AND($U$14=3,$N$42=1),ROUNDUP(SUM($O12:$P12)*$M$15,0),0)","v":0},0,{"$f":"IF(AND($U$23=3,$N$42=1),ROUNDUP(SUM($O21:$P21)*$M$24,0),0)","v":0},0,null,0,"x"]
[null,{"$f":"Cen!A113","v":"Sada zdvihačů HK top, TIP-ON, na vruty"},null,null,null,null,{"$f":"Cen!E113","v":"22K2700T"},null,{"$f":"Cen!G113","v":"ZN"},0,{"$f":"Cen!I113","v":0},0,{"$f":"IF(AND($U$14=3,$N$42=1),ROUNDUP(SUM($O13:$P13)*$M$15,0),0)","v":0},0,{"$f":"IF(AND($U$23=3,$N$42=1),ROUNDUP(SUM($O22:$P22)*$M$24,0),0)","v":0},0,null,0,"x"]
[null,{"$f":"Cen!A114","v":"Sada zdvihačů HK top, TIP-ON, na vruty"},null,null,null,null,{"$f":"Cen!E114","v":"22K2900T"},null,{"$f":"Cen!G114","v":"ZN"},0,{"$f":"Cen!I114","v":0},0,{"$f":"IF(AND($U$14=3,$N$42=1),ROUNDUP(SUM($O14:$P14)*$M$15,0),0)","v":0},0,{"$f":"IF(AND($U$23=3,$N$42=1),ROUNDUP(SUM($O23:$P23)*$M$24,0),0)","v":0},0,null,0,"x"]
[null,{"$f":"Cen!A115","v":"Sada zdvihačů HK top, TIP-ON, se šrouby"},null,null,null,null,{"$f":"Cen!E115","v":"22K2310T"},null,{"$f":"Cen!G115","v":"ZN"},{"$f":"SUM(M127,O127,Q127)","v":0},{"$f":"Cen!I115","v":0},{"$f":"J127*K127","v":0},{"$f":"IF(AND($U$14=3,$N$42=2),ROUNDUP(SUM($O11:$P11)*$M$15,0),0)","v":0},{"$f":"$K127*M127","v":0},{"$f":"IF(AND($U$23=3,$N$42=2),ROUNDUP(SUM($O20:$P20)*$M$24,0),0)","v":0},{"$f":"$K127*O127","v":0},null,{"$f":"$K127*Q127","v":0},"x"]
[null,{"$f":"Cen!A116","v":"Sada zdvihačů HK top, TIP-ON, se šrouby"},null,null,null,null,{"$f":"Cen!E116","v":"22K2510T"},null,{"$f":"Cen!G116","v":"ZN"},{"$f":"SUM(M128,O128,Q128)","v":0},{"$f":"Cen!I116","v":0},{"$f":"J128*K128","v":0},{"$f":"IF(AND($U$14=3,$N$42=2),ROUNDUP(SUM($O12:$P12)*$M$15,0),0)","v":0},{"$f":"$K128*M128","v":0},{"$f":"IF(AND($U$23=3,$N$42=2),ROUNDUP(SUM($O21:$P21)*$M$24,0),0)","v":0},{"$f":"$K128*O128","v":0},null,{"$f":"$K128*Q128","v":0},"x"]
[null,{"$f":"Cen!A117","v":"Sada zdvihačů HK top, TIP-ON, se šrouby"},null,null,null,null,{"$f":"Cen!E117","v":"22K2710T"},null,{"$f":"Cen!G117","v":"ZN"},{"$f":"SUM(M129,O129,Q129)","v":0},{"$f":"Cen!I117","v":0},{"$f":"J129*K129","v":0},{"$f":"IF(AND($U$14=3,$N$42=2),ROUNDUP(SUM($O13:$P13)*$M$15,0),0)","v":0},{"$f":"$K129*M129","v":0},{"$f":"IF(AND($U$23=3,$N$42=2),ROUNDUP(SUM($O22:$P22)*$M$24,0),0)","v":0},{"$f":"$K129*O129","v":0},null,{"$f":"$K129*Q129","v":0},"x"]
[null,{"$f":"Cen!A118","v":"Sada zdvihačů HK top, TIP-ON, se šrouby"},null,null,null,null,{"$f":"Cen!E118","v":"22K2910T"},null,{"$f":"Cen!G118","v":"ZN"},{"$f":"SUM(M130,O130,Q130)","v":0},{"$f":"Cen!I118","v":0},{"$f":"J130*K130","v":0},{"$f":"IF(AND($U$14=3,$N$42=2),ROUNDUP(SUM($O14:$P14)*$M$15,0),0)","v":0},{"$f":"$K130*M130","v":0},{"$f":"IF(AND($U$23=3,$N$42=2),ROUNDUP(SUM($O23:$P23)*$M$24,0),0)","v":0},{"$f":"$K130*O130","v":0},null,{"$f":"$K130*Q130","v":0},"x"]
[null,{"$f":"Cen!A180","v":"TIP-ON, zkrácená délka, šedý"},null,null,null,null,{"$f":"Cen!E180","v":"956.1004"},null,{"$f":"Cen!G180","v":"PG"},0,{"$f":"Cen!I180","v":0},0,{"$f":"IF(AND($T$42<3,$U$14=3),IF($H$11<=500,$M$15,0),0)","v":0},0,{"$f":"IF(AND($T$42<3,$U$23=3),IF($H$20<=500,$M$24,0),0)","v":0},0,null,0,"x"]
[null,{"$f":"Cen!A181","v":"TIP-ON, zkrácená délka, hedv.bílý"},null,null,null,null,{"$f":"Cen!E181","v":"956.1004"},null,{"$f":"Cen!G181","v":"SW"},0,{"$f":"Cen!I181","v":0},0,{"$f":"IF(AND($T$42=3,$U$14=3),IF($H$11<=500,$M$15,0),0)","v":0},0,{"$f":"IF(AND($T$42=3,$U$23=3),IF($H$20<=500,$M$24,0),0)","v":0},0,null,0,"x"]
[null,{"$f":"Cen!A183","v":"TIP-ON, prodloužená délka, šedý"},null,null,null,null,{"$f":"Cen!E183","v":"956A1004"},null,{"$f":"Cen!G183","v":"PG"},0,{"$f":"Cen!I183","v":0},0,{"$f":"IF(AND($T$42<3,$U$14=3),IF($H$11>500,$M$15,0),0)","v":0},0,{"$f":"IF(AND($T$42<3,$U$23=3),IF($H$20>500,$M$24,0),0)","v":0},0,null,0,"x"]
[null,{"$f":"Cen!A184","v":"TIP-ON, prodloužená délka, hedv.bílý"},null,null,null,null,{"$f":"Cen!E184","v":"956A1004"},null,{"$f":"Cen!G184","v":"SW"},0,{"$f":"Cen!I184","v":0},0,{"$f":"IF(AND($T$42=3,$U$14=3),IF($H$11>500,$M$15,0),0)","v":0},0,{"$f":"IF(AND($T$42=3,$U$23=3),IF($H$20>500,$M$24,0),0)","v":0},0,null,0,"x"]
[null,{"$f":"Cen!A119","v":0},null,null,null,null,{"$f":"Cen!E119","v":0},null,{"$f":"Cen!G119","v":0},null,{"$f":"Cen!I119","v":0},0,null,0,null,0]
[null,{"$f":"Cen!A120","v":"Sada čel.kování pro dřev. čela"},null,null,null,null,{"$f":"Cen!E120","v":"20S4200"},null,{"$f":"Cen!G120","v":"NI"},0,{"$f":"Cen!I120","v":0},0,null,0,null,0]
[null,{"$f":"Cen!A121","v":"Čelní.kování pro dřev. čela EXPANDO"},null,null,null,null,{"$f":"Cen!E121","v":"20S42E1"},null,{"$f":"Cen!G121","v":"NI"},0,{"$f":"Cen!I121","v":0},0,null,0,null,0]
[null,{"$f":"Cen!A122","v":"Sada čel.kování pro úzké alurámečky"},null,null,null,null,{"$f":"Cen!E122","v":"20S4200A"},null,{"$f":"Cen!G122","v":"NI"},{"$f":"SUM(M138,O138,Q138)","v":0},{"$f":"Cen!I122","v":0},0,{"$f":"SUM(M102:M109,M123:M130)","v":0},0,{"$f":"SUM(O102:O109,O123:O130)","v":0},0,null,null,"x"]
[null,{"$f":"Cen!A151","v":"CLIP top krytka raménka Nikl"},null,null,null,null,{"$f":"Cen!E151","v":"70.1503"},null,{"$f":"Cen!G151","v":"NI"},{"$f":"SUM(M139,O139,Q139)","v":0},{"$f":"Cen!I151","v":0},0,{"$f":"SUM(M$102:M$109,M123:M130)*2","v":0},0,{"$f":"SUM(O$102:O$109,O123:O130)*2","v":0},0,null,null,"x"]
[null,null,null,null,null,null,null,null,null,null,null,0,null,0,null,0]
[null,null,null,null,null,null,null,null,null,null,null,0,null,0,null,0]
[]
[null,{"$f":"Cen!A106","v":"SERVO-DRIVE top, sada pro HK top"},null,null,null,null,{"$f":"Cen!E106","v":"23KA000"},null,{"$f":"Cen!G106","v":"TGR"},{"$f":"SUM(M143,O143,Q143)","v":0},{"$f":"Cen!I106","v":0},0,{"$f":"IF($U$14=2,$M$15,0)","v":0},0,{"$f":"IF($U$23=2,$M$24,0)","v":0},0,null,null,"x"]
[]
[]
[null,null,null,null,null,null,null,null,null,null,{"$f":"List!$C$59&\" \"","v":"Cena celkem bez DPH "},{"$f":"SUM(L102:L144)","v":0},null,{"$f":"SUM(N102:N145)","v":0},null,{"$f":"SUM(P102:P145)","v":0},null,{"$f":"SUM(R102:R145)","v":0}]
[]
[null,null,null,null,null,null,null,null,null,null,null,{"$f":"List!$C$149","v":"Zpět"}]
[]
[]
[]
[]
[]
[]
[]
[]
[]
[]
[]
[]
[]
[]
[]
[]
[]
[]
[]
[]
[]
[]
[]
[]
[]
[]
[]
[]
[]
[]
[]
[]
[]
[]
[]
[]
[]
[]
[]
[]
[]
[]
[]
[]
[]
[]
[]
[]
[]
[]
[null,{"$f":"List!$C$71","v":"Výpočet hmotnosti čel"}]
[null,null,{"$f":"List!$C$161&\"  \"","v":"Provedení čel  "},null,null,null,null,null,{"$f":"IF(U206=3,IF(H200=0,N202,\" \"),IF(H200>0,N203,\" \"))","v":" "},null,null,null,null,{"$f":"IF($U$206=1,$U$227,IF($U$206=2,$U$228,$U$229&\" - \"&$N$210&\"mm\"))","v":"Alurámečky s 4mm sklem"},null,null,null,null,{"$f":"Menu!$Q$205","v":2500}]
[]
[null,null,null,null,null,null,null,null,null,null,null,null,null,{"$f":"\" \"&List!$C$226&\" [mm]\"","v":" Zadejte sílu skla [mm]"}]
[null,null,null,null,null,null,null,null,null,null,null,null,null,{"$f":"\" \"&List!$C$221&\" '\"&List!$C$89&\"'\"","v":" Hodnota platí jen pro volbu 'Alurámečky s jiným sklem'"}]
[]
[null,null,null,null,null,{"$f":"D9","v":"Korpus A"},null,null,null,null,null,null,null,null,null,null,null,null,null,"váha spoj.","tl. skla","typ alu"]
[null,{"$f":"List!$C$72&\" KB [mm]       \"","v":"Šířka korpusu KB [mm]       "},null,null,null,null,null,{"$f":"H10","v":0},null,null,null,null,null,{"$f":"H206*H207*H208","v":0},null,null,null,null,{"$f":"IF($V$206=1,$M$236,$M$237)","v":0.31},{"$f":"$M$238","v":0.46},1,{"$f":"$O$4","v":1}]
[null,{"$f":"List!$C$73&\" KH [mm]       \"","v":"Výška korpusu KH [mm]       "},null,null,null,null,null,{"$f":"H11","v":0},null,null,null,null,null,{"$f":"N206/1000000000","v":0},1,null,null,null,"váha alu",{"$f":"SUM(H206*2,(H207-40)*2)*S206/1000","v":-2.4799999999999999E-2},"A plocha B"]
[null,{"$f":"List!$C$77&\" TS [mm] \"","v":"Síla čela TS [mm] "},null,null,null,null,null,null,null,null,null,null,null,{"$f":"Menu!$L$30","v":760},{"$f":"List!$C$84&\" (\"&N208&\" kg/m3)\"","v":"MDF (760 kg/m3)"},null,null,null,{"$f":"$S$200*4/1000","v":10},{"$f":"IF($V$206=1,U208*S208,V208*S208)","v":8.9999999999999993E-3},{"$f":"SUM(($H$206-30)*($H$207-30)/1000000)","v":8.9999999999999998E-4},{"$f":"SUM(($H$206-6)*($H$207-6)/1000000)","v":3.6000000000000001E-5},"4mm"]
[null,{"$f":"List!$C$78&\" [kg] \"","v":"Hmotnost úchytky [kg] "},null,null,null,null,null,null,{"$f":"IF($U$14=3,\" \",IF(SUM(H206,H207)=0,\" \",IF(H209=0,\" ● \"&List!$C$112,\" \")))","v":" "},null,null,null,null,{"$f":"Menu!$L$31","v":680},{"$f":"List!$C$85&\" (\"&N209&\" kg/m3)\"","v":"Dřevotříska (680 kg/m3)"},null,null,null,{"$f":"$S$200*5/1000","v":12.5},{"$f":"IF($V$206=1,U209*S209,V209*S209)","v":1.125E-2},{"$f":"SUM(($H$206-30)*($H$207-30)/1000000)","v":8.9999999999999998E-4},{"$f":"SUM(($H$206-6)*($H$207-6)/1000000)","v":3.6000000000000001E-5},"5mm"]
[null,{"$f":"List!$C$76&\" [kg] \"","v":"Vypočtená hmotnost čela [kg] "},null,null,null,null,null,{"$f":"IF(S211=0,0,S211+2*H209)","v":0},null,null,null,null,{"$f":"IF(H206*H207*H208=0,0,IF(O207=1,N207*N208,IF(O207=2,N207*N209,N207*N210)))","v":0},{"$f":"$H$200","v":0},{"$f":"List!$C$86","v":"Jiné - volitelná hustota"},null,null,null,{"$f":"$S$200*$H$200/1000","v":0},{"$f":"IF($V$206=1,U210*S210,V210*S210)","v":0},{"$f":"SUM(($H$206-30)*($H$207-30)/1000000)","v":8.9999999999999998E-4},{"$f":"SUM(($H$206-6)*($H$207-6)/1000000)","v":3.6000000000000001E-5},"jiné"]
[null,null,{"$f":"IF((U14=3)*AND(H210>0)*AND(H209>0),$N$228&\" \"&$N$229,IF((U14<>3)*AND(H210>0),IF(H209=0,$N$227,\" \"),\" \"))","v":" "},null,null,null,null,null,null,null,null,null,null,null,null,null,null,null,{"$f":"IF(OR(AND(U206=3, $H$200=0), H206*H207=0), 0, SUM(IF(U206=1,T208,IF(U206=2,T209,T210)),T207,T206))","v":0}]
[]
[]
[null,null,null,null,null,{"$f":"D18","v":"Korpus B"},null,null,null,null,null,null,null,null,null,null,null,null,null,"váha spoj.","tl. skla","typ alu"]
[null,{"$f":"List!$C$72&\" KB [mm]       \"","v":"Šířka korpusu KB [mm]       "},null,null,null,null,null,{"$f":"H19","v":0},null,null,null,null,null,{"$f":"H215*H216*H217","v":0},null,null,null,null,{"$f":"IF($V$206=1,$M$236,$M$237)","v":0.31},{"$f":"$M$238","v":0.46},{"$f":"$U$206","v":1},{"$f":"$V$206","v":1}]
[null,{"$f":"List!$C$73&\" KH [mm]       \"","v":"Výška korpusu KH [mm]       "},null,null,null,null,null,{"$f":"H20","v":0},null,null,null,null,null,{"$f":"N215/1000000000","v":0},{"$f":"O207","v":1},null,null,null,"váha alu",{"$f":"SUM(H215*2,(H216-40)*2)*S215/1000","v":-2.4799999999999999E-2},"A plocha B"]
[null,{"$f":"List!$C$77&\" TS [mm] \"","v":"Síla čela TS [mm] "},null,null,null,null,null,null,null,null,null,null,null,{"$f":"$N$208","v":760},{"$f":"$O$208","v":"MDF (760 kg/m3)"},null,null,null,{"$f":"S208","v":10},{"$f":"IF($V$206=1,U217*S217,V217*S217)","v":8.9999999999999993E-3},{"$f":"SUM(($H$215-30)*($H$216-30)/1000000)","v":8.9999999999999998E-4},{"$f":"SUM(($H$215-6)*($H$216-6)/1000000)","v":3.6000000000000001E-5},"4mm"]
[null,{"$f":"List!$C$78&\" [kg] \"","v":"Hmotnost úchytky [kg] "},null,null,null,null,null,null,{"$f":"IF($U$23=3,\" \",IF(SUM(H215,H216)=0,\" \",IF(H218=0,\" ● \"&List!$C$112,\" \")))","v":" "},null,null,null,null,{"$f":"$N$209","v":680},{"$f":"$O$209","v":"Dřevotříska (680 kg/m3)"},null,null,null,{"$f":"S209","v":12.5},{"$f":"IF($V$206=1,U218*S218,V218*S218)","v":1.125E-2},{"$f":"SUM(($H$215-30)*($H$216-30)/1000000)","v":8.9999999999999998E-4},{"$f":"SUM(($H$215-6)*($H$216-6)/1000000)","v":3.6000000000000001E-5},"5mm"]
[null,{"$f":"List!$C$76&\" [kg] \"","v":"Vypočtená hmotnost čela [kg] "},null,null,null,null,null,{"$f":"IF(S220=0,0,S220+2*H218)","v":0},null,null,null,null,{"$f":"IF(H215*H216*H217=0,0,IF(O216=1,N216*N217,IF(O216=2,N216*N218,N216*N219)))","v":0},{"$f":"$N$210","v":0},{"$f":"$O$210","v":"Jiné - volitelná hustota"},null,null,null,{"$f":"S210","v":0},{"$f":"IF($V$206=1,U219*S219,V219*S219)","v":0},{"$f":"SUM(($H$215-30)*($H$216-30)/1000000)","v":8.9999999999999998E-4},{"$f":"SUM(($H$215-6)*($H$216-6)/1000000)","v":3.6000000000000001E-5},"jiné"]
[null,null,{"$f":"IF((U23=3)*AND(H219>0)*AND(H218>0),$N$228&\" \"&$N$229,IF((U23<>3)*AND(H219>0),IF(H218=0,$N$227,\" \"),\" \"))","v":" "},null,null,null,null,null,null,null,null,null,null,null,null,null,null,null,{"$f":"IF(OR(AND(U215=3, $H$200=0), H215*H216=0), 0, SUM(IF(U215=1,T217,IF(U215=2,T218,T219)),T216,T215))","v":0}]
[]
[]
[]
[null,null,null,null,null,null,{"$f":"List!$C$149","v":"Zpět"}]
[]
[]
[null,null,{"$f":"List!$C$217&\" \"&List!$C$218","v":"Upozornění: Vypočtené hodnoty jsou pouze orientační.  Firma Blum ani prodejci neručí za jejich správnost."},null,null,null,null,null,null,null,null,null,null,{"$f":"List!$C$95&\"!\"","v":"Není započtena hmotnost úchytky!"},null,null,null,null,null,null,{"$f":"List!$C$87","v":"Alurámečky s 4mm sklem"}]
[null,null,null,null,null,null,null,null,null,null,null,null,null,{"$f":"List!C96","v":"Opravdu máte úchytku na TIP-ON?"},null,null,null,null,null,null,{"$f":"List!$C$88","v":"Alurámečky s 5mm sklem"}]
[null,null,null,null,null,null,null,null,null,null,null,null,null,{"$f":"List!C97&\"!\"","v":"Jestli ne, smažte hmotnost úchytky.!"},null,null,null,null,null,null,{"$f":"List!$C$89","v":"Alurámečky s jiným sklem"}]
[]
[]
[]
[]
[]
[null,null,null,null,"Hmotnost alurámečků [kg/bm]",null,{"$f":"List!$C$368","v":"Podle Úvodu"},{"$f":"List!$C$58","v":"Změna"}]
[null,null,null,null,null,{"$f":"List!$C$375&\"  \"","v":"S vloženým sklem  "},{"$f":"Menu!$Q220","v":0.31},null,null,null,null,null,{"$f":"IF($H236>0,$H236,$G236)","v":0.31}]
[null,null,null,null,null,{"$f":"List!$C$376&\"  \"","v":"S naloženým nebo nalepeným sklem  "},{"$f":"Menu!$Q221","v":0.32},null,null,null,null,null,{"$f":"IF($H237>0,$H237,$G237)","v":0.32}]
[null,null,null,null,null,{"$f":"List!$C$377&\" [kg/set] *  \"","v":"Hmotnost spojovacího materiálu [kg/set] *  "},{"$f":"Menu!$Q222","v":0.46},null,null,null,null,null,{"$f":"IF($H238>0,$H238,$G238)","v":0.46}]
[]
[null,null,{"$f":"\"        * \"& List!$C$378&\"  \"","v":"        * Rohové spojky, šrouby, těsnění pro jeden rámeček  "}]
[]
[]
[null,null,null,null,null,null,{"$f":"List!$C$149","v":"Zpět"}]
[]
[]
[]
[]
[]
[]
[]
[]
[]
[]
[]
[]
[]
[]
[]
[]
[]
[]
[]
[]
[]
[]
[]
[]
[]
[]
[]
[]
[]
[]
[]
[]
[]
[]
[]
[]
[]
[]
[]
[]
[]
[]
[]
[]
[]
[]
[]
[]
[]
[]
[]
[]
[]
[]
[]
[]
[]
[]
[]
[]
[]
[]
[]
[]
[]
[]
[]
[]
[]
[]
[]
[]
[]
[]
[]
[]
[]
[]
[]
[]
[]
[]
[]
[]
[]
[]
[]
[]
[]
[]
[]
[]
[]
[]
[]
[]
[]
[]
[]
[]
[]
[]
[]
[]
[]
[]
[]
[]
[]
[]
[]
[]
[]
[]
[]
[]
[]
[]
[]
[]
[]
[]
[]
[]
[]
[]
[]
[]
[]
[]
[]
[]
[]
[]
[]
[]
[]
[]
[]
[]
[]
[]
[]
[]
[]
[]
[]
[]
[]
[]
[]
[]
[]
[]
[]
[]
[null,"      AVENTOS HK"]
[]
[null,{"$f":"List!$C$281","v":"Potřebný zdvihač se určí pomocí ukazatele výkonnosti."}]
[null,{"$f":"List!$C$318","v":"Ukazatel výkonnosti závisí na hmotnosti čela (včetně dvojnásobné hmotnosti úchytky) a na výšce korpusu."}]
[]
[null,{"$f":"\" \"&List!$C$295","v":" Tak se to dělá:"}]
[null,null,null,{"$f":"List!$C$80&\" = \"","v":"Ukazatel výkonnosti = "},{"$f":"List!$C$319&\" [kg]\"","v":"výška korpusu (KH) [mm] x hmotnost čela včetně dvojnásobné hmotnosti úchytky [kg]"}]
[]
[]
[]
[]
[]
[null,{"$f":"List!$C$289","v":"Pokud znáte hmotnost čela, můžete ji zadat, jinak použijte \"Výpočet hmotnosti\"."}]
[null,{"$f":"List!$C$290","v":"V tabulce má přednost zadaná hodnota. Chcete-li použít vypočtenou hmotnost, smažte zadanou hodnotu."}]
[]
[]
[null,{"$f":"List!$C$284","v":"Chcete-li změnit barvu krytek, přejděte na \"Úvod\""}]
[]
[null,{"$f":"List!$C$383","v":"Věnujte pozornost výběru alurámečků."}]
[null,{"$f":"List!$C$384","v":"Vyberte, který typ lépe odpovídá tvaru použitého alurámečku."}]
[null,{"$f":"List!$C$385","v":"Způsob osazení skla do rámečku výrazně ovlivňuje plochu skla a tím i hmotnost!"}]
[]
[null,null,{"$f":"\"  \"&List!$C$375&\"  \"","v":"  S vloženým sklem  "}]
[]
[null,null,{"$f":"\"  \"&List!$C$376&\"  \"","v":"  S naloženým nebo nalepeným sklem  "}]
[]
[null,null,null,null,null,null,null,null,null,null,null,{"$f":"List!$C$149","v":"Zpět"}]

{"sheet":"HKSw","index":24,"n_rows":427,"n_cols":46,"rows_kept":427,"cut":false,"hidden":false,"merged":[[0,43,0,51],[13,43,14,47],[15,43,16,47],[7,43,8,44],[7,45,8,45],[11,43,11,44],[12,43,12,44],[9,43,9,44],[10,43,10,44],[307,12,307,13],[310,8,310,9],[313,6,313,9],[309,8,309,9],[320,1,320,7],[307,8,307,9],[312,1,312,9],[314,1,314,5],[310,1,310,7],[308,1,308,7],[308,8,308,9],[320,8,320,9],[317,1,317,7],[317,8,317,9],[302,0,356,0],[305,1,305,9],[306,1,306,7],[306,8,306,9],[307,1,307,7],[328,8,328,9],[318,1,318,7],[318,8,318,9],[319,1,319,7],[319,8,319,9],[309,1,309,7],[321,8,321,9],[321,1,321,7],[199,0,250,0],[206,5,206,7],[207,1,207,6],[208,1,208,6],[209,1,209,6],[211,1,211,6],[228,2,230,10],[218,1,218,6],[202,3,202,7],[210,1,210,6],[219,1,219,6],[225,6,225,7],[26,19,26,20],[1,9,1,10],[3,5,3,10],[1,3,1,4],[1,5,1,6],[1,7,1,8],[22,3,22,6],[14,1,14,6],[13,3,13,6],[22,1,22,2],[9,1,9,6],[1,1,1,2],[6,1,6,2],[8,21,8,22],[11,1,11,6],[17,21,17,22],[18,1,18,6],[18,21,18,22],[9,21,9,22],[17,3,17,7],[29,2,32,10],[21,1,21,6],[23,1,23,6],[20,1,20,6],[19,1,19,6],[400,0,441,0],[6,6,6,7],[8,3,8,7],[8,17,8,18],[220,1,220,6],[215,5,215,7],[313,1,313,5],[97,0,164,0],[12,1,12,6],[13,1,13,2],[407,4,407,11],[10,1,10,6],[17,17,17,18],[216,1,216,6],[217,1,217,6],[315,1,315,5]]}
[]
[null,"AVENTOS HF",null,"AVENTOS HS",null,"AVENTOS HL",null,"AVENTOS HK top",null,"AVENTOS HK-S",null,"AVENTOS HK-XS",null,null,null,null,null,null,3,null,null,null,null,null,null,{"$f":"List!$C$135","v":"Jdi na"}]
[]
[null,{"$f":"List!$C$15","v":"Dřevěné čelo"},null,null,null,{"$f":"N202&\"       \"","v":"MDF (760 kg/m3) A~/ B~mm       "},null,null,null,null,null,null,null,null,null,null,null,null,{"$f":"\" \"&List!$C$39&\" A \"","v":" Cena za korpus A "},null,null,null,null,null,null,{"$f":"List!$C$136","v":"Úvod plánování"}]
[null,null,null,null,null,null,null,null,null,null,null,null,null,null,null,null,null,null,{"$f":"\" \"&List!$C$39&\" B \"","v":" Cena za korpus B "},null,null,null,null,null,null,{"$f":"List!$C$137","v":"Nápověda"}]
[null,null,null,null,null,null,null,null,null,null,null,null,null,null,null,null,null,null,{"$f":"\" \"&List!$C$59","v":" Cena celkem bez DPH"}]
[null,{"$f":"List!$C$142","v":"Soupis kování"},null,null,null,null,{"$f":"IF(S2=1,$N$142,IF($S$2=2,$P$142,IF($S$2=3,$L$142,0)))","v":0},null,null,null,null,null,null,null,null,null,null,null,null,null,null,null,null,null,null,{"$f":"List!$C$141","v":"Doplňky"}]
[null,null,null,null,null,null,null,null,null,null,null,null,null,null,null,null,null,null,null,null,null,null,null,null,null,null,null,null,null,null,null,null,null,null,null,null,null,null,null,null,null,null,null,{"$f":"\"  \"&List!$C$80&\" LF \"","v":"  Ukazatel výkonnosti LF "},null,{"$f":"List!$C$79","v":"Zdvihací mechanizmus"}]
[null,null,null,{"$f":"List!$C$62&\" A\"","v":"Korpus A"},null,null,null,null,null,null,null,null,null,null,null,null,null,"dva zdvihače",null,null,null,"tři zdvihače",null,null,null,{"$f":"List!$C$139","v":"Přehled korpusů"}]
[null,{"$f":"List!$C$72&\" KB [mm] \"","v":"Šířka korpusu KB [mm] "},null,null,null,null,null,null,{"$f":"IF($H10=0,\" \",IF($H10<220,\" min. 220mm\",IF($H10>1800,\" max. 1 800mm\",\" \")))&IF(H15>0,IF(H10=0,\"● \"&List!$C$111,\" \"),\" \")","v":"  "},null,null,null,null,"zdvih A","dva","tři",null,"min","max","š.max","š. min",false,null,null,null,{"$f":"List!$C$140","v":"Objednávka"},null,null,null,null,null,null,null,null,null,null,null,null,null,null,null,null,null,"  220 - 500",null,"20K2B00.02"]
[null,{"$f":"List!$C$73&\" KH [mm]  \"","v":"Výška korpusu KH [mm]  "},null,null,null,null,null,null,{"$f":"IF($H11=0,\" \",IF($H11<190,\" min. 190mm\",IF($H11>600,\" max. 600 mm!\",\" \")))&IF(H15>0,IF(H11=0,\"● \"&List!$C$111,\" \"),\" \")","v":"  "},null,null,null,null,"K2B",{"$f":"IF($V$10=FALSE,IF($H$14>R11,IF($H$14<S11,1,0),0),0)","v":0},{"$f":"IF($V$10=TRUE,IF($H$14>V11,IF($H$14<W11,2,0),0),0)","v":0},null,219.99,450,null,null,329.99,670,null,null,null,null,null,null,null,null,null,null,null,null,null,null,null,null,null,null,null,null,"  400 - 1.000",null,"20K2C00.02"]
[null,{"$f":"List!$C$75&\" [kg] ** \"","v":"Hmotnost čela vč. 2x hmotnost úchytky [kg] ** "},null,null,null,null,null,null,{"$f":"IF($H15=0,\" \",IF(SUM($H12,$H13)=0,$N$34,\" \"))&IF($H15>0,IF($H12>0,$N$35,\" \"),\" \")","v":"  "},null,null,null,null,"K2C",{"$f":"IF($V$10=FALSE,IF($H$14>R12,IF($H$14<S12,1,0),0),0)","v":0},{"$f":"IF($V$10=TRUE,IF($H$14>V12,IF($H$14<W12,1.5,0),0),0)","v":0},null,449.99,980,null,null,669.99,1470,null,null,null,null,null,null,null,null,null,null,null,null,null,null,null,null,null,null,null,null,"  960 - 2.215",null,"20K2E00.02"]
[null,{"$f":"List!$C$76&\" [kg]       \"","v":"Vypočtená hmotnost čela [kg]       "},null,null,null,null,null,{"$f":"$H$212","v":0},{"$f":"IF($H15>0,IF($H13>0,IF($H12=0,$N$35,\" \"),\" \"),\" \")","v":" "},null,null,null,null,"K2E",{"$f":"IF($V$10=FALSE,IF($H$14>R13,IF($H$14<S13,1,0),0),0)","v":0},{"$f":"IF($V$10=TRUE,IF($H$14>V13,IF($H$14<W13,1.5,0),0),0)","v":0},null,979.99,2216,null,{"$f":"IF(U14=1,$V$44,IF(U14=2,$V$45,$V$46))","v":"Standard"},1469.99,3323,null,null,{"$f":"\" \"&List!$C$177&\" A\"","v":" Výpočet hmotnosti A"}]
[null,{"$f":"List!$C$81&\" *      \"","v":"Třetí zdvihač *      "},null,{"$f":"List!$C$80&\" LF \"","v":"Ukazatel výkonnosti LF "},null,null,null,{"$f":"IF(H12>0,H11*H12,H11*H13)","v":0},{"$f":"IF($H14>3322.5,$N$38,IF($H14>2215.5,IF(V10=FALSE,$N$39,\" \"),\" \"))","v":" "},null,null,null,null,null,null,null,null,null,null,null,1,null,null,null,null,null,null,null,null,null,null,null,null,null,null,null,null,null,null,null,null,null,null,{"$f":"List!$C$80&\" LF = \"&List!$C$73&\" KH [mm] x \"&List!$C$75&\" [kg]\"","v":"Ukazatel výkonnosti LF = Výška korpusu KH [mm] x Hmotnost čela vč. 2x hmotnost úchytky [kg]"}]
[null,{"$f":"List!$C$69","v":"Počet skříněk"},null,null,null,null,null,null,{"$f":"IF($H14>3322.5,\" \",IF($H14>2215.5,IF(V10=FALSE,$N$40,\" \"),\" \"))","v":" "},null,null,null,{"$f":"IF(OR($H10*$H11*$T15=0,$H11<190,$H11>600,$H14>3322.5),0,IF($H14>2215.5,IF($V10=FALSE,0,$H15),$H15))","v":0},null,null,null,null,null,"hmot =",{"$f":"IF(H12>0,H12,H13)","v":0},{"$f":"IF(SUM(H12,H13)=0,0,IF(H12>0,1,2))","v":0},"zadaná / vypočtená"]
[null,{"$f":"IF(H15>0,IF(U15=0,\" \",IF(U15=1,$N$47,$N$48)),\" \")&IF(H15>0,IF(U15=0,\" \",IF(U15=1,$N$49,$N$50)),\" \")","v":"  "},null,null,null,null,null,null,null,null,null,null,null,null,null,null,null,null,null,null,null,null,null,null,null,null,null,null,null,null,null,null,null,null,null,null,null,null,null,null,null,null,null,{"$f":"List!$C$322","v":"V případě využití třetího zdvihače můžete zvýšit ukazatel výkonnosti a tudíž hmotnost čílka o 50%."}]
[null,null,null,null,null,null,null,null,null,null,null,null,null,null,null,null,null,null,null,null,null,null,null,null,null,{"$f":"\" \"&List!$C$361","v":" Ověření síly zdvihače"}]
[null,null,null,{"$f":"List!$C$62&\" B\"","v":"Korpus B"},null,null,null,null,null,null,null,null,null,null,null,null,null,"dva zdvihače",null,null,null,"tři zdvihače"]
[null,{"$f":"List!$C$72&\" KB [mm] \"","v":"Šířka korpusu KB [mm] "},null,null,null,null,null,null,{"$f":"IF($H19=0,\" \",IF($H19<220,\" min. 220mm\",IF($H19>1800,\" max. 1 800mm\",\" \")))&IF(H24>0,IF(H19=0,\"● \"&List!$C$111,\" \"),\" \")","v":"  "},null,null,null,null,"zdvih A","dva","tři",null,"min","max","š.max","š. min",false]
[null,{"$f":"List!$C$73&\" KH [mm] \"","v":"Výška korpusu KH [mm] "},null,null,null,null,null,null,{"$f":"IF($H20=0,\" \",IF($H20<190,\" min. 190mm\",IF($H20>600,\" max. 600 mm\",\" \")))&IF(H24>0,IF(H20=0,\"● \"&List!$C$111,\" \"),\" \")","v":"  "},null,null,null,null,"K2B",{"$f":"IF($V$19=FALSE,IF($H$23>R20,IF($H$23<S20,1,0),0),0)","v":0},{"$f":"IF($V$19=TRUE,IF($H$23>V20,IF($H$23<W20,2,0),0),0)","v":0},null,219.99,450,null,null,329.99,670,null,null,null,null,null,null,null,null,null,null,null,null,null,null,null,null,null,null,null,null,{"$f":"List!$C$149","v":"Zpět"}]
[null,{"$f":"List!$C$75&\" [kg] ** \"","v":"Hmotnost čela vč. 2x hmotnost úchytky [kg] ** "},null,null,null,null,null,null,{"$f":"IF($H24=0,\" \",IF(SUM($H21,$H22)=0,$N$34,\" \"))&IF($H24>0,IF($H21>0,$N$35,\" \"),\" \")","v":"  "},null,null,null,null,"K2C",{"$f":"IF($V$19=FALSE,IF($H$23>R21,IF($H$23<S21,1,0),0),0)","v":0},{"$f":"IF($V$19=TRUE,IF($H$23>V21,IF($H$23<W21,1.5,0),0),0)","v":0},null,449.99,980,null,null,669.99,1470]
[null,{"$f":"List!$C$76&\" [kg]       \"","v":"Vypočtená hmotnost čela [kg]       "},null,null,null,null,null,{"$f":"$H$221","v":0},{"$f":"IF($H24>0,IF($H22>0,IF($H21=0,$N$35,\" \"),\" \"),\" \")","v":" "},null,null,null,null,"K2E",{"$f":"IF($V$19=FALSE,IF($H$23>R22,IF($H$23<S22,1,0),0),0)","v":0},{"$f":"IF($V$19=TRUE,IF($H$23>V22,IF($H$23<W22,1.5,0),0),0)","v":0},null,979.99,2216,null,{"$f":"IF(U23=1,$V$44,IF(U23=2,$V$45,$V$46))","v":"Standard"},1469.99,3323,null,null,{"$f":"\" \"&List!$C$177&\" B\"","v":" Výpočet hmotnosti B"}]
[null,{"$f":"List!$C$81&\" *      \"","v":"Třetí zdvihač *      "},null,{"$f":"List!$C$80&\" LF \"","v":"Ukazatel výkonnosti LF "},null,null,null,{"$f":"IF(H21>0,H20*H21,H20*H22)","v":0},{"$f":"IF($H23>3322.5,$N$38,IF($H23>2215.5,IF(V19=FALSE,$N$39,\" \"),\" \"))","v":" "},null,null,null,null,null,null,null,null,null,null,null,1]
[null,{"$f":"List!$C$69","v":"Počet skříněk"},null,null,null,null,null,null,{"$f":"IF($H23>3322.5,\" \",IF($H23>2215.5,IF(V19=FALSE,$N$40,\" \"),\" \"))","v":" "},null,null,null,{"$f":"IF(OR($H19*$H20*$T24=0,$H20<190,$H20>600,$H23>3322.5),0,IF($H23>2215.5,IF($V19=FALSE,0,$H24),$H24))","v":0},null,null,null,null,null,"hmot =",{"$f":"IF(H21>0,H21,H22)","v":0},{"$f":"IF(SUM(H21,H22)=0,0,IF(H21>0,1,2))","v":0},"zadaná / vypočtená"]
[null,{"$f":"IF(H24>0,IF(U24=0,\" \",IF(U24=1,$N$47,$N$48)),\" \")&IF(H24>0,IF(U24=0,\" \",IF(U24=1,$N$49,$N$50)),\" \")","v":"  "}]
[]
[null,null,null,null,null,null,null,null,null,null,null,null,null,null,null,null,null,null,{"$f":"IF($T$27=FALSE,2,1)","v":2},false,null," - Zdroj"]
[null,null,{"$f":"IF(OR($V$10=TRUE, $V$19=TRUE), List!$C$164, \" \")","v":" "}]
[]
[null," *",{"$f":"List!$C$212&\" \"&List!$C$213","v":"U širokých korpusů doporučujeme nainstalovat třetí zdvihač na střed korpusu. Důvodem je prohýbání čela v otevřené pozici. Také faktor výkonnosti LF a váha dveří mohou být o 50% navýšeny."}]
[]
[]
[]
[null," **",{"$f":"List!$C$168","v":"Pokud znáte hmotnost a nechcete využít výpočtu hmotnosti"},null,null,null,null,null,null,null,null,null,null,{"$f":"\" \"&List!$C$103","v":" Doplňte nebo použijte \"Výpočet hmotnosti\" "}]
[null,null,null,null,null,null,null,null,null,null,null,null,null,{"$f":"\"◄ \"&List!$C$100","v":"◄ hodnota bude použita pro výpočet LF"}]
[null,null,null,null,null,null,null,null,null,null,null,null,null,{"$f":"\" * \"&List!$C$110","v":" * Doplňte hodnoty"}]
[]
[null,null,null,null,null,null,null,null,null,null,null,null,null,{"$f":"\" max. 3.322! \"&List!$C$105","v":" max. 3.322! Upravte hmotnost nebo výšku"}]
[null,null,null,null,null,null,null,null,null,null,null,null,null,{"$f":"\" max. 2.215! \"&List!$C$105","v":" max. 2.215! Upravte hmotnost nebo výšku"}]
[null,null,null,null,null,null,null,null,null,null,null,null,null,{"$f":"\"                       \"&List!$C$106","v":"                       nebo přidejte třetí zdvihač"}]
[]
[null,null,null,null,null,null,null,null,null,null,null,null,null,1,null,1,null,{"$f":"HKS!$K$27","v":2},null,{"$f":"Menu!$Q$27","v":3}]
[null,null,null,null,null,null,null,null,null,null,null,null,null,"záv.",null,"střed.",null,"čelní kov.",null,"kryt.",null,"provedení"]
[null,null,null,null,null,null,null,null,null,null,null,null,null,null,null,null,null,{"$f":"List!$C$125","v":"Expando"},null,{"$f":"List!$C$128","v":"Světle šedá (HG/T)"},null,"Standard"]
[null,null,null,null,null,null,null,null,null,null,null,null,null,null,null,null,null,{"$f":"List!$C$126","v":"na vruty"},null,{"$f":"List!$C$129","v":"Tmavě šedá (TGR)"},null,"TIP-ON"]
[null,null,null,null,null,null,null,null,null,null,null,null,null,null,null,null,null,null,null,{"$f":"List!$C$130","v":"Hedvábně bílá (SW/T)"}]
[null,null,null,null,null,null,null,null,null,null,null,null,null,{"$f":"List!C169&\". \"","v":"Pro určení typu zdvihače bude použita zadaná hmotnost. "}]
[null,null,null,null,null,null,null,null,null,null,null,null,null,{"$f":"List!C170&\". \"","v":"Pro určení typu zdvihače bude použita vypočtená hmotnost. "}]
[null,null,null,null,null,null,null,null,null,null,null,null,null,{"$f":"List!C171","v":"Chcete-li použít vypočtenou hmotnost, smažte zadanou hodnotu"}]
[null,null,null,null,null,null,null,null,null,null,null,null,null,{"$f":"List!C172","v":"Chcete-li použít zadanou hmotnost, zadejte ji do políčka"}]
[]
[]
[]
[]
[]
[]
[]
[]
[]
[]
[]
[]
[]
[]
[]
[]
[]
[]
[]
[]
[]
[]
[]
[]
[]
[]
[]
[]
[]
[]
[]
[]
[]
[]
[]
[]
[]
[]
[]
[]
[]
[]
[]
[]
[]
[]
[]
[null,{"$f":"List!C142","v":"Soupis kování"}]
[]
[null,{"$f":"$J$2","v":"AVENTOS HK-S"},null,{"$f":"B4","v":"Dřevěné čelo"}]
[null,{"$f":"List!C50","v":"Název"},null,null,null,null,{"$f":"List!$C$51","v":"Číslo artiklu"},null,{"$f":"List!C52","v":"Barva"},{"$f":"List!C54","v":"Ks"},{"$f":"List!C56","v":"Jednotková cena"},{"$f":"List!C57","v":"Celkem"},"A","Cena","B","Cena","C","Cena","Filtr"]
[null,{"$f":"Cen!A126","v":"Sada zdvihačů, světle šedé krytky"},null,null,null,null,{"$f":"Cen!E126","v":"20K2B00.06"},null,{"$f":"Cen!G126","v":"HGIG"},{"$f":"SUM($M102,$O102,$Q102)","v":0},{"$f":"Cen!I126","v":0},{"$f":"J102*K102","v":0},{"$f":"IF(AND($U$14=1,$T$42=1),ROUNDUP(SUM($O$11:$P$11)*$M$15,0),0)","v":0},{"$f":"$K102*M102","v":0},{"$f":"IF(AND($U$23=1,$T$42=1),ROUNDUP(SUM($O$20:$P$20)*$M$24,0),0)","v":0},{"$f":"$K102*O102","v":0},null,{"$f":"$K102*Q102","v":0},"x"]
[null,{"$f":"Cen!A127","v":"Sada zdvihačů, tmavě šedé krytky"},null,null,null,null,{"$f":"Cen!E127","v":"20K2B00.06"},null,{"$f":"Cen!G127","v":"TGIG"},{"$f":"SUM($M103,$O103,$Q103)","v":0},{"$f":"Cen!I127","v":0},{"$f":"J103*K103","v":0},{"$f":"IF(AND($U$14=1,$T$42=2),ROUNDUP(SUM($O$11:$P$11)*$M$15,0),0)","v":0},{"$f":"$K103*M103","v":0},{"$f":"IF(AND($U$23=1,$T$42=2),ROUNDUP(SUM($O$20:$P$20)*$M$24,0),0)","v":0},{"$f":"$K103*O103","v":0},null,{"$f":"$K103*Q103","v":0},"x"]
[null,{"$f":"Cen!A128","v":"Sada zdvihačů, bílé krytky"},null,null,null,null,{"$f":"Cen!E128","v":"20K2B00.06"},null,{"$f":"Cen!G128","v":"SWIG"},{"$f":"SUM($M104,$O104,$Q104)","v":0},{"$f":"Cen!I128","v":0},{"$f":"J104*K104","v":0},{"$f":"IF(AND($U$14=1,$T$42=3),ROUNDUP(SUM($O$11:$P$11)*$M$15,0),0)","v":0},0,{"$f":"IF(AND($U$23=1,$T$42=3),ROUNDUP(SUM($O$20:$P$20)*$M$24,0),0)","v":0},0,null,0,"x"]
[null,{"$f":"Cen!A129","v":"Sada zdvihačů, světle šedé krytky"},null,null,null,null,{"$f":"Cen!E129","v":"20K2C00.06"},null,{"$f":"Cen!G129","v":"HGIG"},0,{"$f":"Cen!I129","v":0},0,{"$f":"IF(AND($U$14=1,$T$42=1),ROUNDUP(SUM($O$12:$P$12)*$M$15,0),0)","v":0},0,{"$f":"IF(AND($U$23=1,$T$42=1),ROUNDUP(SUM($O$21:$P$21)*$M$24,0),0)","v":0},0,null,0,"x"]
[null,{"$f":"Cen!A130","v":"Sada zdvihačů, tmavě šedé krytky"},null,null,null,null,{"$f":"Cen!E130","v":"20K2C00.06"},null,{"$f":"Cen!G130","v":"TGIG"},0,{"$f":"Cen!I130","v":0},{"$f":"J106*K106","v":0},{"$f":"IF(AND($U$14=1,$T$42=2),ROUNDUP(SUM($O$12:$P$12)*$M$15,0),0)","v":0},{"$f":"$K106*M106","v":0},{"$f":"IF(AND($U$23=1,$T$42=2),ROUNDUP(SUM($O$21:$P$21)*$M$24,0),0)","v":0},{"$f":"$K106*O106","v":0},null,{"$f":"$K106*Q106","v":0},"x"]
[null,{"$f":"Cen!A131","v":"Sada zdvihačů, bílé krytky"},null,null,null,null,{"$f":"Cen!E131","v":"20K2C00.06"},null,{"$f":"Cen!G131","v":"SWIG"},0,{"$f":"Cen!I131","v":0},0,{"$f":"IF(AND($U$14=1,$T$42=3),ROUNDUP(SUM($O$12:$P$12)*$M$15,0),0)","v":0},0,{"$f":"IF(AND($U$23=1,$T$42=3),ROUNDUP(SUM($O$21:$P$21)*$M$24,0),0)","v":0},0,null,0,"x"]
[null,{"$f":"Cen!A132","v":"Sada zdvihačů, světle šedé krytky"},null,null,null,null,{"$f":"Cen!E132","v":"20K2E00.06"},null,{"$f":"Cen!G132","v":"HGIG"},0,{"$f":"Cen!I132","v":0},0,{"$f":"IF(AND($U$14=1,$T$42=1),ROUNDUP(SUM($O$13:$P$13)*$M$15,0),0)","v":0},0,{"$f":"IF(AND($U$23=1,$T$42=1),ROUNDUP(SUM($O$22:$P$22)*$M$24,0),0)","v":0},0,null,0,"x"]
[null,{"$f":"Cen!A133","v":"Sada zdvihačů, tmavě šedé krytky"},null,null,null,null,{"$f":"Cen!E133","v":"20K2E00.06"},null,{"$f":"Cen!G133","v":"TGIG"},0,{"$f":"Cen!I133","v":0},{"$f":"J109*K109","v":0},{"$f":"IF(AND($U$14=1,$T$42=2),ROUNDUP(SUM($O$13:$P$13)*$M$15,0),0)","v":0},{"$f":"$K109*M109","v":0},{"$f":"IF(AND($U$23=1,$T$42=2),ROUNDUP(SUM($O$22:$P$22)*$M$24,0),0)","v":0},{"$f":"$K109*O109","v":0},null,{"$f":"$K109*Q109","v":0},"x"]
[null,{"$f":"Cen!A134","v":"Sada zdvihačů, bílé krytky"},null,null,null,null,{"$f":"Cen!E134","v":"20K2E00.06"},null,{"$f":"Cen!G134","v":"SWIG"},0,{"$f":"Cen!I134","v":0},0,{"$f":"IF(AND($U$14=1,$T$42=3),ROUNDUP(SUM($O$13:$P$13)*$M$15,0),0)","v":0},0,{"$f":"IF(AND($U$23=1,$T$42=3),ROUNDUP(SUM($O$22:$P$22)*$M$24,0),0)","v":0},0,null,0,"x"]
[null,{"$f":"Cen!A135","v":0},null,null,null,null,{"$f":"Cen!E135","v":0},null,{"$f":"Cen!G135","v":0},0,{"$f":"Cen!I135","v":0},0]
[null,{"$f":"Cen!A136","v":"Sada zdvihačů TIP-ON, světle šedé krytky"},null,null,null,null,{"$f":"Cen!E136","v":"20K2B00T06"},null,{"$f":"Cen!G136","v":"HGIG"},0,{"$f":"Cen!I136","v":0},{"$f":"J112*K112","v":0},{"$f":"IF(AND($U$14=2,$T$42=1),ROUNDUP(SUM($O$11:$P$11)*$M$15,0),0)","v":0},0,{"$f":"IF(AND($U$23=2,$T$42=1),ROUNDUP(SUM($O$20:$P$20)*$M$24,0),0)","v":0},0,null,null,"x"]
[null,{"$f":"Cen!A137","v":"Sada zdvihačů TIP-ON, tmavě šedé krytky"},null,null,null,null,{"$f":"Cen!E137","v":"20K2B00T06"},null,{"$f":"Cen!G137","v":"TGIG"},0,{"$f":"Cen!I137","v":0},{"$f":"J113*K113","v":0},{"$f":"IF(AND($U$14=2,$T$42=2),ROUNDUP(SUM($O$11:$P$11)*$M$15,0),0)","v":0},{"$f":"$K113*M113","v":0},{"$f":"IF(AND($U$23=2,$T$42=2),ROUNDUP(SUM($O$20:$P$20)*$M$24,0),0)","v":0},{"$f":"$K113*O113","v":0},null,null,"x"]
[null,{"$f":"Cen!A138","v":"Sada zdvihačů TIP-ON, bílé krytky"},null,null,null,null,{"$f":"Cen!E138","v":"20K2B00T06"},null,{"$f":"Cen!G138","v":"SWIG"},0,{"$f":"Cen!I138","v":0},0,{"$f":"IF(AND($U$14=2,$T$42=3),ROUNDUP(SUM($O$11:$P$11)*$M$15,0),0)","v":0},0,{"$f":"IF(AND($U$23=2,$T$42=3),ROUNDUP(SUM($O$20:$P$20)*$M$24,0),0)","v":0},0,null,null,"x"]
[null,{"$f":"Cen!A139","v":"Sada zdvihačů TIP-ON, světle šedé krytky"},null,null,null,null,{"$f":"Cen!E139","v":"20K2C00T06"},null,{"$f":"Cen!G139","v":"HGIG"},0,{"$f":"Cen!I139","v":0},0,{"$f":"IF(AND($U$14=2,$T$42=1),ROUNDUP(SUM($O$12:$P$12)*$M$15,0),0)","v":0},0,{"$f":"IF(AND($U$23=2,$T$42=1),ROUNDUP(SUM($O$21:$P$21)*$M$24,0),0)","v":0},0,null,null,"x"]
[null,{"$f":"Cen!A140","v":"Sada zdvihačů TIP-ON, tmavě šedé krytky"},null,null,null,null,{"$f":"Cen!E140","v":"20K2C00T06"},null,{"$f":"Cen!G140","v":"TGIG"},0,{"$f":"Cen!I140","v":0},{"$f":"J116*K116","v":0},{"$f":"IF(AND($U$14=2,$T$42=2),ROUNDUP(SUM($O$12:$P$12)*$M$15,0),0)","v":0},{"$f":"$K116*M116","v":0},{"$f":"IF(AND($U$23=2,$T$42=2),ROUNDUP(SUM($O$21:$P$21)*$M$24,0),0)","v":0},{"$f":"$K116*O116","v":0},null,null,"x"]
[null,{"$f":"Cen!A141","v":"Sada zdvihačů TIP-ON, bílé krytky"},null,null,null,null,{"$f":"Cen!E141","v":"20K2C00T06"},null,{"$f":"Cen!G141","v":"SWIG"},0,{"$f":"Cen!I141","v":0},0,{"$f":"IF(AND($U$14=2,$T$42=3),ROUNDUP(SUM($O$12:$P$12)*$M$15,0),0)","v":0},0,{"$f":"IF(AND($U$23=2,$T$42=3),ROUNDUP(SUM($O$21:$P$21)*$M$24,0),0)","v":0},0,null,null,"x"]
[null,{"$f":"Cen!A142","v":"Sada zdvihačů TIP-ON, světle šedé krytky"},null,null,null,null,{"$f":"Cen!E142","v":"20K2E00T06"},null,{"$f":"Cen!G142","v":"HGIG"},0,{"$f":"Cen!I142","v":0},0,{"$f":"IF(AND($U$14=2,$T$42=1),ROUNDUP(SUM($O$13:$P$13)*$M$15,0),0)","v":0},0,{"$f":"IF(AND($U$23=2,$T$42=1),ROUNDUP(SUM($O$22:$P$22)*$M$24,0),0)","v":0},0,null,null,"x"]
[null,{"$f":"Cen!A143","v":"Sada zdvihačů TIP-ON, tmavě šedé krytky"},null,null,null,null,{"$f":"Cen!E143","v":"20K2E00T06"},null,{"$f":"Cen!G143","v":"TGIG"},0,{"$f":"Cen!I143","v":0},{"$f":"J119*K119","v":0},{"$f":"IF(AND($U$14=2,$T$42=2),ROUNDUP(SUM($O$13:$P$13)*$M$15,0),0)","v":0},{"$f":"$K119*M119","v":0},{"$f":"IF(AND($U$23=2,$T$42=2),ROUNDUP(SUM($O$22:$P$22)*$M$24,0),0)","v":0},{"$f":"$K119*O119","v":0},null,null,"x"]
[null,{"$f":"Cen!A144","v":"Sada zdvihačů TIP-ON, bílé krytky"},null,null,null,null,{"$f":"Cen!E144","v":"20K2E00T06"},null,{"$f":"Cen!G144","v":"SWIG"},0,{"$f":"Cen!I144","v":0},0,{"$f":"IF(AND($U$14=2,$T$42=3),ROUNDUP(SUM($O$13:$P$13)*$M$15,0),0)","v":0},0,{"$f":"IF(AND($U$23=2,$T$42=3),ROUNDUP(SUM($O$22:$P$22)*$M$24,0),0)","v":0},0,null,null,"x"]
[null,{"$f":"Cen!A145","v":0},null,null,null,null,{"$f":"Cen!E145","v":0},null,{"$f":"Cen!G145","v":0},{"$f":"IF($T$42=3,ROUNDUP($M$15*SUM($O$13:$P$13)+$M$24*SUM($O$22:$P$22),0),0)","v":0},{"$f":"Cen!I145","v":0},0]
[null,{"$f":"Cen!A146","v":"Přímá montážní podložka"},null,null,null,null,{"$f":"Cen!E146","v":"175H3100"},null,{"$f":"Cen!G146","v":"NI"},0,{"$f":"Cen!I146","v":0},0,{"$f":"IF($R$42=2,SUM(M$102:M$120),0)*2","v":0},0,{"$f":"IF($R$42=2,SUM(O$102:O$120),0)*2","v":0},0,null,0,"x"]
[null,{"$f":"Cen!A147","v":"Přímá montážní podložka, EXPANDO"},null,null,null,null,{"$f":"Cen!E147","v":"177H3100E"},null,{"$f":"Cen!G147","v":"NI"},0,{"$f":"Cen!I147","v":0},0,{"$f":"IF($R$42=1,SUM(M$102:M$120)*2,0)","v":0},0,{"$f":"IF($R$42=1,SUM(O$102:O$120)*2,0)","v":0},0,null,0,"x"]
[null,{"$f":"Cen!A148","v":"Sada čel.kování pro úzké alurámečky"},null,null,null,null,{"$f":"Cen!E148","v":"20K4A00A.01"},null,{"$f":"Cen!G148","v":"NI"},{"$f":"SUM(M124,O124,Q124)","v":0},{"$f":"Cen!I148","v":0},0,null,0,null,0,null,0]
[null,{"$f":"Cen!A149","v":"Omezovač úhlu otevření na 75° "},null,null,null,null,{"$f":"Cen!E149","v":"20K7A11"},null,{"$f":"Cen!G149","v":"TGR"},0,{"$f":"Cen!I149","v":0},0,null,0,null,0,null,0]
[null,{"$f":"Cen!A150","v":"Omezovač úhlu otevření na 100° "},null,null,null,null,{"$f":"Cen!E150","v":"20K7A41"},null,{"$f":"Cen!G150","v":"TGR"},0,{"$f":"Cen!I150","v":0},0,null,0,null,0,null,0]
[null,{"$f":"Cen!A151","v":"CLIP top krytka raménka Nikl"},null,null,null,null,{"$f":"Cen!E151","v":"70.1503"},null,{"$f":"Cen!G151","v":"NI"},0,{"$f":"Cen!I151","v":0},0,{"$f":"SUM(M$102:M$120)*2","v":0},0,{"$f":"SUM(O$102:O$120)*2","v":0},0,null,0,"x"]
[null,{"$f":"Cen!A152","v":"CLIP top krytka raménka Nikl"},null,null,null,null,{"$f":"Cen!E152","v":"70.1563"},null,{"$f":"Cen!G152","v":"NI"},0,{"$f":"Cen!I152","v":0},0,null,0,null,0,null,0]
[null,{"$f":"Cen!A153","v":0},null,null,null,null,{"$f":"Cen!E153","v":0},null,{"$f":"Cen!G153","v":0},0,{"$f":"Cen!I153","v":0},0,null,0,null,0,null,0]
[null,{"$f":"Cen!A154","v":"Sada čel.kování pro úzké alu HK-S"},null,null,null,null,{"$f":"Cen!E154","v":"175H3G00A"},null,{"$f":"Cen!G154","v":"NI"},{"$f":"SUM(M130,O130,Q130)","v":0},{"$f":"Cen!I154","v":0},0,null,0,null,0,null,0]
[null,{"$f":"Cen!A155","v":0},null,null,null,null,{"$f":"Cen!E155","v":0},null,{"$f":"Cen!G155","v":0},{"$f":"SUM(M131,O131,Q131)","v":0},{"$f":"Cen!I155","v":0},0,null,0,null,0,null,0]
[null,{"$f":"Cen!A196","v":0},null,null,null,null,{"$f":"Cen!E196","v":0},null,{"$f":"Cen!G196","v":0},{"$f":"SUM(M132,O132,Q132)","v":0},{"$f":"Cen!I196","v":0},0,null,0,null,0,null,0]
[null,{"$f":"Cen!A197","v":0},null,null,null,null,{"$f":"Cen!E197","v":0},null,{"$f":"Cen!G197","v":0},{"$f":"SUM(M133,O133,Q133)","v":0},{"$f":"Cen!I197","v":0},0,null,0,null,0]
[]
[]
[]
[null,{"$f":"Cen!A180","v":"TIP-ON, zkrácená délka, šedý"},null,null,null,null,{"$f":"Cen!E180","v":"956.1004"},null,{"$f":"Cen!G180","v":"PG"},{"$f":"SUM(M137,O137,Q137)","v":0},{"$f":"Cen!I180","v":0},{"$f":"J137*K137","v":0},{"$f":"IF(AND($T$42<3,$U$14=2),$M$15,0)","v":0},{"$f":"$K137*M137","v":0},{"$f":"IF(AND($T$42<3,$U$23=2),$M$24,0)","v":0},{"$f":"$K137*O137","v":0},null,null,"x"]
[null,{"$f":"Cen!A181","v":"TIP-ON, zkrácená délka, hedv.bílý"},null,null,null,null,{"$f":"Cen!E181","v":"956.1004"},null,{"$f":"Cen!G181","v":"SW"},{"$f":"SUM(M138,O138,Q138)","v":0},{"$f":"Cen!I181","v":0},{"$f":"J138*K138","v":0},{"$f":"IF(AND($T$42=3,$U$14=2),$M$15,0)","v":0},{"$f":"$K138*M138","v":0},{"$f":"IF(AND($T$42=3,$U$23=2),$M$24,0)","v":0},{"$f":"$K138*O138","v":0},null,null,"x"]
[]
[]
[]
[null,null,null,null,null,null,null,null,null,null,{"$f":"List!$C$59&\" \"","v":"Cena celkem bez DPH "},{"$f":"SUM(L102:L140)","v":0},null,{"$f":"SUM(N102:N141)","v":0},null,{"$f":"SUM(P102:P141)","v":0},null,{"$f":"SUM(R102:R141)","v":0}]
[]
[null,null,null,null,null,null,null,null,null,null,null,{"$f":"List!$C$149","v":"Zpět"}]
[]
[]
[]
[]
[]
[]
[]
[]
[]
[]
[]
[]
[]
[]
[]
[]
[]
[]
[]
[]
[]
[]
[]
[]
[]
[]
[]
[]
[]
[]
[]
[]
[]
[]
[]
[]
[]
[]
[]
[]
[]
[]
[]
[]
[]
[]
[]
[]
[]
[]
[]
[]
[]
[]
[]
[]
[null,{"$f":"List!$C$71","v":"Výpočet hmotnosti čel"}]
[null,null,{"$f":"List!$C$161&\"  \"","v":"Provedení čel  "},null,null,null,null,null,{"$f":"IF(O209=3,IF(H202=0,N204,\" \"),IF(H202>0,N205,\" \"))","v":" "},null,null,null,null,{"$f":"IF($O$209=1,$O$210,IF($O$209=2,$O$211,$O$212&\" \"&$N$212&\"kg/m3\"))&\" A~\"&$H$210&\"/ B~\"&$H$219&\"mm\"","v":"MDF (760 kg/m3) A~/ B~mm"}]
[null,null,null,{"$f":"IF($O$209<>3,$N$203,\" \")&\"      \"","v":" Změnit hodnoty můžete v Úvodu plánování      "},null,null,null,null,null,null,null,null,null,{"$f":"\" \"&List!$C$382","v":" Změnit hodnoty můžete v Úvodu plánování"}]
[null,null,null,null,null,null,null,null,null,null,null,null,null,{"$f":"\" \"&List!$C$225&\" [kg/m3]\"","v":" Zadejte objemovou hmotnost  [kg/m3]"}]
[null,null,null,null,null,null,null,null,null,null,null,null,null,{"$f":"\" \"&List!$C$221&\" '\"&List!$C$86&\"'\"","v":" Hodnota platí jen pro volbu 'Jiné - volitelná hustota'"}]
[]
[null,null,null,null,null,{"$f":"D9","v":"Korpus A"}]
[null,{"$f":"List!$C$72&\" KB [mm]       \"","v":"Šířka korpusu KB [mm]       "},null,null,null,null,null,{"$f":"H10","v":0},null,null,null,null,null,{"$f":"H208*H209*H210","v":0},null,null,null,null,3.51,"alu"]
[null,{"$f":"List!$C$73&\" KH [mm]       \"","v":"Výška korpusu KH [mm]       "},null,null,null,null,null,{"$f":"H11","v":0},null,null,null,null,null,{"$f":"N208/1000000000","v":0},1,null,null,null,"váha alu",{"$f":"SUM(H208*2,H209*2)*S208/10000","v":0},3]
[null,{"$f":"List!$C$77&\" TS [mm] \"","v":"Síla čela TS [mm] "},null,null,null,null,null,null,{"$f":"IF(SUM(H208,H209)=0,\" \",IF(H210=0,\" ● \"&List!$C$111,\" \"))","v":" "},null,null,null,null,{"$f":"Menu!$L$30","v":760},{"$f":"List!$C$84&\" (\"&N210&\" kg/m3)\"","v":"MDF (760 kg/m3)"},null,null,null,10,{"$f":"SUM($H$208*$H$209*$S210)/1000000","v":0},{"$f":"List!$C$87","v":"Alurámečky s 4mm sklem"}]
[null,{"$f":"List!$C$78&\" [kg] \"","v":"Hmotnost úchytky [kg] "},null,null,null,null,null,null,{"$f":"IF($U$14=2,\" \",IF(SUM(H208,H209)=0,\" \",IF(H211=0,\" ● \"&List!$C$112,\" \")))","v":" "},null,null,null,null,{"$f":"Menu!$L$31","v":680},{"$f":"List!$C$85&\" (\"&N211&\" kg/m3)\"","v":"Dřevotříska (680 kg/m3)"},null,null,null,15,{"$f":"SUM($H$208*$H$209*$S211)/1000000","v":0},{"$f":"List!$C$88","v":"Alurámečky s 5mm sklem"}]
[null,{"$f":"List!$C$76&\" [kg] \"","v":"Vypočtená hmotnost čela [kg] "},null,null,null,null,null,{"$f":"IF(M212=0,0,M212+2*H211)","v":0},null,null,null,null,{"$f":"IF(H208*H209*H210=0,0,IF(O209=1,N209*N210,IF(O209=2,N209*N211,N209*N212)))","v":0},{"$f":"$H$202","v":0},{"$f":"List!$C$86","v":"Jiné - volitelná hustota"},null,null,null,{"$f":"2.5*$H$202","v":0},{"$f":"SUM($H$208*$H$209*$S212)/1000000","v":0},{"$f":"List!$C$89","v":"Alurámečky s jiným sklem"}]
[null,null,{"$f":"IF((U14=2)*AND(H212>0)*AND(H211>0),$N$230&\" \"&$N$231,IF((U14<>2)*AND(H212>0),IF(H211=0,$N$229,\" \"),\" \"))","v":" "},null,null,null,null,null,null,null,null,null,null,null,null,null,null,null,{"$f":"IF(U209=1,T210,IF(U209=2,T211,T212))","v":0}]
[]
[]
[null,null,null,null,null,{"$f":"D18","v":"Korpus B"}]
[null,{"$f":"List!$C$72&\" KB [mm]       \"","v":"Šířka korpusu KB [mm]       "},null,null,null,null,null,{"$f":"H19","v":0},null,null,null,null,null,{"$f":"H217*H218*H219","v":0},null,null,null,null,{"$f":"S208","v":3.51},"alu"]
[null,{"$f":"List!$C$73&\" KH [mm]       \"","v":"Výška korpusu KH [mm]       "},null,null,null,null,null,{"$f":"H20","v":0},null,null,null,null,null,{"$f":"N217/1000000000","v":0},{"$f":"O209","v":1},null,null,null,"váha alu",{"$f":"SUM(H217*2,H218*2)*S217/10000","v":0},{"$f":"U209","v":3}]
[null,{"$f":"List!$C$77&\" TS [mm] \"","v":"Síla čela TS [mm] "},null,null,null,null,null,null,{"$f":"IF(SUM(H217,H218)=0,\" \",IF(H219=0,\" ● \"&List!$C$111,\" \"))","v":" "},null,null,null,null,{"$f":"$N$210","v":760},{"$f":"$O$210","v":"MDF (760 kg/m3)"},null,null,null,{"$f":"S210","v":10},{"$f":"SUM($H$217*$H$218*$S219)/1000000","v":0},{"$f":"List!$C$87","v":"Alurámečky s 4mm sklem"}]
[null,{"$f":"List!$C$78&\" [kg] \"","v":"Hmotnost úchytky [kg] "},null,null,null,null,null,null,{"$f":"IF($U$23=2,\" \",IF(SUM(H217,H218)=0,\" \",IF(H220=0,\" ● \"&List!$C$112,\" \")))","v":" "},null,null,null,null,{"$f":"$N$211","v":680},{"$f":"$O$211","v":"Dřevotříska (680 kg/m3)"},null,null,null,{"$f":"S211","v":15},{"$f":"SUM($H$217*$H$218*$S220)/1000000","v":0},{"$f":"List!$C$88","v":"Alurámečky s 5mm sklem"}]
[null,{"$f":"List!$C$76&\" [kg] \"","v":"Vypočtená hmotnost čela [kg] "},null,null,null,null,null,{"$f":"IF(M221=0,0,M221+2*H220)","v":0},null,null,null,null,{"$f":"IF(H217*H218*H219=0,0,IF(O218=1,N218*N219,IF(O218=2,N218*N220,N218*N221)))","v":0},{"$f":"$N$212","v":0},{"$f":"$O$212","v":"Jiné - volitelná hustota"},null,null,null,{"$f":"S212","v":0},{"$f":"SUM($H$217*$H$218*$S221)/1000000","v":0},{"$f":"List!$C$89","v":"Alurámečky s jiným sklem"}]
[null,null,{"$f":"IF((U23=2)*AND(H221>0)*AND(H220>0),$N$230&\" \"&$N$231,IF((U23<>2)*AND(H221>0),IF(H220=0,$N$229,\" \"),\" \"))","v":" "},null,null,null,null,null,null,null,null,null,null,null,null,null,null,null,{"$f":"IF(U218=1,T219,IF(U218=2,T220,T221))","v":0}]
[]
[]
[]
[null,null,null,null,null,null,{"$f":"List!$C$149","v":"Zpět"}]
[]
[]
[null,null,{"$f":"List!$C$217&\" \"&List!$C$218","v":"Upozornění: Vypočtené hodnoty jsou pouze orientační.  Firma Blum ani prodejci neručí za jejich správnost."},null,null,null,null,null,null,null,null,null,null,{"$f":"List!$C$95&\"!\"","v":"Není započtena hmotnost úchytky!"}]
[null,null,null,null,null,null,null,null,null,null,null,null,null,{"$f":"List!C96","v":"Opravdu máte úchytku na TIP-ON?"}]
[null,null,null,null,null,null,null,null,null,null,null,null,null,{"$f":"List!C97&\"!\"","v":"Jestli ne, smažte hmotnost úchytky.!"}]
[]
[]
[]
[]
[]
[]
[]
[]
[]
[]
[]
[]
[]
[]
[]
[]
[]
[]
[]
[]
[]
[]
[]
[]
[]
[]
[]
[]
[]
[]
[]
[]
[]
[]
[]
[]
[]
[]
[]
[]
[]
[]
[]
[]
[]
[]
[]
[]
[]
[]
[]
[]
[]
[]
[]
[]
[]
[]
[]
[]
[]
[]
[]
[]
[]
[]
[]
[]
[]
[]
[]
[]
[]
[]
[]
[]
[]
[]
[]
[]
[]
[]
[]
[]
[]
[]
[]
[]
[]
[]
[]
[]
[]
[]
[]
[]
[]
[]
[]
[]
[]
[]
[]
[]
[]
[]
[]
[]
[]
[]
[]
[]
[]
[]
[]
[]
[]
[]
[]
[]
[]
[]
[]
[]
[]
[]
[]
[]
[]
[]
[]
[]
[]
[]
[]
[]
[]
[]
[]
[]
[]
[]
[]
[]
[]
[]
[]
[]
[]
[]
[]
[]
[]
[]
[]
[]
[]
[]
[]
[]
[]
[]
[]
[]
[]
[]
[]
[]
[]
[]
[null,"      AVENTOS HK-S"]
[]
[null,{"$f":"List!$C$281","v":"Potřebný zdvihač se určí pomocí ukazatele výkonnosti."}]
[null,{"$f":"List!$C$318","v":"Ukazatel výkonnosti závisí na hmotnosti čela (včetně dvojnásobné hmotnosti úchytky) a na výšce korpusu."}]
[]
[null,{"$f":"\" \"&List!$C$295","v":" Tak se to dělá:"}]
[null,null,null,{"$f":"List!$C$80&\" = \"","v":"Ukazatel výkonnosti = "},{"$f":"List!$C$319&\" [kg]\"","v":"výška korpusu (KH) [mm] x hmotnost čela včetně dvojnásobné hmotnosti úchytky [kg]"}]
[]
[null,{"$f":"List!$C$322","v":"V případě využití třetího zdvihače můžete zvýšit ukazatel výkonnosti a tudíž hmotnost čílka o 50%."}]
[null,{"$f":"\"(\"&List!$C$323&\")\"","v":"(Platí jen pro zdvihač 20K2E00)"}]
[null,{"$f":"List!$C$164","v":"Přídavný třetí zdvihač může být použit pouze s plným čelem!"}]
[]
[null,{"$f":"List!$C$289","v":"Pokud znáte hmotnost čela, můžete ji zadat, jinak použijte \"Výpočet hmotnosti\"."}]
[null,{"$f":"List!$C$290","v":"V tabulce má přednost zadaná hodnota. Chcete-li použít vypočtenou hmotnost, smažte zadanou hodnotu."}]
[]
[]
[null,{"$f":"List!$C$284","v":"Chcete-li změnit barvu krytek, přejděte na \"Úvod\""}]
[]
[]
[]
[]
[]
[]
[]
[]
[null,null,null,null,null,null,null,null,null,null,null,{"$f":"List!$C$149","v":"Zpět"}]

{"sheet":"HKSwa","index":25,"n_rows":428,"n_cols":46,"rows_kept":428,"cut":false,"hidden":false,"merged":[[18,1,18,6],[18,21,18,22],[17,3,17,7],[17,17,17,18],[13,3,13,6],[309,1,309,7],[307,8,307,9],[26,19,26,20],[97,0,164,0],[205,5,205,7],[206,1,206,6],[216,20,216,21],[210,1,210,6],[214,5,214,7],[219,1,219,6],[232,0,259,0],[243,6,243,7],[227,2,229,10],[198,0,231,0],[207,1,207,6],[208,1,208,6],[320,1,320,7],[313,1,313,5],[320,8,320,9],[319,1,319,7],[318,1,318,7],[314,1,314,5],[399,0,440,0],[406,4,406,11],[317,8,317,9],[311,1,311,9],[312,1,312,5],[312,6,312,9],[316,1,316,7],[301,0,355,0],[305,8,305,9],[305,1,305,7],[327,8,327,9],[309,8,309,9],[316,8,316,9],[319,8,319,9],[318,8,318,9],[317,1,317,7],[12,1,12,6],[11,43,11,44],[10,1,10,6],[11,1,11,6],[12,43,12,44],[4,6,5,10],[1,5,1,6],[1,7,1,8],[3,5,3,10],[10,43,10,44],[8,21,8,22],[9,1,9,6],[9,21,9,22],[8,17,8,18],[19,1,19,6],[217,1,217,6],[218,1,218,6],[304,1,304,9],[0,43,0,51],[7,43,8,44],[7,45,8,45],[9,43,9,44],[14,1,14,6],[6,6,6,7],[8,3,8,7],[13,1,13,2],[6,1,6,2],[1,1,1,2],[1,3,1,4],[1,9,1,10],[306,1,306,7],[308,1,308,7],[306,8,306,9],[207,20,207,21],[23,1,23,6],[307,1,307,7],[216,1,216,6],[209,1,209,6],[215,1,215,6],[13,43,14,47],[15,43,16,47],[308,8,308,9],[306,12,306,13],[17,21,17,22],[20,1,20,6],[21,1,21,6],[224,6,224,7],[22,1,22,2],[22,3,22,6]]}
[]
[null,"AVENTOS HF",null,"AVENTOS HS",null,"AVENTOS HL",null,"AVENTOS HK top",null,"AVENTOS HK-S",null,"AVENTOS HK-XS",null,null,"rámeček",null,null,null,3,null,null,null,null,null,null,{"$f":"List!$C$135","v":"Jdi na"}]
[]
[null,{"$f":"List!$C$18&\" ***\"","v":"Široký alurámeček ***"},null,null,null,{"$f":"N201&\"       \"","v":"Alurámečky s 4mm sklem       "},null,null,null,null,null,null,null,null,1,null,null,null,{"$f":"\" \"&List!$C$39&\" A \"","v":" Cena za korpus A "},null,null,null,null,null,null,{"$f":"List!$C$136","v":"Úvod plánování"}]
[null,null,null,null,null,null,{"$f":"List!$C$47&\" \"&List!$C$22&\"       \"","v":"Nastavit hmotnost alurámečků       "},null,null,null,null,null,null,null,"A = 1",null,null,null,{"$f":"\" \"&List!$C$39&\" B \"","v":" Cena za korpus B "},null,null,null,null,null,null,{"$f":"List!$C$137","v":"Nápověda"}]
[null,null,null,null,null,null,null,null,null,null,null,null,null,null,"B = 2",null,null,null,{"$f":"\" \"&List!$C$59","v":" Cena celkem bez DPH"}]
[null,{"$f":"List!$C$142","v":"Soupis kování"},null,null,null,null,{"$f":"IF(S2=1,$N$142,IF($S$2=2,$P$142,IF($S$2=3,$L$142,0)))","v":0},null,null,null,null,null,null,null,null,null,null,null,null,null,null,null,null,null,null,{"$f":"List!$C$141","v":"Doplňky"}]
[null,null,null,null,null,null,null,null,null,null,null,null,null,null,null,null,null,null,null,null,null,null,null,null,null,null,null,null,null,null,null,null,null,null,null,null,null,null,null,null,null,null,null,{"$f":"\"  \"&List!$C$80&\" LF \"","v":"  Ukazatel výkonnosti LF "},null,{"$f":"List!$C$79","v":"Zdvihací mechanizmus"}]
[null,null,null,{"$f":"List!$C$62&\" A\"","v":"Korpus A"},null,null,null,null,null,null,null,null,null,null,null,null,null,"dva zdvihače",null,null,null,"tři zdvihače",null,null,null,{"$f":"List!$C$139","v":"Přehled korpusů"}]
[null,{"$f":"List!$C$72&\" KB [mm] \"","v":"Šířka korpusu KB [mm] "},null,null,null,null,null,null,{"$f":"IF($H10=0,\" \",IF($H10<220,\" min. 220mm\",IF($H10>1800,\" max. 1 800mm\",\" \")))&IF(H15>0,IF(H10=0,\"● \"&List!$C$111,\" \"),\" \")","v":"  "},null,null,null,null,"zdvih A","dva","tři",null,"min","max","š.max","š. min",false,null,null,null,{"$f":"List!$C$140","v":"Objednávka"},null,null,null,null,null,null,null,null,null,null,null,null,null,null,null,null,null,"  220 - 500",null,"20K2B00.02"]
[null,{"$f":"List!$C$73&\" KH [mm]  \"","v":"Výška korpusu KH [mm]  "},null,null,null,null,null,null,{"$f":"IF($H11=0,\" \",IF($H11<190,\" min. 190mm\",IF($H11>600,\" max. 600 mm\",\" \")))&IF(H15>0,IF(H11=0,\"● \"&List!$C$111,\" \"),\" \")","v":"  "},null,null,null,null,"K2B",{"$f":"IF($V$10=FALSE,IF($H$14>R11,IF($H$14<S11,1,0),0),0)","v":0},{"$f":"IF($V$10=TRUE,IF($H$14>V11,IF($H$14<W11,2,0),0),0)","v":0},null,219.99,450,null,null,329.99,670,null,null,null,null,null,null,null,null,null,null,null,null,null,null,null,null,null,null,null,null,"  400 - 1.000",null,"20K2C00.02"]
[null,{"$f":"List!$C$75&\" [kg] ** \"","v":"Hmotnost čela vč. 2x hmotnost úchytky [kg] ** "},null,null,null,null,null,null,{"$f":"IF($H15=0,\" \",IF(SUM($H12,$H13)=0,$N$34,\" \"))&IF($H15>0,IF($H12>0,$N$35,\" \"),\" \")","v":"  "},null,null,null,null,"K2C",{"$f":"IF($V$10=FALSE,IF($H$14>R12,IF($H$14<S12,1,0),0),0)","v":0},{"$f":"IF($V$10=TRUE,IF($H$14>V12,IF($H$14<W12,1.5,0),0),0)","v":0},null,449.99,980,null,null,669.99,1470,null,null,null,null,null,null,null,null,null,null,null,null,null,null,null,null,null,null,null,null,"  960 - 2.215",null,"20K2E00.02"]
[null,{"$f":"List!$C$76&\" [kg]       \"","v":"Vypočtená hmotnost čela [kg]       "},null,null,null,null,null,{"$f":"$H$211","v":0},{"$f":"IF($H15>0,IF($H13>0,IF($H12=0,$N$35,\" \"),\" \"),\" \")","v":" "},null,null,null,null,"K2E",{"$f":"IF($V$10=FALSE,IF($H$14>R13,IF($H$14<S13,1,0),0),0)","v":0},{"$f":"IF($V$10=TRUE,IF($H$14>V13,IF($H$14<W13,1.5,0),0),0)","v":0},null,979.99,2216,null,{"$f":"IF(U14=1,$V$44,IF(U14=2,$V$45,$V$46))","v":"Standard"},1469.99,3061,null,null,{"$f":"\" \"&List!$C$177&\" A\"","v":" Výpočet hmotnosti A"}]
[null,null,null,{"$f":"List!$C$80&\" LF \"","v":"Ukazatel výkonnosti LF "},null,null,null,{"$f":"IF(H12>0,H11*H12,H11*H13)","v":0},{"$f":"IF($H14>2215.5,$N$39,\" \")","v":" "},null,null,null,null,null,null,null,null,null,null,null,1,null,null,null,null,null,null,null,null,null,null,null,null,null,null,null,null,null,null,null,null,null,null,{"$f":"List!$C$80&\" LF = \"&List!$C$73&\" KH [mm] x \"&List!$C$75&\" [kg]\"","v":"Ukazatel výkonnosti LF = Výška korpusu KH [mm] x Hmotnost čela vč. 2x hmotnost úchytky [kg]"}]
[null,{"$f":"List!$C$69","v":"Počet skříněk"},null,null,null,null,null,null,null,null,null,null,{"$f":"IF(OR($H10*$H11*$T15=0,$H11<190,$H11>600,$H14>2215),0,$H15)","v":0},null,null,null,null,null,"hmot =",{"$f":"IF(H12>0,H12,H13)","v":0},{"$f":"IF(SUM(H12,H13)=0,0,IF(H12>0,1,2))","v":0},"zadaná / vypočtená"]
[null,{"$f":"IF(H15>0,IF(U15=0,\" \",IF(U15=1,$N$47,$N$48)),\" \")&IF(H15>0,IF(U15=0,\" \",IF(U15=1,$N$49,$N$50)),\" \")","v":"  "},null,null,null,null,null,null,null,null,null,null,null,null,null,null,null,null,null,null,null,null,null,null,null,null,null,null,null,null,null,null,null,null,null,null,null,null,null,null,null,null,null,{"$f":"List!$C$322","v":"V případě využití třetího zdvihače můžete zvýšit ukazatel výkonnosti a tudíž hmotnost čílka o 50%."}]
[null,null,null,null,null,null,null,null,null,null,null,null,null,null,null,null,null,null,null,null,null,null,null,null,null,{"$f":"\" \"&List!$C$361","v":" Ověření síly zdvihače"}]
[null,null,null,{"$f":"List!$C$62&\" B\"","v":"Korpus B"},null,null,null,null,null,null,null,null,null,null,null,null,null,"dva zdvihače",null,null,null,"tři zdvihače"]
[null,{"$f":"List!$C$72&\" KB [mm] \"","v":"Šířka korpusu KB [mm] "},null,null,null,null,null,null,{"$f":"IF($H19=0,\" \",IF($H19<220,\" min. 220mm\",IF($H19>1800,\" max. 1 800mm\",\" \")))&IF(H24>0,IF(H19=0,\"● \"&List!$C$111,\" \"),\" \")","v":"  "},null,null,null,null,"zdvih A","dva","tři",null,"min","max","š.max","š. min",false]
[null,{"$f":"List!$C$73&\" KH [mm] \"","v":"Výška korpusu KH [mm] "},null,null,null,null,null,null,{"$f":"IF($H20=0,\" \",IF($H20<190,\" min. 190mm\",IF($H20>600,\" max. 600 mm\",\" \")))&IF(H24>0,IF(H20=0,\"● \"&List!$C$111,\" \"),\" \")","v":"  "},null,null,null,null,"K2B",{"$f":"IF($V$19=FALSE,IF($H$23>R20,IF($H$23<S20,1,0),0),0)","v":0},{"$f":"IF($V$19=TRUE,IF($H$23>V20,IF($H$23<W20,2,0),0),0)","v":0},null,219,450,null,null,329.99,670,null,null,null,null,null,null,null,null,null,null,null,null,null,null,null,null,null,null,null,null,{"$f":"List!$C$149","v":"Zpět"}]
[null,{"$f":"List!$C$75&\" [kg] ** \"","v":"Hmotnost čela vč. 2x hmotnost úchytky [kg] ** "},null,null,null,null,null,null,{"$f":"IF($H24=0,\" \",IF(SUM($H21,$H22)=0,$N$34,\" \"))&IF($H24>0,IF($H21>0,$N$35,\" \"),\" \")","v":"  "},null,null,null,null,"K2C",{"$f":"IF($V$19=FALSE,IF($H$23>R21,IF($H$23<S21,1,0),0),0)","v":0},{"$f":"IF($V$19=TRUE,IF($H$23>V21,IF($H$23<W21,1.5,0),0),0)","v":0},null,449.99,980,null,null,669.99,1470]
[null,{"$f":"List!$C$76&\" [kg]       \"","v":"Vypočtená hmotnost čela [kg]       "},null,null,null,null,null,{"$f":"$H$220","v":0},{"$f":"IF($H24>0,IF($H22>0,IF($H21=0,$N$35,\" \"),\" \"),\" \")","v":" "},null,null,null,null,"K2E",{"$f":"IF($V$19=FALSE,IF($H$23>R22,IF($H$23<S22,1,0),0),0)","v":0},{"$f":"IF($V$19=TRUE,IF($H$23>V22,IF($H$23<W22,1.5,0),0),0)","v":0},null,979.99,2216,null,{"$f":"IF(U23=1,$V$44,IF(U23=2,$V$45,$V$46))","v":"Standard"},1469.99,3061,null,null,{"$f":"\" \"&List!$C$177&\" B\"","v":" Výpočet hmotnosti B"}]
[null,null,null,{"$f":"List!$C$80&\" LF \"","v":"Ukazatel výkonnosti LF "},null,null,null,{"$f":"IF(H21>0,H20*H21,H20*H22)","v":0},{"$f":"IF($H23>2215.5,$N$39,\" \")","v":" "},null,null,null,null,null,null,null,null,null,null,null,1]
[null,{"$f":"List!$C$69","v":"Počet skříněk"},null,null,null,null,null,null,null,null,null,null,{"$f":"IF(OR($H19*$H20*$T24=0,$H20<190,$H20>600,$H23>2215),0,$H24)","v":0},null,null,null,null,null,"hmot =",{"$f":"IF(H21>0,H21,H22)","v":0},{"$f":"IF(SUM(H21,H22)=0,0,IF(H21>0,1,2))","v":0},"zadaná / vypočtená"]
[null,{"$f":"IF(H24>0,IF(U24=0,\" \",IF(U24=1,$N$47,$N$48)),\" \")&IF(H24>0,IF(U24=0,\" \",IF(U24=1,$N$49,$N$50)),\" \")","v":"  "}]
[]
[null,null,null,null,null,null,null,null,null,null,null,null,null,null,null,null,null,null,{"$f":"IF($T$27=FALSE,2,1)","v":2},false,null," - Zdroj"]
[]
[]
[null,null,{"$f":"\"** \"&List!$C$168","v":"** Pokud znáte hmotnost a nechcete využít výpočtu hmotnosti"}]
[null,null,{"$f":"\"*** \"&List!$C$371","v":"*** Vyberte typ alurámečku!"}]
[null,null,{"$f":"\"      \"&List!$C$372","v":"      Více informací k výběru alurámečků v Nápovědě"}]
[]
[null,null,null,null,null,null,null,null,null,null,null,null,null,{"$f":"\" \"&List!$C$103","v":" Doplňte nebo použijte \"Výpočet hmotnosti\" "}]
[null,null,null,null,null,null,null,null,null,null,null,null,null,{"$f":"\"◄ \"&List!$C$100","v":"◄ hodnota bude použita pro výpočet LF"}]
[null,null,null,null,null,null,null,null,null,null,null,null,null,{"$f":"\" * \"&List!$C$110","v":" * Doplňte hodnoty"}]
[]
[null,null,null,null,null,null,null,null,null,null,null,null,null,{"$f":"\" max. 3.060! \"&List!$C$105","v":" max. 3.060! Upravte hmotnost nebo výšku"}]
[null,{"$f":"IF($H$11>600,\"***\",IF($H$20>600,\"***\",\" \"))","v":" "},null,null,null,null,null,null,null,null,null,null,null,{"$f":"\" max. 2.215! \"&List!$C$105","v":" max. 2.215! Upravte hmotnost nebo výšku"}]
[null,null,null,null,null,null,null,null,null,null,null,null,null,{"$f":"\"                       \"&List!$C$106","v":"                       nebo přidejte třetí zdvihač"}]
[]
[null,null,null,null,null,null,null,null,null,null,null,null,null,1,null,1,null,{"$f":"HK!$K$27","v":2},null,{"$f":"Menu!$Q$27","v":3}]
[null,null,null,null,null,null,null,null,null,null,null,null,null,"záv.",null,"střed.",null,"čelní kov.",null,"kryt.",null,"provedení"]
[null,null,null,null,null,null,null,null,null,null,null,null,null,null,null,null,null,{"$f":"List!$C$125","v":"Expando"},null,{"$f":"List!$C$128","v":"Světle šedá (HG/T)"},null,"Standard"]
[null,null,null,null,null,null,null,null,null,null,null,null,null,null,null,null,null,{"$f":"List!$C$126","v":"na vruty"},null,{"$f":"List!$C$130","v":"Hedvábně bílá (SW/T)"},null,"TIP-ON"]
[null,null,null,null,null,null,null,null,null,null,null,null,null,null,null,null,null,null,null,{"$f":"List!$C$131","v":0}]
[null,null,null,null,null,null,null,null,null,null,null,null,null,{"$f":"List!C169&\". \"","v":"Pro určení typu zdvihače bude použita zadaná hmotnost. "}]
[null,null,null,null,null,null,null,null,null,null,null,null,null,{"$f":"List!C170&\". \"","v":"Pro určení typu zdvihače bude použita vypočtená hmotnost. "}]
[null,null,null,null,null,null,null,null,null,null,null,null,null,{"$f":"List!C171","v":"Chcete-li použít vypočtenou hmotnost, smažte zadanou hodnotu"}]
[null,null,null,null,null,null,null,null,null,null,null,null,null,{"$f":"List!C172","v":"Chcete-li použít zadanou hmotnost, zadejte ji do políčka"}]
[]
[]
[]
[]
[]
[]
[]
[]
[]
[]
[]
[]
[]
[]
[]
[]
[]
[]
[]
[]
[]
[]
[]
[]
[]
[]
[]
[]
[]
[]
[]
[]
[]
[]
[]
[]
[]
[]
[]
[]
[]
[]
[]
[]
[]
[]
[]
[null,{"$f":"List!C142","v":"Soupis kování"}]
[]
[null,{"$f":"$J$2","v":"AVENTOS HK-S"},null,{"$f":"B4","v":"Široký alurámeček ***"}]
[null,{"$f":"List!C50","v":"Název"},null,null,null,null,{"$f":"List!$C$51","v":"Číslo artiklu"},null,{"$f":"List!C52","v":"Barva"},{"$f":"List!C54","v":"Ks"},{"$f":"List!C56","v":"Jednotková cena"},{"$f":"List!C57","v":"Celkem"},"A","Cena","B","Cena","C","Cena","Filtr"]
[null,{"$f":"Cen!A126","v":"Sada zdvihačů, světle šedé krytky"},null,null,null,null,{"$f":"Cen!E126","v":"20K2B00.06"},null,{"$f":"Cen!G126","v":"HGIG"},{"$f":"SUM(M102,O102,Q102)","v":0},{"$f":"Cen!I126","v":0},{"$f":"J102*K102","v":0},{"$f":"IF(AND($U$14=1,$T$42=1),ROUNDUP(SUM($O$11:$P$11)*$M$15,0),0)","v":0},{"$f":"$K102*M102","v":0},{"$f":"IF(AND($U$23=1,$T$42=1),ROUNDUP(SUM($O$20:$P$20)*$M$24,0),0)","v":0},{"$f":"$K102*O102","v":0},null,{"$f":"$K102*Q102","v":0},"x"]
[null,{"$f":"Cen!A127","v":"Sada zdvihačů, tmavě šedé krytky"},null,null,null,null,{"$f":"Cen!E127","v":"20K2B00.06"},null,{"$f":"Cen!G127","v":"TGIG"},0,{"$f":"Cen!I127","v":0},{"$f":"J103*K103","v":0},{"$f":"IF(AND($U$14=1,$T$42=2),ROUNDUP(SUM($O$11:$P$11)*$M$15,0),0)","v":0},{"$f":"$K103*M103","v":0},{"$f":"IF(AND($U$23=1,$T$42=2),ROUNDUP(SUM($O$20:$P$20)*$M$24,0),0)","v":0},{"$f":"$K103*O103","v":0},null,{"$f":"$K103*Q103","v":0},"x"]
[null,{"$f":"Cen!A128","v":"Sada zdvihačů, bílé krytky"},null,null,null,null,{"$f":"Cen!E128","v":"20K2B00.06"},null,{"$f":"Cen!G128","v":"SWIG"},0,{"$f":"Cen!I128","v":0},{"$f":"J104*K104","v":0},{"$f":"IF(AND($U$14=1,$T$42=3),ROUNDUP(SUM($O$11:$P$11)*$M$15,0),0)","v":0},0,{"$f":"IF(AND($U$23=1,$T$42=3),ROUNDUP(SUM($O$20:$P$20)*$M$24,0),0)","v":0},0,null,0,"x"]
[null,{"$f":"Cen!A129","v":"Sada zdvihačů, světle šedé krytky"},null,null,null,null,{"$f":"Cen!E129","v":"20K2C00.06"},null,{"$f":"Cen!G129","v":"HGIG"},0,{"$f":"Cen!I129","v":0},0,{"$f":"IF(AND($U$14=1,$T$42=1),ROUNDUP(SUM($O$12:$P$12)*$M$15,0),0)","v":0},0,{"$f":"IF(AND($U$23=1,$T$42=1),ROUNDUP(SUM($O$21:$P$21)*$M$24,0),0)","v":0},0,null,0,"x"]
[null,{"$f":"Cen!A130","v":"Sada zdvihačů, tmavě šedé krytky"},null,null,null,null,{"$f":"Cen!E130","v":"20K2C00.06"},null,{"$f":"Cen!G130","v":"TGIG"},0,{"$f":"Cen!I130","v":0},{"$f":"J106*K106","v":0},{"$f":"IF(AND($U$14=1,$T$42=2),ROUNDUP(SUM($O$12:$P$12)*$M$15,0),0)","v":0},{"$f":"$K106*M106","v":0},{"$f":"IF(AND($U$23=1,$T$42=2),ROUNDUP(SUM($O$21:$P$21)*$M$24,0),0)","v":0},{"$f":"$K106*O106","v":0},null,{"$f":"$K106*Q106","v":0},"x"]
[null,{"$f":"Cen!A131","v":"Sada zdvihačů, bílé krytky"},null,null,null,null,{"$f":"Cen!E131","v":"20K2C00.06"},null,{"$f":"Cen!G131","v":"SWIG"},0,{"$f":"Cen!I131","v":0},0,{"$f":"IF(AND($U$14=1,$T$42=3),ROUNDUP(SUM($O$12:$P$12)*$M$15,0),0)","v":0},0,{"$f":"IF(AND($U$23=1,$T$42=3),ROUNDUP(SUM($O$21:$P$21)*$M$24,0),0)","v":0},0,null,0,"x"]
[null,{"$f":"Cen!A132","v":"Sada zdvihačů, světle šedé krytky"},null,null,null,null,{"$f":"Cen!E132","v":"20K2E00.06"},null,{"$f":"Cen!G132","v":"HGIG"},0,{"$f":"Cen!I132","v":0},0,{"$f":"IF(AND($U$14=1,$T$42=1),ROUNDUP(SUM($O$13:$P$13)*$M$15,0),0)","v":0},0,{"$f":"IF(AND($U$23=1,$T$42=1),ROUNDUP(SUM($O$22:$P$22)*$M$24,0),0)","v":0},0,null,0,"x"]
[null,{"$f":"Cen!A133","v":"Sada zdvihačů, tmavě šedé krytky"},null,null,null,null,{"$f":"Cen!E133","v":"20K2E00.06"},null,{"$f":"Cen!G133","v":"TGIG"},0,{"$f":"Cen!I133","v":0},{"$f":"J109*K109","v":0},{"$f":"IF(AND($U$14=1,$T$42=2),ROUNDUP(SUM($O$13:$P$13)*$M$15,0),0)","v":0},{"$f":"$K109*M109","v":0},{"$f":"IF(AND($U$23=1,$T$42=2),ROUNDUP(SUM($O$22:$P$22)*$M$24,0),0)","v":0},{"$f":"$K109*O109","v":0},null,{"$f":"$K109*Q109","v":0},"x"]
[null,{"$f":"Cen!A134","v":"Sada zdvihačů, bílé krytky"},null,null,null,null,{"$f":"Cen!E134","v":"20K2E00.06"},null,{"$f":"Cen!G134","v":"SWIG"},0,{"$f":"Cen!I134","v":0},0,{"$f":"IF(AND($U$14=1,$T$42=3),ROUNDUP(SUM($O$13:$P$13)*$M$15,0),0)","v":0},0,{"$f":"IF(AND($U$23=1,$T$42=3),ROUNDUP(SUM($O$22:$P$22)*$M$24,0),0)","v":0},0,null,0,"x"]
[null,{"$f":"Cen!A135","v":0},null,null,null,null,{"$f":"Cen!E135","v":0},null,{"$f":"Cen!G135","v":0},0,{"$f":"Cen!I135","v":0},0,null,0,null,0]
[null,{"$f":"Cen!A136","v":"Sada zdvihačů TIP-ON, světle šedé krytky"},null,null,null,null,{"$f":"Cen!E136","v":"20K2B00T06"},null,{"$f":"Cen!G136","v":"HGIG"},{"$f":"SUM(M112,O112,Q112)","v":0},{"$f":"Cen!I136","v":0},{"$f":"J112*K112","v":0},{"$f":"IF(AND($U$14=2,$T$42=1),ROUNDUP(SUM($O$11:$P$11)*$M$15,0),0)","v":0},0,{"$f":"IF(AND($U$23=2,$T$42=1),ROUNDUP(SUM($O$20:$P$20)*$M$24,0),0)","v":0},0,null,null,"x"]
[null,{"$f":"Cen!A137","v":"Sada zdvihačů TIP-ON, tmavě šedé krytky"},null,null,null,null,{"$f":"Cen!E137","v":"20K2B00T06"},null,{"$f":"Cen!G137","v":"TGIG"},{"$f":"SUM(M113,O113,Q113)","v":0},{"$f":"Cen!I137","v":0},{"$f":"J113*K113","v":0},{"$f":"IF(AND($U$14=2,$T$42=2),ROUNDUP(SUM($O$11:$P$11)*$M$15,0),0)","v":0},0,{"$f":"IF(AND($U$23=2,$T$42=2),ROUNDUP(SUM($O$20:$P$20)*$M$24,0),0)","v":0},0,null,null,"x"]
[null,{"$f":"Cen!A138","v":"Sada zdvihačů TIP-ON, bílé krytky"},null,null,null,null,{"$f":"Cen!E138","v":"20K2B00T06"},null,{"$f":"Cen!G138","v":"SWIG"},0,{"$f":"Cen!I138","v":0},0,{"$f":"IF(AND($U$14=2,$T$42=3),ROUNDUP(SUM($O$11:$P$11)*$M$15,0),0)","v":0},0,{"$f":"IF(AND($U$23=2,$T$42=3),ROUNDUP(SUM($O$20:$P$20)*$M$24,0),0)","v":0},0,null,null,"x"]
[null,{"$f":"Cen!A139","v":"Sada zdvihačů TIP-ON, světle šedé krytky"},null,null,null,null,{"$f":"Cen!E139","v":"20K2C00T06"},null,{"$f":"Cen!G139","v":"HGIG"},0,{"$f":"Cen!I139","v":0},0,{"$f":"IF(AND($U$14=2,$T$42=1),ROUNDUP(SUM($O$12:$P$12)*$M$15,0),0)","v":0},0,{"$f":"IF(AND($U$23=2,$T$42=1),ROUNDUP(SUM($O$21:$P$21)*$M$24,0),0)","v":0},0,null,null,"x"]
[null,{"$f":"Cen!A140","v":"Sada zdvihačů TIP-ON, tmavě šedé krytky"},null,null,null,null,{"$f":"Cen!E140","v":"20K2C00T06"},null,{"$f":"Cen!G140","v":"TGIG"},{"$f":"SUM(M116,O116,Q116)","v":0},{"$f":"Cen!I140","v":0},{"$f":"J116*K116","v":0},{"$f":"IF(AND($U$14=2,$T$42=2),ROUNDUP(SUM($O$12:$P$12)*$M$15,0),0)","v":0},0,{"$f":"IF(AND($U$23=2,$T$42=2),ROUNDUP(SUM($O$21:$P$21)*$M$24,0),0)","v":0},0,null,null,"x"]
[null,{"$f":"Cen!A141","v":"Sada zdvihačů TIP-ON, bílé krytky"},null,null,null,null,{"$f":"Cen!E141","v":"20K2C00T06"},null,{"$f":"Cen!G141","v":"SWIG"},0,{"$f":"Cen!I141","v":0},0,{"$f":"IF(AND($U$14=2,$T$42=3),ROUNDUP(SUM($O$12:$P$12)*$M$15,0),0)","v":0},0,{"$f":"IF(AND($U$23=2,$T$42=3),ROUNDUP(SUM($O$21:$P$21)*$M$24,0),0)","v":0},0,null,null,"x"]
[null,{"$f":"Cen!A142","v":"Sada zdvihačů TIP-ON, světle šedé krytky"},null,null,null,null,{"$f":"Cen!E142","v":"20K2E00T06"},null,{"$f":"Cen!G142","v":"HGIG"},0,{"$f":"Cen!I142","v":0},0,{"$f":"IF(AND($U$14=2,$T$42=1),ROUNDUP(SUM($O$13:$P$13)*$M$15,0),0)","v":0},0,{"$f":"IF(AND($U$23=2,$T$42=1),ROUNDUP(SUM($O$22:$P$22)*$M$24,0),0)","v":0},0,null,null,"x"]
[null,{"$f":"Cen!A143","v":"Sada zdvihačů TIP-ON, tmavě šedé krytky"},null,null,null,null,{"$f":"Cen!E143","v":"20K2E00T06"},null,{"$f":"Cen!G143","v":"TGIG"},{"$f":"SUM(M119,O119,Q119)","v":0},{"$f":"Cen!I143","v":0},{"$f":"J119*K119","v":0},{"$f":"IF(AND($U$14=2,$T$42=2),ROUNDUP(SUM($O$13:$P$13)*$M$15,0),0)","v":0},0,{"$f":"IF(AND($U$23=2,$T$42=2),ROUNDUP(SUM($O$22:$P$22)*$M$24,0),0)","v":0},0,null,null,"x"]
[null,{"$f":"Cen!A144","v":"Sada zdvihačů TIP-ON, bílé krytky"},null,null,null,null,{"$f":"Cen!E144","v":"20K2E00T06"},null,{"$f":"Cen!G144","v":"SWIG"},0,{"$f":"Cen!I144","v":0},0,{"$f":"IF(AND($U$14=2,$T$42=3),ROUNDUP(SUM($O$13:$P$13)*$M$15,0),0)","v":0},0,{"$f":"IF(AND($U$23=2,$T$42=3),ROUNDUP(SUM($O$22:$P$22)*$M$24,0),0)","v":0},0,null,null,"x"]
[null,{"$f":"Cen!A145","v":0},null,null,null,null,{"$f":"Cen!E145","v":0},null,{"$f":"Cen!G145","v":0},0,{"$f":"Cen!I145","v":0},0,null,0,null,0]
[null,{"$f":"Cen!A146","v":"Přímá montážní podložka"},null,null,null,null,{"$f":"Cen!E146","v":"175H3100"},null,{"$f":"Cen!G146","v":"NI"},{"$f":"SUM(M122,O122,Q122)","v":0},{"$f":"Cen!I146","v":0},0,{"$f":"SUM(M$102:M$120)*2","v":0},0,{"$f":"SUM(O$102:O$120)*2","v":0},0,null,0,"x"]
[null,{"$f":"Cen!A147","v":"Přímá montážní podložka, EXPANDO"},null,null,null,null,{"$f":"Cen!E147","v":"177H3100E"},null,{"$f":"Cen!G147","v":"NI"},{"$f":"SUM(M123,O123,Q123)","v":0},{"$f":"Cen!I147","v":0},0,null,0,null,0,null,0]
[null,{"$f":"Cen!A148","v":"Sada čel.kování pro úzké alurámečky"},null,null,null,null,{"$f":"Cen!E148","v":"20K4A00A.01"},null,{"$f":"Cen!G148","v":"NI"},0,{"$f":"Cen!I148","v":0},0,null,0,null,0,null,0]
[null,{"$f":"Cen!A149","v":"Omezovač úhlu otevření na 75° "},null,null,null,null,{"$f":"Cen!E149","v":"20K7A11"},null,{"$f":"Cen!G149","v":"TGR"},0,{"$f":"Cen!I149","v":0},0,null,0,null,0,null,0]
[null,{"$f":"Cen!A150","v":"Omezovač úhlu otevření na 100° "},null,null,null,null,{"$f":"Cen!E150","v":"20K7A41"},null,{"$f":"Cen!G150","v":"TGR"},0,{"$f":"Cen!I150","v":0},0,null,0,null,0,null,0]
[null,{"$f":"Cen!A151","v":"CLIP top krytka raménka Nikl"},null,null,null,null,{"$f":"Cen!E151","v":"70.1503"},null,{"$f":"Cen!G151","v":"NI"},0,{"$f":"Cen!I151","v":0},0,{"$f":"SUM(M$102:M$120)*2","v":0},0,{"$f":"SUM(O$102:O$120)*2","v":0},0,null,0,"x"]
[null,{"$f":"Cen!A152","v":"CLIP top krytka raménka Nikl"},null,null,null,null,{"$f":"Cen!E152","v":"70.1563"},null,{"$f":"Cen!G152","v":"NI"},0,{"$f":"Cen!I152","v":0},0,null,0,null,0,null,0]
[null,{"$f":"Cen!A153","v":0},null,null,null,null,{"$f":"Cen!E153","v":0},null,{"$f":"Cen!G153","v":0},0,{"$f":"Cen!I153","v":0},0,null,0,null,0,null,0]
[null,{"$f":"Cen!A154","v":"Sada čel.kování pro úzké alu HK-S"},null,null,null,null,{"$f":"Cen!E154","v":"175H3G00A"},null,{"$f":"Cen!G154","v":"NI"},{"$f":"SUM(M130,O130,Q130)","v":0},{"$f":"Cen!I154","v":0},0,null,0,null,0,null,0]
[null,{"$f":"Cen!A155","v":0},null,null,null,null,{"$f":"Cen!E155","v":0},null,{"$f":"Cen!G155","v":0},{"$f":"SUM(M131,O131,Q131)","v":0},{"$f":"Cen!I155","v":0},0,null,0,null,0,null,0]
[null,{"$f":"Cen!A196","v":0},null,null,null,null,{"$f":"Cen!E196","v":0},null,{"$f":"Cen!G196","v":0},{"$f":"SUM(M132,O132,Q132)","v":0},{"$f":"Cen!I196","v":0},0,null,0,null,0,null,0]
[null,{"$f":"Cen!A195","v":"Samořezný vrut do alurámečků"},null,null,null,null,{"$f":"Cen!E195","v":"660.0950"},null,{"$f":"Cen!G195","v":"NI"},{"$f":"SUM(M133,O133,Q133)","v":0},{"$f":"Cen!I195","v":0},0,{"$f":"M122*2","v":0},0,{"$f":"O122*2","v":0},0,null,null,"x"]
[]
[]
[]
[null,{"$f":"Cen!A180","v":"TIP-ON, zkrácená délka, šedý"},null,null,null,null,{"$f":"Cen!E180","v":"956.1004"},null,{"$f":"Cen!G180","v":"PG"},{"$f":"SUM(M137,O137,Q137)","v":0},{"$f":"Cen!I180","v":0},{"$f":"J137*K137","v":0},{"$f":"IF(AND($T$42<3,$U$14=2),$M$15,0)","v":0},{"$f":"$K137*M137","v":0},{"$f":"IF(AND($T$42<3,$U$23=2),$M$24,0)","v":0},{"$f":"$K137*O137","v":0},null,null,"x"]
[null,{"$f":"Cen!A181","v":"TIP-ON, zkrácená délka, hedv.bílý"},null,null,null,null,{"$f":"Cen!E181","v":"956.1004"},null,{"$f":"Cen!G181","v":"SW"},{"$f":"SUM(M138,O138,Q138)","v":0},{"$f":"Cen!I181","v":0},{"$f":"J138*K138","v":0},{"$f":"IF(AND($T$42=3,$U$14=2),$M$15,0)","v":0},{"$f":"$K138*M138","v":0},{"$f":"IF(AND($T$42=3,$U$23=2),$M$24,0)","v":0},{"$f":"$K138*O138","v":0},null,null,"x"]
[]
[]
[]
[null,null,null,null,null,null,null,null,null,null,{"$f":"List!$C$59&\" \"","v":"Cena celkem bez DPH "},{"$f":"SUM(L102:L140)","v":0},null,{"$f":"SUM(N102:N141)","v":0},null,{"$f":"SUM(P102:P141)","v":0},null,{"$f":"SUM(R102:R141)","v":0}]
[]
[null,null,null,null,null,null,null,null,null,null,null,{"$f":"List!$C$149","v":"Zpět"}]
[]
[]
[]
[]
[]
[]
[]
[]
[]
[]
[]
[]
[]
[]
[]
[]
[]
[]
[]
[]
[]
[]
[]
[]
[]
[]
[]
[]
[]
[]
[]
[]
[]
[]
[]
[]
[]
[]
[]
[]
[]
[]
[]
[]
[]
[]
[]
[]
[]
[]
[]
[]
[]
[]
[]
[null,{"$f":"List!$C$71","v":"Výpočet hmotnosti čel"}]
[null,null,{"$f":"List!$C$161&\"  \"","v":"Provedení čel  "},null,null,null,null,null,{"$f":"IF(U207=3,IF(H201=0,N203,\" \"),IF(H201>0,N204,\" \"))","v":" "},null,null,null,null,{"$f":"IF($U$207=1,$U$228,IF($U$207=2,$U$229,$U$230&\" - \"&$N$211&\"mm\"))","v":"Alurámečky s 4mm sklem"},null,null,null,null,{"$f":"Menu!$Q$205","v":2500}]
[]
[null,null,null,null,null,null,null,null,null,null,null,null,null,{"$f":"\" \"&List!$C$226&\" [mm]\"","v":" Zadejte sílu skla [mm]"}]
[null,null,null,null,null,null,null,null,null,null,null,null,null,{"$f":"\" \"&List!$C$221&\" '\"&List!$C$89&\"'\"","v":" Hodnota platí jen pro volbu 'Alurámečky s jiným sklem'"}]
[]
[null,null,null,null,null,{"$f":"D9","v":"Korpus A"},null,null,null,null,null,null,null,null,null,null,null,null,null,"váha spoj.","tl. skla","typ alu"]
[null,{"$f":"List!$C$72&\" KB [mm]       \"","v":"Šířka korpusu KB [mm]       "},null,null,null,null,null,{"$f":"H10","v":0},null,null,null,null,null,{"$f":"H207*H208*H209","v":0},null,null,null,null,{"$f":"IF($V$207=1,$M$237,$M$238)","v":0.62},{"$f":"$M$239","v":0.61},1,{"$f":"$O$4","v":1}]
[null,{"$f":"List!$C$73&\" KH [mm]       \"","v":"Výška korpusu KH [mm]       "},null,null,null,null,null,{"$f":"H11","v":0},null,null,null,null,null,{"$f":"N207/1000000000","v":0},1,null,null,null,"váha alu",{"$f":"SUM(H207*2,(H208-90)*2)*S207/1000","v":-0.11159999999999999},"A plocha B"]
[null,{"$f":"List!$C$77&\" TS [mm] \"","v":"Síla čela TS [mm] "},null,null,null,null,null,null,null,null,null,null,null,{"$f":"Menu!$L$30","v":760},{"$f":"List!$C$84&\" (\"&N209&\" kg/m3)\"","v":"MDF (760 kg/m3)"},null,null,null,{"$f":"$S$201*4/1000","v":10},{"$f":"IF($V$207=1,U209*S209,V209*S209)","v":6.4000000000000001E-2},{"$f":"SUM(($H$207-80)*($H$208-80)/1000000)","v":6.4000000000000003E-3},{"$f":"SUM(($H$207-6)*($H$208-6)/1000000)","v":3.6000000000000001E-5},"4mm"]
[null,{"$f":"List!$C$78&\" [kg] \"","v":"Hmotnost úchytky [kg] "},null,null,null,null,null,null,{"$f":"IF($U$14=2,\" \",IF(SUM(H207,H208)=0,\" \",IF(H210=0,\" ● \"&List!$C$112,\" \")))","v":" "},null,null,null,null,{"$f":"Menu!$L$31","v":680},{"$f":"List!$C$85&\" (\"&N210&\" kg/m3)\"","v":"Dřevotříska (680 kg/m3)"},null,null,null,{"$f":"$S$201*5/1000","v":12.5},{"$f":"IF($V$207=1,U210*S210,V210*S210)","v":0.08},{"$f":"SUM(($H$207-80)*($H$208-80)/1000000)","v":6.4000000000000003E-3},{"$f":"SUM(($H$207-6)*($H$208-6)/1000000)","v":3.6000000000000001E-5},"5mm"]
[null,{"$f":"List!$C$76&\" [kg] \"","v":"Vypočtená hmotnost čela [kg] "},null,null,null,null,null,{"$f":"IF(S212=0,0,S212+2*H210)","v":0},null,null,null,null,{"$f":"IF(H207*H208*H209=0,0,IF(O208=1,N208*N209,IF(O208=2,N208*N210,N208*N211)))","v":0},{"$f":"$H$201","v":0},{"$f":"List!$C$86","v":"Jiné - volitelná hustota"},null,null,null,{"$f":"$S$201*$H$201/1000","v":0},{"$f":"IF($V$207=1,U211*S211,V211*S211)","v":0},{"$f":"SUM(($H$207-80)*($H$208-80)/1000000)","v":6.4000000000000003E-3},{"$f":"SUM(($H$207-6)*($H$208-6)/1000000)","v":3.6000000000000001E-5},"jiné"]
[null,null,{"$f":"IF((U14=2)*AND(H211>0)*AND(H210>0),$N$229&\" \"&$N$230,IF((U14<>2)*AND(H211>0),IF(H210=0,$N$228,\" \"),\" \"))","v":" "},null,null,null,null,null,null,null,null,null,null,null,null,null,null,null,{"$f":"IF(OR(AND(U207=3, $H$201=0), H207*H208=0), 0, SUM(IF(U207=1,T209,IF(U207=2,T210,T211)),T208,T207))","v":0}]
[]
[]
[null,null,null,null,null,{"$f":"D18","v":"Korpus B"},null,null,null,null,null,null,null,null,null,null,null,null,null,"váha spoj.","tl. skla","typ alu"]
[null,{"$f":"List!$C$72&\" KB [mm]       \"","v":"Šířka korpusu KB [mm]       "},null,null,null,null,null,{"$f":"H19","v":0},null,null,null,null,null,{"$f":"H216*H217*H218","v":0},null,null,null,null,{"$f":"IF($V$207=1,$M$237,$M$238)","v":0.62},{"$f":"$M$239","v":0.61},{"$f":"$U$207","v":1},{"$f":"$V$207","v":1}]
[null,{"$f":"List!$C$73&\" KH [mm]       \"","v":"Výška korpusu KH [mm]       "},null,null,null,null,null,{"$f":"H20","v":0},null,null,null,null,null,{"$f":"N216/1000000000","v":0},{"$f":"O208","v":1},null,null,null,"váha alu",{"$f":"SUM(H216*2,(H217-90)*2)*S216/1000","v":-0.11159999999999999},"A plocha B"]
[null,{"$f":"List!$C$77&\" TS [mm] \"","v":"Síla čela TS [mm] "},null,null,null,null,null,null,null,null,null,null,null,{"$f":"$N$209","v":760},{"$f":"$O$209","v":"MDF (760 kg/m3)"},null,null,null,{"$f":"S209","v":10},{"$f":"IF($V$207=1,U218*S218,V218*S218)","v":6.4000000000000001E-2},{"$f":"SUM(($H$216-80)*($H$217-80)/1000000)","v":6.4000000000000003E-3},{"$f":"SUM(($H$216-6)*($H$217-6)/1000000)","v":3.6000000000000001E-5},"4mm"]
[null,{"$f":"List!$C$78&\" [kg] \"","v":"Hmotnost úchytky [kg] "},null,null,null,null,null,null,{"$f":"IF($U$23=2,\" \",IF(SUM(H216,H217)=0,\" \",IF(H219=0,\" ● \"&List!$C$112,\" \")))","v":" "},null,null,null,null,{"$f":"$N$210","v":680},{"$f":"$O$210","v":"Dřevotříska (680 kg/m3)"},null,null,null,{"$f":"S210","v":12.5},{"$f":"IF($V$207=1,U219*S219,V219*S219)","v":0.08},{"$f":"SUM(($H$216-80)*($H$217-80)/1000000)","v":6.4000000000000003E-3},{"$f":"SUM(($H$216-6)*($H$217-6)/1000000)","v":3.6000000000000001E-5},"5mm"]
[null,{"$f":"List!$C$76&\" [kg] \"","v":"Vypočtená hmotnost čela [kg] "},null,null,null,null,null,{"$f":"IF(S221=0,0,S221+2*H219)","v":0},null,null,null,null,{"$f":"IF(H216*H217*H218=0,0,IF(O217=1,N217*N218,IF(O217=2,N217*N219,N217*N220)))","v":0},{"$f":"$N$211","v":0},{"$f":"$O$211","v":"Jiné - volitelná hustota"},null,null,null,{"$f":"S211","v":0},{"$f":"IF($V$207=1,U220*S220,V220*S220)","v":0},{"$f":"SUM(($H$216-80)*($H$217-80)/1000000)","v":6.4000000000000003E-3},{"$f":"SUM(($H$216-6)*($H$217-6)/1000000)","v":3.6000000000000001E-5},"jiné"]
[null,null,{"$f":"IF((U23=2)*AND(H220>0)*AND(H219>0),$N$229&\" \"&$N$230,IF((U23<>2)*AND(H220>0),IF(H219=0,$N$228,\" \"),\" \"))","v":" "},null,null,null,null,null,null,null,null,null,null,null,null,null,null,null,{"$f":"IF(OR(AND(U216=3, $H$201=0), H216*H217=0), 0, SUM(IF(U216=1,T218,IF(U216=2,T219,T220)),T217,T216))","v":0}]
[]
[]
[]
[null,null,null,null,null,null,{"$f":"List!$C$149","v":"Zpět"}]
[]
[]
[null,null,{"$f":"List!$C$217&\" \"&List!$C$218","v":"Upozornění: Vypočtené hodnoty jsou pouze orientační.  Firma Blum ani prodejci neručí za jejich správnost."},null,null,null,null,null,null,null,null,null,null,{"$f":"List!$C$95&\"!\"","v":"Není započtena hmotnost úchytky!"},null,null,null,null,null,null,{"$f":"List!$C$87","v":"Alurámečky s 4mm sklem"}]
[null,null,null,null,null,null,null,null,null,null,null,null,null,{"$f":"List!C96","v":"Opravdu máte úchytku na TIP-ON?"},null,null,null,null,null,null,{"$f":"List!$C$88","v":"Alurámečky s 5mm sklem"}]
[null,null,null,null,null,null,null,null,null,null,null,null,null,{"$f":"List!C97&\"!\"","v":"Jestli ne, smažte hmotnost úchytky.!"},null,null,null,null,null,null,{"$f":"List!$C$89","v":"Alurámečky s jiným sklem"}]
[]
[]
[]
[]
[]
[null,null,null,null,"Hmotnost alurámečků [kg/bm]",null,{"$f":"List!$C$368","v":"Podle Úvodu"},{"$f":"List!$C$58","v":"Změna"}]
[null,null,null,null,null,{"$f":"List!$C$373&\"  \"","v":"S vloženým sklem  "},{"$f":"Menu!$Q215","v":0.62},null,null,null,null,null,{"$f":"IF($H237>0,$H237,$G237)","v":0.62}]
[null,null,null,null,null,{"$f":"List!$C$374&\"  \"","v":"S naloženým nebo nalepeným sklem  "},0.65,null,null,null,null,null,{"$f":"IF($H238>0,$H238,$G238)","v":0.65}]
[null,null,null,null,null,{"$f":"List!$C$377&\" [kg/set] *  \"","v":"Hmotnost spojovacího materiálu [kg/set] *  "},0.61,null,null,null,null,null,{"$f":"IF($H239>0,$H239,$G239)","v":0.61}]
[]
[null,null,{"$f":"\"        * \"& List!$C$378&\"  \"","v":"        * Rohové spojky, šrouby, těsnění pro jeden rámeček  "}]
[]
[]
[null,null,null,null,null,null,{"$f":"List!$C$149","v":"Zpět"}]
[]
[]
[]
[]
[]
[]
[]
[]
[]
[]
[]
[]
[]
[]
[]
[]
[]
[]
[]
[]
[]
[]
[]
[]
[]
[]
[]
[]
[]
[]
[]
[]
[]
[]
[]
[]
[]
[]
[]
[]
[]
[]
[]
[]
[]
[]
[]
[]
[]
[]
[]
[]
[]
[]
[]
[]
[]
[]
[]
[]
[]
[]
[]
[]
[]
[]
[]
[]
[]
[]
[]
[]
[]
[]
[]
[]
[]
[]
[]
[]
[]
[]
[]
[]
[]
[]
[]
[]
[]
[]
[]
[]
[]
[]
[]
[]
[]
[]
[]
[]
[]
[]
[]
[]
[]
[]
[]
[]
[]
[]
[]
[]
[]
[]
[]
[]
[]
[]
[]
[]
[]
[]
[]
[]
[]
[]
[]
[]
[]
[]
[]
[]
[]
[]
[]
[]
[]
[]
[]
[]
[]
[]
[]
[]
[]
[]
[]
[]
[]
[]
[]
[]
[]
[]
[]
[]
[null,"      AVENTOS HK-S"]
[]
[null,{"$f":"List!$C$281","v":"Potřebný zdvihač se určí pomocí ukazatele výkonnosti."}]
[null,{"$f":"List!$C$318","v":"Ukazatel výkonnosti závisí na hmotnosti čela (včetně dvojnásobné hmotnosti úchytky) a na výšce korpusu."}]
[]
[null,{"$f":"\" \"&List!$C$295","v":" Tak se to dělá:"}]
[null,null,null,{"$f":"List!$C$80&\" = \"","v":"Ukazatel výkonnosti = "},{"$f":"List!$C$319&\" [kg]\"","v":"výška korpusu (KH) [mm] x hmotnost čela včetně dvojnásobné hmotnosti úchytky [kg]"}]
[]
[]
[]
[]
[]
[null,{"$f":"List!$C$289","v":"Pokud znáte hmotnost čela, můžete ji zadat, jinak použijte \"Výpočet hmotnosti\"."}]
[null,{"$f":"List!$C$290","v":"V tabulce má přednost zadaná hodnota. Chcete-li použít vypočtenou hmotnost, smažte zadanou hodnotu."}]
[]
[]
[null,{"$f":"List!$C$284","v":"Chcete-li změnit barvu krytek, přejděte na \"Úvod\""}]
[]
[null,{"$f":"List!$C$383","v":"Věnujte pozornost výběru alurámečků."}]
[null,{"$f":"List!$C$384","v":"Vyberte, který typ lépe odpovídá tvaru použitého alurámečku."}]
[null,{"$f":"List!$C$385","v":"Způsob osazení skla do rámečku výrazně ovlivňuje plochu skla a tím i hmotnost!"}]
[]
[null,null,{"$f":"\"  \"&List!$C$373&\"  \"","v":"  S vloženým sklem  "}]
[]
[null,null,{"$f":"\"  \"&List!$C$374&\"  \"","v":"  S naloženým nebo nalepeným sklem  "}]
[]
[]
[null,null,null,null,null,null,null,null,null,null,null,{"$f":"List!$C$149","v":"Zpět"}]

{"sheet":"HKSna","index":26,"n_rows":428,"n_cols":46,"rows_kept":428,"cut":false,"hidden":false,"merged":[[232,0,259,0],[243,6,243,7],[21,1,21,6],[22,1,22,2],[198,0,231,0],[22,3,22,6],[23,1,23,6],[210,1,210,6],[97,0,164,0],[205,5,205,7],[206,1,206,6],[227,2,229,10],[224,6,224,7],[217,1,217,6],[218,1,218,6],[219,1,219,6],[8,21,8,22],[9,1,9,6],[9,21,9,22],[8,17,8,18],[1,9,1,10],[1,5,1,6],[3,5,3,10],[4,6,5,10],[1,7,1,8],[1,1,1,2],[1,3,1,4],[6,1,6,2],[6,6,6,7],[10,1,10,6],[11,1,11,6],[19,1,19,6],[14,1,14,6],[17,3,17,7],[18,1,18,6],[12,1,12,6],[13,3,13,6],[13,1,13,2],[301,0,355,0],[304,1,304,9],[305,1,305,7],[305,8,305,9],[306,1,306,7],[306,8,306,9],[309,1,309,7],[320,1,320,7],[320,8,320,9],[319,1,319,7],[319,8,319,9],[317,1,317,7],[317,8,317,9],[312,1,312,5],[316,1,316,7],[311,1,311,9],[17,17,17,18],[399,0,440,0],[406,4,406,11],[306,12,306,13],[307,1,307,7],[307,8,307,9],[308,1,308,7],[308,8,308,9],[327,8,327,9],[309,8,309,9],[316,8,316,9],[313,1,313,5],[312,6,312,9],[318,1,318,7],[318,8,318,9],[314,1,314,5],[0,43,0,51],[7,43,8,44],[7,45,8,45],[9,43,9,44],[11,43,11,44],[10,43,10,44],[17,21,17,22],[8,3,8,7],[216,20,216,21],[12,43,12,44],[13,43,14,47],[15,43,16,47],[18,21,18,22],[26,19,26,20],[207,20,207,21],[208,1,208,6],[209,1,209,6],[207,1,207,6],[214,5,214,7],[215,1,215,6],[216,1,216,6],[20,1,20,6]]}
[]
[null,"AVENTOS HF",null,"AVENTOS HS",null,"AVENTOS HL",null,"AVENTOS HK top",null,"AVENTOS HK-S",null,"AVENTOS HK-XS",null,null,"rámeček",null,null,null,3,null,null,null,null,null,null,{"$f":"List!$C$135","v":"Jdi na"}]
[]
[null,{"$f":"List!$C$20&\" ***\"","v":"Úzký alurámeček ***"},null,null,null,{"$f":"N201&\"       \"","v":"Alurámečky s 4mm sklem       "},null,null,null,null,null,null,null,null,1,null,null,null,{"$f":"\" \"&List!$C$39&\" A \"","v":" Cena za korpus A "},null,null,null,null,null,null,{"$f":"List!$C$136","v":"Úvod plánování"}]
[null,null,null,null,null,null,{"$f":"List!$C$47&\" \"&List!$C$22&\"       \"","v":"Nastavit hmotnost alurámečků       "},null,null,null,null,null,null,null,"A = 1",null,null,null,{"$f":"\" \"&List!$C$39&\" B \"","v":" Cena za korpus B "},null,null,null,null,null,null,{"$f":"List!$C$137","v":"Nápověda"}]
[null,null,null,null,null,null,null,null,null,null,null,null,null,null,"B = 2",null,null,null,{"$f":"\" \"&List!$C$59","v":" Cena celkem bez DPH"}]
[null,{"$f":"List!$C$142","v":"Soupis kování"},null,null,null,null,{"$f":"IF($S$2=1,$N$142,IF($S$2=2,$P$142,IF($S$2=3,$L$142,0)))","v":0},null,null,null,null,null,null,null,null,null,null,null,null,null,null,null,null,null,null,{"$f":"List!$C$141","v":"Doplňky"}]
[null,null,null,null,null,null,null,null,null,null,null,null,null,null,null,null,null,null,null,null,null,null,null,null,null,null,null,null,null,null,null,null,null,null,null,null,null,null,null,null,null,null,null,{"$f":"\"  \"&List!$C$80&\" LF \"","v":"  Ukazatel výkonnosti LF "},null,{"$f":"List!$C$79","v":"Zdvihací mechanizmus"}]
[null,null,null,{"$f":"List!$C$62&\" A\"","v":"Korpus A"},null,null,null,null,null,null,null,null,null,null,null,null,null,"dva zdvihače",null,null,null,"tři zdvihače",null,null,null,{"$f":"List!$C$139","v":"Přehled korpusů"}]
[null,{"$f":"List!$C$72&\" KB [mm] \"","v":"Šířka korpusu KB [mm] "},null,null,null,null,null,null,{"$f":"IF($H10=0,\" \",IF($H10<220,\" min. 220mm\",IF($H10>1800,\" max. 1 800mm\",\" \")))&IF(H15>0,IF(H10=0,\"● \"&List!$C$111,\" \"),\" \")","v":"  "},null,null,null,null,"zdvih A","dva","tři",null,"min","max","š.max","š. min",false,null,null,null,{"$f":"List!$C$140","v":"Objednávka"},null,null,null,null,null,null,null,null,null,null,null,null,null,null,null,null,null,"  220 - 500",null,"20K2B00.02"]
[null,{"$f":"List!$C$73&\" KH [mm]  \"","v":"Výška korpusu KH [mm]  "},null,null,null,null,null,null,{"$f":"IF($H11=0,\" \",IF($H11<190,\" min. 190mm\",IF($H11>600,\" max. 600 mm\",\" \")))&IF(H15>0,IF(H11=0,\"● \"&List!$C$111,\" \"),\" \")","v":"  "},null,null,null,null,"K2B",{"$f":"IF($V$10=FALSE,IF($H$14>R11,IF($H$14<S11,1,0),0),0)","v":0},{"$f":"IF($V$10=TRUE,IF($H$14>V11,IF($H$14<W11,2,0),0),0)","v":0},null,219.99,450,null,null,329,670,null,null,null,null,null,null,null,null,null,null,null,null,null,null,null,null,null,null,null,null,"  400 - 1.000",null,"20K2C00.02"]
[null,{"$f":"List!$C$75&\" [kg] ** \"","v":"Hmotnost čela vč. 2x hmotnost úchytky [kg] ** "},null,null,null,null,null,null,{"$f":"IF($H15=0,\" \",IF(SUM($H12,$H13)=0,$N$34,\" \"))&IF($H15>0,IF($H12>0,$N$35,\" \"),\" \")","v":"  "},null,null,null,null,"K2C",{"$f":"IF($V$10=FALSE,IF($H$14>R12,IF($H$14<S12,1,0),0),0)","v":0},{"$f":"IF($V$10=TRUE,IF($H$14>V12,IF($H$14<W12,1.5,0),0),0)","v":0},null,449.99,980,null,null,669,1470,null,null,null,null,null,null,null,null,null,null,null,null,null,null,null,null,null,null,null,null,"  960 - 2.215",null,"20K2E00.02"]
[null,{"$f":"List!$C$76&\" [kg]       \"","v":"Vypočtená hmotnost čela [kg]       "},null,null,null,null,null,{"$f":"$H$211","v":0},{"$f":"IF($H15>0,IF($H13>0,IF($H12=0,$N$35,\" \"),\" \"),\" \")","v":" "},null,null,null,null,"K2E",{"$f":"IF($V$10=FALSE,IF($H$14>R13,IF($H$14<S13,1,0),0),0)","v":0},{"$f":"IF($V$10=TRUE,IF($H$14>V13,IF($H$14<W13,1.5,0),0),0)","v":0},null,979.99,2216,null,{"$f":"IF(U14=1,$V$44,IF(U14=2,$V$45,$V$46))","v":"Standard"},1469,3061,null,null,{"$f":"\" \"&List!$C$177&\" A\"","v":" Výpočet hmotnosti A"}]
[null,null,null,{"$f":"List!$C$80&\" LF \"","v":"Ukazatel výkonnosti LF "},null,null,null,{"$f":"IF(H12>0,H11*H12,H11*H13)","v":0},{"$f":"IF($H14>2215.5,$N$39,\" \")","v":" "},null,null,null,null,null,null,null,null,null,null,null,1,null,null,null,null,null,null,null,null,null,null,null,null,null,null,null,null,null,null,null,null,null,null,{"$f":"List!$C$80&\" LF = \"&List!$C$73&\" KH [mm] x \"&List!$C$75&\" [kg]\"","v":"Ukazatel výkonnosti LF = Výška korpusu KH [mm] x Hmotnost čela vč. 2x hmotnost úchytky [kg]"}]
[null,{"$f":"List!$C$69","v":"Počet skříněk"},null,null,null,null,null,null,null,null,null,null,{"$f":"IF(OR($H10*$H11*$T15=0,$H11<190,$H11>600,$H14>2215),0,$H15)","v":0},null,null,null,null,null,"hmot =",{"$f":"IF(H12>0,H12,H13)","v":0},{"$f":"IF(SUM(H12,H13)=0,0,IF(H12>0,1,2))","v":0},"zadaná / vypočtená"]
[null,{"$f":"IF(H15>0,IF(U15=0,\" \",IF(U15=1,$N$47,$N$48)),\" \")&IF(H15>0,IF(U15=0,\" \",IF(U15=1,$N$49,$N$50)),\" \")","v":"  "},null,null,null,null,null,null,null,null,null,null,null,null,null,null,null,null,null,null,null,null,null,null,null,null,null,null,null,null,null,null,null,null,null,null,null,null,null,null,null,null,null,{"$f":"List!$C$322","v":"V případě využití třetího zdvihače můžete zvýšit ukazatel výkonnosti a tudíž hmotnost čílka o 50%."}]
[null,null,null,null,null,null,null,null,null,null,null,null,null,null,null,null,null,null,null,null,null,null,null,null,null,{"$f":"\" \"&List!$C$361","v":" Ověření síly zdvihače"}]
[null,null,null,{"$f":"List!$C$62&\" B\"","v":"Korpus B"},null,null,null,null,null,null,null,null,null,null,null,null,null,"dva zdvihače",null,null,null,"tři zdvihače"]
[null,{"$f":"List!$C$72&\" KB [mm] \"","v":"Šířka korpusu KB [mm] "},null,null,null,null,null,null,{"$f":"IF($H19=0,\" \",IF($H19<220,\" min. 220mm\",IF($H19>1800,\" max. 1 800mm\",\" \")))&IF(H24>0,IF(H19=0,\"● \"&List!$C$111,\" \"),\" \")","v":"  "},null,null,null,null,"zdvih A","dva","tři",null,"min","max","š.max","š. min",false]
[null,{"$f":"List!$C$73&\" KH [mm] \"","v":"Výška korpusu KH [mm] "},null,null,null,null,null,null,{"$f":"IF($H20=0,\" \",IF($H20<190,\" min. 190mm\",IF($H20>600,\" max. 600 mm\",\" \")))&IF(H24>0,IF(H20=0,\"● \"&List!$C$111,\" \"),\" \")","v":"  "},null,null,null,null,"K2B",{"$f":"IF($V$19=FALSE,IF($H$23>R20,IF($H$23<S20,1,0),0),0)","v":0},{"$f":"IF($V$19=TRUE,IF($H$23>V20,IF($H$23<W20,2,0),0),0)","v":0},null,219.99,450,null,null,329,670,null,null,null,null,null,null,null,null,null,null,null,null,null,null,null,null,null,null,null,null,{"$f":"List!$C$149","v":"Zpět"}]
[null,{"$f":"List!$C$75&\" [kg] ** \"","v":"Hmotnost čela vč. 2x hmotnost úchytky [kg] ** "},null,null,null,null,null,null,{"$f":"IF($H24=0,\" \",IF(SUM($H21,$H22)=0,$N$34,\" \"))&IF($H24>0,IF($H21>0,$N$35,\" \"),\" \")","v":"  "},null,null,null,null,"K2C",{"$f":"IF($V$19=FALSE,IF($H$23>R21,IF($H$23<S21,1,0),0),0)","v":0},{"$f":"IF($V$19=TRUE,IF($H$23>V21,IF($H$23<W21,1.5,0),0),0)","v":0},null,449.99,980,null,null,669,1470]
[null,{"$f":"List!$C$76&\" [kg]       \"","v":"Vypočtená hmotnost čela [kg]       "},null,null,null,null,null,{"$f":"$H$220","v":0},{"$f":"IF($H24>0,IF($H22>0,IF($H21=0,$N$35,\" \"),\" \"),\" \")","v":" "},null,null,null,null,"K2E",{"$f":"IF($V$19=FALSE,IF($H$23>R22,IF($H$23<S22,1,0),0),0)","v":0},{"$f":"IF($V$19=TRUE,IF($H$23>V22,IF($H$23<W22,1.5,0),0),0)","v":0},null,979.99,2216,null,{"$f":"IF(U23=1,$V$44,IF(U23=2,$V$45,$V$46))","v":"Standard"},1469,3061,null,null,{"$f":"\" \"&List!$C$177&\" B\"","v":" Výpočet hmotnosti B"}]
[null,null,null,{"$f":"List!$C$80&\" LF \"","v":"Ukazatel výkonnosti LF "},null,null,null,{"$f":"IF(H21>0,H20*H21,H20*H22)","v":0},{"$f":"IF($H23>2215.5,$N$39,\" \")","v":" "},null,null,null,null,null,null,null,null,null,null,null,1]
[null,{"$f":"List!$C$69","v":"Počet skříněk"},null,null,null,null,null,null,null,null,null,null,{"$f":"IF(OR($H19*$H20*$T24=0,$H20<190,$H20>600,$H23>2215),0,$H24)","v":0},null,null,null,null,null,"hmot =",{"$f":"IF(H21>0,H21,H22)","v":0},{"$f":"IF(SUM(H21,H22)=0,0,IF(H21>0,1,2))","v":0},"zadaná / vypočtená"]
[null,{"$f":"IF(H24>0,IF(U24=0,\" \",IF(U24=1,$N$47,$N$48)),\" \")&IF(H24>0,IF(U24=0,\" \",IF(U24=1,$N$49,$N$50)),\" \")","v":"  "}]
[]
[null,null,null,null,null,null,null,null,null,null,null,null,null,null,null,null,null,null,{"$f":"IF($T$27=FALSE,2,1)","v":2},false,null," - Zdroj"]
[]
[]
[null,null,{"$f":"\"** \"&List!$C$168","v":"** Pokud znáte hmotnost a nechcete využít výpočtu hmotnosti"}]
[null,null,{"$f":"\"*** \"&List!$C$371","v":"*** Vyberte typ alurámečku!"}]
[null,null,{"$f":"\"      \"&List!$C$372","v":"      Více informací k výběru alurámečků v Nápovědě"}]
[]
[null,null,null,null,null,null,null,null,null,null,null,null,null,{"$f":"\" \"&List!$C$103","v":" Doplňte nebo použijte \"Výpočet hmotnosti\" "}]
[null,null,null,null,null,null,null,null,null,null,null,null,null,{"$f":"\"◄ \"&List!$C$100","v":"◄ hodnota bude použita pro výpočet LF"}]
[null,null,null,null,null,null,null,null,null,null,null,null,null,{"$f":"\" * \"&List!$C$110","v":" * Doplňte hodnoty"}]
[]
[null,null,null,null,null,null,null,null,null,null,null,null,null,{"$f":"\" max. 3.060! \"&List!$C$105","v":" max. 3.060! Upravte hmotnost nebo výšku"}]
[null,{"$f":"IF($H$11>600,\"***\",IF($H$20>600,\"***\",\" \"))","v":" "},null,null,null,null,null,null,null,null,null,null,null,{"$f":"\" max. 2.215! \"&List!$C$105","v":" max. 2.215! Upravte hmotnost nebo výšku"}]
[null,null,null,null,null,null,null,null,null,null,null,null,null,{"$f":"\"                       \"&List!$C$106","v":"                       nebo přidejte třetí zdvihač"}]
[]
[null,null,null,null,null,null,null,null,null,null,null,null,null,1,null,1,null,{"$f":"HK!$K$27","v":2},null,{"$f":"Menu!$Q$27","v":3}]
[null,null,null,null,null,null,null,null,null,null,null,null,null,"záv.",null,"střed.",null,"čelní kov.",null,"kryt.",null,"provedení"]
[null,null,null,null,null,null,null,null,null,null,null,null,null,null,null,null,null,{"$f":"List!$C$125","v":"Expando"},null,{"$f":"List!$C$128","v":"Světle šedá (HG/T)"},null,"Standard"]
[null,null,null,null,null,null,null,null,null,null,null,null,null,null,null,null,null,{"$f":"List!$C$126","v":"na vruty"},null,{"$f":"List!$C$130","v":"Hedvábně bílá (SW/T)"},null,"TIP-ON"]
[null,null,null,null,null,null,null,null,null,null,null,null,null,null,null,null,null,null,null,{"$f":"List!$C$131","v":0}]
[null,null,null,null,null,null,null,null,null,null,null,null,null,{"$f":"List!C169&\". \"","v":"Pro určení typu zdvihače bude použita zadaná hmotnost. "}]
[null,null,null,null,null,null,null,null,null,null,null,null,null,{"$f":"List!C170&\". \"","v":"Pro určení typu zdvihače bude použita vypočtená hmotnost. "}]
[null,null,null,null,null,null,null,null,null,null,null,null,null,{"$f":"List!C171","v":"Chcete-li použít vypočtenou hmotnost, smažte zadanou hodnotu"}]
[null,null,null,null,null,null,null,null,null,null,null,null,null,{"$f":"List!C172","v":"Chcete-li použít zadanou hmotnost, zadejte ji do políčka"}]
[]
[]
[]
[]
[]
[]
[]
[]
[]
[]
[]
[]
[]
[]
[]
[]
[]
[]
[]
[]
[]
[]
[]
[]
[]
[]
[]
[]
[]
[]
[]
[]
[]
[]
[]
[]
[]
[]
[]
[]
[]
[]
[]
[]
[]
[]
[]
[null,{"$f":"List!C142","v":"Soupis kování"}]
[]
[null,{"$f":"$J$2","v":"AVENTOS HK-S"},null,{"$f":"B4","v":"Úzký alurámeček ***"}]
[null,{"$f":"List!C50","v":"Název"},null,null,null,null,{"$f":"List!$C$51","v":"Číslo artiklu"},null,{"$f":"List!C52","v":"Barva"},{"$f":"List!C54","v":"Ks"},{"$f":"List!C56","v":"Jednotková cena"},{"$f":"List!C57","v":"Celkem"},"A","Cena","B","Cena","C","Cena","Filtr"]
[null,{"$f":"Cen!A126","v":"Sada zdvihačů, světle šedé krytky"},null,null,null,null,{"$f":"Cen!E126","v":"20K2B00.06"},null,{"$f":"Cen!G126","v":"HGIG"},{"$f":"SUM(M102,O102,Q102)","v":0},{"$f":"Cen!I126","v":0},{"$f":"J102*K102","v":0},{"$f":"IF(AND($U$14=1,$T$42=1),ROUNDUP(SUM($O$11:$P$11)*$M$15,0),0)","v":0},{"$f":"$K102*M102","v":0},{"$f":"IF(AND($U$23=1,$T$42=1),ROUNDUP(SUM($O$20:$P$20)*$M$24,0),0)","v":0},{"$f":"$K102*O102","v":0},null,{"$f":"$K102*Q102","v":0},"x"]
[null,{"$f":"Cen!A127","v":"Sada zdvihačů, tmavě šedé krytky"},null,null,null,null,{"$f":"Cen!E127","v":"20K2B00.06"},null,{"$f":"Cen!G127","v":"TGIG"},0,{"$f":"Cen!I127","v":0},{"$f":"J103*K103","v":0},{"$f":"IF(AND($U$14=1,$T$42=2),ROUNDUP(SUM($O$11:$P$11)*$M$15,0),0)","v":0},{"$f":"$K103*M103","v":0},{"$f":"IF(AND($U$23=1,$T$42=2),ROUNDUP(SUM($O$20:$P$20)*$M$24,0),0)","v":0},{"$f":"$K103*O103","v":0},null,{"$f":"$K103*Q103","v":0},"x"]
[null,{"$f":"Cen!A128","v":"Sada zdvihačů, bílé krytky"},null,null,null,null,{"$f":"Cen!E128","v":"20K2B00.06"},null,{"$f":"Cen!G128","v":"SWIG"},0,{"$f":"Cen!I128","v":0},{"$f":"J104*K104","v":0},{"$f":"IF(AND($U$14=1,$T$42=3),ROUNDUP(SUM($O$11:$P$11)*$M$15,0),0)","v":0},0,{"$f":"IF(AND($U$23=1,$T$42=3),ROUNDUP(SUM($O$20:$P$20)*$M$24,0),0)","v":0},0,null,0,"x"]
[null,{"$f":"Cen!A129","v":"Sada zdvihačů, světle šedé krytky"},null,null,null,null,{"$f":"Cen!E129","v":"20K2C00.06"},null,{"$f":"Cen!G129","v":"HGIG"},0,{"$f":"Cen!I129","v":0},0,{"$f":"IF(AND($U$14=1,$T$42=1),ROUNDUP(SUM($O$12:$P$12)*$M$15,0),0)","v":0},0,{"$f":"IF(AND($U$23=1,$T$42=1),ROUNDUP(SUM($O$21:$P$21)*$M$24,0),0)","v":0},0,null,0,"x"]
[null,{"$f":"Cen!A130","v":"Sada zdvihačů, tmavě šedé krytky"},null,null,null,null,{"$f":"Cen!E130","v":"20K2C00.06"},null,{"$f":"Cen!G130","v":"TGIG"},0,{"$f":"Cen!I130","v":0},{"$f":"J106*K106","v":0},{"$f":"IF(AND($U$14=1,$T$42=2),ROUNDUP(SUM($O$12:$P$12)*$M$15,0),0)","v":0},{"$f":"$K106*M106","v":0},{"$f":"IF(AND($U$23=1,$T$42=2),ROUNDUP(SUM($O$21:$P$21)*$M$24,0),0)","v":0},{"$f":"$K106*O106","v":0},null,{"$f":"$K106*Q106","v":0},"x"]
[null,{"$f":"Cen!A131","v":"Sada zdvihačů, bílé krytky"},null,null,null,null,{"$f":"Cen!E131","v":"20K2C00.06"},null,{"$f":"Cen!G131","v":"SWIG"},0,{"$f":"Cen!I131","v":0},0,{"$f":"IF(AND($U$14=1,$T$42=3),ROUNDUP(SUM($O$12:$P$12)*$M$15,0),0)","v":0},0,{"$f":"IF(AND($U$23=1,$T$42=3),ROUNDUP(SUM($O$21:$P$21)*$M$24,0),0)","v":0},0,null,0,"x"]
[null,{"$f":"Cen!A132","v":"Sada zdvihačů, světle šedé krytky"},null,null,null,null,{"$f":"Cen!E132","v":"20K2E00.06"},null,{"$f":"Cen!G132","v":"HGIG"},0,{"$f":"Cen!I132","v":0},0,{"$f":"IF(AND($U$14=1,$T$42=1),ROUNDUP(SUM($O$13:$P$13)*$M$15,0),0)","v":0},0,{"$f":"IF(AND($U$23=1,$T$42=1),ROUNDUP(SUM($O$22:$P$22)*$M$24,0),0)","v":0},0,null,0,"x"]
[null,{"$f":"Cen!A133","v":"Sada zdvihačů, tmavě šedé krytky"},null,null,null,null,{"$f":"Cen!E133","v":"20K2E00.06"},null,{"$f":"Cen!G133","v":"TGIG"},0,{"$f":"Cen!I133","v":0},{"$f":"J109*K109","v":0},{"$f":"IF(AND($U$14=1,$T$42=2),ROUNDUP(SUM($O$13:$P$13)*$M$15,0),0)","v":0},{"$f":"$K109*M109","v":0},{"$f":"IF(AND($U$23=1,$T$42=2),ROUNDUP(SUM($O$22:$P$22)*$M$24,0),0)","v":0},{"$f":"$K109*O109","v":0},null,{"$f":"$K109*Q109","v":0},"x"]
[null,{"$f":"Cen!A134","v":"Sada zdvihačů, bílé krytky"},null,null,null,null,{"$f":"Cen!E134","v":"20K2E00.06"},null,{"$f":"Cen!G134","v":"SWIG"},0,{"$f":"Cen!I134","v":0},0,{"$f":"IF(AND($U$14=1,$T$42=3),ROUNDUP(SUM($O$13:$P$13)*$M$15,0),0)","v":0},0,{"$f":"IF(AND($U$23=1,$T$42=3),ROUNDUP(SUM($O$22:$P$22)*$M$24,0),0)","v":0},0,null,0,"x"]
[null,{"$f":"Cen!A135","v":0},null,null,null,null,{"$f":"Cen!E135","v":0},null,{"$f":"Cen!G135","v":0},0,{"$f":"Cen!I135","v":0},{"$f":"J111*K111","v":0},null,{"$f":"$K111*M111","v":0},null,{"$f":"$K111*O111","v":0},null,{"$f":"$K111*Q111","v":0},"x"]
[null,{"$f":"Cen!A136","v":"Sada zdvihačů TIP-ON, světle šedé krytky"},null,null,null,null,{"$f":"Cen!E136","v":"20K2B00T06"},null,{"$f":"Cen!G136","v":"HGIG"},{"$f":"SUM(M112,O112,Q112)","v":0},{"$f":"Cen!I136","v":0},{"$f":"J112*K112","v":0},{"$f":"IF(AND($U$14=2,$T$42=1),ROUNDUP(SUM($O$11:$P$11)*$M$15,0),0)","v":0},0,{"$f":"IF(AND($U$23=2,$T$42=1),ROUNDUP(SUM($O$20:$P$20)*$M$24,0),0)","v":0},0,null,null,"x"]
[null,{"$f":"Cen!A137","v":"Sada zdvihačů TIP-ON, tmavě šedé krytky"},null,null,null,null,{"$f":"Cen!E137","v":"20K2B00T06"},null,{"$f":"Cen!G137","v":"TGIG"},{"$f":"SUM(M113,O113,Q113)","v":0},{"$f":"Cen!I137","v":0},{"$f":"J113*K113","v":0},{"$f":"IF(AND($U$14=2,$T$42=2),ROUNDUP(SUM($O$11:$P$11)*$M$15,0),0)","v":0},0,{"$f":"IF(AND($U$23=2,$T$42=2),ROUNDUP(SUM($O$20:$P$20)*$M$24,0),0)","v":0},0,null,null,"x"]
[null,{"$f":"Cen!A138","v":"Sada zdvihačů TIP-ON, bílé krytky"},null,null,null,null,{"$f":"Cen!E138","v":"20K2B00T06"},null,{"$f":"Cen!G138","v":"SWIG"},0,{"$f":"Cen!I138","v":0},0,{"$f":"IF(AND($U$14=2,$T$42=3),ROUNDUP(SUM($O$11:$P$11)*$M$15,0),0)","v":0},0,{"$f":"IF(AND($U$23=2,$T$42=3),ROUNDUP(SUM($O$20:$P$20)*$M$24,0),0)","v":0},0,null,null,"x"]
[null,{"$f":"Cen!A139","v":"Sada zdvihačů TIP-ON, světle šedé krytky"},null,null,null,null,{"$f":"Cen!E139","v":"20K2C00T06"},null,{"$f":"Cen!G139","v":"HGIG"},0,{"$f":"Cen!I139","v":0},0,{"$f":"IF(AND($U$14=2,$T$42=1),ROUNDUP(SUM($O$12:$P$12)*$M$15,0),0)","v":0},0,{"$f":"IF(AND($U$23=2,$T$42=1),ROUNDUP(SUM($O$21:$P$21)*$M$24,0),0)","v":0},0,null,null,"x"]
[null,{"$f":"Cen!A140","v":"Sada zdvihačů TIP-ON, tmavě šedé krytky"},null,null,null,null,{"$f":"Cen!E140","v":"20K2C00T06"},null,{"$f":"Cen!G140","v":"TGIG"},{"$f":"SUM(M116,O116,Q116)","v":0},{"$f":"Cen!I140","v":0},{"$f":"J116*K116","v":0},{"$f":"IF(AND($U$14=2,$T$42=2),ROUNDUP(SUM($O$12:$P$12)*$M$15,0),0)","v":0},0,{"$f":"IF(AND($U$23=2,$T$42=2),ROUNDUP(SUM($O$21:$P$21)*$M$24,0),0)","v":0},0,null,null,"x"]
[null,{"$f":"Cen!A141","v":"Sada zdvihačů TIP-ON, bílé krytky"},null,null,null,null,{"$f":"Cen!E141","v":"20K2C00T06"},null,{"$f":"Cen!G141","v":"SWIG"},0,{"$f":"Cen!I141","v":0},0,{"$f":"IF(AND($U$14=2,$T$42=3),ROUNDUP(SUM($O$12:$P$12)*$M$15,0),0)","v":0},0,{"$f":"IF(AND($U$23=2,$T$42=3),ROUNDUP(SUM($O$21:$P$21)*$M$24,0),0)","v":0},0,null,null,"x"]
[null,{"$f":"Cen!A142","v":"Sada zdvihačů TIP-ON, světle šedé krytky"},null,null,null,null,{"$f":"Cen!E142","v":"20K2E00T06"},null,{"$f":"Cen!G142","v":"HGIG"},0,{"$f":"Cen!I142","v":0},0,{"$f":"IF(AND($U$14=2,$T$42=1),ROUNDUP(SUM($O$13:$P$13)*$M$15,0),0)","v":0},0,{"$f":"IF(AND($U$23=2,$T$42=1),ROUNDUP(SUM($O$22:$P$22)*$M$24,0),0)","v":0},0,null,null,"x"]
[null,{"$f":"Cen!A143","v":"Sada zdvihačů TIP-ON, tmavě šedé krytky"},null,null,null,null,{"$f":"Cen!E143","v":"20K2E00T06"},null,{"$f":"Cen!G143","v":"TGIG"},{"$f":"SUM(M119,O119,Q119)","v":0},{"$f":"Cen!I143","v":0},{"$f":"J119*K119","v":0},{"$f":"IF(AND($U$14=2,$T$42=2),ROUNDUP(SUM($O$13:$P$13)*$M$15,0),0)","v":0},{"$f":"$K119*M119","v":0},{"$f":"IF(AND($U$23=2,$T$42=2),ROUNDUP(SUM($O$22:$P$22)*$M$24,0),0)","v":0},{"$f":"$K119*O119","v":0},null,null,"x"]
[null,{"$f":"Cen!A144","v":"Sada zdvihačů TIP-ON, bílé krytky"},null,null,null,null,{"$f":"Cen!E144","v":"20K2E00T06"},null,{"$f":"Cen!G144","v":"SWIG"},0,{"$f":"Cen!I144","v":0},0,{"$f":"IF(AND($U$14=2,$T$42=3),ROUNDUP(SUM($O$13:$P$13)*$M$15,0),0)","v":0},0,{"$f":"IF(AND($U$23=2,$T$42=3),ROUNDUP(SUM($O$22:$P$22)*$M$24,0),0)","v":0},0,null,null,"x"]
[null,{"$f":"Cen!A145","v":0},null,null,null,null,{"$f":"Cen!E145","v":0},null,{"$f":"Cen!G145","v":0},0,{"$f":"Cen!I145","v":0},0]
[null,{"$f":"Cen!A146","v":"Přímá montážní podložka"},null,null,null,null,{"$f":"Cen!E146","v":"175H3100"},null,{"$f":"Cen!G146","v":"NI"},{"$f":"SUM(M122,O122,Q122)","v":0},{"$f":"Cen!I146","v":0},0,null,{"$f":"$K122*M122","v":0},null,0,null,0]
[null,{"$f":"Cen!A147","v":"Přímá montážní podložka, EXPANDO"},null,null,null,null,{"$f":"Cen!E147","v":"177H3100E"},null,{"$f":"Cen!G147","v":"NI"},0,{"$f":"Cen!I147","v":0},0,null,0,null,0,null,0]
[null,{"$f":"Cen!A148","v":"Sada čel.kování pro úzké alurámečky"},null,null,null,null,{"$f":"Cen!E148","v":"20K4A00A.01"},null,{"$f":"Cen!G148","v":"NI"},0,{"$f":"Cen!I148","v":0},0,{"$f":"SUM(M$102:M$120)","v":0},0,{"$f":"SUM(O$102:O$120)","v":0},0,null,0,"x"]
[null,{"$f":"Cen!A149","v":"Omezovač úhlu otevření na 75° "},null,null,null,null,{"$f":"Cen!E149","v":"20K7A11"},null,{"$f":"Cen!G149","v":"TGR"},0,{"$f":"Cen!I149","v":0},0,null,0,null,0,null,0]
[null,{"$f":"Cen!A150","v":"Omezovač úhlu otevření na 100° "},null,null,null,null,{"$f":"Cen!E150","v":"20K7A41"},null,{"$f":"Cen!G150","v":"TGR"},0,{"$f":"Cen!I150","v":0},0,null,0,null,0,null,0]
[null,{"$f":"Cen!A151","v":"CLIP top krytka raménka Nikl"},null,null,null,null,{"$f":"Cen!E151","v":"70.1503"},null,{"$f":"Cen!G151","v":"NI"},0,{"$f":"Cen!I151","v":0},0,{"$f":"SUM(M$102:M$120)*2","v":0},0,{"$f":"SUM(O$102:O$120)*2","v":0},0,null,0,"x"]
[null,{"$f":"Cen!A152","v":"CLIP top krytka raménka Nikl"},null,null,null,null,{"$f":"Cen!E152","v":"70.1563"},null,{"$f":"Cen!G152","v":"NI"},0,{"$f":"Cen!I152","v":0},0,null,0,null,0,null,0]
[null,{"$f":"Cen!A153","v":0},null,null,null,null,{"$f":"Cen!E153","v":0},null,{"$f":"Cen!G153","v":0},0,{"$f":"Cen!I153","v":0},0,null,0,null,0,null,0]
[null,{"$f":"Cen!A154","v":"Sada čel.kování pro úzké alu HK-S"},null,null,null,null,{"$f":"Cen!E154","v":"175H3G00A"},null,{"$f":"Cen!G154","v":"NI"},0,{"$f":"Cen!I154","v":0},0,null,0,null,0,null,0]
[null,{"$f":"Cen!A155","v":0},null,null,null,null,{"$f":"Cen!E155","v":0},null,{"$f":"Cen!G155","v":0},0,{"$f":"Cen!I155","v":0},0,null,0,null,0,null,0]
[null,{"$f":"Cen!A196","v":0},null,null,null,null,{"$f":"Cen!E196","v":0},null,{"$f":"Cen!G196","v":0},0,{"$f":"Cen!I196","v":0},0,null,0,null,0,null,0]
[null,{"$f":"Cen!A197","v":0},null,null,null,null,{"$f":"Cen!E197","v":0},null,{"$f":"Cen!G197","v":0},0,{"$f":"Cen!I197","v":0},0,null,0,null,0]
[]
[]
[]
[null,{"$f":"Cen!A180","v":"TIP-ON, zkrácená délka, šedý"},null,null,null,null,{"$f":"Cen!E180","v":"956.1004"},null,{"$f":"Cen!G180","v":"PG"},{"$f":"SUM(M137,O137,Q137)","v":0},{"$f":"Cen!I180","v":0},{"$f":"J137*K137","v":0},{"$f":"IF(AND($T$42<3,$U$14=2),$M$15,0)","v":0},{"$f":"$K137*M137","v":0},{"$f":"IF(AND($T$42<3,$U$23=2),$M$24,0)","v":0},{"$f":"$K137*O137","v":0},null,null,"x"]
[null,{"$f":"Cen!A181","v":"TIP-ON, zkrácená délka, hedv.bílý"},null,null,null,null,{"$f":"Cen!E181","v":"956.1004"},null,{"$f":"Cen!G181","v":"SW"},{"$f":"SUM(M138,O138,Q138)","v":0},{"$f":"Cen!I181","v":0},{"$f":"J138*K138","v":0},{"$f":"IF(AND($T$42=3,$U$14=2),$M$15,0)","v":0},{"$f":"$K138*M138","v":0},{"$f":"IF(AND($T$42=3,$U$23=2),$M$24,0)","v":0},{"$f":"$K138*O138","v":0},null,null,"x"]
[]
[]
[]
[null,null,null,null,null,null,null,null,null,null,{"$f":"List!$C$59&\" \"","v":"Cena celkem bez DPH "},{"$f":"SUM(L102:L140)","v":0},null,{"$f":"SUM(N102:N141)","v":0},null,{"$f":"SUM(P102:P141)","v":0},null,{"$f":"SUM(R102:R141)","v":0}]
[]
[null,null,null,null,null,null,null,null,null,null,null,{"$f":"List!$C$149","v":"Zpět"}]
[]
[]
[]
[]
[]
[]
[]
[]
[]
[]
[]
[]
[]
[]
[]
[]
[]
[]
[]
[]
[]
[]
[]
[]
[]
[]
[]
[]
[]
[]
[]
[]
[]
[]
[]
[]
[]
[]
[]
[]
[]
[]
[]
[]
[]
[]
[]
[]
[]
[]
[]
[]
[]
[]
[]
[null,{"$f":"List!$C$71","v":"Výpočet hmotnosti čel"}]
[null,null,{"$f":"List!$C$161&\"  \"","v":"Provedení čel  "},null,null,null,null,null,{"$f":"IF(U207=3,IF(H201=0,N203,\" \"),IF(H201>0,N204,\" \"))","v":" "},null,null,null,null,{"$f":"IF($U$207=1,$U$228,IF($U$207=2,$U$229,$U$230&\" - \"&$N$211&\"mm\"))","v":"Alurámečky s 4mm sklem"},null,null,null,null,{"$f":"Menu!$Q$205","v":2500}]
[]
[null,null,null,null,null,null,null,null,null,null,null,null,null,{"$f":"\" \"&List!$C$226&\" [mm]\"","v":" Zadejte sílu skla [mm]"}]
[null,null,null,null,null,null,null,null,null,null,null,null,null,{"$f":"\" \"&List!$C$221&\" '\"&List!$C$89&\"'\"","v":" Hodnota platí jen pro volbu 'Alurámečky s jiným sklem'"}]
[]
[null,null,null,null,null,{"$f":"D9","v":"Korpus A"},null,null,null,null,null,null,null,null,null,null,null,null,null,"váha spoj.","tl. skla","typ alu"]
[null,{"$f":"List!$C$72&\" KB [mm]       \"","v":"Šířka korpusu KB [mm]       "},null,null,null,null,null,{"$f":"H10","v":0},null,null,null,null,null,{"$f":"H207*H208*H209","v":0},null,null,null,null,{"$f":"IF($V$207=1,$M$237,$M$238)","v":0.31},{"$f":"$M$239","v":0.46},1,{"$f":"$O$4","v":1}]
[null,{"$f":"List!$C$73&\" KH [mm]       \"","v":"Výška korpusu KH [mm]       "},null,null,null,null,null,{"$f":"H11","v":0},null,null,null,null,null,{"$f":"N207/1000000000","v":0},1,null,null,null,"váha alu",{"$f":"SUM(H207*2,(H208-40)*2)*S207/1000","v":-2.4799999999999999E-2},"A plocha B"]
[null,{"$f":"List!$C$77&\" TS [mm] \"","v":"Síla čela TS [mm] "},null,null,null,null,null,null,null,null,null,null,null,{"$f":"Menu!$L$30","v":760},{"$f":"List!$C$84&\" (\"&N209&\" kg/m3)\"","v":"MDF (760 kg/m3)"},null,null,null,{"$f":"$S$201*4/1000","v":10},{"$f":"IF($V$207=1,U209*S209,V209*S209)","v":8.9999999999999993E-3},{"$f":"SUM(($H$207-30)*($H$208-30)/1000000)","v":8.9999999999999998E-4},{"$f":"SUM(($H$207-6)*($H$208-6)/1000000)","v":3.6000000000000001E-5},"4mm"]
[null,{"$f":"List!$C$78&\" [kg] \"","v":"Hmotnost úchytky [kg] "},null,null,null,null,null,null,{"$f":"IF($U$14=2,\" \",IF(SUM(H207,H208)=0,\" \",IF(H210=0,\" ● \"&List!$C$112,\" \")))","v":" "},null,null,null,null,{"$f":"Menu!$L$31","v":680},{"$f":"List!$C$85&\" (\"&N210&\" kg/m3)\"","v":"Dřevotříska (680 kg/m3)"},null,null,null,{"$f":"$S$201*5/1000","v":12.5},{"$f":"IF($V$207=1,U210*S210,V210*S210)","v":1.125E-2},{"$f":"SUM(($H$207-30)*($H$208-30)/1000000)","v":8.9999999999999998E-4},{"$f":"SUM(($H$207-6)*($H$208-6)/1000000)","v":3.6000000000000001E-5},"5mm"]
[null,{"$f":"List!$C$76&\" [kg] \"","v":"Vypočtená hmotnost čela [kg] "},null,null,null,null,null,{"$f":"IF(S212=0,0,S212+2*H210)","v":0},null,null,null,null,{"$f":"IF(H207*H208*H209=0,0,IF(O208=1,N208*N209,IF(O208=2,N208*N210,N208*N211)))","v":0},{"$f":"$H$201","v":0},{"$f":"List!$C$86","v":"Jiné - volitelná hustota"},null,null,null,{"$f":"$S$201*$H$201/1000","v":0},{"$f":"IF($V$207=1,U211*S211,V211*S211)","v":0},{"$f":"SUM(($H$207-30)*($H$208-30)/1000000)","v":8.9999999999999998E-4},{"$f":"SUM(($H$207-6)*($H$208-6)/1000000)","v":3.6000000000000001E-5},"jiné"]
[null,null,{"$f":"IF((U14=2)*AND(H211>0)*AND(H210>0),$N$229&\" \"&$N$230,IF((U14<>2)*AND(H211>0),IF(H210=0,$N$228,\" \"),\" \"))","v":" "},null,null,null,null,null,null,null,null,null,null,null,null,null,null,null,{"$f":"IF(OR(AND(U207=3, $H$201=0), H207*H208=0), 0, SUM(IF(U207=1,T209,IF(U207=2,T210,T211)),T208,T207))","v":0}]
[]
[]
[null,null,null,null,null,{"$f":"D18","v":"Korpus B"},null,null,null,null,null,null,null,null,null,null,null,null,null,"váha spoj.","tl. skla","typ alu"]
[null,{"$f":"List!$C$72&\" KB [mm]       \"","v":"Šířka korpusu KB [mm]       "},null,null,null,null,null,{"$f":"H19","v":0},null,null,null,null,null,{"$f":"H216*H217*H218","v":0},null,null,null,null,{"$f":"IF($V$207=1,$M$237,$M$238)","v":0.31},{"$f":"$M$239","v":0.46},{"$f":"$U$207","v":1},{"$f":"$V$207","v":1}]
[null,{"$f":"List!$C$73&\" KH [mm]       \"","v":"Výška korpusu KH [mm]       "},null,null,null,null,null,{"$f":"H20","v":0},null,null,null,null,null,{"$f":"N216/1000000000","v":0},{"$f":"O208","v":1},null,null,null,"váha alu",{"$f":"SUM(H216*2,(H217-40)*2)*S216/1000","v":-2.4799999999999999E-2},"A plocha B"]
[null,{"$f":"List!$C$77&\" TS [mm] \"","v":"Síla čela TS [mm] "},null,null,null,null,null,null,null,null,null,null,null,{"$f":"$N$209","v":760},{"$f":"$O$209","v":"MDF (760 kg/m3)"},null,null,null,{"$f":"S209","v":10},{"$f":"IF($V$207=1,U218*S218,V218*S218)","v":8.9999999999999993E-3},{"$f":"SUM(($H$216-30)*($H$217-30)/1000000)","v":8.9999999999999998E-4},{"$f":"SUM(($H$216-6)*($H$217-6)/1000000)","v":3.6000000000000001E-5},"4mm"]
[null,{"$f":"List!$C$78&\" [kg] \"","v":"Hmotnost úchytky [kg] "},null,null,null,null,null,null,{"$f":"IF($U$23=2,\" \",IF(SUM(H216,H217)=0,\" \",IF(H219=0,\" ● \"&List!$C$112,\" \")))","v":" "},null,null,null,null,{"$f":"$N$210","v":680},{"$f":"$O$210","v":"Dřevotříska (680 kg/m3)"},null,null,null,{"$f":"S210","v":12.5},{"$f":"IF($V$207=1,U219*S219,V219*S219)","v":1.125E-2},{"$f":"SUM(($H$216-30)*($H$217-30)/1000000)","v":8.9999999999999998E-4},{"$f":"SUM(($H$216-6)*($H$217-6)/1000000)","v":3.6000000000000001E-5},"5mm"]
[null,{"$f":"List!$C$76&\" [kg] \"","v":"Vypočtená hmotnost čela [kg] "},null,null,null,null,null,{"$f":"IF(S221=0,0,S221+2*H219)","v":0},null,null,null,null,{"$f":"IF(H216*H217*H218=0,0,IF(O217=1,N217*N218,IF(O217=2,N217*N219,N217*N220)))","v":0},{"$f":"$N$211","v":0},{"$f":"$O$211","v":"Jiné - volitelná hustota"},null,null,null,{"$f":"S211","v":0},{"$f":"IF($V$207=1,U220*S220,V220*S220)","v":0},{"$f":"SUM(($H$216-30)*($H$217-30)/1000000)","v":8.9999999999999998E-4},{"$f":"SUM(($H$216-6)*($H$217-6)/1000000)","v":3.6000000000000001E-5},"jiné"]
[null,null,{"$f":"IF((U23=2)*AND(H220>0)*AND(H219>0),$N$229&\" \"&$N$230,IF((U23<>2)*AND(H220>0),IF(H219=0,$N$228,\" \"),\" \"))","v":" "},null,null,null,null,null,null,null,null,null,null,null,null,null,null,null,{"$f":"IF(OR(AND(U216=3, $H$201=0), H216*H217=0), 0, SUM(IF(U216=1,T218,IF(U216=2,T219,T220)),T217,T216))","v":0}]
[]
[]
[]
[null,null,null,null,null,null,{"$f":"List!$C$149","v":"Zpět"}]
[]
[]
[null,null,{"$f":"List!$C$217&\" \"&List!$C$218","v":"Upozornění: Vypočtené hodnoty jsou pouze orientační.  Firma Blum ani prodejci neručí za jejich správnost."},null,null,null,null,null,null,null,null,null,null,{"$f":"List!$C$95&\"!\"","v":"Není započtena hmotnost úchytky!"},null,null,null,null,null,null,{"$f":"List!$C$87","v":"Alurámečky s 4mm sklem"}]
[null,null,null,null,null,null,null,null,null,null,null,null,null,{"$f":"List!C96","v":"Opravdu máte úchytku na TIP-ON?"},null,null,null,null,null,null,{"$f":"List!$C$88","v":"Alurámečky s 5mm sklem"}]
[null,null,null,null,null,null,null,null,null,null,null,null,null,{"$f":"List!C97&\"!\"","v":"Jestli ne, smažte hmotnost úchytky.!"},null,null,null,null,null,null,{"$f":"List!$C$89","v":"Alurámečky s jiným sklem"}]
[]
[]
[]
[]
[]
[null,null,null,null,"Hmotnost alurámečků [kg/bm]",null,{"$f":"List!$C$368","v":"Podle Úvodu"},{"$f":"List!$C$58","v":"Změna"}]
[null,null,null,null,null,{"$f":"List!$C$375&\"  \"","v":"S vloženým sklem  "},{"$f":"Menu!$Q220","v":0.31},null,null,null,null,null,{"$f":"IF($H237>0,$H237,$G237)","v":0.31}]
[null,null,null,null,null,{"$f":"List!$C$376&\"  \"","v":"S naloženým nebo nalepeným sklem  "},{"$f":"Menu!$Q221","v":0.32},null,null,null,null,null,{"$f":"IF($H238>0,$H238,$G238)","v":0.32}]
[null,null,null,null,null,{"$f":"List!$C$377&\" [kg/set] *  \"","v":"Hmotnost spojovacího materiálu [kg/set] *  "},{"$f":"Menu!$Q222","v":0.46},null,null,null,null,null,{"$f":"IF($H239>0,$H239,$G239)","v":0.46}]
[]
[null,null,{"$f":"\"        * \"& List!$C$378&\"  \"","v":"        * Rohové spojky, šrouby, těsnění pro jeden rámeček  "}]
[]
[]
[null,null,null,null,null,null,{"$f":"List!$C$149","v":"Zpět"}]
[]
[]
[]
[]
[]
[]
[]
[]
[]
[]
[]
[]
[]
[]
[]
[]
[]
[]
[]
[]
[]
[]
[]
[]
[]
[]
[]
[]
[]
[]
[]
[]
[]
[]
[]
[]
[]
[]
[]
[]
[]
[]
[]
[]
[]
[]
[]
[]
[]
[]
[]
[]
[]
[]
[]
[]
[]
[]
[]
[]
[]
[]
[]
[]
[]
[]
[]
[]
[]
[]
[]
[]
[]
[]
[]
[]
[]
[]
[]
[]
[]
[]
[]
[]
[]
[]
[]
[]
[]
[]
[]
[]
[]
[]
[]
[]
[]
[]
[]
[]
[]
[]
[]
[]
[]
[]
[]
[]
[]
[]
[]
[]
[]
[]
[]
[]
[]
[]
[]
[]
[]
[]
[]
[]
[]
[]
[]
[]
[]
[]
[]
[]
[]
[]
[]
[]
[]
[]
[]
[]
[]
[]
[]
[]
[]
[]
[]
[]
[]
[]
[]
[]
[]
[]
[]
[]
[null,"      AVENTOS HK-S"]
[]
[null,{"$f":"List!$C$281","v":"Potřebný zdvihač se určí pomocí ukazatele výkonnosti."}]
[null,{"$f":"List!$C$318","v":"Ukazatel výkonnosti závisí na hmotnosti čela (včetně dvojnásobné hmotnosti úchytky) a na výšce korpusu."}]
[]
[null,{"$f":"\" \"&List!$C$295","v":" Tak se to dělá:"}]
[null,null,null,{"$f":"List!$C$80&\" = \"","v":"Ukazatel výkonnosti = "},{"$f":"List!$C$319&\" [kg]\"","v":"výška korpusu (KH) [mm] x hmotnost čela včetně dvojnásobné hmotnosti úchytky [kg]"}]
[]
[]
[]
[]
[]
[null,{"$f":"List!$C$289","v":"Pokud znáte hmotnost čela, můžete ji zadat, jinak použijte \"Výpočet hmotnosti\"."}]
[null,{"$f":"List!$C$290","v":"V tabulce má přednost zadaná hodnota. Chcete-li použít vypočtenou hmotnost, smažte zadanou hodnotu."}]
[]
[]
[null,{"$f":"List!$C$284","v":"Chcete-li změnit barvu krytek, přejděte na \"Úvod\""}]
[]
[null,{"$f":"List!$C$383","v":"Věnujte pozornost výběru alurámečků."}]
[null,{"$f":"List!$C$384","v":"Vyberte, který typ lépe odpovídá tvaru použitého alurámečku."}]
[null,{"$f":"List!$C$385","v":"Způsob osazení skla do rámečku výrazně ovlivňuje plochu skla a tím i hmotnost!"}]
[]
[null,null,{"$f":"\"  \"&List!$C$375&\"  \"","v":"  S vloženým sklem  "}]
[]
[null,null,{"$f":"\"  \"&List!$C$376&\"  \"","v":"  S naloženým nebo nalepeným sklem  "}]
[]
[]
[null,null,null,null,null,null,null,null,null,null,null,{"$f":"List!$C$149","v":"Zpět"}]

{"sheet":"HKXSw","index":27,"n_rows":426,"n_cols":52,"rows_kept":426,"cut":false,"hidden":false,"merged":[[399,0,440,0],[6,7,6,8],[8,4,8,8],[97,0,161,0],[6,1,6,3],[22,1,22,3],[198,0,249,0],[301,0,355,0],[304,1,304,10],[305,1,305,8],[305,9,305,10],[306,1,306,8],[306,9,306,10],[406,5,406,12],[215,1,215,7],[216,1,216,7],[26,19,26,20],[9,21,9,22],[12,1,12,7],[13,1,13,3],[224,7,224,8],[22,4,22,7],[14,1,14,7],[13,4,13,7],[210,1,210,7],[208,1,208,7],[209,1,209,7],[219,1,219,7],[37,12,38,12],[40,12,41,12],[10,1,10,7],[17,17,17,18],[21,1,21,7],[218,1,218,7],[23,1,23,7],[205,6,205,8],[214,6,214,8],[201,4,201,8],[206,1,206,7],[207,1,207,7],[1,1,1,2],[17,21,17,22],[18,1,18,7],[18,21,18,22],[20,1,20,7],[19,1,19,7],[1,9,1,10],[3,5,3,10],[1,3,1,4],[1,5,1,6],[1,7,1,8],[8,17,8,18],[8,21,8,22],[11,1,11,7],[9,1,9,7],[17,4,17,8],[317,9,317,10],[318,9,318,10],[320,1,320,8],[313,1,313,6],[314,1,314,6],[316,1,316,8],[317,1,317,8],[318,1,318,8],[320,9,320,10],[327,9,327,10],[306,13,306,14],[227,3,229,11],[217,1,217,7],[311,1,311,10],[307,1,307,8],[307,9,307,10],[308,1,308,8],[308,9,308,10],[309,1,309,8],[309,9,309,10],[312,7,312,10],[312,1,312,6],[319,1,319,8],[319,9,319,10],[316,9,316,10],[0,49,0,57],[19,49,20,53],[21,49,22,53],[7,49,8,50],[7,51,8,51],[9,49,9,50],[10,49,10,50],[11,49,11,50],[17,49,17,50],[13,49,14,50],[15,49,15,50],[16,49,16,50]]}
[]
[null,"AVENTOS HF",null,"AVENTOS HS",null,"AVENTOS HL",null,"AVENTOS HK top",null,"AVENTOS HK-S",null,"AVENTOS HK-XS",null,null,null,null,null,null,3,null,null,null,null,null,null,null,null,null,null,null,null,null,{"$f":"List!$C$135","v":"Jdi na"}]
[]
[null,{"$f":"List!$C$15","v":"Dřevěné čelo"},null,null,null,{"$f":"O201&\"       \"","v":"MDF (760 kg/m3) A~/ B~mm       "},null,null,null,null,null,null,null,null,null,null,null,null,{"$f":"\" \"&List!$C$39&\" A \"","v":" Cena za korpus A "},null,null,null,null,null,null,null,null,null,null,null,null,null,{"$f":"List!$C$136","v":"Úvod plánování"}]
[null,null,null,null,null,null,null,null,null,null,null,null,null,null,null,null,null,null,{"$f":"\" \"&List!$C$39&\" B \"","v":" Cena za korpus B "},null,null,null,null,null,null,null,null,null,null,null,null,null,{"$f":"List!$C$137","v":"Nápověda"}]
[null,null,null,null,null,null,null,null,null,null,null,null,null,null,null,null,null,null,{"$f":"\" \"&List!$C$59","v":" Cena celkem bez DPH"}]
[null,{"$f":"List!$C$142","v":"Soupis kování"},null,null,null,null,null,{"$f":"IF($S$2=1,$N$136,IF($S$2=2,$P$136,IF($S$2=3,$L$136,0)))","v":0},null,null,null,null,null,null,null,null,null,null,null,null,null,null,null,null,null,null,null,null,null,null,null,null,{"$f":"List!$C$141","v":"Doplňky"}]
[null,null,null,null,null,null,null,null,null,null,null,null,null,null,null,null,null,null,null,null,null,null,null,null,null,null,null,null,null,null,null,null,null,null,null,null,null,null,null,null,null,null,null,null,null,null,null,null,null,{"$f":"\"  \"&List!$C$80&\" LF \"","v":"  Ukazatel výkonnosti LF "},null,{"$f":"List!$C$79","v":"Zdvihací mechanizmus"}]
[null,null,null,null,{"$f":"List!$C$62&\" A\"","v":"Korpus A"},null,null,null,null,null,null,null,null,null,null,null,null,"jeden zdvihač",null,null,null,"dva zdvihače",null,null,"Závěsy",null,null,null,null,null,null,null,{"$f":"List!$C$139","v":"Přehled korpusů"}]
[null,{"$f":"List!$C$72&\" KB [mm] \"","v":"Šířka korpusu KB [mm] "},null,null,null,null,null,null,900,{"$f":"IF($I10=0,\" \",IF($I10<220,\" min. 220mm\",IF($I10>1800,\" max. 1 800mm\",\" \")))&IF(I15>0,IF(I10=0,\"● \"&List!$C$111,\" \"),\" \")","v":"  "},null,null,null,"zdvih A","jeden","dva",null,"min","max","š.max","š. min",false,null,null,null,null,null,null,null,null,null,null,{"$f":"List!$C$140","v":"Objednávka"},null,null,null,null,null,null,null,null,null,null,null,null,null,null,null,null,"  200 - 1000",null,"20K1101"]
[null,{"$f":"List!$C$73&\" KH [mm]  \"","v":"Výška korpusu KH [mm]  "},null,null,null,null,null,null,600,{"$f":"IF($I11=0,\" \",IF($I11<236,\" min. 236mm\",IF($I11>600,\" max. 600 mm\",\" \")))&IF(I15>0,IF(I11=0,\"● \"&List!$C$111,\" \"),\" \")","v":"  "},null,null,null,"K1101",{"$f":"IF($V$10=FALSE,IF($I$14>R11,IF($I$14<S11,1,0),0),0)","v":0},{"$f":"IF($V$10=TRUE,IF($I$14>V11,IF($I$14<W11,2,0),0),0)","v":0},null,{"$f":"IF(U14=1,199.99,179.99)","v":199.99},{"$f":"IF(U14=1,750,650)","v":750},null,null,{"$f":"IF(U14=1,399.99,359.99)","v":399.99},{"$f":"IF(U14=1,1500,1300)","v":1500},null,{"$f":"IF(OR(I10>1199,I14>2699),4,IF(OR(I10>899,I14>1799),3,2))","v":4},null,null,null,null,null,null,null,null,null,null,null,null,null,null,null,null,null,null,null,null,null,null,null,null,"  500 - 1500",null,"20K1301"]
[null,{"$f":"List!$C$75&\" [kg] ** \"","v":"Hmotnost čela vč. 2x hmotnost úchytky [kg] ** "},null,null,null,null,null,null,7.5,{"$f":"IF($I15=0,\" \",IF(SUM($I12,$I13)=0,$N$34,\" \"))&IF($I15>0,IF($I12>0,$N$35,\" \"),\" \")","v":" ◄ hodnota bude použita pro výpočet LF"},null,null,null,"K1201",{"$f":"IF($V$10=FALSE,IF($I$14>R12,IF($I$14<S12,1,0),0),0)","v":0},{"$f":"IF($V$10=TRUE,IF($I$14>V12,IF($I$14<W12,2,0),0),0)","v":0},null,{"$f":"IF(U14=1,749.99,649)","v":749.99},{"$f":"IF(U14=1,1150,1000)","v":1150},null,null,{"$f":"IF(U14=1,1499.99,1299.99)","v":1499.99},{"$f":"IF(U14=1,2300,2000)","v":2300},null,null,null,null,null,null,null,null,null,null,null,null,null,null,null,null,null,null,null,null,null,null,null,null,null,null,"  800 - 1800",null,"20K1501"]
[null,{"$f":"List!$C$76&\" [kg]       \"","v":"Vypočtená hmotnost čela [kg]       "},null,null,null,null,null,null,{"$f":"$I$211","v":0},{"$f":"IF($I15>0,IF($I13>0,IF($I12=0,$N$35,\" \"),\" \"),\" \")","v":" "},null,null,null,"K1301",{"$f":"IF($V$10=FALSE,IF($I$14>R13,IF($I$14<S13,1,0),0),0)","v":0},{"$f":"IF($V$10=TRUE,IF($I$14>V13,IF($I$14<W13,2,0),0),0)","v":0},null,{"$f":"IF(U14=1,1149.99,999.99)","v":1149.99},{"$f":"IF(U14=1,1801,1601)","v":1801},null,{"$f":"IF(U14=1,$V$47,IF(U14=2,$V$48,$V$49))","v":"Standard"},{"$f":"IF(U14=1,2299.99,1999.99)","v":2299.9899999999998},{"$f":"IF(U14=1,3601,3201)","v":3601},null,null,null,null,null,null,null,null,null,{"$f":"\" \"&List!$C$177&\" A\"","v":" Výpočet hmotnosti A"}]
[null,{"$f":"List!$C$82&\" *      \"","v":"Druhý zdvihač *      "},null,null,{"$f":"List!$C$80&\" LF \"","v":"Ukazatel výkonnosti LF "},null,null,null,{"$f":"IF(I12>0,I11*I12,I11*I13)","v":4500},{"$f":"IF(U14=1,IF($I14>3600,$N$38,IF($I14>1800.5,IF(V10=FALSE,$N$39,\" \"),\" \")),IF($I14>3200,$N$38,IF($I14>1600.5,IF(V10=FALSE,$N$39,\" \"),\" \")))","v":" max. 3.600! Upravte hmotnost nebo výšku"},null,null,null,null,null,null,null,null,null,null,1,null,null,null,null,null,null,null,null,null,null,null,null,null,null,null,null,null,null,null,null,null,null,null,null,null,null,null,null,{"$f":"\"  \"&List!$C$80&\" LF \"","v":"  Ukazatel výkonnosti LF "},null,"TIP-ON"]
[null,{"$f":"List!$C$69&\" \"","v":"Počet skříněk "},null,null,null,null,null,null,1,null,null,null,{"$f":"IF(OR($I10*$I11*$T15=0,$I11<236,$I11>600,SUM(O11:P13)=0),0,IF($I14>1800,IF($V10=FALSE,0,$I15),$I15))","v":0},null,null,null,null,null,"hmot =",{"$f":"IF(I12>0,I12,I13)","v":7.5},{"$f":"IF(SUM(I12,I13)=0,0,IF(I12>0,1,2))","v":1},"zadaná / vypočtená",null,null,null,null,null,null,null,null,null,null,null,null,null,null,null,null,null,null,null,null,null,null,null,null,null,null,null,null,null,{"$f":"List!$C$79","v":"Zdvihací mechanizmus"}]
[null,{"$f":"IF(I15>0,IF(U15=0,\" \",IF(U15=1,$N$50,$N$51)),\" \")&IF(I15>0,IF(U15=0,\" \",IF(U15=1,$N$52,$N$53)),\" \")","v":"Pro určení typu zdvihače bude použita zadaná hmotnost. Chcete-li použít vypočtenou hmotnost, smažte zadanou hodnotu"},null,null,null,null,null,null,null,null,null,null,null,null,null,null,null,null,null,null,null,null,null,null,null,null,null,null,null,null,null,null,null,null,null,null,null,null,null,null,null,null,null,null,null,null,null,null,null,"  200 - 1000",null,"20K1101T"]
[null,null,null,null,null,null,null,null,null,null,null,null,null,null,null,null,null,null,null,null,null,null,null,null,null,null,null,null,null,null,null,null,{"$f":"\" \"&List!$C$361","v":" Ověření síly zdvihače"},null,null,null,null,null,null,null,null,null,null,null,null,null,null,null,null,"  500 - 1500",null,"20K1301T"]
[null,null,null,null,{"$f":"List!$C$62&\" B\"","v":"Korpus B"},null,null,null,null,null,null,null,null,null,null,null,null,"jeden zdvihač",null,null,null,"dva zdvihače",null,null,"Závěsy",null,null,null,null,null,null,null,null,null,null,null,null,null,null,null,null,null,null,null,null,null,null,null,null,"  800 - 1600",null,"20K1501T"]
[null,{"$f":"List!$C$72&\" KB [mm] \"","v":"Šířka korpusu KB [mm] "},null,null,null,null,null,null,null,{"$f":"IF($I19=0,\" \",IF($I19<220,\" min. 220mm\",IF($I19>1800,\" max. 1 800mm\",\" \")))&IF(I24>0,IF(I19=0,\"● \"&List!$C$111,\" \"),\" \")","v":"  "},null,null,null,"zdvih B","jeden","dva",null,"min","max","š.max","š. min",false]
[null,{"$f":"List!$C$73&\" KH [mm] \"","v":"Výška korpusu KH [mm] "},null,null,null,null,null,null,null,{"$f":"IF($I20=0,\" \",IF($I20<236,\" min. 236 mm\",IF($I20>600,\" max. 600 mm\",\" \")))&IF(I24>0,IF(I20=0,\"● \"&List!$C$111,\" \"),\" \")","v":"  "},null,null,null,"K1101",{"$f":"IF($V$19=FALSE,IF($I$23>R20,IF($I$23<S20,1,0),0),0)","v":0},{"$f":"IF($V$19=TRUE,IF($I$23>V20,IF($I$23<W20,2,0),0),0)","v":0},null,{"$f":"IF(U23=1,199.99,179.99)","v":199.99},{"$f":"IF(U23=1,750,650)","v":750},null,null,{"$f":"IF(U23=1, 399.99, 359.99)","v":399.99},{"$f":"IF(U23=1,1500,1300)","v":1500},null,{"$f":"IF(OR(I19>1199,I23>2699),4,IF(OR(I19>899,I23>1799),3,2))","v":2},null,null,null,null,null,null,null,null,null,null,null,null,null,null,null,null,null,null,null,null,null,null,null,null,{"$f":"List!$C$80&\" LF = \"&List!$C$73&\" KH [mm] x \"&List!$C$75&\" [kg]\"","v":"Ukazatel výkonnosti LF = Výška korpusu KH [mm] x Hmotnost čela vč. 2x hmotnost úchytky [kg]"}]
[null,{"$f":"List!$C$75&\" [kg] ** \"","v":"Hmotnost čela vč. 2x hmotnost úchytky [kg] ** "},null,null,null,null,null,null,null,{"$f":"IF($I24=0,\" \",IF(SUM($I21,$I22)=0,$N$34,\" \"))&IF($I24>0,IF($I21>0,$N$35,\" \"),\" \")","v":"  "},null,null,null,"K1201",{"$f":"IF($V$19=FALSE,IF($I$23>R21,IF($I$23<S21,1,0),0),0)","v":0},{"$f":"IF($V$19=TRUE,IF($I$23>V21,IF($I$23<W21,2,0),0),0)","v":0},null,{"$f":"IF(U23=1,749.99, 649.99)","v":749.99},{"$f":"IF(U23=1,1150,1000)","v":1150},null,null,{"$f":"IF(U23=1,1499.99,1299.99)","v":1499.99},{"$f":"IF(U23=1,2300,2000)","v":2300}]
[null,{"$f":"List!$C$76&\" [kg]       \"","v":"Vypočtená hmotnost čela [kg]       "},null,null,null,null,null,null,{"$f":"$I$220","v":0},{"$f":"IF($I24>0,IF($I22>0,IF($I21=0,$N$35,\" \"),\" \"),\" \")","v":" "},null,null,null,"K1301",{"$f":"IF($V$19=FALSE,IF($I$23>R22,IF($I$23<S22,1,0),0),0)","v":0},{"$f":"IF($V$19=TRUE,IF($I$23>V22,IF($I$23<W22,2,0),0),0)","v":0},null,{"$f":"IF(U23=1,1149.99, 999.99)","v":1149.99},{"$f":"IF(U23=1,1801,1601)","v":1801},null,{"$f":"IF(U23=1,$V$47,IF(U23=2,$V$48,$V$49))","v":"Standard"},{"$f":"IF(U23=1,2299.99, 1999.99)","v":2299.9899999999998},{"$f":"IF(U23=1,3601,3201)","v":3601},null,null,null,null,null,null,null,null,null,{"$f":"\" \"&List!$C$177&\" B\"","v":" Výpočet hmotnosti B"},null,null,null,null,null,null,null,null,null,null,null,null,null,null,null,null,{"$f":"List!$C$321","v":"V případě použití po obou stranách se faktor výkonnosti zdvojnásobí."}]
[null,{"$f":"List!$C$82&\" *      \"","v":"Druhý zdvihač *      "},null,null,{"$f":"List!$C$80&\" LF \"","v":"Ukazatel výkonnosti LF "},null,null,null,{"$f":"IF(I21>0,I20*I21,I20*I22)","v":0},{"$f":"IF(U23=1,IF($I23>3600,$N$38,IF($I23>1800.5,IF(V19=FALSE,$N$39,\" \"),\" \")),IF($I23>3200,$N$38,IF($I23>1600.5,IF(V19=FALSE,$N$39,\" \"),\" \")))","v":" "},null,null,null,null,null,null,null,null,null,null,1]
[null,{"$f":"List!$C$69&\" \"","v":"Počet skříněk "},null,null,null,null,null,null,null,null,null,null,{"$f":"IF(OR($I19*$I20*$T24=0,$I20<236,$I20>600,SUM(O20:P22)=0),0,IF($I23>1800,IF($V19=FALSE,0,$I24),$I24))","v":0},null,null,null,null,null,"hmot =",{"$f":"IF(I21>0,I21,I22)","v":0},{"$f":"IF(SUM(I21,I22)=0,0,IF(I21>0,1,2))","v":0},"zadaná / vypočtená"]
[null,{"$f":"IF(I24>0,IF(U24=0,\" \",IF(U24=1,$N$50,$N$51)),\" \")&IF(I24>0,IF(U24=0,\" \",IF(U24=1,$N$52,$N$53)),\" \")","v":"  "}]
[]
[null,null,null,null,null,null,null,null,null,null,null,null,null,null,null,null,null,null,{"$f":"IF($T$27=FALSE,2,1)","v":2},false,null," - Zdroj",null,null,null,null,null,null,null,null,null,null,null,null,null,null,null,null,null,null,null,null,null,null,null,null,null,null,null,{"$f":"List!$C$149","v":"Zpět"}]
[]
[]
[null," *",{"$f":"List!$C$321","v":"V případě použití po obou stranách se faktor výkonnosti zdvojnásobí."}]
[]
[null," **",{"$f":"List!$C$168","v":"Pokud znáte hmotnost a nechcete využít výpočtu hmotnosti"}]
[]
[null,null,null,null,null,null,null,null,null,null,null,null,null,{"$f":"\" \"&List!$C$103","v":" Doplňte nebo použijte \"Výpočet hmotnosti\" "}]
[null,null,null,null,null,null,null,null,null,null,null,null,null,{"$f":"\"◄ \"&List!$C$100","v":"◄ hodnota bude použita pro výpočet LF"}]
[null,null,null,null,null,null,null,null,null,null,null,null,null,{"$f":"\" * \"&List!$C$110","v":" * Doplňte hodnoty"}]
[]
[null,null,null,null,null,null,null,null,null,null,null,null,"korpus   A",{"$f":"IF(U14=1,\" max. 3.600! \"&List!$C$105,\" max. 3.200! \"&List!$C$105)","v":" max. 3.600! Upravte hmotnost nebo výšku"}]
[null,{"$f":"IF($I$11>600,\"***\",IF($I$20>600,\"***\",\" \"))","v":" "},null,null,null,null,null,null,null,null,null,null,null,{"$f":"IF(U14=1,\" max. 1.800! \"&List!$C$114,\" max. 1.600! \"&List!$C$114)","v":" max. 1.800! Přidejte druhý zdvihač"}]
[]
[null,null,null,null,null,null,null,null,null,null,null,null,"korpus   B",{"$f":"IF(U23=1,\" max. 3.600! \"&List!$C$105,\" max. 3.200! \"&List!$C$105)","v":" max. 3.600! Upravte hmotnost nebo výšku"}]
[null,null,null,null,null,null,null,null,null,null,null,null,null,{"$f":"IF(U23=1,\" max. 1.800! \"&List!$C$114,\" max. 1.600! \"&List!$C$114)","v":" max. 1.800! Přidejte druhý zdvihač"}]
[]
[]
[null,null,null,null,null,null,null,null,null,null,null,null,null,{"$f":"HKXS!$M$26","v":2},{"$f":"HKXS!N26","v":2},{"$f":"HKXS!$L$26","v":2},{"$f":"HKXS!$K$26","v":2},null,null,{"$f":"Menu!$Q$27","v":3}]
[null,null,null,null,null,null,null,null,null,null,null,null,null,"záv.","podl","čep","čelní kov.",null,null,"barva",null,"provedení"]
[null,null,null,null,null,null,null,null,null,null,null,null,null,null,"1 =",{"$f":"List!$C$125","v":"Expando"},null,null,null,{"$f":"List!$C$128","v":"Světle šedá (HG/T)"},null,"Standard"]
[null,null,null,null,null,null,null,null,null,null,null,null,null,null,"2 =",{"$f":"List!$C$126","v":"na vruty"},null,null,null,{"$f":"List!$C$130","v":"Hedvábně bílá (SW/T)"},null,"TIP-ON"]
[]
[null,null,null,null,null,null,null,null,null,null,null,null,null,{"$f":"List!C169&\". \"","v":"Pro určení typu zdvihače bude použita zadaná hmotnost. "}]
[null,null,null,null,null,null,null,null,null,null,null,null,null,{"$f":"List!C170&\". \"","v":"Pro určení typu zdvihače bude použita vypočtená hmotnost. "}]
[null,null,null,null,null,null,null,null,null,null,null,null,null,{"$f":"List!C171","v":"Chcete-li použít vypočtenou hmotnost, smažte zadanou hodnotu"}]
[null,null,null,null,null,null,null,null,null,null,null,null,null,{"$f":"List!C172","v":"Chcete-li použít zadanou hmotnost, zadejte ji do políčka"}]
[]
[]
[]
[]
[]
[]
[]
[]
[]
[]
[]
[]
[]
[]
[]
[]
[]
[]
[]
[]
[]
[]
[]
[]
[]
[]
[]
[]
[]
[]
[]
[]
[]
[]
[]
[]
[]
[]
[]
[]
[]
[]
[]
[]
[null,{"$f":"List!C142","v":"Soupis kování"}]
[]
[null,{"$f":"$L$2","v":"AVENTOS HK-XS"},null,{"$f":"B4","v":"Dřevěné čelo"}]
[null,{"$f":"List!C50","v":"Název"},null,null,null,null,{"$f":"List!$C$51","v":"Číslo artiklu"},null,{"$f":"List!C52","v":"Barva"},{"$f":"List!C54","v":"Ks"},{"$f":"List!C56","v":"Jednotková cena"},{"$f":"List!C57","v":"Celkem"},"A","Cena","B","Cena","C","Cena","Filtr"]
[null,{"$f":"Cen!A157","v":"Symetrický zdvihací mechanizmus"},null,null,null,null,{"$f":"Cen!E157","v":"20K1101"},null,{"$f":"Cen!G157","v":"NI"},{"$f":"SUM($M102,$O102,$Q102)","v":0},{"$f":"Cen!I157","v":0},{"$f":"J102*K102","v":0},{"$f":"IF($U$14=1,SUM($O$11:$P$11)*$M$15,0)","v":0},{"$f":"$K102*M102","v":0},{"$f":"IF($U$23=1,SUM($O$20:$P$20)*$M$24,0)","v":0},{"$f":"$K102*O102","v":0},null,null,"x"]
[null,{"$f":"Cen!A158","v":"Symetrický zdvihací mechanizmus"},null,null,null,null,{"$f":"Cen!E158","v":"20K1301"},null,{"$f":"Cen!G158","v":"NI"},0,{"$f":"Cen!I158","v":0},0,{"$f":"IF($U$14=1,SUM($O$12:$P$12)*$M$15,0)","v":0},0,{"$f":"IF($U$23=1,SUM($O$21:$P$21)*$M$24,0)","v":0},0,null,null,"x"]
[null,{"$f":"Cen!A159","v":"Symetrický zdvihací mechanizmus"},null,null,null,null,{"$f":"Cen!E159","v":"20K1501"},null,{"$f":"Cen!G159","v":"NI"},0,{"$f":"Cen!I159","v":0},0,{"$f":"IF($U$14=1,SUM($O$13:$P$13)*$M$15,0)","v":0},0,{"$f":"IF($U$23=1,SUM($O$22:$P$22)*$M$24,0)","v":0},0,null,null,"x"]
[null,{"$f":"Cen!A160","v":0},null,null,null,null,{"$f":"Cen!E160","v":0},null,{"$f":"Cen!G160","v":0},null,{"$f":"Cen!I160","v":0},0]
[null,{"$f":"Cen!A161","v":"Sym. zdvihací mechanizmus, TIP-ON"},null,null,null,null,{"$f":"Cen!E161","v":"20K1101T"},null,{"$f":"Cen!G161","v":"NI"},0,{"$f":"Cen!I161","v":0},0,{"$f":"IF($U$14=2,SUM($O$11:$P$11)*$M$15,0)","v":0},0,{"$f":"IF($U$23=2,SUM($O$20:$P$20)*$M$24,0)","v":0},0,null,null,"x"]
[null,{"$f":"Cen!A162","v":"Sym. zdvihací mechanizmus, TIP-ON"},null,null,null,null,{"$f":"Cen!E162","v":"20K1301T"},null,{"$f":"Cen!G162","v":"NI"},0,{"$f":"Cen!I162","v":0},0,{"$f":"IF($U$14=2,SUM($O$12:$P$12)*$M$15,0)","v":0},0,{"$f":"IF($U$23=2,SUM($O$21:$P$21)*$M$24,0)","v":0},0,null,null,"x"]
[null,{"$f":"Cen!A163","v":"Sym. zdvihací mechanizmus, TIP-ON"},null,null,null,null,{"$f":"Cen!E163","v":"20K1501T"},null,{"$f":"Cen!G163","v":"NI"},0,{"$f":"Cen!I163","v":0},0,{"$f":"IF($U$14=2,SUM($O$13:$P$13)*$M$15,0)","v":0},0,{"$f":"IF($U$23=2,SUM($O$22:$P$22)*$M$24,0)","v":0},0,null,null,"x"]
[null,{"$f":"Cen!A164","v":0},null,null,null,null,{"$f":"Cen!E164","v":0},null,{"$f":"Cen!G164","v":0},null,{"$f":"Cen!I164","v":0},0]
[null,{"$f":"Cen!A165","v":"Boční čep na korpus"},null,null,null,null,{"$f":"Cen!E165","v":"20K5101"},null,{"$f":"Cen!G165","v":"NI"},{"$f":"SUM($M110,$O110,$Q110)","v":0},{"$f":"Cen!I165","v":0},0,{"$f":"IF($P$45=2,SUM($M$102:$M$108),0)","v":0},{"$f":"$K110*M110","v":0},{"$f":"IF($P$45=2,SUM($O$102:$O$108),0)","v":0},{"$f":"$K110*O110","v":0},null,null,"x"]
[null,{"$f":"Cen!A166","v":"Boční čep na korpus, EXPANDO"},null,null,null,null,{"$f":"Cen!E166","v":"20K51E1"},null,{"$f":"Cen!G166","v":"NI"},0,{"$f":"Cen!I166","v":0},0,{"$f":"IF($P$45=1,SUM($M$102:$M$108),0)","v":0},{"$f":"$K111*M111","v":0},{"$f":"IF($P$45=1,SUM($O$102:$O$108),0)","v":0},{"$f":"$K111*O111","v":0},null,null,"x"]
[null,{"$f":"Cen!A167","v":0},null,null,null,null,{"$f":"Cen!E167","v":0},null,{"$f":"Cen!G167","v":0},null,{"$f":"Cen!I167","v":0},0]
[null,{"$f":"Cen!A168","v":"Čelní kování"},null,null,null,null,{"$f":"Cen!E168","v":"20K4101"},null,{"$f":"Cen!G168","v":"NI"},0,{"$f":"Cen!I168","v":0},0,{"$f":"IF($Q$45=2,SUM($M$102:$M$108),0)","v":0},{"$f":"$K113*M113","v":0},{"$f":"IF($Q$45=2,SUM($O$102:$O$108),0)","v":0},{"$f":"$K113*O113","v":0},null,null,"x"]
[null,{"$f":"Cen!A169","v":"Čelní kování, EXPANDO"},null,null,null,null,{"$f":"Cen!E169","v":"20K41E1"},null,{"$f":"Cen!G169","v":"NI"},0,{"$f":"Cen!I169","v":0},0,{"$f":"IF($Q$45=1,SUM($M$102:$M$108),0)","v":0},{"$f":"$K114*M114","v":0},{"$f":"IF($Q$45=1,SUM($O$102:$O$108),0)","v":0},{"$f":"$K114*O114","v":0},null,null,"x"]
[null,{"$f":"Cen!A170","v":"Čelní kování pro úzké alurámečky"},null,null,null,null,{"$f":"Cen!E170","v":"20K4101A"},null,{"$f":"Cen!G170","v":"NI"},null,{"$f":"Cen!I170","v":0},0]
[null,{"$f":"Cen!A171","v":0},null,null,null,null,{"$f":"Cen!E171","v":0},null,{"$f":"Cen!G171","v":0},null,{"$f":"Cen!I171","v":0},0]
[null,{"$f":"Cen!A172","v":"Závěs CLIP-TOP BLUMOTION 110°"},null,null,null,null,{"$f":"Cen!E172","v":"71B3550"},null,{"$f":"Cen!G172","v":"NI"},{"$f":"SUM($M117,$O117,$Q117)","v":0},{"$f":"Cen!I172","v":0},0,{"$f":"IF(AND($U$14=1,$N$45=2),SUM($Y$11)*$M$15,0)","v":0},{"$f":"$K117*M117","v":0},{"$f":"IF(AND($U$23=1,$N$45=2),SUM($Y$20)*$M$24,0)","v":0},{"$f":"$K117*O117","v":0},null,null,"x"]
[null,{"$f":"Cen!A173","v":"Závěs CLIP-TOP BLUMOTION, EXPANDO"},null,null,null,null,{"$f":"Cen!E173","v":"71B358E"},null,{"$f":"Cen!G173","v":"NI"},{"$f":"SUM(M118,O118,Q118)","v":0},{"$f":"Cen!I173","v":0},0,{"$f":"IF(AND($U$14=1,$N$45=1),SUM($Y$11)*$M$15,0)","v":0},{"$f":"$K118*M118","v":0},{"$f":"IF(AND($U$23=1,$N$45=1),SUM($Y$20)*$M$24,0)","v":0},{"$f":"$K118*O118","v":0},null,null,"x"]
[null,{"$f":"Cen!A174","v":0},null,null,null,null,{"$f":"Cen!E174","v":0},null,{"$f":"Cen!G174","v":0},null,{"$f":"Cen!I174","v":0},0]
[null,{"$f":"Cen!A175","v":"Závěs CLIP-TOP 110°"},null,null,null,null,{"$f":"Cen!E175","v":"70T3550.TL"},null,{"$f":"Cen!G175","v":"NI"},{"$f":"SUM(M120,O120,Q120)","v":0},{"$f":"Cen!I175","v":0},0,{"$f":"IF(AND($U$14=2,$N$45=2),SUM($Y$11)*$M$15,0)","v":0},{"$f":"$K120*M120","v":0},{"$f":"IF(AND($U$23=2,$N$45=2),SUM($Y$20)*$M$24,0)","v":0},{"$f":"$K120*O120","v":0},null,null,"x"]
[null,{"$f":"Cen!A176","v":"Závěs CLIP-TOP 110°, EXPANDO"},null,null,null,null,{"$f":"Cen!E176","v":"70T358E.TL"},null,{"$f":"Cen!G176","v":"NI"},{"$f":"SUM(M121,O121,Q121)","v":0},{"$f":"Cen!I176","v":0},0,{"$f":"IF(AND($U$14=2,$N$45=1),SUM($Y$11)*$M$15,0)","v":0},{"$f":"$K121*M121","v":0},{"$f":"IF(AND($U$23=2,$N$45=1),SUM($Y$20)*$M$24,0)","v":0},{"$f":"$K121*O121","v":0},null,null,"x"]
[null,{"$f":"Cen!A177","v":0},null,null,null,null,{"$f":"Cen!E177","v":0},null,{"$f":"Cen!G177","v":0},null,{"$f":"Cen!I177","v":0},0]
[null,{"$f":"Cen!A178","v":"Omezovač úhlu otevření (86°)"},null,null,null,null,{"$f":"Cen!E178","v":"70T3553"},null,{"$f":"Cen!G178","v":"S"},null,{"$f":"Cen!I178","v":0},0]
[null,{"$f":"Cen!A179","v":0},null,null,null,null,{"$f":"Cen!E179","v":0},null,{"$f":"Cen!G179","v":0},null,{"$f":"Cen!I179","v":0},0]
[null,{"$f":"Cen!A180","v":"TIP-ON, zkrácená délka, šedý"},null,null,null,null,{"$f":"Cen!E180","v":"956.1004"},null,{"$f":"Cen!G180","v":"PG"},{"$f":"SUM(M125,O125,Q125)","v":0},{"$f":"Cen!I180","v":0},0,{"$f":"IF(AND($U$14=2,$T$45<3),1*$M$15,0)","v":0},{"$f":"$K125*M125","v":0},{"$f":"IF(AND($U$23=2,$T$45<3),1*$M$24,0)","v":0},{"$f":"$K125*O125","v":0},null,null,"x"]
[null,{"$f":"Cen!A181","v":"TIP-ON, zkrácená délka, hedv.bílý"},null,null,null,null,{"$f":"Cen!E181","v":"956.1004"},null,{"$f":"Cen!G181","v":"SW"},{"$f":"SUM(M126,O126,Q126)","v":0},{"$f":"Cen!I181","v":0},0,{"$f":"IF(AND($U$14=2,$T$45=3),1*$M$15,0)","v":0},{"$f":"$K126*M126","v":0},{"$f":"IF(AND($U$23=2,$T$45=3),1*$M$24,0)","v":0},{"$f":"$K126*O126","v":0},null,null,"x"]
[null,{"$f":"Cen!A182","v":"TIP-ON, zkrácená délka, Terra černý"},null,null,null,null,{"$f":"Cen!E182","v":"956.1004"},null,{"$f":"Cen!G182","v":"TS"},null,{"$f":"Cen!I182","v":0},0]
[null,{"$f":"Cen!A183","v":"TIP-ON, prodloužená délka, šedý"},null,null,null,null,{"$f":"Cen!E183","v":"956A1004"},null,{"$f":"Cen!G183","v":"PG"},null,{"$f":"Cen!I183","v":0},0]
[null,{"$f":"Cen!A184","v":"TIP-ON, prodloužená délka, hedv.bílý"},null,null,null,null,{"$f":"Cen!E184","v":"956A1004"},null,{"$f":"Cen!G184","v":"SW"},null,{"$f":"Cen!I184","v":0},0]
[null,{"$f":"Cen!A185","v":"TIP-ON, prodloužená délka, Terra černý"},null,null,null,null,{"$f":"Cen!E185","v":"956A1004"},null,{"$f":"Cen!G185","v":"TS"}]
[null,{"$f":"Cen!A21","v":"Přímá montážní podložka"},null,null,null,null,{"$f":"Cen!E21","v":"175H3100"},null,{"$f":"Cen!G21","v":"NI"},{"$f":"SUM(M131,O131,Q131)","v":0},{"$f":"Cen!I21","v":0},{"$f":"J131*K131","v":0},{"$f":"IF($O$45=2,SUM($M$117:$M$121),0)","v":0},{"$f":"$K131*M131","v":0},{"$f":"IF($O$45=2,SUM($O$117:$O$121),0)","v":0},{"$f":"$K131*O131","v":0},null,null,"x"]
[null,{"$f":"Cen!A22","v":"Přímá montážní podložka, EXPANDO"},null,null,null,null,{"$f":"Cen!E22","v":"177H3100E"},null,{"$f":"Cen!G22","v":"NI"},{"$f":"SUM(M132,O132,Q132)","v":0},{"$f":"Cen!I22","v":0},{"$f":"J132*K132","v":0},{"$f":"IF($O$45=1,SUM($M$117:$M$121),0)","v":0},{"$f":"$K132*M132","v":0},{"$f":"IF($O$45=1,SUM($O$117:$O$121),0)","v":0},{"$f":"$K132*O132","v":0},null,null,"x"]
[null,{"$f":"Cen!A151","v":"CLIP top krytka raménka Nikl"},null,null,null,null,{"$f":"Cen!E151","v":"70.1503"},null,{"$f":"Cen!G151","v":"NI"},{"$f":"SUM(M133,O133,Q133)","v":0},{"$f":"Cen!I151","v":0},{"$f":"J133*K133","v":0},{"$f":"SUM(M117:M121)","v":0},{"$f":"$K133*M133","v":0},{"$f":"SUM(O117:O121)","v":0},{"$f":"$K133*O133","v":0},null,null,"x"]
[null,{"$f":"Cen!A189","v":"Přímý adaptér, zkrácená délka, Terra černý"}]
[]
[null,null,null,null,null,null,null,null,null,null,{"$f":"List!$C$59&\" \"","v":"Cena celkem bez DPH "},{"$f":"SUM(L102:L134)","v":0},null,{"$f":"SUM(N102:N135)","v":0},null,{"$f":"SUM(P102:P135)","v":0},null,{"$f":"SUM(R102:R135)","v":0}]
[]
[null,null,null,null,null,null,null,null,null,null,null,{"$f":"List!$C$149","v":"Zpět"}]
[]
[]
[]
[]
[]
[]
[]
[]
[]
[]
[]
[]
[]
[]
[]
[]
[]
[]
[]
[]
[]
[]
[]
[]
[]
[]
[]
[]
[]
[]
[]
[]
[]
[]
[]
[]
[]
[]
[]
[]
[]
[]
[]
[]
[]
[]
[]
[]
[]
[]
[]
[]
[]
[]
[]
[]
[]
[]
[]
[]
[]
[null,{"$f":"List!$C$71","v":"Výpočet hmotnosti čel"}]
[null,null,null,{"$f":"List!$C$161&\"  \"","v":"Provedení čel  "},null,null,null,null,null,{"$f":"IF(P208=3,IF(I201=0,O203,\" \"),IF(I201>0,O204,\" \"))","v":" "},null,null,null,null,{"$f":"IF($P$208=1,$P$209,IF($P$208=2,$P$210,$P$211&\" \"&$O$211&\"kg/m3\"))&\" A~\"&$I$209&\"/ B~\"&$I$218&\"mm\"","v":"MDF (760 kg/m3) A~/ B~mm"}]
[null,null,null,null,{"$f":"IF($P$208<>3,$O$202,\" \")&\"      \"","v":" Změnit hodnoty můžete v Úvodu plánování      "},null,null,null,null,null,null,null,null,null,{"$f":"\" \"&List!$C$382","v":" Změnit hodnoty můžete v Úvodu plánování"}]
[null,null,null,null,null,null,null,null,null,null,null,null,null,null,{"$f":"\" \"&List!$C$225&\" [kg/m3]\"","v":" Zadejte objemovou hmotnost  [kg/m3]"}]
[null,null,null,null,null,null,null,null,null,null,null,null,null,null,{"$f":"\" \"&List!$C$221&\" '\"&List!$C$86&\"'\"","v":" Hodnota platí jen pro volbu 'Jiné - volitelná hustota'"}]
[]
[null,null,null,null,null,null,{"$f":"E9","v":"Korpus A"}]
[null,{"$f":"List!$C$72&\" KB [mm]       \"","v":"Šířka korpusu KB [mm]       "},null,null,null,null,null,null,{"$f":"I10","v":900},null,null,null,null,null,{"$f":"I207*I208*I209","v":0},null,null,null,null,3.51,"alu"]
[null,{"$f":"List!$C$73&\" KH [mm]       \"","v":"Výška korpusu KH [mm]       "},null,null,null,null,null,null,{"$f":"I11","v":600},null,null,null,null,null,{"$f":"O207/1000000000","v":0},1,null,null,null,"váha alu",{"$f":"SUM(I207*2,I208*2)*T207/10000","v":1.0529999999999999},3]
[null,{"$f":"List!$C$77&\" TS [mm] \"","v":"Síla čela TS [mm] "},null,null,null,null,null,null,null,{"$f":"IF(SUM(I207,I208)=0,\" \",IF(I209=0,\" ● \"&List!$C$111,\" \"))","v":" ● Povinná hodnota"},null,null,null,null,{"$f":"Menu!$L$30","v":760},{"$f":"List!$C$84&\" (\"&O209&\" kg/m3)\"","v":"MDF (760 kg/m3)"},null,null,null,10,{"$f":"SUM($I$207*$I$208*$T209)/1000000","v":5.4},{"$f":"List!$C$87","v":"Alurámečky s 4mm sklem"}]
[null,{"$f":"List!$C$78&\" [kg] \"","v":"Hmotnost úchytky [kg] "},null,null,null,null,null,null,null,{"$f":"IF($U$14=2,\" \",IF(SUM(I207,I208)=0,\" \",IF(I210=0,\" ● \"&List!$C$112,\" \")))","v":" ● Doporučená hodnota"},null,null,null,null,{"$f":"Menu!$L$31","v":680},{"$f":"List!$C$85&\" (\"&O210&\" kg/m3)\"","v":"Dřevotříska (680 kg/m3)"},null,null,null,15,{"$f":"SUM($I$207*$I$208*$T210)/1000000","v":8.1},{"$f":"List!$C$88","v":"Alurámečky s 5mm sklem"}]
[null,{"$f":"List!$C$76&\" [kg] \"","v":"Vypočtená hmotnost čela [kg] "},null,null,null,null,null,null,{"$f":"IF(N211=0,0,N211+2*I210)","v":0},null,null,null,null,{"$f":"IF(I207*I208*I209=0,0,IF(P208=1,O208*O209,IF(P208=2,O208*O210,O208*O211)))","v":0},{"$f":"$I$201","v":0},{"$f":"List!$C$86","v":"Jiné - volitelná hustota"},null,null,null,{"$f":"2.5*$I$201","v":0},{"$f":"SUM($I$207*$I$208*$T211)/1000000","v":0},{"$f":"List!$C$89","v":"Alurámečky s jiným sklem"}]
[null,null,null,{"$f":"IF((U14=2)*AND(I211>0)*AND(I210>0),$O$229&\" \"&$O$230,IF((U14<>2)*AND(I211>0),IF(I210=0,$O$228,\" \"),\" \"))","v":" "},null,null,null,null,null,null,null,null,null,null,null,null,null,null,null,{"$f":"IF(V208=1,U209,IF(V208=2,U210,U211))","v":0}]
[]
[]
[null,null,null,null,null,null,{"$f":"E18","v":"Korpus B"}]
[null,{"$f":"List!$C$72&\" KB [mm]       \"","v":"Šířka korpusu KB [mm]       "},null,null,null,null,null,null,{"$f":"I19","v":0},null,null,null,null,null,{"$f":"I216*I217*I218","v":0},null,null,null,null,{"$f":"T207","v":3.51},"alu"]
[null,{"$f":"List!$C$73&\" KH [mm]       \"","v":"Výška korpusu KH [mm]       "},null,null,null,null,null,null,{"$f":"I20","v":0},null,null,null,null,null,{"$f":"O216/1000000000","v":0},{"$f":"P208","v":1},null,null,null,"váha alu",{"$f":"SUM(I216*2,I217*2)*T216/10000","v":0},{"$f":"V208","v":3}]
[null,{"$f":"List!$C$77&\" TS [mm] \"","v":"Síla čela TS [mm] "},null,null,null,null,null,null,null,{"$f":"IF(SUM(I216,I217)=0,\" \",IF(I218=0,\" ● \"&List!$C$111,\" \"))","v":" "},null,null,null,null,{"$f":"$O$209","v":760},{"$f":"$P$209","v":"MDF (760 kg/m3)"},null,null,null,{"$f":"T209","v":10},{"$f":"SUM($I$216*$I$217*$T218)/1000000","v":0},{"$f":"List!$C$87","v":"Alurámečky s 4mm sklem"}]
[null,{"$f":"List!$C$78&\" [kg] \"","v":"Hmotnost úchytky [kg] "},null,null,null,null,null,null,null,{"$f":"IF($U$23=2,\" \",IF(SUM(I216,I217)=0,\" \",IF(I219=0,\" ● \"&List!$C$112,\" \")))","v":" "},null,null,null,null,{"$f":"$O$210","v":680},{"$f":"$P$210","v":"Dřevotříska (680 kg/m3)"},null,null,null,{"$f":"T210","v":15},{"$f":"SUM($I$216*$I$217*$T219)/1000000","v":0},{"$f":"List!$C$88","v":"Alurámečky s 5mm sklem"}]
[null,{"$f":"List!$C$76&\" [kg] \"","v":"Vypočtená hmotnost čela [kg] "},null,null,null,null,null,null,{"$f":"IF(N220=0,0,N220+2*I219)","v":0},null,null,null,null,{"$f":"IF(I216*I217*I218=0,0,IF(P217=1,O217*O218,IF(P217=2,O217*O219,O217*O220)))","v":0},{"$f":"$O$211","v":0},{"$f":"$P$211","v":"Jiné - volitelná hustota"},null,null,null,{"$f":"T211","v":0},{"$f":"SUM($I$216*$I$217*$T220)/1000000","v":0},{"$f":"List!$C$89","v":"Alurámečky s jiným sklem"}]
[null,null,null,{"$f":"IF((U23=2)*AND(I220>0)*AND(I219>0),$O$229&\" \"&$O$230,IF((U23<>2)*AND(I220>0),IF(I219=0,$O$228,\" \"),\" \"))","v":" "},null,null,null,null,null,null,null,null,null,null,null,null,null,null,null,{"$f":"IF(V217=1,U218,IF(V217=2,U219,U220))","v":0}]
[]
[]
[]
[null,null,null,null,null,null,null,{"$f":"List!$C$149","v":"Zpět"}]
[]
[]
[null,null,null,{"$f":"List!$C$217&\" \"&List!$C$218","v":"Upozornění: Vypočtené hodnoty jsou pouze orientační.  Firma Blum ani prodejci neručí za jejich správnost."},null,null,null,null,null,null,null,null,null,null,{"$f":"List!$C$95&\"!\"","v":"Není započtena hmotnost úchytky!"}]
[null,null,null,null,null,null,null,null,null,null,null,null,null,null,{"$f":"List!C96","v":"Opravdu máte úchytku na TIP-ON?"}]
[null,null,null,null,null,null,null,null,null,null,null,null,null,null,{"$f":"List!C97&\"!\"","v":"Jestli ne, smažte hmotnost úchytky.!"}]
[]
[]
[]
[]
[]
[]
[]
[]
[]
[]
[]
[]
[]
[]
[]
[]
[]
[]
[]
[]
[]
[]
[]
[]
[]
[]
[]
[]
[]
[]
[]
[]
[]
[]
[]
[]
[]
[]
[]
[]
[]
[]
[]
[]
[]
[]
[]
[]
[]
[]
[]
[]
[]
[]
[]
[]
[]
[]
[]
[]
[]
[]
[]
[]
[]
[]
[]
[]
[]
[]
[]
[]
[]
[]
[]
[]
[]
[]
[]
[]
[]
[]
[]
[]
[]
[]
[]
[]
[]
[]
[]
[]
[]
[]
[]
[]
[]
[]
[]
[]
[]
[]
[]
[]
[]
[]
[]
[]
[]
[]
[]
[]
[]
[]
[]
[]
[]
[]
[]
[]
[]
[]
[]
[]
[]
[]
[]
[]
[]
[]
[]
[]
[]
[]
[]
[]
[]
[]
[]
[]
[]
[]
[]
[]
[]
[]
[]
[]
[]
[]
[]
[]
[]
[]
[]
[]
[]
[]
[]
[]
[]
[]
[]
[]
[]
[]
[]
[]
[]
[]
[null,"      AVENTOS HK-S"]
[]
[null,{"$f":"List!$C$281","v":"Potřebný zdvihač se určí pomocí ukazatele výkonnosti."}]
[null,{"$f":"List!$C$318","v":"Ukazatel výkonnosti závisí na hmotnosti čela (včetně dvojnásobné hmotnosti úchytky) a na výšce korpusu."}]
[]
[null,{"$f":"\" \"&List!$C$295","v":" Tak se to dělá:"}]
[null,null,null,null,{"$f":"List!$C$80&\" = \"","v":"Ukazatel výkonnosti = "},{"$f":"List!$C$319&\" [kg]\"","v":"výška korpusu (KH) [mm] x hmotnost čela včetně dvojnásobné hmotnosti úchytky [kg]"}]
[]
[null,{"$f":"List!$C$322","v":"V případě využití třetího zdvihače můžete zvýšit ukazatel výkonnosti a tudíž hmotnost čílka o 50%."}]
[null,{"$f":"\"(\"&List!$C$323&\")\"","v":"(Platí jen pro zdvihač 20K2E00)"}]
[null,{"$f":"List!$C$164","v":"Přídavný třetí zdvihač může být použit pouze s plným čelem!"}]
[]
[null,{"$f":"List!$C$289","v":"Pokud znáte hmotnost čela, můžete ji zadat, jinak použijte \"Výpočet hmotnosti\"."}]
[null,{"$f":"List!$C$290","v":"V tabulce má přednost zadaná hodnota. Chcete-li použít vypočtenou hmotnost, smažte zadanou hodnotu."}]
[]
[]
[null,{"$f":"List!$C$284","v":"Chcete-li změnit barvu krytek, přejděte na \"Úvod\""}]
[]
[]
[]
[]
[]
[]
[]
[]
[null,null,null,null,null,null,null,null,null,null,null,null,{"$f":"List!$C$149","v":"Zpět"}]

{"sheet":"HKXSwa","index":28,"n_rows":437,"n_cols":52,"rows_kept":437,"cut":false,"hidden":false,"merged":[[1,1,1,2],[206,1,206,7],[4,6,5,10],[11,49,11,50],[17,49,17,50],[13,49,14,50],[201,4,201,8],[16,49,16,50],[8,17,8,18],[17,21,17,22],[18,1,18,7],[18,21,18,22],[1,9,1,10],[3,5,3,10],[1,3,1,4],[1,5,1,6],[0,49,0,57],[19,49,20,53],[21,49,22,53],[7,49,8,50],[7,51,8,51],[9,49,9,50],[10,49,10,50],[15,49,15,50],[331,1,331,8],[324,1,324,6],[328,9,328,10],[327,1,327,8],[327,9,327,10],[317,13,317,14],[227,3,229,11],[329,1,329,8],[319,9,319,10],[320,1,320,8],[320,9,320,10],[323,7,323,10],[323,1,323,6],[325,1,325,6],[328,1,328,8],[329,9,329,10],[210,1,210,7],[312,0,366,0],[315,1,315,10],[316,1,316,8],[316,9,316,10],[317,1,317,8],[317,9,317,10],[322,1,322,10],[318,1,318,8],[318,9,318,10],[319,1,319,8],[338,9,338,10],[217,1,217,7],[331,9,331,10],[330,1,330,8],[330,9,330,10],[219,1,219,7],[214,6,214,8],[1,7,1,8],[417,5,417,12],[10,1,10,7],[215,1,215,7],[216,1,216,7],[17,4,17,8],[21,1,21,7],[218,1,218,7],[23,1,23,7],[20,1,20,7],[224,7,224,8],[22,4,22,7],[14,1,14,7],[13,4,13,7],[410,0,451,0],[6,7,6,8],[8,4,8,8],[97,0,161,0],[6,1,6,3],[22,1,22,3],[198,0,260,0],[205,6,205,8],[12,1,12,7],[13,1,13,3],[11,1,11,7],[9,1,9,7],[207,1,207,7],[19,1,19,7],[208,1,208,7],[209,1,209,7],[207,20,207,21],[216,20,216,21],[37,12,38,12],[40,12,41,12],[8,21,8,22],[9,21,9,22],[26,19,26,20],[17,17,17,18]]}
[]
[null,"AVENTOS HF",null,"AVENTOS HS",null,"AVENTOS HL",null,"AVENTOS HK top",null,"AVENTOS HK-S",null,"AVENTOS HK-XS",null,null,"rámeček",null,null,null,3,null,null,null,null,null,null,null,null,null,null,null,null,null,{"$f":"List!$C$135","v":"Jdi na"}]
[]
[null,{"$f":"List!$C$18&\" ***\"","v":"Široký alurámeček ***"},null,null,null,{"$f":"N201&\"       \"","v":"Alurámečky s 4mm sklem       "},null,null,null,null,null,null,null,null,1,null,null,null,{"$f":"\" \"&List!$C$39&\" A \"","v":" Cena za korpus A "},null,null,null,null,null,null,null,null,null,null,null,null,null,{"$f":"List!$C$136","v":"Úvod plánování"}]
[null,null,null,null,null,null,{"$f":"List!$C$47&\" \"&List!$C$22&\"       \"","v":"Nastavit hmotnost alurámečků       "},null,null,null,null,null,null,null,"A = 1",null,null,null,{"$f":"\" \"&List!$C$39&\" B \"","v":" Cena za korpus B "},null,null,null,null,null,null,null,null,null,null,null,null,null,{"$f":"List!$C$137","v":"Nápověda"}]
[null,null,null,null,null,null,null,null,null,null,null,null,null,null,"B = 2",null,null,null,{"$f":"\" \"&List!$C$59","v":" Cena celkem bez DPH"}]
[null,{"$f":"List!$C$142","v":"Soupis kování"},null,null,null,null,null,{"$f":"IF($S$2=1,$N$136,IF($S$2=2,$P$136,IF($S$2=3,$L$136,0)))","v":0},null,null,null,null,null,null,null,null,null,null,null,null,null,null,null,null,null,null,null,null,null,null,null,null,{"$f":"List!$C$141","v":"Doplňky"}]
[null,null,null,null,null,null,null,null,null,null,null,null,null,null,null,null,null,null,null,null,null,null,null,null,null,null,null,null,null,null,null,null,null,null,null,null,null,null,null,null,null,null,null,null,null,null,null,null,null,{"$f":"\"  \"&List!$C$80&\" LF \"","v":"  Ukazatel výkonnosti LF "},null,{"$f":"List!$C$79","v":"Zdvihací mechanizmus"}]
[null,null,null,null,{"$f":"List!$C$62&\" A\"","v":"Korpus A"},null,null,null,null,null,null,null,null,null,null,null,null,"jeden zdvihač",null,null,null,"dva zdvihače",null,null,"Závěsy",null,null,null,null,null,null,null,{"$f":"List!$C$139","v":"Přehled korpusů"}]
[null,{"$f":"List!$C$72&\" KB [mm] \"","v":"Šířka korpusu KB [mm] "},null,null,null,null,null,null,null,{"$f":"IF($I10=0,\" \",IF($I10<220,\" min. 220mm\",IF($I10>1800,\" max. 1 800mm\",\" \")))&IF(I15>0,IF(I10=0,\"● \"&List!$C$111,\" \"),\" \")","v":"  "},null,null,null,"zdvih A","jeden","dva",null,"min","max","š.max","š. min",false,null,null,null,null,null,null,null,null,null,null,{"$f":"List!$C$140","v":"Objednávka"},null,null,null,null,null,null,null,null,null,null,null,null,null,null,null,null,"  200 - 1000",null,"20K1101"]
[null,{"$f":"List!$C$73&\" KH [mm]  \"","v":"Výška korpusu KH [mm]  "},null,null,null,null,null,null,null,{"$f":"IF($I11=0,\" \",IF($I11<236,\" min. 236mm\",IF($I11>600,\" max. 600 mm\",\" \")))&IF(I15>0,IF(I11=0,\"● \"&List!$C$111,\" \"),\" \")","v":"  "},null,null,null,"K1101",{"$f":"IF($V$10=FALSE,IF($I$14>R11,IF($I$14<S11,1,0),0),0)","v":0},{"$f":"IF($V$10=TRUE,IF($I$14>V11,IF($I$14<W11,2,0),0),0)","v":0},null,{"$f":"IF(U14=1,199.99,179.99)","v":199.99},{"$f":"IF(U14=1,750,650)","v":750},null,null,{"$f":"IF(U14=1,399.99,359.99)","v":399.99},{"$f":"IF(U14=1,1500,1300)","v":1500},null,{"$f":"IF(OR(I10>1199,I14>2699),4,IF(OR(I10>899,I14>1799),3,2))","v":2},null,null,null,null,null,null,null,null,null,null,null,null,null,null,null,null,null,null,null,null,null,null,null,null,"  500 - 1500",null,"20K1301"]
[null,{"$f":"List!$C$75&\" [kg] ** \"","v":"Hmotnost čela vč. 2x hmotnost úchytky [kg] ** "},null,null,null,null,null,null,null,{"$f":"IF($I15=0,\" \",IF(SUM($I12,$I13)=0,$N$34,\" \"))&IF($I15>0,IF($I12>0,$N$35,\" \"),\" \")","v":"  "},null,null,null,"K1201",{"$f":"IF($V$10=FALSE,IF($I$14>R12,IF($I$14<S12,1,0),0),0)","v":0},{"$f":"IF($V$10=TRUE,IF($I$14>V12,IF($I$14<W12,2,0),0),0)","v":0},null,{"$f":"IF(U14=1,749.99,649)","v":749.99},{"$f":"IF(U14=1,1150,1000)","v":1150},null,null,{"$f":"IF(U14=1,1499.99,1299.99)","v":1499.99},{"$f":"IF(U14=1,2300,2000)","v":2300},null,null,null,null,null,null,null,null,null,null,null,null,null,null,null,null,null,null,null,null,null,null,null,null,null,null,"  800 - 1800",null,"20K1501"]
[null,{"$f":"List!$C$76&\" [kg]       \"","v":"Vypočtená hmotnost čela [kg]       "},null,null,null,null,null,null,{"$f":"$I$211","v":0},{"$f":"IF($I15>0,IF($I13>0,IF($I12=0,$N$35,\" \"),\" \"),\" \")","v":" "},null,null,null,"K1301",{"$f":"IF($V$10=FALSE,IF($I$14>R13,IF($I$14<S13,1,0),0),0)","v":0},{"$f":"IF($V$10=TRUE,IF($I$14>V13,IF($I$14<W13,2,0),0),0)","v":0},null,{"$f":"IF(U14=1,1149.99,999.99)","v":1149.99},{"$f":"IF(U14=1,1801,1601)","v":1801},null,{"$f":"IF(U14=1,$V$47,IF(U14=2,$V$48,$V$49))","v":"Standard"},{"$f":"IF(U14=1,2299.99,1999.99)","v":2299.9899999999998},{"$f":"IF(U14=1,3601,3201)","v":3601},null,null,null,null,null,null,null,null,null,{"$f":"\" \"&List!$C$177&\" A\"","v":" Výpočet hmotnosti A"}]
[null,{"$f":"List!$C$82&\" *      \"","v":"Druhý zdvihač *      "},null,null,{"$f":"List!$C$80&\" LF \"","v":"Ukazatel výkonnosti LF "},null,null,null,{"$f":"IF(I12>0,I11*I12,I11*I13)","v":0},{"$f":"IF(U14=1,IF($I14>3600,$N$38,IF($I14>1800.5,IF(V10=FALSE,$N$39,\" \"),\" \")),IF($I14>3200,$N$38,IF($I14>1600.5,IF(V10=FALSE,$N$39,\" \"),\" \")))","v":" "},null,null,null,null,null,null,null,null,null,null,1,null,null,null,null,null,null,null,null,null,null,null,null,null,null,null,null,null,null,null,null,null,null,null,null,null,null,null,null,{"$f":"\"  \"&List!$C$80&\" LF \"","v":"  Ukazatel výkonnosti LF "},null,"TIP-ON"]
[null,{"$f":"List!$C$69&\" \"","v":"Počet skříněk "},null,null,null,null,null,null,null,null,null,null,{"$f":"IF(OR($I10*$I11*$T15=0,$I11<236,$I11>600,SUM(O11:P13)=0),0,IF($I14>1800,IF($V10=FALSE,0,$I15),$I15))","v":0},null,null,null,null,null,"hmot =",{"$f":"IF(I12>0,I12,I13)","v":0},{"$f":"IF(SUM(I12,I13)=0,0,IF(I12>0,1,2))","v":0},"zadaná / vypočtená",null,null,null,null,null,null,null,null,null,null,null,null,null,null,null,null,null,null,null,null,null,null,null,null,null,null,null,null,null,{"$f":"List!$C$79","v":"Zdvihací mechanizmus"}]
[null,{"$f":"IF(I15>0,IF(U15=0,\" \",IF(U15=1,$N$50,$N$51)),\" \")&IF(I15>0,IF(U15=0,\" \",IF(U15=1,$N$52,$N$53)),\" \")","v":"  "},null,null,null,null,null,null,null,null,null,null,null,null,null,null,null,null,null,null,null,null,null,null,null,null,null,null,null,null,null,null,null,null,null,null,null,null,null,null,null,null,null,null,null,null,null,null,null,"  200 - 1000",null,"20K1101T"]
[null,null,null,null,null,null,null,null,null,null,null,null,null,null,null,null,null,null,null,null,null,null,null,null,null,null,null,null,null,null,null,null,{"$f":"\" \"&List!$C$361","v":" Ověření síly zdvihače"},null,null,null,null,null,null,null,null,null,null,null,null,null,null,null,null,"  500 - 1500",null,"20K1301T"]
[null,null,null,null,{"$f":"List!$C$62&\" B\"","v":"Korpus B"},null,null,null,null,null,null,null,null,null,null,null,null,"jeden zdvihač",null,null,null,"dva zdvihače",null,null,"Závěsy",null,null,null,null,null,null,null,null,null,null,null,null,null,null,null,null,null,null,null,null,null,null,null,null,"  800 - 1600",null,"20K1501T"]
[null,{"$f":"List!$C$72&\" KB [mm] \"","v":"Šířka korpusu KB [mm] "},null,null,null,null,null,null,null,{"$f":"IF($I19=0,\" \",IF($I19<220,\" min. 220mm\",IF($I19>1800,\" max. 1 800mm\",\" \")))&IF(I24>0,IF(I19=0,\"● \"&List!$C$111,\" \"),\" \")","v":"  "},null,null,null,"zdvih B","jeden","dva",null,"min","max","š.max","š. min",false]
[null,{"$f":"List!$C$73&\" KH [mm] \"","v":"Výška korpusu KH [mm] "},null,null,null,null,null,null,null,{"$f":"IF($I20=0,\" \",IF($I20<236,\" min. 236mm\",IF($I20>600,\" max. 600 mm\",\" \")))&IF(I24>0,IF(I20=0,\"● \"&List!$C$111,\" \"),\" \")","v":"  "},null,null,null,"K1101",{"$f":"IF($V$19=FALSE,IF($I$23>R20,IF($I$23<S20,1,0),0),0)","v":0},{"$f":"IF($V$19=TRUE,IF($I$23>V20,IF($I$23<W20,2,0),0),0)","v":0},null,{"$f":"IF(U23=1,199.99,179.99)","v":199.99},{"$f":"IF(U23=1,750,650)","v":750},null,null,{"$f":"IF(U23=1, 399.99, 359.99)","v":399.99},{"$f":"IF(U23=1,1500,1300)","v":1500},null,{"$f":"IF(OR(I19>1199,I23>2699),4,IF(OR(I19>899,I23>1799),3,2))","v":2},null,null,null,null,null,null,null,null,null,null,null,null,null,null,null,null,null,null,null,null,null,null,null,null,{"$f":"List!$C$80&\" LF = \"&List!$C$73&\" KH [mm] x \"&List!$C$75&\" [kg]\"","v":"Ukazatel výkonnosti LF = Výška korpusu KH [mm] x Hmotnost čela vč. 2x hmotnost úchytky [kg]"}]
[null,{"$f":"List!$C$75&\" [kg] ** \"","v":"Hmotnost čela vč. 2x hmotnost úchytky [kg] ** "},null,null,null,null,null,null,null,{"$f":"IF($I24=0,\" \",IF(SUM($I21,$I22)=0,$N$34,\" \"))&IF($I24>0,IF($I21>0,$N$35,\" \"),\" \")","v":"  "},null,null,null,"K1201",{"$f":"IF($V$19=FALSE,IF($I$23>R21,IF($I$23<S21,1,0),0),0)","v":0},{"$f":"IF($V$19=TRUE,IF($I$23>V21,IF($I$23<W21,2,0),0),0)","v":0},null,{"$f":"IF(U23=1,749.99, 649.99)","v":749.99},{"$f":"IF(U23=1,1150,1000)","v":1150},null,null,{"$f":"IF(U23=1,1499.99,1299.99)","v":1499.99},{"$f":"IF(U23=1,2300,2000)","v":2300}]
[null,{"$f":"List!$C$76&\" [kg]       \"","v":"Vypočtená hmotnost čela [kg]       "},null,null,null,null,null,null,{"$f":"$I$220","v":0},{"$f":"IF($I24>0,IF($I22>0,IF($I21=0,$N$35,\" \"),\" \"),\" \")","v":" "},null,null,null,"K1301",{"$f":"IF($V$19=FALSE,IF($I$23>R22,IF($I$23<S22,1,0),0),0)","v":0},{"$f":"IF($V$19=TRUE,IF($I$23>V22,IF($I$23<W22,2,0),0),0)","v":0},null,{"$f":"IF(U23=1,1149.99, 999.99)","v":1149.99},{"$f":"IF(U23=1,1801,1601)","v":1801},null,{"$f":"IF(U23=1,$V$47,IF(U23=2,$V$48,$V$49))","v":"Standard"},{"$f":"IF(U23=1,2299.99, 1999.99)","v":2299.9899999999998},{"$f":"IF(U23=1,3601,3201)","v":3601},null,null,null,null,null,null,null,null,null,{"$f":"\" \"&List!$C$177&\" B\"","v":" Výpočet hmotnosti B"},null,null,null,null,null,null,null,null,null,null,null,null,null,null,null,null,{"$f":"List!$C$321","v":"V případě použití po obou stranách se faktor výkonnosti zdvojnásobí."}]
[null,{"$f":"List!$C$82&\" *      \"","v":"Druhý zdvihač *      "},null,null,{"$f":"List!$C$80&\" LF \"","v":"Ukazatel výkonnosti LF "},null,null,null,{"$f":"IF(I21>0,I20*I21,I20*I22)","v":0},{"$f":"IF(U23=1,IF($I23>3600,$N$38,IF($I23>1800.5,IF(V19=FALSE,$N$39,\" \"),\" \")),IF($I23>3200,$N$38,IF($I23>1600.5,IF(V19=FALSE,$N$39,\" \"),\" \")))","v":" "},null,null,null,null,null,null,null,null,null,null,1]
[null,{"$f":"List!$C$69&\" \"","v":"Počet skříněk "},null,null,null,null,null,null,null,null,null,null,{"$f":"IF(OR($I19*$I20*$T24=0,$I20<236,$I20>600,SUM(O20:P22)=0),0,IF($I23>1800,IF($V19=FALSE,0,$I24),$I24))","v":0},null,null,null,null,null,"hmot =",{"$f":"IF(I21>0,I21,I22)","v":0},{"$f":"IF(SUM(I21,I22)=0,0,IF(I21>0,1,2))","v":0},"zadaná / vypočtená"]
[null,{"$f":"IF(I24>0,IF(U24=0,\" \",IF(U24=1,$N$50,$N$51)),\" \")&IF(I24>0,IF(U24=0,\" \",IF(U24=1,$N$52,$N$53)),\" \")","v":"  "}]
[]
[null,null,null,null,null,null,null,null,null,null,null,null,null,null,null,null,null,null,{"$f":"IF($T$27=FALSE,2,1)","v":2},false,null," - Zdroj",null,null,null,null,null,null,null,null,null,null,null,null,null,null,null,null,null,null,null,null,null,null,null,null,null,null,null,{"$f":"List!$C$149","v":"Zpět"}]
[]
[]
[null,null,{"$f":"\"* \"&List!$C$321","v":"* V případě použití po obou stranách se faktor výkonnosti zdvojnásobí."}]
[null,null,{"$f":"\"** \"&List!$C$168","v":"** Pokud znáte hmotnost a nechcete využít výpočtu hmotnosti"}]
[null,null,{"$f":"\"*** \"&List!$C$371","v":"*** Vyberte typ alurámečku!"}]
[null,null,{"$f":"\"      \"&List!$C$372","v":"      Více informací k výběru alurámečků v Nápovědě"}]
[null,null,null,null,null,null,null,null,null,null,null,null,null,{"$f":"\" \"&List!$C$103","v":" Doplňte nebo použijte \"Výpočet hmotnosti\" "}]
[null,null,null,null,null,null,null,null,null,null,null,null,null,{"$f":"\"◄ \"&List!$C$100","v":"◄ hodnota bude použita pro výpočet LF"}]
[null,null,null,null,null,null,null,null,null,null,null,null,null,{"$f":"\" * \"&List!$C$110","v":" * Doplňte hodnoty"}]
[]
[null,null,null,null,null,null,null,null,null,null,null,null,"korpus   A",{"$f":"IF(U14=1,\" max. 3.600! \"&List!$C$105,\" max. 3.200! \"&List!$C$105)","v":" max. 3.600! Upravte hmotnost nebo výšku"}]
[null,{"$f":"IF($I$11>600,\"***\",IF($I$20>600,\"***\",\" \"))","v":" "},null,null,null,null,null,null,null,null,null,null,null,{"$f":"IF(U14=1,\" max. 1.800! \"&List!$C$114,\" max. 1.600! \"&List!$C$114)","v":" max. 1.800! Přidejte druhý zdvihač"}]
[]
[null,null,null,null,null,null,null,null,null,null,null,null,"korpus   B",{"$f":"IF(U23=1,\" max. 3.600! \"&List!$C$105,\" max. 3.200! \"&List!$C$105)","v":" max. 3.600! Upravte hmotnost nebo výšku"}]
[null,null,null,null,null,null,null,null,null,null,null,null,null,{"$f":"IF(U23=1,\" max. 1.800! \"&List!$C$114,\" max. 1.600! \"&List!$C$114)","v":" max. 1.800! Přidejte druhý zdvihač"}]
[]
[]
[null,null,null,null,null,null,null,null,null,null,null,null,null,2,{"$f":"HKXS!N26","v":2},{"$f":"HKXS!$L$26","v":2},2,null,null,{"$f":"Menu!$Q$27","v":3}]
[null,null,null,null,null,null,null,null,null,null,null,null,null,"záv.","podl","čep","čelní kov.",null,null,"barva",null,"provedení"]
[null,null,null,null,null,null,null,null,null,null,null,null,null,null,"1 =",{"$f":"List!$C$125","v":"Expando"},null,null,null,{"$f":"List!$C$128","v":"Světle šedá (HG/T)"},null,"Standard"]
[null,null,null,null,null,null,null,null,null,null,null,null,null,null,"2 =",{"$f":"List!$C$126","v":"na vruty"},null,null,null,{"$f":"List!$C$130","v":"Hedvábně bílá (SW/T)"},null,"TIP-ON"]
[]
[null,null,null,null,null,null,null,null,null,null,null,null,null,{"$f":"List!C169&\". \"","v":"Pro určení typu zdvihače bude použita zadaná hmotnost. "}]
[null,null,null,null,null,null,null,null,null,null,null,null,null,{"$f":"List!C170&\". \"","v":"Pro určení typu zdvihače bude použita vypočtená hmotnost. "}]
[null,null,null,null,null,null,null,null,null,null,null,null,null,{"$f":"List!C171","v":"Chcete-li použít vypočtenou hmotnost, smažte zadanou hodnotu"}]
[null,null,null,null,null,null,null,null,null,null,null,null,null,{"$f":"List!C172","v":"Chcete-li použít zadanou hmotnost, zadejte ji do políčka"}]
[]
[]
[]
[]
[]
[]
[]
[]
[]
[]
[]
[]
[]
[]
[]
[]
[]
[]
[]
[]
[]
[]
[]
[]
[]
[]
[]
[]
[]
[]
[]
[]
[]
[]
[]
[]
[]
[]
[]
[]
[]
[]
[]
[]
[null,{"$f":"List!C142","v":"Soupis kování"}]
[]
[null,{"$f":"$L$2","v":"AVENTOS HK-XS"},null,{"$f":"B4","v":"Široký alurámeček ***"}]
[null,{"$f":"List!C50","v":"Název"},null,null,null,null,{"$f":"List!$C$51","v":"Číslo artiklu"},null,{"$f":"List!C52","v":"Barva"},{"$f":"List!C54","v":"Ks"},{"$f":"List!C56","v":"Jednotková cena"},{"$f":"List!C57","v":"Celkem"},"A","Cena","B","Cena","C","Cena","Filtr"]
[null,{"$f":"Cen!A157","v":"Symetrický zdvihací mechanizmus"},null,null,null,null,{"$f":"Cen!E157","v":"20K1101"},null,{"$f":"Cen!G157","v":"NI"},{"$f":"SUM($M102,$O102,$Q102)","v":0},{"$f":"Cen!I157","v":0},{"$f":"J102*K102","v":0},{"$f":"IF($U$14=1,SUM($O$11:$P$11)*$M$15,0)","v":0},{"$f":"$K102*M102","v":0},{"$f":"IF($U$23=1,SUM($O$20:$P$20)*$M$24,0)","v":0},{"$f":"$K102*O102","v":0},null,null,"x"]
[null,{"$f":"Cen!A158","v":"Symetrický zdvihací mechanizmus"},null,null,null,null,{"$f":"Cen!E158","v":"20K1301"},null,{"$f":"Cen!G158","v":"NI"},{"$f":"SUM($M103,$O103,$Q103)","v":0},{"$f":"Cen!I158","v":0},0,{"$f":"IF($U$14=1,SUM($O$12:$P$12)*$M$15,0)","v":0},{"$f":"$K103*M103","v":0},{"$f":"IF($U$23=1,SUM($O$21:$P$21)*$M$24,0)","v":0},{"$f":"$K103*O103","v":0},null,null,"x"]
[null,{"$f":"Cen!A159","v":"Symetrický zdvihací mechanizmus"},null,null,null,null,{"$f":"Cen!E159","v":"20K1501"},null,{"$f":"Cen!G159","v":"NI"},{"$f":"SUM($M104,$O104,$Q104)","v":0},{"$f":"Cen!I159","v":0},0,{"$f":"IF($U$14=1,SUM($O$13:$P$13)*$M$15,0)","v":0},{"$f":"$K104*M104","v":0},{"$f":"IF($U$23=1,SUM($O$22:$P$22)*$M$24,0)","v":0},{"$f":"$K104*O104","v":0},null,null,"x"]
[null,{"$f":"Cen!A160","v":0},null,null,null,null,{"$f":"Cen!E160","v":0},null,{"$f":"Cen!G160","v":0},null,{"$f":"Cen!I160","v":0},0]
[null,{"$f":"Cen!A161","v":"Sym. zdvihací mechanizmus, TIP-ON"},null,null,null,null,{"$f":"Cen!E161","v":"20K1101T"},null,{"$f":"Cen!G161","v":"NI"},{"$f":"SUM($M106,$O106,$Q106)","v":0},{"$f":"Cen!I161","v":0},0,{"$f":"IF($U$14=2,SUM($O$11:$P$11)*$M$15,0)","v":0},{"$f":"$K106*M106","v":0},{"$f":"IF($U$23=2,SUM($O$20:$P$20)*$M$24,0)","v":0},{"$f":"$K106*O106","v":0},null,null,"x"]
[null,{"$f":"Cen!A162","v":"Sym. zdvihací mechanizmus, TIP-ON"},null,null,null,null,{"$f":"Cen!E162","v":"20K1301T"},null,{"$f":"Cen!G162","v":"NI"},{"$f":"SUM($M107,$O107,$Q107)","v":0},{"$f":"Cen!I162","v":0},0,{"$f":"IF($U$14=2,SUM($O$12:$P$12)*$M$15,0)","v":0},{"$f":"$K107*M107","v":0},{"$f":"IF($U$23=2,SUM($O$21:$P$21)*$M$24,0)","v":0},{"$f":"$K107*O107","v":0},null,null,"x"]
[null,{"$f":"Cen!A163","v":"Sym. zdvihací mechanizmus, TIP-ON"},null,null,null,null,{"$f":"Cen!E163","v":"20K1501T"},null,{"$f":"Cen!G163","v":"NI"},{"$f":"SUM($M108,$O108,$Q108)","v":0},{"$f":"Cen!I163","v":0},0,{"$f":"IF($U$14=2,SUM($O$13:$P$13)*$M$15,0)","v":0},{"$f":"$K108*M108","v":0},{"$f":"IF($U$23=2,SUM($O$22:$P$22)*$M$24,0)","v":0},{"$f":"$K108*O108","v":0},null,null,"x"]
[null,{"$f":"Cen!A164","v":0},null,null,null,null,{"$f":"Cen!E164","v":0},null,{"$f":"Cen!G164","v":0},null,{"$f":"Cen!I164","v":0},0]
[null,{"$f":"Cen!A165","v":"Boční čep na korpus"},null,null,null,null,{"$f":"Cen!E165","v":"20K5101"},null,{"$f":"Cen!G165","v":"NI"},{"$f":"SUM($M110,$O110,$Q110)","v":0},{"$f":"Cen!I165","v":0},0,{"$f":"IF($P$45=2,SUM($M$102:$M$108),0)","v":0},{"$f":"$K110*M110","v":0},{"$f":"IF($P$45=2,SUM($O$102:$O$108),0)","v":0},{"$f":"$K110*O110","v":0},null,null,"x"]
[null,{"$f":"Cen!A166","v":"Boční čep na korpus, EXPANDO"},null,null,null,null,{"$f":"Cen!E166","v":"20K51E1"},null,{"$f":"Cen!G166","v":"NI"},{"$f":"SUM($M111,$O111,$Q111)","v":0},{"$f":"Cen!I166","v":0},0,{"$f":"IF($P$45=1,SUM($M$102:$M$108),0)","v":0},{"$f":"$K111*M111","v":0},{"$f":"IF($P$45=1,SUM($O$102:$O$108),0)","v":0},{"$f":"$K111*O111","v":0},null,null,"x"]
[null,{"$f":"Cen!A167","v":0},null,null,null,null,{"$f":"Cen!E167","v":0},null,{"$f":"Cen!G167","v":0},null,{"$f":"Cen!I167","v":0},0]
[null,{"$f":"Cen!A168","v":"Čelní kování"},null,null,null,null,{"$f":"Cen!E168","v":"20K4101"},null,{"$f":"Cen!G168","v":"NI"},{"$f":"SUM($M113,$O113,$Q113)","v":0},{"$f":"Cen!I168","v":0},0,{"$f":"IF($Q$45=2,SUM($M$102:$M$108),0)","v":0},{"$f":"$K113*M113","v":0},{"$f":"IF($Q$45=2,SUM($O$102:$O$108),0)","v":0},{"$f":"$K113*O113","v":0},null,null,"x"]
[null,{"$f":"Cen!A169","v":"Čelní kování, EXPANDO"},null,null,null,null,{"$f":"Cen!E169","v":"20K41E1"},null,{"$f":"Cen!G169","v":"NI"},null,{"$f":"Cen!I169","v":0},0]
[null,{"$f":"Cen!A170","v":"Čelní kování pro úzké alurámečky"},null,null,null,null,{"$f":"Cen!E170","v":"20K4101A"},null,{"$f":"Cen!G170","v":"NI"},null,{"$f":"Cen!I170","v":0},0]
[null,{"$f":"Cen!A171","v":0},null,null,null,null,{"$f":"Cen!E171","v":0},null,{"$f":"Cen!G171","v":0},null,{"$f":"Cen!I171","v":0},0]
[null,{"$f":"Cen!A172","v":"Závěs CLIP-TOP BLUMOTION 110°"},null,null,null,null,{"$f":"Cen!E172","v":"71B3550"},null,{"$f":"Cen!G172","v":"NI"},{"$f":"SUM($M117,$O117,$Q117)","v":0},{"$f":"Cen!I172","v":0},0,{"$f":"IF(AND($U$14=1,$N$45=2),SUM($Y$11)*$M$15,0)","v":0},{"$f":"$K117*M117","v":0},{"$f":"IF(AND($U$23=1,$N$45=2),SUM($Y$20)*$M$24,0)","v":0},{"$f":"$K117*O117","v":0},null,null,"x"]
[null,{"$f":"Cen!A173","v":"Závěs CLIP-TOP BLUMOTION, EXPANDO"},null,null,null,null,{"$f":"Cen!E173","v":"71B358E"},null,{"$f":"Cen!G173","v":"NI"},null,{"$f":"Cen!I173","v":0},0]
[null,{"$f":"Cen!A174","v":0},null,null,null,null,{"$f":"Cen!E174","v":0},null,{"$f":"Cen!G174","v":0},null,{"$f":"Cen!I174","v":0},0]
[null,{"$f":"Cen!A175","v":"Závěs CLIP-TOP 110°"},null,null,null,null,{"$f":"Cen!E175","v":"70T3550.TL"},null,{"$f":"Cen!G175","v":"NI"},{"$f":"SUM(M120,O120,Q120)","v":0},{"$f":"Cen!I175","v":0},0,{"$f":"IF(AND($U$14=2,$N$45=2),SUM($Y$11)*$M$15,0)","v":0},{"$f":"$K120*M120","v":0},{"$f":"IF(AND($U$23=2,$N$45=2),SUM($Y$20)*$M$24,0)","v":0},{"$f":"$K120*O120","v":0},null,null,"x"]
[null,{"$f":"Cen!A176","v":"Závěs CLIP-TOP 110°, EXPANDO"},null,null,null,null,{"$f":"Cen!E176","v":"70T358E.TL"},null,{"$f":"Cen!G176","v":"NI"},null,{"$f":"Cen!I176","v":0},0]
[null,{"$f":"Cen!A177","v":0},null,null,null,null,{"$f":"Cen!E177","v":0},null,{"$f":"Cen!G177","v":0},null,{"$f":"Cen!I177","v":0},0]
[null,{"$f":"Cen!A178","v":"Omezovač úhlu otevření (86°)"},null,null,null,null,{"$f":"Cen!E178","v":"70T3553"},null,{"$f":"Cen!G178","v":"S"},null,{"$f":"Cen!I178","v":0},0]
[null,{"$f":"Cen!A179","v":0},null,null,null,null,{"$f":"Cen!E179","v":0},null,{"$f":"Cen!G179","v":0},null,{"$f":"Cen!I179","v":0},0]
[null,{"$f":"Cen!A180","v":"TIP-ON, zkrácená délka, šedý"},null,null,null,null,{"$f":"Cen!E180","v":"956.1004"},null,{"$f":"Cen!G180","v":"PG"},{"$f":"SUM(M125,O125,Q125)","v":0},{"$f":"Cen!I180","v":0},0,{"$f":"IF(AND($U$14=2,$T$45<3),1*$M$15,0)","v":0},{"$f":"$K125*M125","v":0},{"$f":"IF(AND($U$23=2,$T$45<3),1*$M$24,0)","v":0},{"$f":"$K125*O125","v":0},null,null,"x"]
[null,{"$f":"Cen!A181","v":"TIP-ON, zkrácená délka, hedv.bílý"},null,null,null,null,{"$f":"Cen!E181","v":"956.1004"},null,{"$f":"Cen!G181","v":"SW"},{"$f":"SUM(M126,O126,Q126)","v":0},{"$f":"Cen!I181","v":0},0,{"$f":"IF(AND($U$14=2,$T$45=3),1*$M$15,0)","v":0},{"$f":"$K126*M126","v":0},{"$f":"IF(AND($U$23=2,$T$45=3),1*$M$24,0)","v":0},{"$f":"$K126*O126","v":0},null,null,"x"]
[null,{"$f":"Cen!A182","v":"TIP-ON, zkrácená délka, Terra černý"},null,null,null,null,{"$f":"Cen!E182","v":"956.1004"},null,{"$f":"Cen!G182","v":"TS"},null,{"$f":"Cen!I182","v":0},0]
[null,{"$f":"Cen!A183","v":"TIP-ON, prodloužená délka, šedý"},null,null,null,null,{"$f":"Cen!E183","v":"956A1004"},null,{"$f":"Cen!G183","v":"PG"},null,{"$f":"Cen!I183","v":0},0]
[null,{"$f":"Cen!A184","v":"TIP-ON, prodloužená délka, hedv.bílý"},null,null,null,null,{"$f":"Cen!E184","v":"956A1004"},null,{"$f":"Cen!G184","v":"SW"},null,{"$f":"Cen!I184","v":0},0]
[null,{"$f":"Cen!A185","v":"TIP-ON, prodloužená délka, Terra černý"},null,null,null,null,{"$f":"Cen!E185","v":"956A1004"},null,{"$f":"Cen!G185","v":"TS"}]
[null,{"$f":"Cen!A21","v":"Přímá montážní podložka"},null,null,null,null,{"$f":"Cen!E21","v":"175H3100"},null,{"$f":"Cen!G21","v":"NI"},{"$f":"SUM(M131,O131,Q131)","v":0},{"$f":"Cen!I21","v":0},{"$f":"J131*K131","v":0},{"$f":"IF($O$45=2,SUM($M$117:$M$121),0)","v":0},{"$f":"$K131*M131","v":0},{"$f":"IF($O$45=2,SUM($O$117:$O$121),0)","v":0},{"$f":"$K131*O131","v":0},null,null,"x"]
[null,{"$f":"Cen!A22","v":"Přímá montážní podložka, EXPANDO"},null,null,null,null,{"$f":"Cen!E22","v":"177H3100E"},null,{"$f":"Cen!G22","v":"NI"},{"$f":"SUM(M132,O132,Q132)","v":0},{"$f":"Cen!I22","v":0},{"$f":"J132*K132","v":0},{"$f":"IF($O$45=1,SUM($M$117:$M$121),0)","v":0},{"$f":"$K132*M132","v":0},{"$f":"IF($O$45=1,SUM($O$117:$O$121),0)","v":0},{"$f":"$K132*O132","v":0},null,null,"x"]
[null,{"$f":"Cen!A151","v":"CLIP top krytka raménka Nikl"},null,null,null,null,{"$f":"Cen!E151","v":"70.1503"},null,{"$f":"Cen!G151","v":"NI"},{"$f":"SUM(M133,O133,Q133)","v":0},{"$f":"Cen!I151","v":0},{"$f":"J133*K133","v":0},{"$f":"SUM(M117:M124)","v":0},null,{"$f":"SUM(O117:O120)","v":0},null,null,null,"x"]
[null,{"$f":"Cen!A195","v":"Samořezný vrut do alurámečků"},null,null,null,null,{"$f":"Cen!E195","v":"660.0950"},null,{"$f":"Cen!G195","v":"NI"},{"$f":"SUM(M134,O134,Q134)","v":0},{"$f":"Cen!I195","v":0},{"$f":"J134*K134","v":0},{"$f":"SUM(M113, M117, M120)*2","v":0},{"$f":"$K134*M134","v":0},{"$f":"SUM(O113, O117, O120)*2","v":0},{"$f":"$K134*O134","v":0},null,null,"x"]
[]
[null,null,null,null,null,null,null,null,null,null,{"$f":"List!$C$59&\" \"","v":"Cena celkem bez DPH "},{"$f":"SUM(L102:L134)","v":0},null,{"$f":"SUM(N102:N135)","v":0},null,{"$f":"SUM(P102:P135)","v":0},null,{"$f":"SUM(R102:R135)","v":0}]
[]
[null,null,null,null,null,null,null,null,null,null,null,{"$f":"List!$C$149","v":"Zpět"}]
[]
[]
[]
[]
[]
[]
[]
[]
[]
[]
[]
[]
[]
[]
[]
[]
[]
[]
[]
[]
[]
[]
[]
[]
[]
[]
[]
[]
[]
[]
[]
[]
[]
[]
[]
[]
[]
[]
[]
[]
[]
[]
[]
[]
[]
[]
[]
[]
[]
[]
[]
[]
[]
[]
[]
[]
[]
[]
[]
[]
[]
[null,{"$f":"List!$C$71","v":"Výpočet hmotnosti čel"}]
[null,null,null,{"$f":"List!$C$161&\"  \"","v":"Provedení čel  "},null,null,null,null,null,{"$f":"IF(U207=3,IF(I201=0,N203,\" \"),IF(I201>0,N204,\" \"))","v":" "},null,null,null,{"$f":"IF($U$207=1,$U$228,IF($U$207=2,$U$229,$U$230&\" - \"&$N$211&\"mm\"))","v":"Alurámečky s 4mm sklem"},null,null,null,null,{"$f":"Menu!$Q$205","v":2500}]
[null,null,null,null,{"$f":"IF($P$208<>3,$O$202,\" \")&\"      \"","v":"      "}]
[null,null,null,null,null,null,null,null,null,null,null,null,null,{"$f":"\" \"&List!$C$226&\" [mm]\"","v":" Zadejte sílu skla [mm]"}]
[null,null,null,null,null,null,null,null,null,null,null,null,null,{"$f":"\" \"&List!$C$221&\" '\"&List!$C$89&\"'\"","v":" Hodnota platí jen pro volbu 'Alurámečky s jiným sklem'"}]
[]
[null,null,null,null,null,null,{"$f":"E9","v":"Korpus A"},null,null,null,null,null,null,null,null,null,null,null,null,"váha spoj.","tl. skla","typ alu"]
[null,{"$f":"List!$C$72&\" KB [mm]       \"","v":"Šířka korpusu KB [mm]       "},null,null,null,null,null,null,{"$f":"I10","v":0},null,null,null,null,{"$f":"I207*I208*I209","v":0},null,null,null,null,{"$f":"IF($V$207=1,$M$237,$M$238)","v":0.62},{"$f":"$M$239","v":0.61},1,{"$f":"$O$4","v":1}]
[null,{"$f":"List!$C$73&\" KH [mm]       \"","v":"Výška korpusu KH [mm]       "},null,null,null,null,null,null,{"$f":"I11","v":0},null,null,null,null,{"$f":"N207/1000000000","v":0},0,null,null,null,"váha alu ->",{"$f":"SUM(I207*2,(I208-90)*2)*S207/1000","v":-0.11159999999999999},"A plocha B"]
[null,null,null,null,null,null,null,null,null,null,null,null,null,{"$f":"Menu!$L$30","v":760},{"$f":"List!$C$84&\" (\"&N209&\" kg/m3)\"","v":"MDF (760 kg/m3)"},null,null,null,{"$f":"$S$201*4/1000","v":10},{"$f":"IF($V$207=1,U209*S209,V209*S209)","v":6.4000000000000001E-2},{"$f":"SUM(($I$207-80)*($I$208-80)/1000000)","v":6.4000000000000003E-3},{"$f":"SUM(($I$207-6)*($I$208-6)/1000000)","v":3.6000000000000001E-5},"4mm"]
[null,{"$f":"List!$C$78&\" [kg] \"","v":"Hmotnost úchytky [kg] "},null,null,null,null,null,null,null,{"$f":"IF($U$14=2,\" \",IF(SUM(I207,I208)=0,\" \",IF(I210=0,\" ● \"&List!$C$112,\" \")))","v":" "},null,null,null,{"$f":"Menu!$L$31","v":680},{"$f":"List!$C$85&\" (\"&N210&\" kg/m3)\"","v":"Dřevotříska (680 kg/m3)"},null,null,null,{"$f":"$S$201*5/1000","v":12.5},{"$f":"IF($V$207=1,U210*S210,V210*S210)","v":0.08},{"$f":"SUM(($I$207-80)*($I$208-80)/1000000)","v":6.4000000000000003E-3},{"$f":"SUM(($I$207-6)*($I$208-6)/1000000)","v":3.6000000000000001E-5},"5mm"]
[null,{"$f":"List!$C$76&\" [kg] \"","v":"Vypočtená hmotnost čela [kg] "},null,null,null,null,null,null,{"$f":"IF(S212=0,0,S212+2*I210)","v":0},null,null,null,{"$f":"IF(I207*I208*I209=0,0,IF(O208=1,N208*N209,IF(O208=2,N208*N210,N208*N211)))","v":0},{"$f":"$I$201","v":0},{"$f":"List!$C$86","v":"Jiné - volitelná hustota"},null,null,null,{"$f":"$S$201*$I$201/1000","v":0},{"$f":"IF($V$207=1,U211*S211,V211*S211)","v":0},{"$f":"SUM(($I$207-80)*($I$208-80)/1000000)","v":6.4000000000000003E-3},{"$f":"SUM(($I$207-6)*($I$208-6)/1000000)","v":3.6000000000000001E-5},"jiné"]
[null,null,null,{"$f":"IF((U14=2)*AND(I211>0)*AND(I210>0),$N$229&\" \"&$N$230,IF((U14<>2)*AND(I211>0),IF(I210=0,$N$228,\" \"),\" \"))","v":" "},null,null,null,null,null,null,null,null,null,null,null,null,null,null,{"$f":"IF(OR(AND(U207=3, $I$201=0), I207*I208=0), 0, SUM(IF(U207=1,T209,IF(U207=2,T210,T211)),T208,T207))","v":0}]
[]
[]
[null,null,null,null,null,null,{"$f":"E18","v":"Korpus B"},null,null,null,null,null,null,null,null,null,null,null,null,"váha spoj.","tl. skla","typ alu"]
[null,{"$f":"List!$C$72&\" KB [mm]       \"","v":"Šířka korpusu KB [mm]       "},null,null,null,null,null,null,{"$f":"I19","v":0},null,null,null,null,{"$f":"I216*I217*I218","v":0},null,null,null,null,{"$f":"IF($V$207=1,$M$237,$M$238)","v":0.62},{"$f":"$M$239","v":0.61},{"$f":"$U$207","v":1},{"$f":"$V$207","v":1}]
[null,{"$f":"List!$C$73&\" KH [mm]       \"","v":"Výška korpusu KH [mm]       "},null,null,null,null,null,null,{"$f":"I20","v":0},null,null,null,null,{"$f":"N216/1000000000","v":0},{"$f":"O208","v":0},null,null,null,"váha alu ->",{"$f":"SUM(I216*2,(I217-90)*2)*S216/1000","v":-0.11159999999999999},"A plocha B"]
[null,null,null,null,null,null,null,null,null,null,null,null,null,{"$f":"$N$209","v":760},{"$f":"$O$209","v":"MDF (760 kg/m3)"},null,null,null,{"$f":"S209","v":10},{"$f":"IF($V$207=1,U218*S218,V218*S218)","v":6.4000000000000001E-2},{"$f":"SUM(($I$216-80)*($I$217-80)/1000000)","v":6.4000000000000003E-3},{"$f":"SUM(($I$216-6)*($I$217-6)/1000000)","v":3.6000000000000001E-5},"4mm"]
[null,{"$f":"List!$C$78&\" [kg] \"","v":"Hmotnost úchytky [kg] "},null,null,null,null,null,null,null,{"$f":"IF($U$23=2,\" \",IF(SUM(I216,I217)=0,\" \",IF(I219=0,\" ● \"&List!$C$112,\" \")))","v":" "},null,null,null,{"$f":"$N$210","v":680},{"$f":"$O$210","v":"Dřevotříska (680 kg/m3)"},null,null,null,{"$f":"S210","v":12.5},{"$f":"IF($V$207=1,U219*S219,V219*S219)","v":0.08},{"$f":"SUM(($I$216-80)*($I$217-80)/1000000)","v":6.4000000000000003E-3},{"$f":"SUM(($I$216-6)*($I$217-6)/1000000)","v":3.6000000000000001E-5},"5mm"]
[null,{"$f":"List!$C$76&\" [kg] \"","v":"Vypočtená hmotnost čela [kg] "},null,null,null,null,null,null,{"$f":"IF(S221=0,0,S221+2*I219)","v":0},null,null,null,{"$f":"IF(I216*I217*I218=0,0,IF(O217=1,N217*N218,IF(O217=2,N217*N219,N217*N220)))","v":0},{"$f":"$N$211","v":0},{"$f":"$O$211","v":"Jiné - volitelná hustota"},null,null,null,{"$f":"S211","v":0},{"$f":"IF($V$207=1,U220*S220,V220*S220)","v":0},{"$f":"SUM(($I$216-80)*($I$217-80)/1000000)","v":6.4000000000000003E-3},{"$f":"SUM(($I$216-6)*($I$217-6)/1000000)","v":3.6000000000000001E-5},"jiné"]
[null,null,null,{"$f":"IF((U23=2)*AND(I220>0)*AND(I219>0),$N$229&\" \"&$N$230,IF((U23<>2)*AND(I220>0),IF(I219=0,$N$228,\" \"),\" \"))","v":" "},null,null,null,null,null,null,null,null,null,null,null,null,null,null,{"$f":"IF(OR(AND(U216=3, $I$201=0), I216*I217=0), 0, SUM(IF(U216=1,T218,IF(U216=2,T219,T220)),T217,T216))","v":0}]
[]
[]
[]
[null,null,null,null,null,null,null,{"$f":"List!$C$149","v":"Zpět"}]
[]
[]
[null,null,null,{"$f":"List!$C$217&\" \"&List!$C$218","v":"Upozornění: Vypočtené hodnoty jsou pouze orientační.  Firma Blum ani prodejci neručí za jejich správnost."},null,null,null,null,null,null,null,null,null,{"$f":"List!$C$95&\"!\"","v":"Není započtena hmotnost úchytky!"},null,null,null,null,null,null,{"$f":"List!$C$87","v":"Alurámečky s 4mm sklem"}]
[null,null,null,null,null,null,null,null,null,null,null,null,null,{"$f":"List!C96","v":"Opravdu máte úchytku na TIP-ON?"},null,null,null,null,null,null,{"$f":"List!$C$88","v":"Alurámečky s 5mm sklem"}]
[null,null,null,null,null,null,null,null,null,null,null,null,null,{"$f":"List!C97&\"!\"","v":"Jestli ne, smažte hmotnost úchytky.!"},null,null,null,null,null,null,{"$f":"List!$C$89","v":"Alurámečky s jiným sklem"}]
[]
[]
[]
[]
[]
[null,null,null,null,"Hmotnost alurámečků [kg/bm]",null,{"$f":"List!$C$368","v":"Podle Úvodu"},{"$f":"List!$C$58","v":"Změna"}]
[null,null,null,null,null,{"$f":"List!$C$373&\"  \"","v":"S vloženým sklem  "},{"$f":"Menu!$Q215","v":0.62},null,null,null,null,null,{"$f":"IF($H237>0,$H237,$G237)","v":0.62}]
[null,null,null,null,null,{"$f":"List!$C$374&\"  \"","v":"S naloženým nebo nalepeným sklem  "},0.65,null,null,null,null,null,{"$f":"IF($H238>0,$H238,$G238)","v":0.65}]
[null,null,null,null,null,{"$f":"List!$C$377&\" [kg/set] *  \"","v":"Hmotnost spojovacího materiálu [kg/set] *  "},0.61,null,null,null,null,null,{"$f":"IF($H239>0,$H239,$G239)","v":0.61}]
[]
[null,null,{"$f":"\"        * \"& List!$C$378&\"  \"","v":"        * Rohové spojky, šrouby, těsnění pro jeden rámeček  "}]
[]
[]
[]
[]
[]
[]
[]
[]
[]
[]
[]
[]
[]
[]
[]
[]
[]
[]
[]
[]
[]
[]
[]
[]
[]
[]
[]
[]
[]
[]
[]
[]
[]
[]
[]
[]
[]
[]
[]
[]
[]
[]
[]
[]
[]
[]
[]
[]
[]
[]
[]
[]
[]
[]
[]
[]
[]
[]
[]
[]
[]
[]
[]
[]
[]
[]
[]
[]
[]
[]
[]
[]
[]
[]
[]
[]
[]
[]
[]
[]
[]
[]
[]
[]
[]
[]
[]
[]
[]
[]
[]
[]
[]
[]
[]
[]
[]
[]
[]
[]
[]
[]
[]
[]
[]
[]
[]
[]
[]
[]
[]
[]
[]
[]
[]
[]
[]
[]
[]
[]
[]
[]
[]
[]
[]
[]
[]
[]
[]
[]
[]
[]
[]
[]
[]
[]
[]
[]
[]
[]
[]
[]
[]
[]
[]
[]
[]
[]
[]
[]
[]
[]
[]
[]
[]
[]
[]
[]
[]
[]
[]
[]
[]
[]
[]
[]
[]
[]
[]
[]
[null,"      AVENTOS HK-S"]
[]
[null,{"$f":"List!$C$281","v":"Potřebný zdvihač se určí pomocí ukazatele výkonnosti."}]
[null,{"$f":"List!$C$318","v":"Ukazatel výkonnosti závisí na hmotnosti čela (včetně dvojnásobné hmotnosti úchytky) a na výšce korpusu."}]
[]
[null,{"$f":"\" \"&List!$C$295","v":" Tak se to dělá:"}]
[null,null,null,null,{"$f":"List!$C$80&\" = \"","v":"Ukazatel výkonnosti = "},{"$f":"List!$C$319&\" [kg]\"","v":"výška korpusu (KH) [mm] x hmotnost čela včetně dvojnásobné hmotnosti úchytky [kg]"}]
[]
[null,{"$f":"List!$C$322","v":"V případě využití třetího zdvihače můžete zvýšit ukazatel výkonnosti a tudíž hmotnost čílka o 50%."}]
[null,{"$f":"\"(\"&List!$C$323&\")\"","v":"(Platí jen pro zdvihač 20K2E00)"}]
[null,{"$f":"List!$C$164","v":"Přídavný třetí zdvihač může být použit pouze s plným čelem!"}]
[]
[null,{"$f":"List!$C$289","v":"Pokud znáte hmotnost čela, můžete ji zadat, jinak použijte \"Výpočet hmotnosti\"."}]
[null,{"$f":"List!$C$290","v":"V tabulce má přednost zadaná hodnota. Chcete-li použít vypočtenou hmotnost, smažte zadanou hodnotu."}]
[]
[]
[null,{"$f":"List!$C$284","v":"Chcete-li změnit barvu krytek, přejděte na \"Úvod\""}]
[]
[]
[]
[]
[]
[]
[]
[]
[null,null,null,null,null,null,null,null,null,null,null,null,{"$f":"List!$C$149","v":"Zpět"}]

{"sheet":"HKXSna","index":29,"n_rows":437,"n_cols":52,"rows_kept":437,"cut":false,"hidden":false,"merged":[[8,21,8,22],[11,1,11,7],[9,21,9,22],[26,19,26,20],[9,1,9,7],[8,17,8,18],[17,21,17,22],[18,21,18,22],[17,17,17,18],[14,1,14,7],[17,4,17,8],[21,1,21,7],[19,1,19,7],[410,0,451,0],[6,7,6,8],[8,4,8,8],[97,0,163,0],[6,1,6,3],[22,1,22,3],[198,0,260,0],[13,4,13,7],[20,1,20,7],[18,1,18,7],[12,1,12,7],[13,1,13,3],[22,4,22,7],[210,1,210,7],[216,1,216,7],[209,1,209,7],[1,1,1,2],[10,1,10,7],[328,1,328,8],[331,9,331,10],[330,1,330,8],[330,9,330,10],[319,1,319,8],[215,1,215,7],[218,1,218,7],[224,7,224,8],[1,9,1,10],[3,5,3,10],[1,3,1,4],[1,5,1,6],[1,7,1,8],[4,6,5,10],[312,0,366,0],[315,1,315,10],[316,1,316,8],[316,9,316,10],[317,1,317,8],[317,9,317,10],[322,1,322,10],[318,1,318,8],[318,9,318,10],[338,9,338,10],[331,1,331,8],[329,1,329,8],[319,9,319,10],[320,1,320,8],[320,9,320,10],[323,7,323,10],[323,1,323,6],[325,1,325,6],[329,9,329,10],[324,1,324,6],[328,9,328,10],[327,1,327,8],[327,9,327,10],[207,20,207,21],[216,20,216,21],[37,12,38,12],[40,12,41,12],[208,1,208,7],[214,6,214,8],[207,1,207,7],[206,1,206,7],[201,4,201,8],[205,6,205,8],[317,13,317,14],[227,3,229,11],[217,1,217,7],[23,1,23,7],[219,1,219,7],[0,49,0,57],[19,49,20,53],[21,49,22,53],[7,49,8,50],[7,51,8,51],[9,49,9,50],[10,49,10,50],[15,49,15,50],[11,49,11,50],[17,49,17,50],[13,49,14,50],[16,49,16,50]]}
[]
[null,"AVENTOS HF",null,"AVENTOS HS",null,"AVENTOS HL",null,"AVENTOS HK top",null,"AVENTOS HK-S",null,"AVENTOS HK-XS",null,null,"rámeček",null,null,null,3,null,null,null,null,null,null,null,null,null,null,null,null,null,{"$f":"List!$C$135","v":"Jdi na"}]
[]
[null,{"$f":"List!$C$20&\" ***\"","v":"Úzký alurámeček ***"},null,null,null,{"$f":"N201&\"       \"","v":"Alurámečky s 4mm sklem       "},null,null,null,null,null,null,null,null,1,null,null,null,{"$f":"\" \"&List!$C$39&\" A \"","v":" Cena za korpus A "},null,null,null,null,null,null,null,null,null,null,null,null,null,{"$f":"List!$C$136","v":"Úvod plánování"}]
[null,null,null,null,null,null,{"$f":"List!$C$47&\" \"&List!$C$22&\"       \"","v":"Nastavit hmotnost alurámečků       "},null,null,null,null,null,null,null,"A = 1",null,null,null,{"$f":"\" \"&List!$C$39&\" B \"","v":" Cena za korpus B "},null,null,null,null,null,null,null,null,null,null,null,null,null,{"$f":"List!$C$137","v":"Nápověda"}]
[null,null,null,null,null,null,null,null,null,null,null,null,null,null,"B = 2",null,null,null,{"$f":"\" \"&List!$C$59","v":" Cena celkem bez DPH"}]
[null,{"$f":"List!$C$142","v":"Soupis kování"},null,null,null,null,null,{"$f":"IF($S$2=1,$N$138,IF($S$2=2,$P$138,IF($S$2=3,$L$138,0)))","v":0},null,null,null,null,null,null,null,null,null,null,null,null,null,null,null,null,null,null,null,null,null,null,null,null,{"$f":"List!$C$141","v":"Doplňky"}]
[null,null,null,null,null,null,null,null,null,null,null,null,null,null,null,null,null,null,null,null,null,null,null,null,null,null,null,null,null,null,null,null,null,null,null,null,null,null,null,null,null,null,null,null,null,null,null,null,null,{"$f":"\"  \"&List!$C$80&\" LF \"","v":"  Ukazatel výkonnosti LF "},null,{"$f":"List!$C$79","v":"Zdvihací mechanizmus"}]
[null,null,null,null,{"$f":"List!$C$62&\" A\"","v":"Korpus A"},null,null,null,null,null,null,null,null,null,null,null,null,"jeden zdvihač",null,null,null,"dva zdvihače",null,null,"Závěsy",null,null,null,null,null,null,null,{"$f":"List!$C$139","v":"Přehled korpusů"}]
[null,{"$f":"List!$C$72&\" KB [mm] \"","v":"Šířka korpusu KB [mm] "},null,null,null,null,null,null,null,{"$f":"IF($I10=0,\" \",IF($I10<220,\" min. 220mm\",IF($I10>1800,\" max. 1 800mm\",\" \")))&IF(I15>0,IF(I10=0,\"● \"&List!$C$111,\" \"),\" \")","v":"  "},null,null,null,"zdvih A","jeden","dva",null,"min","max","š.max","š. min",false,null,null,null,null,null,null,null,null,null,null,{"$f":"List!$C$140","v":"Objednávka"},null,null,null,null,null,null,null,null,null,null,null,null,null,null,null,null,"  200 - 1000",null,"20K1101"]
[null,{"$f":"List!$C$73&\" KH [mm]  \"","v":"Výška korpusu KH [mm]  "},null,null,null,null,null,null,null,{"$f":"IF($I11=0,\" \",IF($I11<236,\" min. 236mm\",IF($I11>600,\" max. 600 mm\",\" \")))&IF(I15>0,IF(I11=0,\"● \"&List!$C$111,\" \"),\" \")","v":"  "},null,null,null,"K1101",{"$f":"IF($V$10=FALSE,IF($I$14>R11,IF($I$14<S11,1,0),0),0)","v":0},{"$f":"IF($V$10=TRUE,IF($I$14>V11,IF($I$14<W11,2,0),0),0)","v":0},null,{"$f":"IF(U14=1,199.99,179.99)","v":199.99},{"$f":"IF(U14=1,750,650)","v":750},null,null,{"$f":"IF(U14=1,399.99,359.99)","v":399.99},{"$f":"IF(U14=1,1500,1300)","v":1500},null,{"$f":"IF(OR(I10>1199,I14>2699),4,IF(OR(I10>899,I14>1799),3,2))","v":2},null,null,null,null,null,null,null,null,null,null,null,null,null,null,null,null,null,null,null,null,null,null,null,null,"  500 - 1500",null,"20K1301"]
[null,{"$f":"List!$C$75&\" [kg] ** \"","v":"Hmotnost čela vč. 2x hmotnost úchytky [kg] ** "},null,null,null,null,null,null,null,{"$f":"IF($I15=0,\" \",IF(SUM($I12,$I13)=0,$N$34,\" \"))&IF($I15>0,IF($I12>0,$N$35,\" \"),\" \")","v":"  "},null,null,null,"K1201",{"$f":"IF($V$10=FALSE,IF($I$14>R12,IF($I$14<S12,1,0),0),0)","v":0},{"$f":"IF($V$10=TRUE,IF($I$14>V12,IF($I$14<W12,2,0),0),0)","v":0},null,{"$f":"IF(U14=1,749.99,649)","v":749.99},{"$f":"IF(U14=1,1150,1000)","v":1150},null,null,{"$f":"IF(U14=1,1499.99,1299.99)","v":1499.99},{"$f":"IF(U14=1,2300,2000)","v":2300},null,null,null,null,null,null,null,null,null,null,null,null,null,null,null,null,null,null,null,null,null,null,null,null,null,null,"  800 - 1800",null,"20K1501"]
[null,{"$f":"List!$C$76&\" [kg]       \"","v":"Vypočtená hmotnost čela [kg]       "},null,null,null,null,null,null,{"$f":"$I$211","v":0},{"$f":"IF($I15>0,IF($I13>0,IF($I12=0,$N$35,\" \"),\" \"),\" \")","v":" "},null,null,null,"K1301",{"$f":"IF($V$10=FALSE,IF($I$14>R13,IF($I$14<S13,1,0),0),0)","v":0},{"$f":"IF($V$10=TRUE,IF($I$14>V13,IF($I$14<W13,2,0),0),0)","v":0},null,{"$f":"IF(U14=1,1149.99,999.99)","v":1149.99},{"$f":"IF(U14=1,1801,1601)","v":1801},null,{"$f":"IF(U14=1,$V$47,IF(U14=2,$V$48,$V$49))","v":"Standard"},{"$f":"IF(U14=1,2299.99,1999.99)","v":2299.9899999999998},{"$f":"IF(U14=1,3601,3201)","v":3601},null,null,null,null,null,null,null,null,null,{"$f":"\" \"&List!$C$177&\" A\"","v":" Výpočet hmotnosti A"}]
[null,{"$f":"List!$C$82&\" *      \"","v":"Druhý zdvihač *      "},null,null,{"$f":"List!$C$80&\" LF \"","v":"Ukazatel výkonnosti LF "},null,null,null,{"$f":"IF(I12>0,I11*I12,I11*I13)","v":0},{"$f":"IF(U14=1,IF($I14>3600,$N$38,IF($I14>1800.5,IF(V10=FALSE,$N$39,\" \"),\" \")),IF($I14>3200,$N$38,IF($I14>1600.5,IF(V10=FALSE,$N$39,\" \"),\" \")))","v":" "},null,null,null,null,null,null,null,null,null,null,1,null,null,null,null,null,null,null,null,null,null,null,null,null,null,null,null,null,null,null,null,null,null,null,null,null,null,null,null,{"$f":"\"  \"&List!$C$80&\" LF \"","v":"  Ukazatel výkonnosti LF "},null,"TIP-ON"]
[null,{"$f":"List!$C$69&\" \"","v":"Počet skříněk "},null,null,null,null,null,null,null,null,null,null,{"$f":"IF(OR($I10*$I11*$T15=0,$I11<236,$I11>600,SUM(O11:P13)=0),0,IF($I14>1800,IF($V10=FALSE,0,$I15),$I15))","v":0},null,null,null,null,null,"hmot =",{"$f":"IF(I12>0,I12,I13)","v":0},{"$f":"IF(SUM(I12,I13)=0,0,IF(I12>0,1,2))","v":0},"zadaná / vypočtená",null,null,null,null,null,null,null,null,null,null,null,null,null,null,null,null,null,null,null,null,null,null,null,null,null,null,null,null,null,{"$f":"List!$C$79","v":"Zdvihací mechanizmus"}]
[null,{"$f":"IF(I15>0,IF(U15=0,\" \",IF(U15=1,$N$50,$N$51)),\" \")&IF(I15>0,IF(U15=0,\" \",IF(U15=1,$N$52,$N$53)),\" \")","v":"  "},null,null,null,null,null,null,null,null,null,null,null,null,null,null,null,null,null,null,null,null,null,null,null,null,null,null,null,null,null,null,null,null,null,null,null,null,null,null,null,null,null,null,null,null,null,null,null,"  200 - 1000",null,"20K1101T"]
[null,null,null,null,null,null,null,null,null,null,null,null,null,null,null,null,null,null,null,null,null,null,null,null,null,null,null,null,null,null,null,null,{"$f":"\" \"&List!$C$361","v":" Ověření síly zdvihače"},null,null,null,null,null,null,null,null,null,null,null,null,null,null,null,null,"  500 - 1500",null,"20K1301T"]
[null,null,null,null,{"$f":"List!$C$62&\" B\"","v":"Korpus B"},null,null,null,null,null,null,null,null,null,null,null,null,"jeden zdvihač",null,null,null,"dva zdvihače",null,null,"Závěsy",null,null,null,null,null,null,null,null,null,null,null,null,null,null,null,null,null,null,null,null,null,null,null,null,"  800 - 1600",null,"20K1501T"]
[null,{"$f":"List!$C$72&\" KB [mm] \"","v":"Šířka korpusu KB [mm] "},null,null,null,null,null,null,null,{"$f":"IF($I19=0,\" \",IF($I19<220,\" min. 220mm\",IF($I19>1800,\" max. 1 800mm\",\" \")))&IF(I24>0,IF(I19=0,\"● \"&List!$C$111,\" \"),\" \")","v":"  "},null,null,null,"zdvih B","jeden","dva",null,"min","max","š.max","š. min",false]
[null,{"$f":"List!$C$73&\" KH [mm] \"","v":"Výška korpusu KH [mm] "},null,null,null,null,null,null,null,{"$f":"IF($I20=0,\" \",IF($I20<236,\" min. 236mm\",IF($I20>600,\" max. 600 mm\",\" \")))&IF(I24>0,IF(I20=0,\"● \"&List!$C$111,\" \"),\" \")","v":"  "},null,null,null,"K1101",{"$f":"IF($V$19=FALSE,IF($I$23>R20,IF($I$23<S20,1,0),0),0)","v":0},{"$f":"IF($V$19=TRUE,IF($I$23>V20,IF($I$23<W20,2,0),0),0)","v":0},null,{"$f":"IF(U23=1,199.99,179.99)","v":199.99},{"$f":"IF(U23=1,750,650)","v":750},null,null,{"$f":"IF(U23=1, 399.99, 359.99)","v":399.99},{"$f":"IF(U23=1,1500,1300)","v":1500},null,{"$f":"IF(OR(I19>1199,I23>2699),4,IF(OR(I19>899,I23>1799),3,2))","v":2},null,null,null,null,null,null,null,null,null,null,null,null,null,null,null,null,null,null,null,null,null,null,null,null,{"$f":"List!$C$80&\" LF = \"&List!$C$73&\" KH [mm] x \"&List!$C$75&\" [kg]\"","v":"Ukazatel výkonnosti LF = Výška korpusu KH [mm] x Hmotnost čela vč. 2x hmotnost úchytky [kg]"}]
[null,{"$f":"List!$C$75&\" [kg] ** \"","v":"Hmotnost čela vč. 2x hmotnost úchytky [kg] ** "},null,null,null,null,null,null,null,{"$f":"IF($I24=0,\" \",IF(SUM($I21,$I22)=0,$N$34,\" \"))&IF($I24>0,IF($I21>0,$N$35,\" \"),\" \")","v":"  "},null,null,null,"K1201",{"$f":"IF($V$19=FALSE,IF($I$23>R21,IF($I$23<S21,1,0),0),0)","v":0},{"$f":"IF($V$19=TRUE,IF($I$23>V21,IF($I$23<W21,2,0),0),0)","v":0},null,{"$f":"IF(U23=1,749.99, 649.99)","v":749.99},{"$f":"IF(U23=1,1150,1000)","v":1150},null,null,{"$f":"IF(U23=1,1499.99,1299.99)","v":1499.99},{"$f":"IF(U23=1,2300,2000)","v":2300}]
[null,{"$f":"List!$C$76&\" [kg]       \"","v":"Vypočtená hmotnost čela [kg]       "},null,null,null,null,null,null,{"$f":"$I$220","v":0},{"$f":"IF($I24>0,IF($I22>0,IF($I21=0,$N$35,\" \"),\" \"),\" \")","v":" "},null,null,null,"K1301",{"$f":"IF($V$19=FALSE,IF($I$23>R22,IF($I$23<S22,1,0),0),0)","v":0},{"$f":"IF($V$19=TRUE,IF($I$23>V22,IF($I$23<W22,2,0),0),0)","v":0},null,{"$f":"IF(U23=1,1149.99, 999.99)","v":1149.99},{"$f":"IF(U23=1,1801,1601)","v":1801},null,{"$f":"IF(U23=1,$V$47,IF(U23=2,$V$48,$V$49))","v":"Standard"},{"$f":"IF(U23=1,2299.99, 1999.99)","v":2299.9899999999998},{"$f":"IF(U23=1,3601,3201)","v":3601},null,null,null,null,null,null,null,null,null,{"$f":"\" \"&List!$C$177&\" B\"","v":" Výpočet hmotnosti B"},null,null,null,null,null,null,null,null,null,null,null,null,null,null,null,null,{"$f":"List!$C$321","v":"V případě použití po obou stranách se faktor výkonnosti zdvojnásobí."}]
[null,{"$f":"List!$C$82&\" *      \"","v":"Druhý zdvihač *      "},null,null,{"$f":"List!$C$80&\" LF \"","v":"Ukazatel výkonnosti LF "},null,null,null,{"$f":"IF(I21>0,I20*I21,I20*I22)","v":0},{"$f":"IF(U23=1,IF($I23>3600,$N$38,IF($I23>1800.5,IF(V19=FALSE,$N$39,\" \"),\" \")),IF($I23>3200,$N$38,IF($I23>1600.5,IF(V19=FALSE,$N$39,\" \"),\" \")))","v":" "},null,null,null,null,null,null,null,null,null,null,1]
[null,{"$f":"List!$C$69&\" \"","v":"Počet skříněk "},null,null,null,null,null,null,null,null,null,null,{"$f":"IF(OR($I19*$I20*$T24=0,$I20<236,$I20>600,SUM(O20:P22)=0),0,IF($I23>1800,IF($V19=FALSE,0,$I24),$I24))","v":0},null,null,null,null,null,"hmot =",{"$f":"IF(I21>0,I21,I22)","v":0},{"$f":"IF(SUM(I21,I22)=0,0,IF(I21>0,1,2))","v":0},"zadaná / vypočtená"]
[null,{"$f":"IF(I24>0,IF(U24=0,\" \",IF(U24=1,$N$50,$N$51)),\" \")&IF(I24>0,IF(U24=0,\" \",IF(U24=1,$N$52,$N$53)),\" \")","v":"  "}]
[]
[null,null,null,null,null,null,null,null,null,null,null,null,null,null,null,null,null,null,{"$f":"IF($T$27=FALSE,2,1)","v":2},false,null," - Zdroj",null,null,null,null,null,null,null,null,null,null,null,null,null,null,null,null,null,null,null,null,null,null,null,null,null,null,null,{"$f":"List!$C$149","v":"Zpět"}]
[]
[]
[null,null,{"$f":"\"* \"&List!$C$321","v":"* V případě použití po obou stranách se faktor výkonnosti zdvojnásobí."}]
[null,null,{"$f":"\"** \"&List!$C$168","v":"** Pokud znáte hmotnost a nechcete využít výpočtu hmotnosti"}]
[null,null,{"$f":"\"*** \"&List!$C$371","v":"*** Vyberte typ alurámečku!"}]
[null,null,{"$f":"\"      \"&List!$C$372","v":"      Více informací k výběru alurámečků v Nápovědě"}]
[null,null,null,null,null,null,null,null,null,null,null,null,null,{"$f":"\" \"&List!$C$103","v":" Doplňte nebo použijte \"Výpočet hmotnosti\" "}]
[null,null,null,null,null,null,null,null,null,null,null,null,null,{"$f":"\"◄ \"&List!$C$100","v":"◄ hodnota bude použita pro výpočet LF"}]
[null,null,null,null,null,null,null,null,null,null,null,null,null,{"$f":"\" * \"&List!$C$110","v":" * Doplňte hodnoty"}]
[]
[null,null,null,null,null,null,null,null,null,null,null,null,"korpus   A",{"$f":"IF(U14=1,\" max. 3.600! \"&List!$C$105,\" max. 3.200! \"&List!$C$105)","v":" max. 3.600! Upravte hmotnost nebo výšku"}]
[null,{"$f":"IF($I$11>600,\"***\",IF($I$20>600,\"***\",\" \"))","v":" "},null,null,null,null,null,null,null,null,null,null,null,{"$f":"IF(U14=1,\" max. 1.800! \"&List!$C$114,\" max. 1.600! \"&List!$C$114)","v":" max. 1.800! Přidejte druhý zdvihač"}]
[]
[null,null,null,null,null,null,null,null,null,null,null,null,"korpus   B",{"$f":"IF(U23=1,\" max. 3.600! \"&List!$C$105,\" max. 3.200! \"&List!$C$105)","v":" max. 3.600! Upravte hmotnost nebo výšku"}]
[null,null,null,null,null,null,null,null,null,null,null,null,null,{"$f":"IF(U23=1,\" max. 1.800! \"&List!$C$114,\" max. 1.600! \"&List!$C$114)","v":" max. 1.800! Přidejte druhý zdvihač"}]
[]
[]
[null,null,null,null,null,null,null,null,null,null,null,null,null,2,{"$f":"HKXS!N26","v":2},{"$f":"HKXS!$L$26","v":2},2,null,null,{"$f":"Menu!$Q$27","v":3}]
[null,null,null,null,null,null,null,null,null,null,null,null,null,"záv.","podl","čep","čelní kov.",null,null,"barva",null,"provedení"]
[null,null,null,null,null,null,null,null,null,null,null,null,null,null,"1 =",{"$f":"List!$C$125","v":"Expando"},null,null,null,{"$f":"List!$C$128","v":"Světle šedá (HG/T)"},null,"Standard"]
[null,null,null,null,null,null,null,null,null,null,null,null,null,null,"2 =",{"$f":"List!$C$126","v":"na vruty"},null,null,null,{"$f":"List!$C$130","v":"Hedvábně bílá (SW/T)"},null,"TIP-ON"]
[]
[null,null,null,null,null,null,null,null,null,null,null,null,null,{"$f":"List!C169&\". \"","v":"Pro určení typu zdvihače bude použita zadaná hmotnost. "}]
[null,null,null,null,null,null,null,null,null,null,null,null,null,{"$f":"List!C170&\". \"","v":"Pro určení typu zdvihače bude použita vypočtená hmotnost. "}]
[null,null,null,null,null,null,null,null,null,null,null,null,null,{"$f":"List!C171","v":"Chcete-li použít vypočtenou hmotnost, smažte zadanou hodnotu"}]
[null,null,null,null,null,null,null,null,null,null,null,null,null,{"$f":"List!C172","v":"Chcete-li použít zadanou hmotnost, zadejte ji do políčka"}]
[]
[]
[]
[]
[]
[]
[]
[]
[]
[]
[]
[]
[]
[]
[]
[]
[]
[]
[]
[]
[]
[]
[]
[]
[]
[]
[]
[]
[]
[]
[]
[]
[]
[]
[]
[]
[]
[]
[]
[]
[]
[]
[]
[]
[null,{"$f":"List!C142","v":"Soupis kování"}]
[]
[null,{"$f":"$L$2","v":"AVENTOS HK-XS"},null,{"$f":"B4","v":"Úzký alurámeček ***"}]
[null,{"$f":"List!C50","v":"Název"},null,null,null,null,{"$f":"List!$C$51","v":"Číslo artiklu"},null,{"$f":"List!C52","v":"Barva"},{"$f":"List!C54","v":"Ks"},{"$f":"List!C56","v":"Jednotková cena"},{"$f":"List!C57","v":"Celkem"},"A","Cena","B","Cena","C","Cena","Filtr"]
[null,{"$f":"Cen!A157","v":"Symetrický zdvihací mechanizmus"},null,null,null,null,{"$f":"Cen!E157","v":"20K1101"},null,{"$f":"Cen!G157","v":"NI"},{"$f":"SUM($M102,$O102,$Q102)","v":0},{"$f":"Cen!I157","v":0},{"$f":"J102*K102","v":0},{"$f":"IF($U$14=1,SUM($O$11:$P$11)*$M$15,0)","v":0},{"$f":"$K102*M102","v":0},{"$f":"IF($U$23=1,SUM($O$20:$P$20)*$M$24,0)","v":0},{"$f":"$K102*O102","v":0},null,null,"x"]
[null,{"$f":"Cen!A158","v":"Symetrický zdvihací mechanizmus"},null,null,null,null,{"$f":"Cen!E158","v":"20K1301"},null,{"$f":"Cen!G158","v":"NI"},{"$f":"SUM($M103,$O103,$Q103)","v":0},{"$f":"Cen!I158","v":0},0,{"$f":"IF($U$14=1,SUM($O$12:$P$12)*$M$15,0)","v":0},{"$f":"$K103*M103","v":0},{"$f":"IF($U$23=1,SUM($O$21:$P$21)*$M$24,0)","v":0},{"$f":"$K103*O103","v":0},null,null,"x"]
[null,{"$f":"Cen!A159","v":"Symetrický zdvihací mechanizmus"},null,null,null,null,{"$f":"Cen!E159","v":"20K1501"},null,{"$f":"Cen!G159","v":"NI"},{"$f":"SUM($M104,$O104,$Q104)","v":0},{"$f":"Cen!I159","v":0},0,{"$f":"IF($U$14=1,SUM($O$13:$P$13)*$M$15,0)","v":0},{"$f":"$K104*M104","v":0},{"$f":"IF($U$23=1,SUM($O$22:$P$22)*$M$24,0)","v":0},{"$f":"$K104*O104","v":0},null,null,"x"]
[null,{"$f":"Cen!A160","v":0},null,null,null,null,{"$f":"Cen!E160","v":0},null,{"$f":"Cen!G160","v":0},null,{"$f":"Cen!I160","v":0},0]
[null,{"$f":"Cen!A161","v":"Sym. zdvihací mechanizmus, TIP-ON"},null,null,null,null,{"$f":"Cen!E161","v":"20K1101T"},null,{"$f":"Cen!G161","v":"NI"},{"$f":"SUM($M106,$O106,$Q106)","v":0},{"$f":"Cen!I161","v":0},0,{"$f":"IF($U$14=2,SUM($O$11:$P$11)*$M$15,0)","v":0},{"$f":"$K106*M106","v":0},{"$f":"IF($U$23=2,SUM($O$20:$P$20)*$M$24,0)","v":0},{"$f":"$K106*O106","v":0},null,null,"x"]
[null,{"$f":"Cen!A162","v":"Sym. zdvihací mechanizmus, TIP-ON"},null,null,null,null,{"$f":"Cen!E162","v":"20K1301T"},null,{"$f":"Cen!G162","v":"NI"},{"$f":"SUM($M107,$O107,$Q107)","v":0},{"$f":"Cen!I162","v":0},0,{"$f":"IF($U$14=2,SUM($O$12:$P$12)*$M$15,0)","v":0},{"$f":"$K107*M107","v":0},{"$f":"IF($U$23=2,SUM($O$21:$P$21)*$M$24,0)","v":0},{"$f":"$K107*O107","v":0},null,null,"x"]
[null,{"$f":"Cen!A163","v":"Sym. zdvihací mechanizmus, TIP-ON"},null,null,null,null,{"$f":"Cen!E163","v":"20K1501T"},null,{"$f":"Cen!G163","v":"NI"},{"$f":"SUM($M108,$O108,$Q108)","v":0},{"$f":"Cen!I163","v":0},0,{"$f":"IF($U$14=2,SUM($O$13:$P$13)*$M$15,0)","v":0},{"$f":"$K108*M108","v":0},{"$f":"IF($U$23=2,SUM($O$22:$P$22)*$M$24,0)","v":0},{"$f":"$K108*O108","v":0},null,null,"x"]
[null,{"$f":"Cen!A164","v":0},null,null,null,null,{"$f":"Cen!E164","v":0},null,{"$f":"Cen!G164","v":0},null,{"$f":"Cen!I164","v":0},0]
[null,{"$f":"Cen!A165","v":"Boční čep na korpus"},null,null,null,null,{"$f":"Cen!E165","v":"20K5101"},null,{"$f":"Cen!G165","v":"NI"},{"$f":"SUM($M110,$O110,$Q110)","v":0},{"$f":"Cen!I165","v":0},0,{"$f":"IF($P$45=2,SUM($M$102:$M$108),0)","v":0},{"$f":"$K110*M110","v":0},{"$f":"IF($P$45=2,SUM($O$102:$O$108),0)","v":0},{"$f":"$K110*O110","v":0},null,null,"x"]
[null,{"$f":"Cen!A166","v":"Boční čep na korpus, EXPANDO"},null,null,null,null,{"$f":"Cen!E166","v":"20K51E1"},null,{"$f":"Cen!G166","v":"NI"},{"$f":"SUM($M111,$O111,$Q111)","v":0},{"$f":"Cen!I166","v":0},0,{"$f":"IF($P$45=1,SUM($M$102:$M$108),0)","v":0},{"$f":"$K111*M111","v":0},{"$f":"IF($P$45=1,SUM($O$102:$O$108),0)","v":0},{"$f":"$K111*O111","v":0},null,null,"x"]
[null,{"$f":"Cen!A167","v":0},null,null,null,null,{"$f":"Cen!E167","v":0},null,{"$f":"Cen!G167","v":0},null,{"$f":"Cen!I167","v":0},0]
[null,{"$f":"Cen!A168","v":"Čelní kování"},null,null,null,null,{"$f":"Cen!E168","v":"20K4101"},null,{"$f":"Cen!G168","v":"NI"},null,{"$f":"Cen!I168","v":0},0]
[null,{"$f":"Cen!A169","v":"Čelní kování, EXPANDO"},null,null,null,null,{"$f":"Cen!E169","v":"20K41E1"},null,{"$f":"Cen!G169","v":"NI"},null,{"$f":"Cen!I169","v":0},0]
[null,{"$f":"Cen!A170","v":"Čelní kování pro úzké alurámečky"},null,null,null,null,{"$f":"Cen!E170","v":"20K4101A"},null,{"$f":"Cen!G170","v":"NI"},{"$f":"SUM($M115,$O115,$Q115)","v":0},{"$f":"Cen!I170","v":0},0,{"$f":"IF($Q$45=2,SUM($M$102:$M$108),0)","v":0},{"$f":"$K115*M115","v":0},{"$f":"IF($Q$45=2,SUM($O$102:$O$108),0)","v":0},{"$f":"$K115*O115","v":0},null,null,"x"]
[null,{"$f":"Cen!A171","v":0},null,null,null,null,{"$f":"Cen!E171","v":0},null,{"$f":"Cen!G171","v":0},null,{"$f":"Cen!I171","v":0},0]
[null,{"$f":"Cen!A172","v":"Závěs CLIP-TOP BLUMOTION 110°"},null,null,null,null,{"$f":"Cen!E172","v":"71B3550"},null,{"$f":"Cen!G172","v":"NI"},null,{"$f":"Cen!I172","v":0},0]
[null,{"$f":"Cen!A173","v":"Závěs CLIP-TOP BLUMOTION, EXPANDO"},null,null,null,null,{"$f":"Cen!E173","v":"71B358E"},null,{"$f":"Cen!G173","v":"NI"},null,{"$f":"Cen!I173","v":0},0]
[null,{"$f":"Cen!A174","v":0},null,null,null,null,{"$f":"Cen!E174","v":0},null,{"$f":"Cen!G174","v":0},null,{"$f":"Cen!I174","v":0},0]
[null,{"$f":"Cen!A175","v":"Závěs CLIP-TOP 110°"},null,null,null,null,{"$f":"Cen!E175","v":"70T3550.TL"},null,{"$f":"Cen!G175","v":"NI"},null,{"$f":"Cen!I175","v":0},0]
[null,{"$f":"Cen!A176","v":"Závěs CLIP-TOP 110°, EXPANDO"},null,null,null,null,{"$f":"Cen!E176","v":"70T358E.TL"},null,{"$f":"Cen!G176","v":"NI"},null,{"$f":"Cen!I176","v":0},0]
[null,{"$f":"Cen!A177","v":0},null,null,null,null,{"$f":"Cen!E177","v":0},null,{"$f":"Cen!G177","v":0},null,{"$f":"Cen!I177","v":0},0]
[null,{"$f":"Cen!A178","v":"Omezovač úhlu otevření (86°)"},null,null,null,null,{"$f":"Cen!E178","v":"70T3553"},null,{"$f":"Cen!G178","v":"S"},null,{"$f":"Cen!I178","v":0},0]
[null,{"$f":"Cen!A179","v":0},null,null,null,null,{"$f":"Cen!E179","v":0},null,{"$f":"Cen!G179","v":0},null,{"$f":"Cen!I179","v":0},0]
[null,{"$f":"Cen!A180","v":"TIP-ON, zkrácená délka, šedý"},null,null,null,null,{"$f":"Cen!E180","v":"956.1004"},null,{"$f":"Cen!G180","v":"PG"},{"$f":"SUM(M125,O125,Q125)","v":0},{"$f":"Cen!I180","v":0},0,{"$f":"IF(AND($U$14=2,$T$45<3),1*$M$15,0)","v":0},{"$f":"$K125*M125","v":0},{"$f":"IF(AND($U$23=2,$T$45<3),1*$M$24,0)","v":0},{"$f":"$K125*O125","v":0},null,null,"x"]
[null,{"$f":"Cen!A181","v":"TIP-ON, zkrácená délka, hedv.bílý"},null,null,null,null,{"$f":"Cen!E181","v":"956.1004"},null,{"$f":"Cen!G181","v":"SW"},{"$f":"SUM(M126,O126,Q126)","v":0},{"$f":"Cen!I181","v":0},0,{"$f":"IF(AND($U$14=2,$T$45=3),1*$M$15,0)","v":0},{"$f":"$K126*M126","v":0},{"$f":"IF(AND($U$23=2,$T$45=3),1*$M$24,0)","v":0},{"$f":"$K126*O126","v":0},null,null,"x"]
[null,{"$f":"Cen!A182","v":"TIP-ON, zkrácená délka, Terra černý"},null,null,null,null,{"$f":"Cen!E182","v":"956.1004"},null,{"$f":"Cen!G182","v":"TS"},null,{"$f":"Cen!I182","v":0},0]
[null,{"$f":"Cen!A183","v":"TIP-ON, prodloužená délka, šedý"},null,null,null,null,{"$f":"Cen!E183","v":"956A1004"},null,{"$f":"Cen!G183","v":"PG"},null,{"$f":"Cen!I183","v":0},0]
[null,{"$f":"Cen!A184","v":"TIP-ON, prodloužená délka, hedv.bílý"},null,null,null,null,{"$f":"Cen!E184","v":"956A1004"},null,{"$f":"Cen!G184","v":"SW"},null,{"$f":"Cen!I184","v":0},0]
[null,{"$f":"Cen!A185","v":"TIP-ON, prodloužená délka, Terra černý"},null,null,null,null,{"$f":"Cen!E185","v":"956A1004"},null,{"$f":"Cen!G185","v":"TS"}]
[null,{"$f":"Cen!A21","v":"Přímá montážní podložka"},null,null,null,null,{"$f":"Cen!E21","v":"175H3100"},null,{"$f":"Cen!G21","v":"NI"},{"$f":"SUM(M131,O131,Q131)","v":0},{"$f":"Cen!I21","v":0},{"$f":"J131*K131","v":0},{"$f":"IF($O$45=2,SUM($M$134:$M$135),0)","v":0},{"$f":"$K131*M131","v":0},{"$f":"IF($O$45=2,SUM($O$134:$O$135),0)","v":0},{"$f":"$K131*O131","v":0},null,null,"x"]
[null,{"$f":"Cen!A22","v":"Přímá montážní podložka, EXPANDO"},null,null,null,null,{"$f":"Cen!E22","v":"177H3100E"},null,{"$f":"Cen!G22","v":"NI"},{"$f":"SUM(M132,O132,Q132)","v":0},{"$f":"Cen!I22","v":0},{"$f":"J132*K132","v":0},{"$f":"IF($O$45=1,SUM($M$134:$M$135),0)","v":0},{"$f":"$K132*M132","v":0},{"$f":"IF($O$45=1,SUM($O$134:$O$135),0)","v":0},{"$f":"$K132*O132","v":0},null,null,"x"]
[]
[null,{"$f":"Cen!A194","v":"Závěs CLIP top BLUMTION po alurám."},null,null,null,null,{"$f":"Cen!E194","v":"71B950A"},null,{"$f":"Cen!G194","v":"NI"},{"$f":"SUM(M134,O134,Q134)","v":0},{"$f":"Cen!I194","v":0},{"$f":"J134*K134","v":0},{"$f":"IF(AND($U$14=1,$N$45=2),SUM($Y$11)*$M$15,0)","v":0},{"$f":"$K134*M134","v":0},{"$f":"IF(AND($U$23=1,$N$45=2),SUM($Y$20)*$M$24,0)","v":0},{"$f":"$K134*O134","v":0},null,null,"x"]
[null,{"$f":"Cen!A19","v":"Závěs CLIP top pro alurámečky"},null,null,null,null,{"$f":"Cen!E19","v":"72T550A.TL"},null,{"$f":"Cen!G19","v":"NI"},{"$f":"SUM(M135,O135,Q135)","v":0},{"$f":"Cen!I19","v":0},{"$f":"J135*K135","v":0},{"$f":"IF(AND($U$14=2,$N$45=2),SUM($Y$11)*$M$15,0)","v":0},{"$f":"$K135*M135","v":0},{"$f":"IF(AND($U$23=2,$N$45=2),SUM($Y$20)*$M$24,0)","v":0},{"$f":"$K135*O135","v":0},null,null,"x"]
[null,{"$f":"Cen!A152","v":"CLIP top krytka raménka Nikl"},null,null,null,null,{"$f":"Cen!E152","v":"70.1563"},null,{"$f":"Cen!G152","v":"NI"},{"$f":"SUM(M136,O136,Q136)","v":0},{"$f":"Cen!I152","v":0},{"$f":"J136*K136","v":0},{"$f":"SUM(M134:M135)","v":0},{"$f":"$K136*M136","v":0},{"$f":"SUM(O134:O135)","v":0},{"$f":"$K136*O136","v":0},null,null,"x"]
[]
[null,null,null,null,null,null,null,null,null,null,{"$f":"List!$C$59&\" \"","v":"Cena celkem bez DPH "},{"$f":"SUM(L102:L136)","v":0},null,{"$f":"SUM(N102:N135)","v":0},null,{"$f":"SUM(P102:P135)","v":0},null,{"$f":"SUM(R102:R135)","v":0}]
[]
[null,null,null,null,null,null,null,null,null,null,null,{"$f":"List!$C$149","v":"Zpět"}]
[]
[]
[]
[]
[]
[]
[]
[]
[]
[]
[]
[]
[]
[]
[]
[]
[]
[]
[]
[]
[]
[]
[]
[]
[]
[]
[]
[]
[]
[]
[]
[]
[]
[]
[]
[]
[]
[]
[]
[]
[]
[]
[]
[]
[]
[]
[]
[]
[]
[]
[]
[]
[]
[]
[]
[]
[]
[]
[]
[null,{"$f":"List!$C$71","v":"Výpočet hmotnosti čel"}]
[null,null,null,{"$f":"List!$C$161&\"  \"","v":"Provedení čel  "},null,null,null,null,null,{"$f":"IF(U207=3,IF(I201=0,N203,\" \"),IF(I201>0,N204,\" \"))","v":" "},null,null,null,{"$f":"IF($U$207=1,$U$228,IF($U$207=2,$U$229,$U$230&\" - \"&$N$211&\"mm\"))","v":"Alurámečky s 4mm sklem"},null,null,null,null,{"$f":"Menu!$Q$205","v":2500}]
[null,null,null,null,{"$f":"IF($P$208<>3,$O$202,\" \")&\"      \"","v":"      "}]
[null,null,null,null,null,null,null,null,null,null,null,null,null,{"$f":"\" \"&List!$C$226&\" [mm]\"","v":" Zadejte sílu skla [mm]"}]
[null,null,null,null,null,null,null,null,null,null,null,null,null,{"$f":"\" \"&List!$C$221&\" '\"&List!$C$89&\"'\"","v":" Hodnota platí jen pro volbu 'Alurámečky s jiným sklem'"}]
[]
[null,null,null,null,null,null,{"$f":"E9","v":"Korpus A"},null,null,null,null,null,null,null,null,null,null,null,null,"váha spoj.","tl. skla","typ alu"]
[null,{"$f":"List!$C$72&\" KB [mm]       \"","v":"Šířka korpusu KB [mm]       "},null,null,null,null,null,null,{"$f":"I10","v":0},null,null,null,null,{"$f":"I207*I208*I209","v":0},null,null,null,null,{"$f":"IF($V$207=1,$M$237,$M$238)","v":0.31},{"$f":"$M$239","v":0.46},1,{"$f":"$O$4","v":1}]
[null,{"$f":"List!$C$73&\" KH [mm]       \"","v":"Výška korpusu KH [mm]       "},null,null,null,null,null,null,{"$f":"I11","v":0},null,null,null,null,{"$f":"N207/1000000000","v":0},0,null,null,null,"váha alu ->",{"$f":"SUM(I207*2,(I208-40)*2)*S207/1000","v":-2.4799999999999999E-2},"A plocha B"]
[null,null,null,null,null,null,null,null,null,null,null,null,null,{"$f":"Menu!$L$30","v":760},{"$f":"List!$C$84&\" (\"&N209&\" kg/m3)\"","v":"MDF (760 kg/m3)"},null,null,null,{"$f":"$S$201*4/1000","v":10},{"$f":"IF($V$207=1,U209*S209,V209*S209)","v":8.9999999999999993E-3},{"$f":"SUM(($I$207-30)*($I$208-30)/1000000)","v":8.9999999999999998E-4},{"$f":"SUM(($I$207-6)*($I$208-6)/1000000)","v":3.6000000000000001E-5},"4mm"]
[null,{"$f":"List!$C$78&\" [kg] \"","v":"Hmotnost úchytky [kg] "},null,null,null,null,null,null,null,{"$f":"IF($U$14=2,\" \",IF(SUM(I207,I208)=0,\" \",IF(I210=0,\" ● \"&List!$C$112,\" \")))","v":" "},null,null,null,{"$f":"Menu!$L$31","v":680},{"$f":"List!$C$85&\" (\"&N210&\" kg/m3)\"","v":"Dřevotříska (680 kg/m3)"},null,null,null,{"$f":"$S$201*5/1000","v":12.5},{"$f":"IF($V$207=1,U210*S210,V210*S210)","v":1.125E-2},{"$f":"SUM(($I$207-30)*($I$208-30)/1000000)","v":8.9999999999999998E-4},{"$f":"SUM(($I$207-6)*($I$208-6)/1000000)","v":3.6000000000000001E-5},"5mm"]
[null,{"$f":"List!$C$76&\" [kg] \"","v":"Vypočtená hmotnost čela [kg] "},null,null,null,null,null,null,{"$f":"IF(S212=0,0,S212+2*I210)","v":0},null,null,null,{"$f":"IF(I207*I208*I209=0,0,IF(O208=1,N208*N209,IF(O208=2,N208*N210,N208*N211)))","v":0},{"$f":"$I$201","v":0},{"$f":"List!$C$86","v":"Jiné - volitelná hustota"},null,null,null,{"$f":"$S$201*$I$201/1000","v":0},{"$f":"IF($V$207=1,U211*S211,V211*S211)","v":0},{"$f":"SUM(($I$207-30)*($I$208-30)/1000000)","v":8.9999999999999998E-4},{"$f":"SUM(($I$207-6)*($I$208-6)/1000000)","v":3.6000000000000001E-5},"jiné"]
[null,null,null,{"$f":"IF((U14=2)*AND(I211>0)*AND(I210>0),$N$229&\" \"&$N$230,IF((U14<>2)*AND(I211>0),IF(I210=0,$N$228,\" \"),\" \"))","v":" "},null,null,null,null,null,null,null,null,null,null,null,null,null,null,{"$f":"IF(OR(AND(U207=3, $I$201=0), I207*I208=0), 0, SUM(IF(U207=1,T209,IF(U207=2,T210,T211)),T208,T207))","v":0}]
[]
[]
[null,null,null,null,null,null,{"$f":"E18","v":"Korpus B"},null,null,null,null,null,null,null,null,null,null,null,null,"váha spoj.","tl. skla","typ alu"]
[null,{"$f":"List!$C$72&\" KB [mm]       \"","v":"Šířka korpusu KB [mm]       "},null,null,null,null,null,null,{"$f":"I19","v":0},null,null,null,null,{"$f":"I216*I217*I218","v":0},null,null,null,null,{"$f":"IF($V$207=1,$M$237,$M$238)","v":0.31},{"$f":"$M$239","v":0.46},{"$f":"$U$207","v":1},{"$f":"$V$207","v":1}]
[null,{"$f":"List!$C$73&\" KH [mm]       \"","v":"Výška korpusu KH [mm]       "},null,null,null,null,null,null,{"$f":"I20","v":0},null,null,null,null,{"$f":"N216/1000000000","v":0},{"$f":"O208","v":0},null,null,null,"váha alu ->",{"$f":"SUM(I216*2,(I217-40)*2)*S216/1000","v":-2.4799999999999999E-2},"A plocha B"]
[null,null,null,null,null,null,null,null,null,null,null,null,null,{"$f":"$N$209","v":760},{"$f":"$O$209","v":"MDF (760 kg/m3)"},null,null,null,{"$f":"S209","v":10},{"$f":"IF($V$207=1,U218*S218,V218*S218)","v":8.9999999999999993E-3},{"$f":"SUM(($I$216-30)*($I$217-30)/1000000)","v":8.9999999999999998E-4},{"$f":"SUM(($I$217-6)*($I$216-6)/1000000)","v":3.6000000000000001E-5},"4mm"]
[null,{"$f":"List!$C$78&\" [kg] \"","v":"Hmotnost úchytky [kg] "},null,null,null,null,null,null,null,{"$f":"IF($U$23=2,\" \",IF(SUM(I216,I217)=0,\" \",IF(I219=0,\" ● \"&List!$C$112,\" \")))","v":" "},null,null,null,{"$f":"$N$210","v":680},{"$f":"$O$210","v":"Dřevotříska (680 kg/m3)"},null,null,null,{"$f":"S210","v":12.5},{"$f":"IF($V$207=1,U219*S219,V219*S219)","v":1.125E-2},{"$f":"SUM(($I$216-30)*($I$217-30)/1000000)","v":8.9999999999999998E-4},{"$f":"SUM(($I$217-6)*($I$216-6)/1000000)","v":3.6000000000000001E-5},"5mm"]
[null,{"$f":"List!$C$76&\" [kg] \"","v":"Vypočtená hmotnost čela [kg] "},null,null,null,null,null,null,{"$f":"IF(S221=0,0,S221+2*I219)","v":0},null,null,null,{"$f":"IF(I216*I217*I218=0,0,IF(O217=1,N217*N218,IF(O217=2,N217*N219,N217*N220)))","v":0},{"$f":"$N$211","v":0},{"$f":"$O$211","v":"Jiné - volitelná hustota"},null,null,null,{"$f":"S211","v":0},{"$f":"IF($V$207=1,U220*S220,V220*S220)","v":0},{"$f":"SUM(($I$216-30)*($I$217-30)/1000000)","v":8.9999999999999998E-4},{"$f":"SUM(($I$217-6)*($I$216-6)/1000000)","v":3.6000000000000001E-5},"jiné"]
[null,null,null,{"$f":"IF((U23=2)*AND(I220>0)*AND(I219>0),$N$229&\" \"&$N$230,IF((U23<>2)*AND(I220>0),IF(I219=0,$N$228,\" \"),\" \"))","v":" "},null,null,null,null,null,null,null,null,null,null,null,null,null,null,{"$f":"IF(OR(AND(U216=3, $I$201=0), I216*I217=0), 0, SUM(IF(U216=1,T218,IF(U216=2,T219,T220)),T217,T216))","v":0}]
[]
[]
[]
[null,null,null,null,null,null,null,{"$f":"List!$C$149","v":"Zpět"}]
[]
[]
[null,null,null,{"$f":"List!$C$217&\" \"&List!$C$218","v":"Upozornění: Vypočtené hodnoty jsou pouze orientační.  Firma Blum ani prodejci neručí za jejich správnost."},null,null,null,null,null,null,null,null,null,{"$f":"List!$C$95&\"!\"","v":"Není započtena hmotnost úchytky!"},null,null,null,null,null,null,{"$f":"List!$C$87","v":"Alurámečky s 4mm sklem"}]
[null,null,null,null,null,null,null,null,null,null,null,null,null,{"$f":"List!C96","v":"Opravdu máte úchytku na TIP-ON?"},null,null,null,null,null,null,{"$f":"List!$C$88","v":"Alurámečky s 5mm sklem"}]
[null,null,null,null,null,null,null,null,null,null,null,null,null,{"$f":"List!C97&\"!\"","v":"Jestli ne, smažte hmotnost úchytky.!"},null,null,null,null,null,null,{"$f":"List!$C$89","v":"Alurámečky s jiným sklem"}]
[]
[]
[]
[]
[]
[null,null,null,null,"Hmotnost alurámečků [kg/bm]",null,{"$f":"List!$C$368","v":"Podle Úvodu"},{"$f":"List!$C$58","v":"Změna"}]
[null,null,null,null,null,{"$f":"List!$C$375&\"  \"","v":"S vloženým sklem  "},{"$f":"Menu!$Q220","v":0.31},null,null,null,null,null,{"$f":"IF($H237>0,$H237,$G237)","v":0.31}]
[null,null,null,null,null,{"$f":"List!$C$376&\"  \"","v":"S naloženým nebo nalepeným sklem  "},{"$f":"Menu!$Q221","v":0.32},null,null,null,null,null,{"$f":"IF($H238>0,$H238,$G238)","v":0.32}]
[null,null,null,null,null,{"$f":"List!$C$377&\" [kg/set] *  \"","v":"Hmotnost spojovacího materiálu [kg/set] *  "},{"$f":"Menu!$Q222","v":0.46},null,null,null,null,null,{"$f":"IF($H239>0,$H239,$G239)","v":0.46}]
[]
[null,null,{"$f":"\"        * \"& List!$C$378&\"  \"","v":"        * Rohové spojky, šrouby, těsnění pro jeden rámeček  "}]
[]
[]
[]
[]
[]
[]
[]
[]
[]
[]
[]
[]
[]
[]
[]
[]
[]
[]
[]
[]
[]
[]
[]
[]
[]
[]
[]
[]
[]
[]
[]
[]
[]
[]
[]
[]
[]
[]
[]
[]
[]
[]
[]
[]
[]
[]
[]
[]
[]
[]
[]
[]
[]
[]
[]
[]
[]
[]
[]
[]
[]
[]
[]
[]
[]
[]
[]
[]
[]
[]
[]
[]
[]
[]
[]
[]
[]
[]
[]
[]
[]
[]
[]
[]
[]
[]
[]
[]
[]
[]
[]
[]
[]
[]
[]
[]
[]
[]
[]
[]
[]
[]
[]
[]
[]
[]
[]
[]
[]
[]
[]
[]
[]
[]
[]
[]
[]
[]
[]
[]
[]
[]
[]
[]
[]
[]
[]
[]
[]
[]
[]
[]
[]
[]
[]
[]
[]
[]
[]
[]
[]
[]
[]
[]
[]
[]
[]
[]
[]
[]
[]
[]
[]
[]
[]
[]
[]
[]
[]
[]
[]
[]
[]
[]
[]
[]
[]
[]
[]
[]
[null,"      AVENTOS HK-S"]
[]
[null,{"$f":"List!$C$281","v":"Potřebný zdvihač se určí pomocí ukazatele výkonnosti."}]
[null,{"$f":"List!$C$318","v":"Ukazatel výkonnosti závisí na hmotnosti čela (včetně dvojnásobné hmotnosti úchytky) a na výšce korpusu."}]
[]
[null,{"$f":"\" \"&List!$C$295","v":" Tak se to dělá:"}]
[null,null,null,null,{"$f":"List!$C$80&\" = \"","v":"Ukazatel výkonnosti = "},{"$f":"List!$C$319&\" [kg]\"","v":"výška korpusu (KH) [mm] x hmotnost čela včetně dvojnásobné hmotnosti úchytky [kg]"}]
[]
[null,{"$f":"List!$C$322","v":"V případě využití třetího zdvihače můžete zvýšit ukazatel výkonnosti a tudíž hmotnost čílka o 50%."}]
[null,{"$f":"\"(\"&List!$C$323&\")\"","v":"(Platí jen pro zdvihač 20K2E00)"}]
[null,{"$f":"List!$C$164","v":"Přídavný třetí zdvihač může být použit pouze s plným čelem!"}]
[]
[null,{"$f":"List!$C$289","v":"Pokud znáte hmotnost čela, můžete ji zadat, jinak použijte \"Výpočet hmotnosti\"."}]
[null,{"$f":"List!$C$290","v":"V tabulce má přednost zadaná hodnota. Chcete-li použít vypočtenou hmotnost, smažte zadanou hodnotu."}]
[]
[]
[null,{"$f":"List!$C$284","v":"Chcete-li změnit barvu krytek, přejděte na \"Úvod\""}]
[]
[]
[]
[]
[]
[]
[]
[]
[null,null,null,null,null,null,null,null,null,null,null,null,{"$f":"List!$C$149","v":"Zpět"}]

{"sheet":"Ord","index":30,"n_rows":445,"n_cols":46,"rows_kept":445,"cut":false,"hidden":false,"merged":[[8,42,10,42],[237,9,237,10],[8,22,10,22],[8,18,10,18],[8,19,10,19],[8,41,10,41],[8,34,10,34],[8,35,10,35],[8,30,10,30],[8,31,10,31],[8,33,10,33],[8,38,10,38],[8,39,10,39],[8,37,10,37],[7,8,7,10],[8,2,8,4],[7,2,7,3],[2,2,2,3],[3,2,3,3],[4,2,4,3],[6,2,6,3],[8,8,8,10],[426,0,467,0],[8,29,10,29],[8,23,10,23],[8,25,10,25],[8,16,10,16],[8,17,10,17],[8,21,10,21],[8,14,10,14],[8,26,10,26],[8,27,10,27],[236,1,236,7],[8,15,10,15],[8,13,10,13],[225,6,225,7],[9,2,9,4]]}
[null,{"$f":"List!$C$235&\":\"","v":"Odběratel:"},null,null,null,null,null,null,null,null,{"$f":"List!$C$140","v":"Objednávka"}]
[null,{"$f":"Form!C100","v":0},{"$f":"\" \"&List!$C$238&\":\"","v":" IČO, DIČ:"},null,null,null,null,null,null,null,null,null,null,null,null,null,null,null,null,null,null,null,null,null,null,null,null,null,null,null,null,null,null,null,null,null,null,null,null,null,null,null,null,null,{"$f":"List!$C$135","v":"Jdi na"}]
[null,{"$f":"Form!C102","v":0},{"$f":"Form!C110","v":0},{"$f":"Form!D110","v":0}]
[null,{"$f":"Form!C103","v":0},{"$f":"Form!C111","v":0},{"$f":"Form!D111","v":0},null,null,null,null,null,null,null,null,null,null,null,null,null,null,null,null,null,null,null,null,null,null,null,null,null,null,null,null,null,null,null,null,null,null,null,null,null,null,null,null,{"$f":"\" \"&List!$C$136","v":" Úvod plánování"}," AVENTOS HF"]
[null,{"$f":"Form!C104","v":0},{"$f":"Form!C112","v":0},{"$f":"Form!D112","v":0},null,null,null,null,null,null,"AVENTPLAN",null,null,null,null,null,null,null,null,null,null,null,null,null,null,null,null,null,null,null,null,null,null,null,null,null,null,null,null,null,null,null,null,null,{"$f":"List!$C$137","v":"Nápověda"}," AVENTOS HS"]
[null,{"$f":"List!$C$237&\":\"","v":"Dodací adresa:"},{"$f":"List!$C$239&\":\"","v":"Telefon, fax, e-mail:"},null,null,null,null,null,null,null,{"$f":"Menu!L41","v":"2.8.2"},null,{"$f":"SUM(M12:M190)","v":0},null,null,null,null,null,null,null,null,null,null,null,null,null,null,null,null,null,null,null,null,null,null,null,null,null,null,null,null,null,null,null,null," AVENTOS HL"]
[null,{"$f":"Form!C106","v":0},{"$f":"Form!C114","v":0},{"$f":"Form!D114","v":0},null,null,null,null,null,null,null,null,null,null,null,null,null,null,null,null,null,null,null,null,null,null,null,null,null,null,null,null,null,null,null,null,null,null,null,null,null,null,null,null,{"$f":"\" \"&List!$C$141","v":" Doplňky"}," AVENTOS HK top"]
[null,{"$f":"Form!C107","v":0},{"$f":"Form!C115","v":0},{"$f":"Form!D115","v":0},null,null,null,{"$f":"List!$C$240&\": \"","v":"Číslo objednávky: "},null,null,null,null,null,{"$f":"IF(OR(AND(HFw!$S$9=1, HFw!$M$15>0), AND(HFw!$S$18=1, HFw!$M$24)), 1, 2)","v":2},{"$f":"IF(OR(AND(HFwa!$S$9=1, HFwa!$M$15>0), AND(HFwa!$S$18=1, HFwa!$M$24)), 1, 2)","v":2},{"$f":"IF(OR(AND(HFw_wa!$S$9=1, HFw_wa!$M$15>0), AND(HFw_wa!$S$18=1, HFw_wa!$M$24)), 1, 2)","v":2},{"$f":"IF(OR(AND(HFwa_w!$S$9=1, HFwa_w!$M$15>0), AND(HFwa_w!$S$18=1, HFwa_w!$M$24)), 1, 2)","v":2},{"$f":"IF(OR(AND(HFna!$S$9=1, HFna!$M$15>0), AND(HFna!$S$18=1, HFna!$M$24)), 1, 2)","v":2},{"$f":"IF(OR(AND(HFw_na!$S$9=1, HFw_na!$M$15>0), AND(HFw_na!$S$18=1, HFw_na!$M$24)), 1, 2)","v":2},{"$f":"IF(OR(AND(HFna_w!$S$9=1, HFna_w!$M$15>0), AND(HFna_w!$S$18=1, HFna_w!$M$24)), 1, 2)","v":2},null,{"$f":"IF(OR(AND(HSw!$Q$14=1, HSw!$M$15>0), AND(HSw!$Q$23=1, HSw!$M$24)), 1, 2)","v":2},{"$f":"IF(OR(AND(HSwa!$Q$14=1, HSwa!$M$15>0), AND(HSwa!$Q$23=1, HSwa!$M$24)), 1, 2)","v":2},{"$f":"IF(OR(AND(HSna!$Q$14=1, HSna!$M$15>0), AND(HSna!$Q$23=1, HSna!$M$24)), 1, 2)","v":2},null,{"$f":"IF(OR(AND(HLw!$R$14=1, HLw!$M$15>0), AND(HLw!$R$23=1, HLw!$M$24)), 1, 2)","v":2},{"$f":"IF(OR(AND(HLwa!$R$14=1, HLwa!$M$15>0), AND(HLwa!$R$23=1, HLwa!$M$24)), 1, 2)","v":2},{"$f":"IF(OR(AND(HLna!$R$14=1, HLna!$M$15>0), AND(HLna!$R$23=1, HLna!$M$24)), 1, 2)","v":2},null,{"$f":"IF(OR(AND(HKw!$U$14=2, HKw!$M$15>0), AND(HKw!$U$23=2, HKw!$M$24)), 1, 2)","v":1},{"$f":"IF(OR(AND(HKwa!$U$14=2, HKwa!$M$15>0), AND(HKwa!$U$23=2, HKwa!$M$24)), 1, 2)","v":2},{"$f":"IF(OR(AND(HKna!$U$14=2, HKna!$M$15>0), AND(HKna!$U$23=2, HKna!$M$24)), 1, 2)","v":2},null,null,null,null,null,null,null,null,null,null,{"$f":"IF(OR(N8=1, O8=1, P8=1, Q8=1, R8=1, S8=1, T8=1, V8=1, W8=1, X8=1, Z8=1, AA8=1, AB8=1, AD8=1, AE8=1, AF8=1), 1, 2)","v":1},null,{"$f":"\" \"&List!$C$139","v":" Přehled korpusů"}," AVENTOS HK-S"]
[null,{"$f":"Form!C108","v":0},{"$f":"Form!C116","v":0},{"$f":"Form!D116","v":0},{"$f":"Form!E116","v":0},null,null,{"$f":"List!$C$241&\": \"","v":"Zakázka: "},null,null,null,null,null,"HFw","HFwa","HFw_wa","HFwa_w","HFna","HFw_na","HFna_w",null,"HSw","HSwa","HSna",null,"HLw","HLwa","HLna",null,"HKw","HKwa","HKna",null,"HKSw","HKSwa","HKSna",null,"HKXSw","HKXSwa","HKXSna",null,"Access","trafo:",null,null," AVENTOS HK-XS"]
[]
[null,{"$f":"\" \"&List!$C$50","v":" Název"}," Art.Nr.",{"$f":"List!$C$52","v":"Barva"},{"$f":"List!$C$54","v":"Ks"},{"$f":"List!C55","v":"Dostupnost"},{"$f":"List!$C$56","v":"Jednotková cena"},{"$f":"List!$C$57","v":"Celkem"},{"$f":"List!$C$58","v":"Změna"},"IDNr.",{"$f":"Price!G1","v":0},"kusy","Cena celkem"]
[null,{"$f":"Cen!A2","v":"Sada zdvihačů HF"},{"$f":"Cen!E2","v":"20F2200.05"},{"$f":"Cen!G2","v":"ZN"},{"$f":"IF(I12>0,I12,SUM(N12:AP12))","v":0},{"$f":"Cen!H2","v":0},{"$f":"Cen!I2","v":0},{"$f":"M12","v":0},null,{"$f":"Cen!J2","v":9007682},{"$f":"Cen!K2","v":0},{"$f":"IF(I12=\"x\",0,IF(I12>0,I12,E12))","v":0},{"$f":"PRODUCT(L12,G12)","v":0},{"$f":"HFw!J102","v":0},{"$f":"HFwa!J102","v":0},{"$f":"HFw_wa!J102","v":0},{"$f":"HFwa_w!J102","v":0},{"$f":"HFna!J102","v":0},{"$f":"HFw_na!J102","v":0},{"$f":"HFna_w!J102","v":0}]
[null,{"$f":"Cen!A3","v":"Sada zdvihačů HF"},{"$f":"Cen!E3","v":"20F2500.05"},{"$f":"Cen!G3","v":"ZN"},0,{"$f":"Cen!H3","v":0},{"$f":"Cen!I3","v":0},{"$f":"M13","v":0},null,{"$f":"Cen!J3","v":9007752},{"$f":"Cen!K3","v":0},{"$f":"IF(I13=\"x\",0,IF(I13>0,I13,E13))","v":0},{"$f":"PRODUCT(L13,G13)","v":0},{"$f":"HFw!J103","v":0},{"$f":"HFwa!J103","v":0},{"$f":"HFw_wa!J103","v":0},{"$f":"HFwa_w!J103","v":0},{"$f":"HFna!J103","v":0},{"$f":"HFw_na!J103","v":0},{"$f":"HFna_w!J103","v":0}]
[null,{"$f":"Cen!A4","v":"Sada zdvihačů HF"},{"$f":"Cen!E4","v":"20F2800.05"},{"$f":"Cen!G4","v":"ZN"},0,{"$f":"Cen!H4","v":0},{"$f":"Cen!I4","v":0},0,null,{"$f":"Cen!J4","v":9007822},{"$f":"Cen!K4","v":0},0,0,{"$f":"HFw!J104","v":0},{"$f":"HFwa!J104","v":0},{"$f":"HFw_wa!J104","v":0},{"$f":"HFwa_w!J104","v":0},{"$f":"HFna!J104","v":0},{"$f":"HFw_na!J104","v":0},{"$f":"HFna_w!J104","v":0}]
[null,{"$f":"Cen!A5","v":"Sada teleskopů (480-570mm)"},{"$f":"Cen!E5","v":"20F3200.01"},{"$f":"Cen!G5","v":"NI"},0,{"$f":"Cen!H5","v":0},{"$f":"Cen!I5","v":0},0,null,{"$f":"Cen!J5","v":5397438},{"$f":"Cen!K5","v":0},0,0,{"$f":"HFw!J105","v":0},{"$f":"HFwa!J105","v":0},{"$f":"HFw_wa!J105","v":0},{"$f":"HFwa_w!J105","v":0},{"$f":"HFna!J105","v":0},{"$f":"HFw_na!J105","v":0},{"$f":"HFna_w!J105","v":0}]
[null,{"$f":"Cen!A6","v":"Sada teleskopů (560-710mm)"},{"$f":"Cen!E6","v":"20F3500.01"},{"$f":"Cen!G6","v":"NI"},0,{"$f":"Cen!H6","v":0},{"$f":"Cen!I6","v":0},0,null,{"$f":"Cen!J6","v":4031701},{"$f":"Cen!K6","v":0},0,0,{"$f":"HFw!J106","v":0},{"$f":"HFwa!J106","v":0},{"$f":"HFw_wa!J106","v":0},{"$f":"HFwa_w!J106","v":0},{"$f":"HFna!J106","v":0},{"$f":"HFw_na!J106","v":0},{"$f":"HFna_w!J106","v":0}]
[null,{"$f":"Cen!A7","v":"Sada teleskopů (700-900mm)"},{"$f":"Cen!E7","v":"20F3800.01"},{"$f":"Cen!G7","v":"NI"},0,{"$f":"Cen!H7","v":0},{"$f":"Cen!I7","v":0},0,null,{"$f":"Cen!J7","v":6675488},{"$f":"Cen!K7","v":0},0,0,{"$f":"HFw!J107","v":0},{"$f":"HFwa!J107","v":0},{"$f":"HFw_wa!J107","v":0},{"$f":"HFwa_w!J107","v":0},{"$f":"HFna!J107","v":0},{"$f":"HFw_na!J107","v":0},{"$f":"HFna_w!J107","v":0}]
[null,{"$f":"Cen!A8","v":"Sada teleskopů (760-1040mm)"},{"$f":"Cen!E8","v":"20F3900.01"},{"$f":"Cen!G8","v":"NI"},0,{"$f":"Cen!H8","v":0},{"$f":"Cen!I8","v":0},0,null,{"$f":"Cen!J8","v":3841114},{"$f":"Cen!K8","v":0},0,0,{"$f":"HFw!J108","v":0},{"$f":"HFwa!J108","v":0},{"$f":"HFw_wa!J108","v":0},{"$f":"HFwa_w!J108","v":0},{"$f":"HFna!J108","v":0},{"$f":"HFw_na!J108","v":0},{"$f":"HFna_w!J108","v":0}]
[null,{"$f":"Cen!A9","v":"Sada krytek HF SERVO-DRIVE, sv.šedá"},{"$f":"Cen!E9","v":"21F8000"},{"$f":"Cen!G9","v":"HG/T"},0,{"$f":"Cen!H9","v":0},{"$f":"Cen!I9","v":0},0,null,{"$f":"Cen!J9","v":9025718},{"$f":"Cen!K9","v":0},0,0,{"$f":"HFw!J109","v":0},{"$f":"HFwa!J109","v":0},{"$f":"HFw_wa!J109","v":0},{"$f":"HFwa_w!J109","v":0},{"$f":"HFna!J109","v":0},{"$f":"HFw_na!J109","v":0},{"$f":"HFna_w!J109","v":0}]
[null,{"$f":"Cen!A10","v":"Sada krytek HF SERVO-DRIVE, tm.šedá"},{"$f":"Cen!E10","v":"21F8000"},{"$f":"Cen!G10","v":"TGR"},{"$f":"IF(I20>0,I20,SUM(N20:AP20))","v":0},{"$f":"Cen!H10","v":0},{"$f":"Cen!I10","v":0},{"$f":"M20","v":0},null,{"$f":"Cen!J10","v":8945782},{"$f":"Cen!K10","v":0},{"$f":"IF(I20=\"x\",0,IF(I20>0,I20,E20))","v":0},{"$f":"PRODUCT(L20,G20)","v":0},{"$f":"HFw!J110","v":0},{"$f":"HFwa!J110","v":0},{"$f":"HFw_wa!J110","v":0},{"$f":"HFwa_w!J110","v":0},{"$f":"HFna!J110","v":0},{"$f":"HFw_na!J110","v":0},{"$f":"HFna_w!J110","v":0}]
[null,{"$f":"Cen!A11","v":"Sada krytek HF SERVO-DRIVE, bílá"},{"$f":"Cen!E11","v":"21F8000"},{"$f":"Cen!G11","v":"SW/T"},0,{"$f":"Cen!H11","v":0},{"$f":"Cen!I11","v":0},0,null,{"$f":"Cen!J11","v":9025712},{"$f":"Cen!K11","v":0},0,0,{"$f":"HFw!J111","v":0},{"$f":"HFwa!J111","v":0},{"$f":"HFw_wa!J111","v":0},{"$f":"HFwa_w!J111","v":0},{"$f":"HFna!J111","v":0},{"$f":"HFw_na!J111","v":0},{"$f":"HFna_w!J111","v":0}]
[null,{"$f":"Cen!A12","v":"Sada krytek HF, světle šedá"},{"$f":"Cen!E12","v":"20F8000"},{"$f":"Cen!G12","v":"HG/T"},0,{"$f":"Cen!H12","v":0},{"$f":"Cen!I12","v":0},0,null,{"$f":"Cen!J12","v":8817398},{"$f":"Cen!K12","v":0},0,0,{"$f":"HFw!J113","v":0},{"$f":"HFwa!J113","v":0},{"$f":"HFw_wa!J113","v":0},{"$f":"HFwa_w!J113","v":0},{"$f":"HFna!J113","v":0},{"$f":"HFw_na!J113","v":0},{"$f":"HFna_w!J113","v":0}]
[null,{"$f":"Cen!A13","v":"Sada krytek HF, tmavě šedá"},{"$f":"Cen!E13","v":"20F8000"},{"$f":"Cen!G13","v":"TGR"},{"$f":"IF(I23>0,I23,SUM(N23:AP23))","v":0},{"$f":"Cen!H13","v":0},{"$f":"Cen!I13","v":0},{"$f":"M23","v":0},null,{"$f":"Cen!J13","v":2320125},{"$f":"Cen!K13","v":0},{"$f":"IF(I23=\"x\",0,IF(I23>0,I23,E23))","v":0},{"$f":"PRODUCT(L23,G23)","v":0},{"$f":"HFw!J114","v":0},{"$f":"HFwa!J114","v":0},{"$f":"HFw_wa!J114","v":0},{"$f":"HFwa_w!J114","v":0},{"$f":"HFna!J114","v":0},{"$f":"HFw_na!J114","v":0},{"$f":"HFna_w!J114","v":0}]
[null,{"$f":"Cen!A14","v":"Sada krytek HF, bílá"},{"$f":"Cen!E14","v":"20F8000"},{"$f":"Cen!G14","v":"SW/T"},0,{"$f":"Cen!H14","v":0},{"$f":"Cen!I14","v":0},0,null,{"$f":"Cen!J14","v":8817391},{"$f":"Cen!K14","v":0},0,0,{"$f":"HFw!J115","v":0},{"$f":"HFwa!J115","v":0},{"$f":"HFw_wa!J115","v":0},{"$f":"HFwa_w!J115","v":0},{"$f":"HFna!J115","v":0},{"$f":"HFw_na!J115","v":0},{"$f":"HFna_w!J115","v":0}]
[null,{"$f":"Cen!A15","v":"Závěs CLIP top 120° "},{"$f":"Cen!E15","v":"70T5550.TL"},{"$f":"Cen!G15","v":"NI"},0,{"$f":"Cen!H15","v":0},{"$f":"Cen!I15","v":0},0,null,{"$f":"Cen!J15","v":6510533},{"$f":"Cen!K15","v":0},0,0,{"$f":"HFw!J117","v":0},{"$f":"HFwa!J117","v":0},{"$f":"HFw_wa!J117","v":0},{"$f":"HFwa_w!J117","v":0},{"$f":"HFna!J117","v":0},{"$f":"HFw_na!J117","v":0},{"$f":"HFna_w!J117","v":0}]
[null,{"$f":"Cen!A16","v":"Závěs CLIP top 120° EXPANDO"},{"$f":"Cen!E16","v":"70T558E"},{"$f":"Cen!G16","v":"NI"},0,{"$f":"Cen!H16","v":0},{"$f":"Cen!I16","v":0},0,null,{"$f":"Cen!J16","v":7606263},{"$f":"Cen!K16","v":0},0,0,{"$f":"HFw!J118","v":0},{"$f":"HFwa!J118","v":0},{"$f":"HFw_wa!J118","v":0},{"$f":"HFwa_w!J118","v":0},{"$f":"HFna!J118","v":0},{"$f":"HFw_na!J118","v":0},{"$f":"HFna_w!J118","v":0}]
[null,{"$f":"Cen!A17","v":"Středový závěs CLIP top "},{"$f":"Cen!E17","v":"78Z5500T"},{"$f":"Cen!G17","v":"NI"},0,{"$f":"Cen!H17","v":0},{"$f":"Cen!I17","v":0},0,null,{"$f":"Cen!J17","v":6796673},{"$f":"Cen!K17","v":0},0,0,{"$f":"HFw!J119","v":0},{"$f":"HFwa!J119","v":0},{"$f":"HFw_wa!J119","v":0},{"$f":"HFwa_w!J119","v":0},{"$f":"HFna!J119","v":0},{"$f":"HFw_na!J119","v":0},{"$f":"HFna_w!J119","v":0}]
[null,{"$f":"Cen!A18","v":"Středový závěs CLIP top EXPANDO"},{"$f":"Cen!E18","v":"78Z553ET"},{"$f":"Cen!G18","v":"NI"},0,{"$f":"Cen!H18","v":0},{"$f":"Cen!I18","v":0},0,null,{"$f":"Cen!J18","v":6797133},{"$f":"Cen!K18","v":0},0,0,{"$f":"HFw!J120","v":0},{"$f":"HFwa!J120","v":0},{"$f":"HFw_wa!J120","v":0},{"$f":"HFwa_w!J120","v":0},{"$f":"HFna!J120","v":0},{"$f":"HFw_na!J120","v":0},{"$f":"HFna_w!J120","v":0}]
[null,{"$f":"Cen!A19","v":"Závěs CLIP top pro alurámečky"},{"$f":"Cen!E19","v":"72T550A.TL"},{"$f":"Cen!G19","v":"NI"},0,{"$f":"Cen!H19","v":0},{"$f":"Cen!I19","v":0},0,null,{"$f":"Cen!J19","v":7655633},{"$f":"Cen!K19","v":0},0,0,{"$f":"HFw!J121","v":0},{"$f":"HFwa!J121","v":0},{"$f":"HFw_wa!J121","v":0},{"$f":"HFwa_w!J121","v":0},{"$f":"HFna!J121","v":0},{"$f":"HFw_na!J121","v":0},{"$f":"HFna_w!J121","v":0},null,null,null,null,null,null,null,null,null,null,null,null,null,null,null,null,null,null,null,{"$f":"HKXSna!J135","v":0}]
[null,{"$f":"Cen!A20","v":"Střed. závěs CLIP top pro alurámečky"},{"$f":"Cen!E20","v":"78Z550AT"},{"$f":"Cen!G20","v":"NI"},0,{"$f":"Cen!H20","v":0},{"$f":"Cen!I20","v":0},0,null,{"$f":"Cen!J20","v":6797303},{"$f":"Cen!K20","v":0},0,0,{"$f":"HFw!J122","v":0},{"$f":"HFwa!J122","v":0},{"$f":"HFw_wa!J122","v":0},{"$f":"HFwa_w!J122","v":0},{"$f":"HFna!J122","v":0},{"$f":"HFw_na!J122","v":0},{"$f":"HFna_w!J122","v":0}]
[null,{"$f":"Cen!A21","v":"Přímá montážní podložka"},{"$f":"Cen!E21","v":"175H3100"},{"$f":"Cen!G21","v":"NI"},0,{"$f":"Cen!H21","v":0},{"$f":"Cen!I21","v":0},0,null,{"$f":"Cen!J21","v":1037431},{"$f":"Cen!K21","v":0},0,0,{"$f":"HFw!J123","v":0},{"$f":"HFwa!J123","v":0},{"$f":"HFw_wa!J123","v":0},{"$f":"HFwa_w!J123","v":0},{"$f":"HFna!J123","v":0},{"$f":"HFw_na!J123","v":0},{"$f":"HFna_w!J123","v":0},null,null,null,null,null,null,null,null,null,null,null,null,null,{"$f":"HKSw!J122","v":0},{"$f":"HKSwa!J122","v":0},null,null,{"$f":"HKXSw!J131","v":0},{"$f":"HKXSwa!J131","v":0},{"$f":"HKXSna!J131","v":0}]
[null,{"$f":"Cen!A22","v":"Přímá montážní podložka, EXPANDO"},{"$f":"Cen!E22","v":"177H3100E"},{"$f":"Cen!G22","v":"NI"},0,{"$f":"Cen!H22","v":0},{"$f":"Cen!I22","v":0},0,null,{"$f":"Cen!J22","v":3120329},{"$f":"Cen!K22","v":0},0,0,{"$f":"HFw!J124","v":0},{"$f":"HFwa!J124","v":0},{"$f":"HFw_wa!J124","v":0},{"$f":"HFwa_w!J124","v":0},{"$f":"HFna!J124","v":0},{"$f":"HFw_na!J124","v":0},{"$f":"HFna_w!J124","v":0},null,null,null,null,null,null,null,null,null,null,null,null,null,{"$f":"HKSw!J123","v":0},null,null,null,{"$f":"HKXSw!J132","v":0},{"$f":"HKXSwa!J132","v":0},{"$f":"HKXSna!J132","v":0}]
[null,{"$f":"Cen!A23","v":"Podložka CLIP excentrická"},{"$f":"Cen!E23","v":"173H7100"},{"$f":"Cen!G23","v":"NI"},0,{"$f":"Cen!H23","v":0},{"$f":"Cen!I23","v":0},0,null,{"$f":"Cen!J23","v":2364043},{"$f":"Cen!K23","v":0},0,0,{"$f":"HFw!J125","v":0},{"$f":"HFwa!J125","v":0},{"$f":"HFw_wa!J125","v":0},{"$f":"HFwa_w!J125","v":0},{"$f":"HFna!J125","v":0},{"$f":"HFw_na!J125","v":0},{"$f":"HFna_w!J125","v":0}]
[null,{"$f":"Cen!A24","v":"Adaptér CLIP k teleskopům P"},{"$f":"Cen!E24","v":"175H5B00   R"},{"$f":"Cen!G24","v":"NI"},0,{"$f":"Cen!H24","v":0},{"$f":"Cen!I24","v":0},0,null,{"$f":"Cen!J24","v":6796243},{"$f":"Cen!K24","v":0},0,0,{"$f":"HFw!J126","v":0},{"$f":"HFwa!J126","v":0},{"$f":"HFw_wa!J126","v":0},{"$f":"HFwa_w!J126","v":0},{"$f":"HFna!J126","v":0},{"$f":"HFw_na!J126","v":0},{"$f":"HFna_w!J126","v":0}]
[null,{"$f":"Cen!A25","v":"Adaptér CLIP k teleskopům L"},{"$f":"Cen!E25","v":"175H5B00   L"},{"$f":"Cen!G25","v":"NI"},0,{"$f":"Cen!H25","v":0},{"$f":"Cen!I25","v":0},0,null,{"$f":"Cen!J25","v":6796593},{"$f":"Cen!K25","v":0},0,0,{"$f":"HFw!J127","v":0},{"$f":"HFwa!J127","v":0},{"$f":"HFw_wa!J127","v":0},{"$f":"HFwa_w!J127","v":0},{"$f":"HFna!J127","v":0},{"$f":"HFw_na!J127","v":0},{"$f":"HFna_w!J127","v":0}]
[null,{"$f":"Cen!A26","v":"Adaptér CLIP ke středovým závěsům"},{"$f":"Cen!E26","v":"175H5A00"},{"$f":"Cen!G26","v":"NI"},0,{"$f":"Cen!H26","v":0},{"$f":"Cen!I26","v":0},0,null,{"$f":"Cen!J26","v":6796303},{"$f":"Cen!K26","v":0},0,0,{"$f":"HFw!J128","v":0},{"$f":"HFwa!J128","v":0},{"$f":"HFw_wa!J128","v":0},{"$f":"HFwa_w!J128","v":0},{"$f":"HFna!J128","v":0},{"$f":"HFw_na!J128","v":0},{"$f":"HFna_w!J128","v":0}]
[null,{"$f":"Cen!A27","v":"Omezovač úhlu otevření na 83° "},{"$f":"Cen!E27","v":"20F7011"},{"$f":"Cen!G27","v":"TGR"},0,{"$f":"Cen!H27","v":0},{"$f":"Cen!I27","v":0},0,null,{"$f":"Cen!J27","v":7285440},{"$f":"Cen!K27","v":0},0,0,{"$f":"HFw!J129","v":0},{"$f":"HFwa!J129","v":0},{"$f":"HFw_wa!J129","v":0},{"$f":"HFwa_w!J129","v":0},{"$f":"HFna!J129","v":0},{"$f":"HFw_na!J129","v":0},{"$f":"HFna_w!J129","v":0},null,null,null,null,null,null,null,null,null,null,null,null,null,null,null,null,null,null,null,null,null,{"$f":"Acs!J15","v":0}]
[null,{"$f":"Cen!A28","v":"Omezovač úhlu otevření na 104° "},{"$f":"Cen!E28","v":"20F7051"},{"$f":"Cen!G28","v":"TGR"},0,{"$f":"Cen!H28","v":0},{"$f":"Cen!I28","v":0},0,null,{"$f":"Cen!J28","v":7160400},{"$f":"Cen!K28","v":0},0,0,{"$f":"HFw!J130","v":0},{"$f":"HFwa!J130","v":0},{"$f":"HFw_wa!J130","v":0},{"$f":"HFwa_w!J130","v":0},{"$f":"HFna!J130","v":0},{"$f":"HFw_na!J130","v":0},{"$f":"HFna_w!J130","v":0},null,null,null,null,null,null,null,null,null,null,null,null,null,null,null,null,null,null,null,null,null,{"$f":"Acs!J16","v":0}]
[null,{"$f":"Cen!A29","v":0},{"$f":"Cen!E29","v":0},{"$f":"Cen!G29","v":0},0,null,{"$f":"Cen!I29","v":0},0,null,{"$f":"Cen!J29","v":0},{"$f":"Cen!K29","v":0},0,0,{"$f":"HFw!J133","v":0},{"$f":"HFwa!J133","v":0},{"$f":"HFw_wa!J133","v":0},{"$f":"HFwa_w!J133","v":0},{"$f":"HFna!J133","v":0},{"$f":"HFw_na!J133","v":0},{"$f":"HFna_w!J133","v":0}]
[null,{"$f":"Cen!A35","v":"AVETOS HS"},{"$f":"Cen!E35","v":0},{"$f":"Cen!G35","v":0},{"$f":"IF(I40>0,I40,SUM(N40:AP40))","v":0},null,{"$f":"Cen!I35","v":0},0,null,{"$f":"Cen!J35","v":0},{"$f":"Cen!K35","v":0},0,0]
[null,{"$f":"Cen!A36","v":"Sada zdvihačů HS"},{"$f":"Cen!E36","v":"20S2A00.05"},{"$f":"Cen!G36","v":"ZN"},0,{"$f":"Cen!H36","v":0},{"$f":"Cen!I36","v":0},0,null,{"$f":"Cen!J36","v":9016592},{"$f":"Cen!K36","v":0},0,0,null,null,null,null,null,null,null,null,{"$f":"HSw!$J102","v":0},{"$f":"HSwa!$J102","v":0},{"$f":"HSna!$J102","v":0}]
[null,{"$f":"Cen!A37","v":"Sada zdvihačů HS"},{"$f":"Cen!E37","v":"20S2B00.05"},{"$f":"Cen!G37","v":"ZN"},0,{"$f":"Cen!H37","v":0},{"$f":"Cen!I37","v":0},0,null,{"$f":"Cen!J37","v":9016662},{"$f":"Cen!K37","v":0},0,0,null,null,null,null,null,null,null,null,{"$f":"HSw!$J103","v":0},{"$f":"HSwa!$J103","v":0},{"$f":"HSna!$J103","v":0}]
[null,{"$f":"Cen!A38","v":"Sada zdvihačů HS"},{"$f":"Cen!E38","v":"20S2C00.05"},{"$f":"Cen!G38","v":"ZN"},0,{"$f":"Cen!H38","v":0},{"$f":"Cen!I38","v":0},0,null,{"$f":"Cen!J38","v":9016732},{"$f":"Cen!K38","v":0},0,0,null,null,null,null,null,null,null,null,{"$f":"HSw!$J104","v":0},{"$f":"HSwa!$J104","v":0},{"$f":"HSna!$J104","v":0}]
[null,{"$f":"Cen!A39","v":"Sada zdvihačů HS"},{"$f":"Cen!E39","v":"20S2D00.05"},{"$f":"Cen!G39","v":"ZN"},0,{"$f":"Cen!H39","v":0},{"$f":"Cen!I39","v":0},0,null,{"$f":"Cen!J39","v":9016802},{"$f":"Cen!K39","v":0},0,0,null,null,null,null,null,null,null,null,{"$f":"HSw!$J105","v":0},{"$f":"HSwa!$J105","v":0},{"$f":"HSna!$J105","v":0}]
[null,{"$f":"Cen!A40","v":"Sada zdvihačů HS"},{"$f":"Cen!E40","v":"20S2E00.05"},{"$f":"Cen!G40","v":"ZN"},0,{"$f":"Cen!H40","v":0},{"$f":"Cen!I40","v":0},0,null,{"$f":"Cen!J40","v":9016972},{"$f":"Cen!K40","v":0},0,0,null,null,null,null,null,null,null,null,{"$f":"HSw!$J106","v":0},{"$f":"HSwa!$J106","v":0},{"$f":"HSna!$J106","v":0}]
[null,{"$f":"Cen!A41","v":"Sada zdvihačů HS"},{"$f":"Cen!E41","v":"20S2F00.05"},{"$f":"Cen!G41","v":"ZN"},0,{"$f":"Cen!H41","v":0},{"$f":"Cen!I41","v":0},0,null,{"$f":"Cen!J41","v":9017032},{"$f":"Cen!K41","v":0},0,0,null,null,null,null,null,null,null,null,{"$f":"HSw!$J107","v":0},{"$f":"HSwa!$J107","v":0},{"$f":"HSna!$J107","v":0}]
[null,{"$f":"Cen!A42","v":"Sada zdvihačů HS"},{"$f":"Cen!E42","v":"20S2G00.05"},{"$f":"Cen!G42","v":"ZN"},0,{"$f":"Cen!H42","v":0},{"$f":"Cen!I42","v":0},0,null,{"$f":"Cen!J42","v":9017102},{"$f":"Cen!K42","v":0},0,0,null,null,null,null,null,null,null,null,{"$f":"HSw!$J108","v":0},{"$f":"HSwa!$J108","v":0},{"$f":"HSna!$J108","v":0}]
[null,{"$f":"Cen!A43","v":"Sada zdvihačů HS"},{"$f":"Cen!E43","v":"20S2H00.05"},{"$f":"Cen!G43","v":"ZN"},0,{"$f":"Cen!H43","v":0},{"$f":"Cen!I43","v":0},0,null,{"$f":"Cen!J43","v":9017272},{"$f":"Cen!K43","v":0},0,0,null,null,null,null,null,null,null,null,{"$f":"HSw!$J109","v":0},{"$f":"HSwa!$J109","v":0},{"$f":"HSna!$J109","v":0}]
[null,{"$f":"Cen!A44","v":"Sada zdvihačů HS"},{"$f":"Cen!E44","v":"20S2I00.05"},{"$f":"Cen!G44","v":"ZN"},0,{"$f":"Cen!H44","v":0},{"$f":"Cen!I44","v":0},0,null,{"$f":"Cen!J44","v":9017342},{"$f":"Cen!K44","v":0},0,0,null,null,null,null,null,null,null,null,{"$f":"HSw!$J110","v":0},{"$f":"HSwa!$J110","v":0},{"$f":"HSna!$J110","v":0}]
[null,{"$f":"Cen!A45","v":"Sada soustav ramen SERVO-DRIVE"},{"$f":"Cen!E45","v":"21S3500.01"},{"$f":"Cen!G45","v":"ZN"},0,{"$f":"Cen!H45","v":0},{"$f":"Cen!I45","v":0},0,null,{"$f":"Cen!J45","v":1268137},{"$f":"Cen!K45","v":0},0,0,null,null,null,null,null,null,null,null,{"$f":"HSw!$J111","v":0},{"$f":"HSwa!$J111","v":0},{"$f":"HSna!$J111","v":0}]
[null,{"$f":"Cen!A46","v":"Sada ramen HS"},{"$f":"Cen!E46","v":"20S3500.06"},{"$f":"Cen!G46","v":"ZN"},0,{"$f":"Cen!H46","v":0},{"$f":"Cen!I46","v":0},0,null,{"$f":"Cen!J46","v":2808088},{"$f":"Cen!K46","v":0},0,0,null,null,null,null,null,null,null,null,{"$f":"HSw!$J112","v":0},{"$f":"HSwa!$J112","v":0},{"$f":"HSna!$J112","v":0}]
[null,{"$f":"Cen!A47","v":"Sada krytek HS SERVO-DRIVE, sv.šedá"},{"$f":"Cen!E47","v":"21S8000"},{"$f":"Cen!G47","v":"HG/T"},0,{"$f":"Cen!H47","v":0},{"$f":"Cen!I47","v":0},0,null,{"$f":"Cen!J47","v":9025958},{"$f":"Cen!K47","v":0},0,0,null,null,null,null,null,null,null,null,{"$f":"HSw!$J113","v":0},{"$f":"HSwa!$J113","v":0},{"$f":"HSna!$J113","v":0}]
[null,{"$f":"Cen!A48","v":"Sada krytek HS SERVO-DRIVE, tm.šedá"},{"$f":"Cen!E48","v":"21S8000"},{"$f":"Cen!G48","v":"TGR"},{"$f":"IF(I53>0,I53,SUM(N53:AP53))","v":0},{"$f":"Cen!H48","v":0},{"$f":"Cen!I48","v":0},{"$f":"M53","v":0},null,{"$f":"Cen!J48","v":3035756},{"$f":"Cen!K48","v":0},{"$f":"IF(I53=\"x\",0,IF(I53>0,I53,E53))","v":0},{"$f":"PRODUCT(L53,G53)","v":0},null,null,null,null,null,null,null,null,{"$f":"HSw!$J114","v":0},{"$f":"HSwa!$J114","v":0},{"$f":"HSna!$J114","v":0}]
[null,{"$f":"Cen!A49","v":"Sada krytek HS SERVO-DRIVE, bílá"},{"$f":"Cen!E49","v":"21S8000"},{"$f":"Cen!G49","v":"SW/T"},0,{"$f":"Cen!H49","v":0},{"$f":"Cen!I49","v":0},0,null,{"$f":"Cen!J49","v":9025952},{"$f":"Cen!K49","v":0},0,0,null,null,null,null,null,null,null,null,{"$f":"HSw!$J115","v":0},{"$f":"HSwa!$J115","v":0},{"$f":"HSna!$J115","v":0}]
[null,{"$f":"Cen!A50","v":"Sada krytek HS, světle šedá"},{"$f":"Cen!E50","v":"20S8000"},{"$f":"Cen!G50","v":"HG/T"},0,{"$f":"Cen!H50","v":0},{"$f":"Cen!I50","v":0},0,null,{"$f":"Cen!J50","v":8817468},{"$f":"Cen!K50","v":0},0,0,null,null,null,null,null,null,null,null,{"$f":"HSw!$J117","v":0},{"$f":"HSwa!$J117","v":0},{"$f":"HSna!$J117","v":0}]
[null,{"$f":"Cen!A51","v":"Sada krytek HS, tmavě šedá"},{"$f":"Cen!E51","v":"20S8000"},{"$f":"Cen!G51","v":"TGR"},{"$f":"IF(I56>0,I56,SUM(N56:AP56))","v":0},{"$f":"Cen!H51","v":0},{"$f":"Cen!I51","v":0},{"$f":"M56","v":0},null,{"$f":"Cen!J51","v":8896076},{"$f":"Cen!K51","v":0},{"$f":"IF(I56=\"x\",0,IF(I56>0,I56,E56))","v":0},{"$f":"PRODUCT(L56,G56)","v":0},null,null,null,null,null,null,null,null,{"$f":"HSw!$J118","v":0},{"$f":"HSwa!$J118","v":0},{"$f":"HSna!$J118","v":0}]
[null,{"$f":"Cen!A52","v":"Sada krytek HS, bílá"},{"$f":"Cen!E52","v":"20S8000"},{"$f":"Cen!G52","v":"SW/T"},0,{"$f":"Cen!H52","v":0},{"$f":"Cen!I52","v":0},0,null,{"$f":"Cen!J52","v":8817461},{"$f":"Cen!K52","v":0},0,0,null,null,null,null,null,null,null,null,{"$f":"HSw!$J119","v":0},{"$f":"HSwa!$J119","v":0},{"$f":"HSna!$J119","v":0}]
[null,{"$f":"Cen!A53","v":"Tyč příčné stabilizace ke zkrác."},{"$f":"Cen!E53","v":"20Q1061UN"},{"$f":"Cen!G53","v":"EV"},0,{"$f":"Cen!H53","v":0},{"$f":"Cen!I53","v":0},0,null,{"$f":"Cen!J53","v":3626183},{"$f":"Cen!K53","v":0},0,0,null,null,null,null,null,null,null,null,{"$f":"HSw!$J121","v":0},{"$f":"HSwa!$J121","v":0},{"$f":"HSna!$J121","v":0}]
[null,{"$f":"Cen!A54","v":"Spojovací díl příčné stabilizace"},{"$f":"Cen!E54","v":"20Q153ZN"},{"$f":"Cen!G54","v":"EV"},0,{"$f":"Cen!H54","v":0},{"$f":"Cen!I54","v":0},0,null,{"$f":"Cen!J54","v":4767297},{"$f":"Cen!K54","v":0},0,0,null,null,null,null,null,null,null,null,{"$f":"HSw!$J123","v":0},{"$f":"HSwa!$J123","v":0},{"$f":"HSna!$J123","v":0}]
[null,{"$f":"Cen!A55","v":0},{"$f":"Cen!E55","v":0},{"$f":"Cen!G55","v":0},0,null,{"$f":"Cen!I55","v":0},0,null,{"$f":"Cen!J55","v":0},{"$f":"Cen!K55","v":0},0,0,null,null,null,null,null,null,null,null,{"$f":"HSw!$J124","v":0},{"$f":"HSwa!$J124","v":0},{"$f":"HSna!$J124","v":0}]
[null,{"$f":"Cen!A63","v":"AVETOS HL"},{"$f":"Cen!E63","v":0},{"$f":"Cen!G63","v":0},0,null,{"$f":"Cen!I63","v":0},0,null,{"$f":"Cen!J63","v":0},{"$f":"Cen!K63","v":0},0,0]
[null,{"$f":"Cen!A64","v":"Sada zdvihačů HL"},{"$f":"Cen!E64","v":"20L2100.05"},{"$f":"Cen!G64","v":"ZN"},0,{"$f":"Cen!H64","v":0},{"$f":"Cen!I64","v":0},0,null,{"$f":"Cen!J64","v":9007992},{"$f":"Cen!K64","v":0},0,0,null,null,null,null,null,null,null,null,null,null,null,null,{"$f":"HLw!J102","v":0},{"$f":"HLwa!J102","v":0},{"$f":"HLna!J102","v":0}]
[null,{"$f":"Cen!A65","v":"Sada zdvihačů HL"},{"$f":"Cen!E65","v":"20L2300.05"},{"$f":"Cen!G65","v":"ZN"},{"$f":"IF(I63>0,I63,SUM(N63:AP63))","v":0},{"$f":"Cen!H65","v":0},{"$f":"Cen!I65","v":0},0,null,{"$f":"Cen!J65","v":9008052},{"$f":"Cen!K65","v":0},0,0,null,null,null,null,null,null,null,null,null,null,null,null,{"$f":"HLw!J103","v":0},{"$f":"HLwa!J103","v":0},{"$f":"HLna!J103","v":0}]
[null,{"$f":"Cen!A66","v":"Sada zdvihačů HL"},{"$f":"Cen!E66","v":"20L2500.05"},{"$f":"Cen!G66","v":"ZN"},0,{"$f":"Cen!H66","v":0},{"$f":"Cen!I66","v":0},{"$f":"M64","v":0},null,{"$f":"Cen!J66","v":9008122},{"$f":"Cen!K66","v":0},{"$f":"IF(I64=\"x\",0,IF(I64>0,I64,E64))","v":0},{"$f":"PRODUCT(L64,G64)","v":0},null,null,null,null,null,null,null,null,null,null,null,null,{"$f":"HLw!J104","v":0},{"$f":"HLwa!J104","v":0},{"$f":"HLna!J104","v":0}]
[null,{"$f":"Cen!A67","v":"Sada zdvihačů HL"},{"$f":"Cen!E67","v":"20L2700.05"},{"$f":"Cen!G67","v":"ZN"},0,{"$f":"Cen!H67","v":0},{"$f":"Cen!I67","v":0},0,null,{"$f":"Cen!J67","v":9008292},{"$f":"Cen!K67","v":0},0,0,null,null,null,null,null,null,null,null,null,null,null,null,{"$f":"HLw!J105","v":0},{"$f":"HLwa!J105","v":0},{"$f":"HLna!J105","v":0}]
[null,{"$f":"Cen!A68","v":"Sada zdvihačů HL"},{"$f":"Cen!E68","v":"20L2900.05"},{"$f":"Cen!G68","v":"ZN"},0,{"$f":"Cen!H68","v":0},{"$f":"Cen!I68","v":0},0,null,{"$f":"Cen!J68","v":9015362},{"$f":"Cen!K68","v":0},0,0,null,null,null,null,null,null,null,null,null,null,null,null,{"$f":"HLw!J106","v":0},{"$f":"HLwa!J106","v":0},{"$f":"HLna!J106","v":0}]
[null,{"$f":"Cen!A69","v":"Sada soustav ramen SERVO-DRIVE"},{"$f":"Cen!E69","v":"21L3200.01"},{"$f":"Cen!G69","v":"NI"},0,{"$f":"Cen!H69","v":0},{"$f":"Cen!I69","v":0},0,null,{"$f":"Cen!J69","v":7773321},{"$f":"Cen!K69","v":0},0,0,null,null,null,null,null,null,null,null,null,null,null,null,{"$f":"HLw!J107","v":0},{"$f":"HLwa!J107","v":0},{"$f":"HLna!J107","v":0}]
[null,{"$f":"Cen!A70","v":"Sada soustav ramen SERVO-DRIVE"},{"$f":"Cen!E70","v":"21L3500.01"},{"$f":"Cen!G70","v":"NI"},0,{"$f":"Cen!H70","v":0},{"$f":"Cen!I70","v":0},0,null,{"$f":"Cen!J70","v":7380852},{"$f":"Cen!K70","v":0},0,0,null,null,null,null,null,null,null,null,null,null,null,null,{"$f":"HLw!J108","v":0},{"$f":"HLwa!J108","v":0},{"$f":"HLna!J108","v":0}]
[null,{"$f":"Cen!A71","v":"Sada soustav ramen SERVO-DRIVE"},{"$f":"Cen!E71","v":"21L3800.01"},{"$f":"Cen!G71","v":"NI"},0,{"$f":"Cen!H71","v":0},{"$f":"Cen!I71","v":0},0,null,{"$f":"Cen!J71","v":6505500},{"$f":"Cen!K71","v":0},0,0,null,null,null,null,null,null,null,null,null,null,null,null,{"$f":"HLw!J109","v":0},{"$f":"HLwa!J109","v":0},{"$f":"HLna!J109","v":0}]
[null,{"$f":"Cen!A72","v":"Sada soustav ramen SERVO-DRIVE"},{"$f":"Cen!E72","v":"21L3900.01"},{"$f":"Cen!G72","v":"NI"},0,{"$f":"Cen!H72","v":0},{"$f":"Cen!I72","v":0},0,null,{"$f":"Cen!J72","v":6781239},{"$f":"Cen!K72","v":0},0,0,null,null,null,null,null,null,null,null,null,null,null,null,{"$f":"HLw!J110","v":0},{"$f":"HLwa!J110","v":0},{"$f":"HLna!J110","v":0}]
[null,{"$f":"Cen!A73","v":"Sada ramen HL"},{"$f":"Cen!E73","v":"20L3200.06"},{"$f":"Cen!G73","v":"NI"},0,{"$f":"Cen!H73","v":0},{"$f":"Cen!I73","v":0},0,null,{"$f":"Cen!J73","v":5059530},{"$f":"Cen!K73","v":0},0,0,null,null,null,null,null,null,null,null,null,null,null,null,{"$f":"HLw!J111","v":0},{"$f":"HLwa!J111","v":0},{"$f":"HLna!J111","v":0}]
[null,{"$f":"Cen!A74","v":"Sada ramen HL"},{"$f":"Cen!E74","v":"20L3500.06"},{"$f":"Cen!G74","v":"NI"},0,{"$f":"Cen!H74","v":0},{"$f":"Cen!I74","v":0},0,null,{"$f":"Cen!J74","v":9709704},{"$f":"Cen!K74","v":0},0,0,null,null,null,null,null,null,null,null,null,null,null,null,{"$f":"HLw!J112","v":0},{"$f":"HLwa!J112","v":0},{"$f":"HLna!J112","v":0}]
[null,{"$f":"Cen!A75","v":"Sada ramen HL"},{"$f":"Cen!E75","v":"20L3800.06"},{"$f":"Cen!G75","v":"NI"},0,{"$f":"Cen!H75","v":0},{"$f":"Cen!I75","v":0},0,null,{"$f":"Cen!J75","v":2255924},{"$f":"Cen!K75","v":0},0,0,null,null,null,null,null,null,null,null,null,null,null,null,{"$f":"HLw!J113","v":0},{"$f":"HLwa!J113","v":0},{"$f":"HLna!J113","v":0}]
[null,{"$f":"Cen!A76","v":"Sada ramen HL"},{"$f":"Cen!E76","v":"20L3900.06"},{"$f":"Cen!G76","v":"NI"},0,{"$f":"Cen!H76","v":0},{"$f":"Cen!I76","v":0},0,null,{"$f":"Cen!J76","v":6109280},{"$f":"Cen!K76","v":0},0,0,null,null,null,null,null,null,null,null,null,null,null,null,{"$f":"HLw!J114","v":0},{"$f":"HLwa!J114","v":0},{"$f":"HLna!J114","v":0}]
[null,{"$f":"Cen!A77","v":"Sada krytek HL SERVO-DRIVE, sv.šedá"},{"$f":"Cen!E77","v":"21L8000"},{"$f":"Cen!G77","v":"HG/T"},0,{"$f":"Cen!H77","v":0},{"$f":"Cen!I77","v":0},0,null,{"$f":"Cen!J77","v":9025888},{"$f":"Cen!K77","v":0},0,0,null,null,null,null,null,null,null,null,null,null,null,null,{"$f":"HLw!J115","v":0},{"$f":"HLwa!J115","v":0},{"$f":"HLna!J115","v":0}]
[null,{"$f":"Cen!A78","v":"Sada krytek HL SERVO-DRIVE, tm.šedá"},{"$f":"Cen!E78","v":"21L8000"},{"$f":"Cen!G78","v":"TGR"},{"$f":"IF(I76>0,I76,SUM(N76:AP76))","v":0},{"$f":"Cen!H78","v":0},{"$f":"Cen!I78","v":0},{"$f":"M76","v":0},null,{"$f":"Cen!J78","v":7277909},{"$f":"Cen!K78","v":0},{"$f":"IF(I76=\"x\",0,IF(I76>0,I76,E76))","v":0},{"$f":"PRODUCT(L76,G76)","v":0},null,null,null,null,null,null,null,null,null,null,null,null,{"$f":"HLw!J116","v":0},{"$f":"HLwa!J116","v":0},{"$f":"HLna!J116","v":0}]
[null,{"$f":"Cen!A79","v":"Sada krytek HL SERVO-DRIVE, bílá"},{"$f":"Cen!E79","v":"21L8000"},{"$f":"Cen!G79","v":"SW/T"},0,{"$f":"Cen!H79","v":0},{"$f":"Cen!I79","v":0},0,null,{"$f":"Cen!J79","v":9025882},{"$f":"Cen!K79","v":0},0,0,null,null,null,null,null,null,null,null,null,null,null,null,{"$f":"HLw!J117","v":0},{"$f":"HLwa!J117","v":0},{"$f":"HLna!J117","v":0}]
[null,{"$f":"Cen!A80","v":"Sada krytek HL, světle šedá"},{"$f":"Cen!E80","v":"20L8000.01"},{"$f":"Cen!G80","v":"HG/T"},0,{"$f":"Cen!H80","v":0},{"$f":"Cen!I80","v":0},0,null,{"$f":"Cen!J80","v":8817538},{"$f":"Cen!K80","v":0},0,0,null,null,null,null,null,null,null,null,null,null,null,null,{"$f":"HLw!J119","v":0},{"$f":"HLwa!J119","v":0},{"$f":"HLna!J119","v":0}]
[null,{"$f":"Cen!A81","v":"Sada krytek HL, tmavě šedá"},{"$f":"Cen!E81","v":"20L8000.01"},{"$f":"Cen!G81","v":"TGR"},{"$f":"IF(I79>0,I79,SUM(N79:AP79))","v":0},{"$f":"Cen!H81","v":0},{"$f":"Cen!I81","v":0},{"$f":"M79","v":0},null,{"$f":"Cen!J81","v":7438136},{"$f":"Cen!K81","v":0},{"$f":"IF(I79=\"x\",0,IF(I79>0,I79,E79))","v":0},{"$f":"PRODUCT(L79,G79)","v":0},null,null,null,null,null,null,null,null,null,null,null,null,{"$f":"HLw!J120","v":0},{"$f":"HLwa!J120","v":0},{"$f":"HLna!J120","v":0}]
[null,{"$f":"Cen!A82","v":"Sada krytek HL, bílá"},{"$f":"Cen!E82","v":"20L8000.01"},{"$f":"Cen!G82","v":"SW/T"},0,{"$f":"Cen!H82","v":0},{"$f":"Cen!I82","v":0},0,null,{"$f":"Cen!J82","v":8817531},{"$f":"Cen!K82","v":0},0,0,null,null,null,null,null,null,null,null,null,null,null,null,{"$f":"HLw!J121","v":0},{"$f":"HLwa!J121","v":0},{"$f":"HLna!J121","v":0}]
[null,{"$f":"Cen!A83","v":"Tyč příč.stabizace - oválná"},{"$f":"Cen!E83","v":"20Q1061UA"},{"$f":"Cen!G83","v":"EV"},0,{"$f":"Cen!H83","v":0},{"$f":"Cen!I83","v":0},0,null,{"$f":"Cen!J83","v":7799390},{"$f":"Cen!K83","v":0},0,0,null,null,null,null,null,null,null,null,null,null,null,null,{"$f":"HLw!J123","v":0},{"$f":"HLwa!J123","v":0},{"$f":"HLna!J123","v":0}]
[null,{"$f":"Cen!A84","v":"Spojovací díl příčné stabilizace"},{"$f":"Cen!E84","v":"20Q153ZA"},{"$f":"Cen!G84","v":"EV"},0,{"$f":"Cen!H84","v":0},{"$f":"Cen!I84","v":0},0,null,{"$f":"Cen!J84","v":5989274},{"$f":"Cen!K84","v":0},0,0,null,null,null,null,null,null,null,null,null,null,null,null,{"$f":"HLw!J125","v":0},{"$f":"HLwa!J125","v":0},{"$f":"HLna!J125","v":0}]
[null,{"$f":"Cen!A85","v":0},{"$f":"Cen!E85","v":0},{"$f":"Cen!G85","v":0},0,null,{"$f":"Cen!I85","v":0},0,null,{"$f":"Cen!J85","v":0},{"$f":"Cen!K85","v":0},0,0,null,null,null,null,null,null,null,null,null,null,null,null,{"$f":"HLw!J126","v":0},{"$f":"HLwa!J126","v":0},{"$f":"HLna!J126","v":0}]
[null,{"$f":"Cen!A91","v":"AVETOS HK top"},{"$f":"Cen!E91","v":0},{"$f":"Cen!G91","v":0},0,null,{"$f":"Cen!I91","v":0},0,null,{"$f":"Cen!J91","v":0},{"$f":"Cen!K91","v":0},0,0]
[null,{"$f":"Cen!A92","v":"Sada zdvihačů HK top, na vruty"},{"$f":"Cen!E92","v":"22K2300"},{"$f":"Cen!G92","v":"ZN"},0,{"$f":"Cen!H92","v":0},{"$f":"Cen!I92","v":0},0,null,{"$f":"Cen!J92","v":7628604},{"$f":"Cen!K92","v":0},0,0,null,null,null,null,null,null,null,null,null,null,null,null,null,null,null,null,{"$f":"HKw!J102","v":0},{"$f":"HKwa!J102","v":0},{"$f":"HKna!J102","v":0}]
[null,{"$f":"Cen!A93","v":"Sada zdvihačů HK top, na vruty"},{"$f":"Cen!E93","v":"22K2500"},{"$f":"Cen!G93","v":"ZN"},0,{"$f":"Cen!H93","v":0},{"$f":"Cen!I93","v":0},0,null,{"$f":"Cen!J93","v":1069731},{"$f":"Cen!K93","v":0},0,0,null,null,null,null,null,null,null,null,null,null,null,null,null,null,null,null,{"$f":"HKw!J103","v":0},{"$f":"HKwa!J103","v":0},{"$f":"HKna!J103","v":0}]
[null,{"$f":"Cen!A94","v":"Sada zdvihačů HK top, na vruty"},{"$f":"Cen!E94","v":"22K2700"},{"$f":"Cen!G94","v":"ZN"},2,{"$f":"Cen!H94","v":0},{"$f":"Cen!I94","v":0},0,null,{"$f":"Cen!J94","v":8762537},{"$f":"Cen!K94","v":0},2,0,null,null,null,null,null,null,null,null,null,null,null,null,null,null,null,null,{"$f":"HKw!J104","v":2},{"$f":"HKwa!J104","v":0},{"$f":"HKna!J104","v":0}]
[null,{"$f":"Cen!A95","v":"Sada zdvihačů HK top, na vruty"},{"$f":"Cen!E95","v":"22K2900"},{"$f":"Cen!G95","v":"ZN"},0,{"$f":"Cen!H95","v":0},{"$f":"Cen!I95","v":0},0,null,{"$f":"Cen!J95","v":6635469},{"$f":"Cen!K95","v":0},0,0,null,null,null,null,null,null,null,null,null,null,null,null,null,null,null,null,{"$f":"HKw!J105","v":0},{"$f":"HKwa!J105","v":0},{"$f":"HKna!J105","v":0}]
[null,{"$f":"Cen!A96","v":"Sada zdvihačů HK top, se šrouby"},{"$f":"Cen!E96","v":"22K2310"},{"$f":"Cen!G96","v":"ZN"},{"$f":"IF(I89>0,I89,SUM(N89:AP89))","v":0},{"$f":"Cen!H96","v":0},{"$f":"Cen!I96","v":0},{"$f":"M89","v":0},null,{"$f":"Cen!J96","v":8508486},{"$f":"Cen!K96","v":0},0,null,null,null,null,null,null,null,null,null,null,null,null,null,null,null,null,null,{"$f":"HKw!J106","v":0},{"$f":"HKwa!J106","v":0},{"$f":"HKna!J106","v":0}]
[null,{"$f":"Cen!A97","v":"Sada zdvihačů HK top, se šrouby"},{"$f":"Cen!E97","v":"22K2510"},{"$f":"Cen!G97","v":"ZN"},{"$f":"IF(I90>0,I90,SUM(N90:AP90))","v":0},{"$f":"Cen!H97","v":0},{"$f":"Cen!I97","v":0},{"$f":"M90","v":0},null,{"$f":"Cen!J97","v":7690323},{"$f":"Cen!K97","v":0},0,null,null,null,null,null,null,null,null,null,null,null,null,null,null,null,null,null,{"$f":"HKw!J107","v":0},{"$f":"HKwa!J107","v":0},{"$f":"HKna!J107","v":0}]
[null,{"$f":"Cen!A98","v":"Sada zdvihačů HK top, se šrouby"},{"$f":"Cen!E98","v":"22K2710"},{"$f":"Cen!G98","v":"ZN"},{"$f":"IF(I91>0,I91,SUM(N91:AP91))","v":0},{"$f":"Cen!H98","v":0},{"$f":"Cen!I98","v":0},{"$f":"M91","v":0},null,{"$f":"Cen!J98","v":1388111},{"$f":"Cen!K98","v":0},0,null,null,null,null,null,null,null,null,null,null,null,null,null,null,null,null,null,{"$f":"HKw!J108","v":0},{"$f":"HKwa!J108","v":0},{"$f":"HKna!J108","v":0}]
[null,{"$f":"Cen!A99","v":"Sada zdvihačů HK top, se šrouby"},{"$f":"Cen!E99","v":"22K2910"},{"$f":"Cen!G99","v":"ZN"},{"$f":"IF(I92>0,I92,SUM(N92:AP92))","v":0},{"$f":"Cen!H99","v":0},{"$f":"Cen!I99","v":0},{"$f":"M92","v":0},null,{"$f":"Cen!J99","v":5482270},{"$f":"Cen!K99","v":0},0,null,null,null,null,null,null,null,null,null,null,null,null,null,null,null,null,null,{"$f":"HKw!J109","v":0},{"$f":"HKwa!J109","v":0},{"$f":"HKna!J109","v":0}]
[null,{"$f":"Cen!A100","v":"Sada krytek HK top, SERVO-DRIVE, sv.šedá"},{"$f":"Cen!E100","v":"23K8000"},{"$f":"Cen!G100","v":"HG "},0,{"$f":"Cen!H100","v":0},{"$f":"Cen!I100","v":0},0,null,{"$f":"Cen!J100","v":2111215},{"$f":"Cen!K100","v":0},0,0,null,null,null,null,null,null,null,null,null,null,null,null,null,null,null,null,{"$f":"HKw!J110","v":0},{"$f":"HKwa!J110","v":0},{"$f":"HKna!J110","v":0}]
[null,{"$f":"Cen!A101","v":"Sada krytek HK top, SERVO-DRIVE, tm.šedá"},{"$f":"Cen!E101","v":"23K8000"},{"$f":"Cen!G101","v":"TGR"},{"$f":"IF(I94>0,I94,SUM(N94:AP94))","v":0},{"$f":"Cen!H101","v":0},{"$f":"Cen!I101","v":0},{"$f":"M94","v":0},null,{"$f":"Cen!J101","v":8732964},{"$f":"Cen!K101","v":0},{"$f":"IF(I94=\"x\",0,IF(I94>0,I94,E94))","v":0},{"$f":"PRODUCT(L94,G94)","v":0},null,null,null,null,null,null,null,null,null,null,null,null,null,null,null,null,{"$f":"HKw!J111","v":0},{"$f":"HKwa!J111","v":0},{"$f":"HKna!J111","v":0}]
[null,{"$f":"Cen!A102","v":"Sada krytek HK top, SERVO-DRIVE, bílá"},{"$f":"Cen!E102","v":"23K8000"},{"$f":"Cen!G102","v":"SW "},{"$f":"IF(I95>0,I95,SUM(N95:AP95))","v":2},{"$f":"Cen!H102","v":0},{"$f":"Cen!I102","v":0},0,null,{"$f":"Cen!J102","v":1065531},{"$f":"Cen!K102","v":0},2,0,null,null,null,null,null,null,null,null,null,null,null,null,null,null,null,null,{"$f":"HKw!J112","v":2},{"$f":"HKwa!J112","v":0},{"$f":"HKna!J112","v":0}]
[null,{"$f":"Cen!A103","v":"Sada krytek HK top, světle šedá"},{"$f":"Cen!E103","v":"22K8000"},{"$f":"Cen!G103","v":"HG "},0,{"$f":"Cen!H103","v":0},{"$f":"Cen!I103","v":0},0,null,{"$f":"Cen!J103","v":7985876},{"$f":"Cen!K103","v":0},0,0,null,null,null,null,null,null,null,null,null,null,null,null,null,null,null,null,{"$f":"HKw!J114","v":0},{"$f":"HKwa!J114","v":0},{"$f":"HKna!J114","v":0}]
[null,{"$f":"Cen!A104","v":"Sada krytek HK top, tmavě šedá"},{"$f":"Cen!E104","v":"22K8000"},{"$f":"Cen!G104","v":"TGR"},{"$f":"IF(I97>0,I97,SUM(N97:AP97))","v":0},{"$f":"Cen!H104","v":0},{"$f":"Cen!I104","v":0},{"$f":"M97","v":0},null,{"$f":"Cen!J104","v":7926396},{"$f":"Cen!K104","v":0},{"$f":"IF(I97=\"x\",0,IF(I97>0,I97,E97))","v":0},{"$f":"PRODUCT(L97,G97)","v":0},null,null,null,null,null,null,null,null,null,null,null,null,null,null,null,null,{"$f":"HKw!J115","v":0},{"$f":"HKwa!J115","v":0},{"$f":"HKna!J115","v":0}]
[null,{"$f":"Cen!A105","v":"Sada krytek HK top, bílá"},{"$f":"Cen!E105","v":"22K8000"},{"$f":"Cen!G105","v":"SW "},0,{"$f":"Cen!H105","v":0},{"$f":"Cen!I105","v":0},0,null,{"$f":"Cen!J105","v":4824637},{"$f":"Cen!K105","v":0},0,0,null,null,null,null,null,null,null,null,null,null,null,null,null,null,null,null,{"$f":"HKw!J116","v":0},{"$f":"HKwa!J116","v":0},{"$f":"HKna!J116","v":0}]
[null,{"$f":"Cen!A108","v":0},{"$f":"Cen!E108","v":0},{"$f":"Cen!G108","v":0},0,{"$f":"Cen!H108","v":0},{"$f":"Cen!I108","v":0},0,null,{"$f":"Cen!J108","v":0},{"$f":"Cen!K108","v":0},0,0,null,null,null,null,null,null,null,null,null,null,null,null,null,null,null,null,{"$f":"HKw!J120","v":0},{"$f":"HKwa!J120","v":0},{"$f":"HKna!J120","v":0}]
[null,{"$f":"Cen!A110","v":"AVETOS HK top TIP-ON"},{"$f":"Cen!E110","v":0},{"$f":"Cen!G110","v":0},0,{"$f":"Cen!H110","v":0},{"$f":"Cen!I110","v":0},0,null,{"$f":"Cen!J110","v":0},{"$f":"Cen!K110","v":0},0,0,null,null,null,null,null,null,null,null,null,null,null,null,null,null,null,null,{"$f":"HKw!J122","v":0},{"$f":"HKwa!J122","v":0},{"$f":"HKna!J122","v":0}]
[null,{"$f":"Cen!A111","v":"Sada zdvihačů HK top, TIP-ON, na vruty"},{"$f":"Cen!E111","v":"22K2300T"},{"$f":"Cen!G111","v":"ZN"},0,{"$f":"Cen!H111","v":0},{"$f":"Cen!I111","v":0},0,null,{"$f":"Cen!J111","v":4205572},{"$f":"Cen!K111","v":0},0,0,null,null,null,null,null,null,null,null,null,null,null,null,null,null,null,null,{"$f":"HKw!J123","v":0},{"$f":"HKwa!J123","v":0},{"$f":"HKna!J123","v":0}]
[null,{"$f":"Cen!A112","v":"Sada zdvihačů HK top, TIP-ON, na vruty"},{"$f":"Cen!E112","v":"22K2500T"},{"$f":"Cen!G112","v":"ZN"},0,{"$f":"Cen!H112","v":0},{"$f":"Cen!I112","v":0},0,null,{"$f":"Cen!J112","v":2753075},{"$f":"Cen!K112","v":0},0,0,null,null,null,null,null,null,null,null,null,null,null,null,null,null,null,null,{"$f":"HKw!J124","v":0},{"$f":"HKwa!J124","v":0},{"$f":"HKna!J124","v":0}]
[null,{"$f":"Cen!A113","v":"Sada zdvihačů HK top, TIP-ON, na vruty"},{"$f":"Cen!E113","v":"22K2700T"},{"$f":"Cen!G113","v":"ZN"},0,{"$f":"Cen!H113","v":0},{"$f":"Cen!I113","v":0},0,null,{"$f":"Cen!J113","v":2855682},{"$f":"Cen!K113","v":0},0,0,null,null,null,null,null,null,null,null,null,null,null,null,null,null,null,null,{"$f":"HKw!J125","v":0},{"$f":"HKwa!J125","v":0},{"$f":"HKna!J125","v":0}]
[null,{"$f":"Cen!A114","v":"Sada zdvihačů HK top, TIP-ON, na vruty"},{"$f":"Cen!E114","v":"22K2900T"},{"$f":"Cen!G114","v":"ZN"},0,{"$f":"Cen!H114","v":0},{"$f":"Cen!I114","v":0},0,null,{"$f":"Cen!J114","v":8220095},{"$f":"Cen!K114","v":0},0,0,null,null,null,null,null,null,null,null,null,null,null,null,null,null,null,null,{"$f":"HKw!J126","v":0},{"$f":"HKwa!J126","v":0},{"$f":"HKna!J126","v":0}]
[null,{"$f":"Cen!A115","v":"Sada zdvihačů HK top, TIP-ON, se šrouby"},{"$f":"Cen!E115","v":"22K2310T"},{"$f":"Cen!G115","v":"ZN"},{"$f":"IF(I105>0,I105,SUM(N105:AP105))","v":0},{"$f":"Cen!H115","v":0},{"$f":"Cen!I115","v":0},{"$f":"M105","v":0},null,{"$f":"Cen!J115","v":9708169},{"$f":"Cen!K115","v":0},{"$f":"IF(I105=\"x\",0,IF(I105>0,I105,E105))","v":0},{"$f":"PRODUCT(L105,G105)","v":0},null,null,null,null,null,null,null,null,null,null,null,null,null,null,null,null,{"$f":"HKw!J127","v":0},{"$f":"HKwa!J127","v":0},{"$f":"HKna!J127","v":0}]
[null,{"$f":"Cen!A116","v":"Sada zdvihačů HK top, TIP-ON, se šrouby"},{"$f":"Cen!E116","v":"22K2510T"},{"$f":"Cen!G116","v":"ZN"},{"$f":"IF(I106>0,I106,SUM(N106:AP106))","v":0},{"$f":"Cen!H116","v":0},{"$f":"Cen!I116","v":0},{"$f":"M106","v":0},null,{"$f":"Cen!J116","v":2414504},{"$f":"Cen!K116","v":0},{"$f":"IF(I106=\"x\",0,IF(I106>0,I106,E106))","v":0},{"$f":"PRODUCT(L106,G106)","v":0},null,null,null,null,null,null,null,null,null,null,null,null,null,null,null,null,{"$f":"HKw!J128","v":0},{"$f":"HKwa!J128","v":0},{"$f":"HKna!J128","v":0}]
[null,{"$f":"Cen!A117","v":"Sada zdvihačů HK top, TIP-ON, se šrouby"},{"$f":"Cen!E117","v":"22K2710T"},{"$f":"Cen!G117","v":"ZN"},{"$f":"IF(I107>0,I107,SUM(N107:AP107))","v":0},{"$f":"Cen!H117","v":0},{"$f":"Cen!I117","v":0},{"$f":"M107","v":0},null,{"$f":"Cen!J117","v":1422889},{"$f":"Cen!K117","v":0},{"$f":"IF(I107=\"x\",0,IF(I107>0,I107,E107))","v":0},{"$f":"PRODUCT(L107,G107)","v":0},null,null,null,null,null,null,null,null,null,null,null,null,null,null,null,null,{"$f":"HKw!J129","v":0},{"$f":"HKwa!J129","v":0},{"$f":"HKna!J129","v":0}]
[null,{"$f":"Cen!A118","v":"Sada zdvihačů HK top, TIP-ON, se šrouby"},{"$f":"Cen!E118","v":"22K2910T"},{"$f":"Cen!G118","v":"ZN"},{"$f":"IF(I108>0,I108,SUM(N108:AP108))","v":0},{"$f":"Cen!H118","v":0},{"$f":"Cen!I118","v":0},{"$f":"M108","v":0},null,{"$f":"Cen!J118","v":7716804},{"$f":"Cen!K118","v":0},{"$f":"IF(I108=\"x\",0,IF(I108>0,I108,E108))","v":0},{"$f":"PRODUCT(L108,G108)","v":0},null,null,null,null,null,null,null,null,null,null,null,null,null,null,null,null,{"$f":"HKw!J130","v":0},{"$f":"HKwa!J130","v":0},{"$f":"HKna!J130","v":0}]
[null,{"$f":"Cen!A119","v":0},{"$f":"Cen!E119","v":0},{"$f":"Cen!G119","v":0},0,{"$f":"Cen!H119","v":0},{"$f":"Cen!I119","v":0},0,null,{"$f":"Cen!J119","v":0},{"$f":"Cen!K119","v":0},0,0]
[null,{"$f":"Cen!A120","v":"Sada čel.kování pro dřev. čela"},{"$f":"Cen!E120","v":"20S4200"},{"$f":"Cen!G120","v":"NI"},2,{"$f":"Cen!H120","v":0},{"$f":"Cen!I120","v":0},0,null,{"$f":"Cen!J120","v":7241746},{"$f":"Cen!K120","v":0},2,0,null,null,null,null,null,null,null,null,{"$f":"HSw!$J128","v":0},{"$f":"HSwa!$J128","v":0},{"$f":"HSna!$J128","v":0},null,{"$f":"HLw!$J128","v":0},{"$f":"HLwa!$J128","v":0},{"$f":"HLna!$J128","v":0},null,{"$f":"HKw!J136","v":2},{"$f":"HKwa!J136","v":0},{"$f":"HKna!J136","v":0}]
[null,{"$f":"Cen!A121","v":"Čelní.kování pro dřev. čela EXPANDO"},{"$f":"Cen!E121","v":"20S42E1"},{"$f":"Cen!G121","v":"NI"},0,{"$f":"Cen!H121","v":0},{"$f":"Cen!I121","v":0},0,null,{"$f":"Cen!J121","v":8860933},{"$f":"Cen!K121","v":0},0,0,null,null,null,null,null,null,null,null,{"$f":"HSw!$J129","v":0},{"$f":"HSwa!$J129","v":0},{"$f":"HSna!$J129","v":0},null,{"$f":"HLw!$J129","v":0},{"$f":"HLwa!$J129","v":0},{"$f":"HLna!$J129","v":0},null,{"$f":"HKw!J137","v":0},null,{"$f":"HKna!J137","v":0}]
[null,{"$f":"Cen!A122","v":"Sada čel.kování pro úzké alurámečky"},{"$f":"Cen!E122","v":"20S4200A"},{"$f":"Cen!G122","v":"NI"},0,{"$f":"Cen!H122","v":0},{"$f":"Cen!I122","v":0},0,null,{"$f":"Cen!J122","v":7484703},{"$f":"Cen!K122","v":0},0,0,null,null,null,null,null,null,null,null,{"$f":"HSw!$J130","v":0},{"$f":"HSwa!$J130","v":0},{"$f":"HSna!$J130","v":0},null,{"$f":"HLw!$J130","v":0},{"$f":"HLwa!$J130","v":0},{"$f":"HLna!$J130","v":0},null,{"$f":"HKw!J138","v":0},{"$f":"HKwa!J138","v":0},{"$f":"HKna!J138","v":0}]
[null,{"$f":"Cen!A123","v":0},{"$f":"Cen!E123","v":0},{"$f":"Cen!G123","v":0},0,{"$f":"Cen!H123","v":0},{"$f":"Cen!I123","v":0},0,null,{"$f":"Cen!J123","v":0},{"$f":"Cen!K123","v":0},0,0]
[null,{"$f":"Cen!A124","v":0},{"$f":"Cen!E124","v":0},{"$f":"Cen!G124","v":0},0,{"$f":"Cen!H124","v":0},{"$f":"Cen!I124","v":0},0,null,{"$f":"Cen!J124","v":0},{"$f":"Cen!K124","v":0},0,0]
[null,{"$f":"Cen!A125","v":"AVETOS HK-S"},{"$f":"Cen!E125","v":0},{"$f":"Cen!G125","v":0},0,{"$f":"Cen!H125","v":0},{"$f":"Cen!I125","v":0},0,null,{"$f":"Cen!J125","v":0},{"$f":"Cen!K125","v":0},0,0]
[null,{"$f":"Cen!A126","v":"Sada zdvihačů, světle šedé krytky"},{"$f":"Cen!E126","v":"20K2B00.06"},{"$f":"Cen!G126","v":"HGIG"},0,{"$f":"Cen!H126","v":0},{"$f":"Cen!I126","v":0},0,null,{"$f":"Cen!J126","v":7793681},{"$f":"Cen!K126","v":0},0,0,null,null,null,null,null,null,null,null,null,null,null,null,null,null,null,null,null,null,null,null,{"$f":"HKSw!J102","v":0},{"$f":"HKSwa!J102","v":0},{"$f":"HKSna!J102","v":0}]
[null,{"$f":"Cen!A127","v":"Sada zdvihačů, tmavě šedé krytky"},{"$f":"Cen!E127","v":"20K2B00.06"},{"$f":"Cen!G127","v":"TGIG"},{"$f":"IF(I117>0,I117,SUM(N117:AP117))","v":0},{"$f":"Cen!H127","v":0},{"$f":"Cen!I127","v":0},{"$f":"M117","v":0},null,{"$f":"Cen!J127","v":1314203},{"$f":"Cen!K127","v":0},{"$f":"IF(I117=\"x\",0,IF(I117>0,I117,E117))","v":0},{"$f":"PRODUCT(L117,G117)","v":0},null,null,null,null,null,null,null,null,null,null,null,null,null,null,null,null,null,null,null,null,{"$f":"HKSw!J103","v":0},{"$f":"HKSwa!J103","v":0},{"$f":"HKSna!J103","v":0}]
[null,{"$f":"Cen!A128","v":"Sada zdvihačů, bílé krytky"},{"$f":"Cen!E128","v":"20K2B00.06"},{"$f":"Cen!G128","v":"SWIG"},0,{"$f":"Cen!H128","v":0},{"$f":"Cen!I128","v":0},0,null,{"$f":"Cen!J128","v":8195173},{"$f":"Cen!K128","v":0},0,0,null,null,null,null,null,null,null,null,null,null,null,null,null,null,null,null,null,null,null,null,{"$f":"HKSw!J104","v":0},{"$f":"HKSwa!J104","v":0},{"$f":"HKSna!J104","v":0}]
[null,{"$f":"Cen!A129","v":"Sada zdvihačů, světle šedé krytky"},{"$f":"Cen!E129","v":"20K2C00.06"},{"$f":"Cen!G129","v":"HGIG"},0,{"$f":"Cen!H129","v":0},{"$f":"Cen!I129","v":0},0,null,{"$f":"Cen!J129","v":3472109},{"$f":"Cen!K129","v":0},0,0,null,null,null,null,null,null,null,null,null,null,null,null,null,null,null,null,null,null,null,null,{"$f":"HKSw!J105","v":0},{"$f":"HKSwa!J105","v":0},{"$f":"HKSna!J105","v":0}]
[null,{"$f":"Cen!A130","v":"Sada zdvihačů, tmavě šedé krytky"},{"$f":"Cen!E130","v":"20K2C00.06"},{"$f":"Cen!G130","v":"TGIG"},{"$f":"IF(I120>0,I120,SUM(N120:AP120))","v":0},{"$f":"Cen!H130","v":0},{"$f":"Cen!I130","v":0},{"$f":"M120","v":0},null,{"$f":"Cen!J130","v":1834965},{"$f":"Cen!K130","v":0},{"$f":"IF(I120=\"x\",0,IF(I120>0,I120,E120))","v":0},{"$f":"PRODUCT(L120,G120)","v":0},null,null,null,null,null,null,null,null,null,null,null,null,null,null,null,null,null,null,null,null,{"$f":"HKSw!J106","v":0},{"$f":"HKSwa!J106","v":0},{"$f":"HKSna!J106","v":0}]
[null,{"$f":"Cen!A131","v":"Sada zdvihačů, bílé krytky"},{"$f":"Cen!E131","v":"20K2C00.06"},{"$f":"Cen!G131","v":"SWIG"},0,{"$f":"Cen!H131","v":0},{"$f":"Cen!I131","v":0},0,null,{"$f":"Cen!J131","v":6816509},{"$f":"Cen!K131","v":0},0,0,null,null,null,null,null,null,null,null,null,null,null,null,null,null,null,null,null,null,null,null,{"$f":"HKSw!J107","v":0},{"$f":"HKSwa!J107","v":0},{"$f":"HKSna!J107","v":0}]
[null,{"$f":"Cen!A132","v":"Sada zdvihačů, světle šedé krytky"},{"$f":"Cen!E132","v":"20K2E00.06"},{"$f":"Cen!G132","v":"HGIG"},{"$f":"IF(I122>0,I122,SUM(N122:AP122))","v":0},{"$f":"Cen!H132","v":0},{"$f":"Cen!I132","v":0},0,null,{"$f":"Cen!J132","v":9851106},{"$f":"Cen!K132","v":0},0,0,null,null,null,null,null,null,null,null,null,null,null,null,null,null,null,null,null,null,null,null,{"$f":"HKSw!J108","v":0},{"$f":"HKSwa!J108","v":0},{"$f":"HKSna!J108","v":0}]
[null,{"$f":"Cen!A133","v":"Sada zdvihačů, tmavě šedé krytky"},{"$f":"Cen!E133","v":"20K2E00.06"},{"$f":"Cen!G133","v":"TGIG"},{"$f":"IF(I123>0,I123,SUM(N123:AP123))","v":0},{"$f":"Cen!H133","v":0},{"$f":"Cen!I133","v":0},{"$f":"M123","v":0},null,{"$f":"Cen!J133","v":9248128},{"$f":"Cen!K133","v":0},{"$f":"IF(I123=\"x\",0,IF(I123>0,I123,E123))","v":0},{"$f":"PRODUCT(L123,G123)","v":0},null,null,null,null,null,null,null,null,null,null,null,null,null,null,null,null,null,null,null,null,{"$f":"HKSw!J109","v":0},{"$f":"HKSwa!J109","v":0},{"$f":"HKSna!J109","v":0}]
[null,{"$f":"Cen!A134","v":"Sada zdvihačů, bílé krytky"},{"$f":"Cen!E134","v":"20K2E00.06"},{"$f":"Cen!G134","v":"SWIG"},{"$f":"IF(I124>0,I124,SUM(N124:AP124))","v":0},{"$f":"Cen!H134","v":0},{"$f":"Cen!I134","v":0},{"$f":"M124","v":0},null,{"$f":"Cen!J134","v":3420861},{"$f":"Cen!K134","v":0},{"$f":"IF(I124=\"x\",0,IF(I124>0,I124,E124))","v":0},{"$f":"PRODUCT(L124,G124)","v":0},null,null,null,null,null,null,null,null,null,null,null,null,null,null,null,null,null,null,null,null,{"$f":"HKSw!J110","v":0},{"$f":"HKSwa!J110","v":0},{"$f":"HKSna!J110","v":0}]
[null,{"$f":"Cen!A135","v":0},{"$f":"Cen!E135","v":0},{"$f":"Cen!G135","v":0},{"$f":"IF(I125>0,I125,SUM(N125:AP125))","v":0},{"$f":"Cen!H135","v":0},{"$f":"Cen!I135","v":0},{"$f":"M125","v":0},null,{"$f":"Cen!J135","v":0},{"$f":"Cen!K135","v":0},0,0,null,null,null,null,null,null,null,null,null,null,null,null,null,null,null,null,null,null,null,null,{"$f":"HKSw!J111","v":0},{"$f":"HKSwa!J111","v":0},{"$f":"HKSna!J111","v":0}]
[null,{"$f":"Cen!A136","v":"Sada zdvihačů TIP-ON, světle šedé krytky"},{"$f":"Cen!E136","v":"20K2B00T06"},{"$f":"Cen!G136","v":"HGIG"},{"$f":"IF(I126>0,I126,SUM(N126:AP126))","v":0},{"$f":"Cen!H136","v":0},{"$f":"Cen!I136","v":0},{"$f":"M126","v":0},null,{"$f":"Cen!J136","v":2133123},{"$f":"Cen!K136","v":0},0,0,null,null,null,null,null,null,null,null,null,null,null,null,null,null,null,null,null,null,null,null,{"$f":"HKSw!$J112","v":0},{"$f":"HKSwa!$J112","v":0},{"$f":"HKSna!$J112","v":0}]
[null,{"$f":"Cen!A137","v":"Sada zdvihačů TIP-ON, tmavě šedé krytky"},{"$f":"Cen!E137","v":"20K2B00T06"},{"$f":"Cen!G137","v":"TGIG"},{"$f":"IF(I127>0,I127,SUM(N127:AP127))","v":0},{"$f":"Cen!H137","v":0},{"$f":"Cen!I137","v":0},{"$f":"M127","v":0},null,{"$f":"Cen!J137","v":9870309},{"$f":"Cen!K137","v":0},{"$f":"IF(I127=\"x\",0,IF(I127>0,I127,E127))","v":0},{"$f":"PRODUCT(L127,G127)","v":0},null,null,null,null,null,null,null,null,null,null,null,null,null,null,null,null,null,null,null,null,{"$f":"HKSw!$J113","v":0},{"$f":"HKSwa!$J113","v":0},{"$f":"HKSna!$J113","v":0}]
[null,{"$f":"Cen!A138","v":"Sada zdvihačů TIP-ON, bílé krytky"},{"$f":"Cen!E138","v":"20K2B00T06"},{"$f":"Cen!G138","v":"SWIG"},0,{"$f":"Cen!H138","v":0},{"$f":"Cen!I138","v":0},0,null,{"$f":"Cen!J138","v":1449278},{"$f":"Cen!K138","v":0},0,0,null,null,null,null,null,null,null,null,null,null,null,null,null,null,null,null,null,null,null,null,{"$f":"HKSw!$J114","v":0},{"$f":"HKSwa!$J114","v":0},{"$f":"HKSna!$J114","v":0}]
[null,{"$f":"Cen!A139","v":"Sada zdvihačů TIP-ON, světle šedé krytky"},{"$f":"Cen!E139","v":"20K2C00T06"},{"$f":"Cen!G139","v":"HGIG"},0,{"$f":"Cen!H139","v":0},{"$f":"Cen!I139","v":0},0,null,{"$f":"Cen!J139","v":6990853},{"$f":"Cen!K139","v":0},0,0,null,null,null,null,null,null,null,null,null,null,null,null,null,null,null,null,null,null,null,null,{"$f":"HKSw!$J115","v":0},{"$f":"HKSwa!$J115","v":0},{"$f":"HKSna!$J115","v":0}]
[null,{"$f":"Cen!A140","v":"Sada zdvihačů TIP-ON, tmavě šedé krytky"},{"$f":"Cen!E140","v":"20K2C00T06"},{"$f":"Cen!G140","v":"TGIG"},{"$f":"IF(I130>0,I130,SUM(N130:AP130))","v":0},{"$f":"Cen!H140","v":0},{"$f":"Cen!I140","v":0},{"$f":"M130","v":0},null,{"$f":"Cen!J140","v":3405617},{"$f":"Cen!K140","v":0},{"$f":"IF(I130=\"x\",0,IF(I130>0,I130,E130))","v":0},{"$f":"PRODUCT(L130,G130)","v":0},null,null,null,null,null,null,null,null,null,null,null,null,null,null,null,null,null,null,null,null,{"$f":"HKSw!$J116","v":0},{"$f":"HKSwa!$J116","v":0},{"$f":"HKSna!$J116","v":0}]
[null,{"$f":"Cen!A141","v":"Sada zdvihačů TIP-ON, bílé krytky"},{"$f":"Cen!E141","v":"20K2C00T06"},{"$f":"Cen!G141","v":"SWIG"},0,{"$f":"Cen!H141","v":0},{"$f":"Cen!I141","v":0},0,null,{"$f":"Cen!J141","v":7769517},{"$f":"Cen!K141","v":0},0,0,null,null,null,null,null,null,null,null,null,null,null,null,null,null,null,null,null,null,null,null,{"$f":"HKSw!$J117","v":0},{"$f":"HKSwa!$J117","v":0},{"$f":"HKSna!$J117","v":0}]
[null,{"$f":"Cen!A142","v":"Sada zdvihačů TIP-ON, světle šedé krytky"},{"$f":"Cen!E142","v":"20K2E00T06"},{"$f":"Cen!G142","v":"HGIG"},0,{"$f":"Cen!H142","v":0},{"$f":"Cen!I142","v":0},0,null,{"$f":"Cen!J142","v":5494621},{"$f":"Cen!K142","v":0},0,0,null,null,null,null,null,null,null,null,null,null,null,null,null,null,null,null,null,null,null,null,{"$f":"HKSw!$J118","v":0},{"$f":"HKSwa!$J118","v":0},{"$f":"HKSna!$J118","v":0}]
[null,{"$f":"Cen!A143","v":"Sada zdvihačů TIP-ON, tmavě šedé krytky"},{"$f":"Cen!E143","v":"20K2E00T06"},{"$f":"Cen!G143","v":"TGIG"},{"$f":"IF(I133>0,I133,SUM(N133:AP133))","v":0},{"$f":"Cen!H143","v":0},{"$f":"Cen!I143","v":0},{"$f":"M133","v":0},null,{"$f":"Cen!J143","v":9373568},{"$f":"Cen!K143","v":0},{"$f":"IF(I133=\"x\",0,IF(I133>0,I133,E133))","v":0},{"$f":"PRODUCT(L133,G133)","v":0},null,null,null,null,null,null,null,null,null,null,null,null,null,null,null,null,null,null,null,null,{"$f":"HKSw!$J119","v":0},{"$f":"HKSwa!$J119","v":0},{"$f":"HKSna!$J119","v":0}]
[null,{"$f":"Cen!A144","v":"Sada zdvihačů TIP-ON, bílé krytky"},{"$f":"Cen!E144","v":"20K2E00T06"},{"$f":"Cen!G144","v":"SWIG"},0,{"$f":"Cen!H144","v":0},{"$f":"Cen!I144","v":0},0,null,{"$f":"Cen!J144","v":7935712},{"$f":"Cen!K144","v":0},0,0,null,null,null,null,null,null,null,null,null,null,null,null,null,null,null,null,null,null,null,null,{"$f":"HKSw!$J120","v":0},{"$f":"HKSwa!$J120","v":0},{"$f":"HKSna!$J120","v":0}]
[null,{"$f":"Cen!A145","v":0},{"$f":"Cen!E145","v":0},{"$f":"Cen!G145","v":0},0,{"$f":"Cen!H145","v":0},{"$f":"Cen!I145","v":0},0,null,{"$f":"Cen!J145","v":0},{"$f":"Cen!K145","v":0},0,0]
[null,{"$f":"Cen!A146","v":"Přímá montážní podložka"},{"$f":"Cen!E146","v":"175H3100"},{"$f":"Cen!G146","v":"NI"},{"$f":"IF(I136>0,I136,SUM(N136:AP136))","v":0},{"$f":"Cen!H146","v":0},{"$f":"Cen!I146","v":0},{"$f":"M136","v":0},null,{"$f":"Cen!J146","v":1037431},{"$f":"Cen!K146","v":0},0,0]
[null,{"$f":"Cen!A147","v":"Přímá montážní podložka, EXPANDO"},{"$f":"Cen!E147","v":"177H3100E"},{"$f":"Cen!G147","v":"NI"},0,{"$f":"Cen!H147","v":0},{"$f":"Cen!I147","v":0},0,null,{"$f":"Cen!J147","v":3120329},{"$f":"Cen!K147","v":0},0,0]
[null,{"$f":"Cen!A148","v":"Sada čel.kování pro úzké alurámečky"},{"$f":"Cen!E148","v":"20K4A00A.01"},{"$f":"Cen!G148","v":"NI"},0,{"$f":"Cen!H148","v":0},{"$f":"Cen!I148","v":0},0,null,{"$f":"Cen!J148","v":7303280},{"$f":"Cen!K148","v":0},0,0,null,null,null,null,null,null,null,null,null,null,null,null,null,null,null,null,null,null,null,null,{"$f":"HKSw!J124","v":0},{"$f":"HKSwa!J124","v":0},{"$f":"HKSna!J124","v":0}]
[null,{"$f":"Cen!A149","v":"Omezovač úhlu otevření na 75° "},{"$f":"Cen!E149","v":"20K7A11"},{"$f":"Cen!G149","v":"TGR"},0,{"$f":"Cen!H149","v":0},{"$f":"Cen!I149","v":0},0,null,{"$f":"Cen!J149","v":8671840},{"$f":"Cen!K149","v":0},0,0,null,null,null,null,null,null,null,null,null,null,null,null,null,null,null,null,null,null,null,null,{"$f":"HKSw!J125","v":0},{"$f":"HKSwa!J125","v":0},{"$f":"HKSna!J125","v":0},null,null,null,null,null,{"$f":"Acs!J18","v":0}]
[null,{"$f":"Cen!A150","v":"Omezovač úhlu otevření na 100° "},{"$f":"Cen!E150","v":"20K7A41"},{"$f":"Cen!G150","v":"TGR"},0,{"$f":"Cen!H150","v":0},{"$f":"Cen!I150","v":0},0,null,{"$f":"Cen!J150","v":8671910},{"$f":"Cen!K150","v":0},0,0,null,null,null,null,null,null,null,null,null,null,null,null,null,null,null,null,null,null,null,null,{"$f":"HKSw!J126","v":0},{"$f":"HKSwa!J126","v":0},{"$f":"HKSna!J126","v":0},null,null,null,null,null,{"$f":"Acs!J19","v":0}]
[null,{"$f":"Cen!A151","v":"CLIP top krytka raménka Nikl"},{"$f":"Cen!E151","v":"70.1503"},{"$f":"Cen!G151","v":"NI"},4,{"$f":"Cen!H151","v":0},{"$f":"Cen!I151","v":0},0,null,{"$f":"Cen!J151","v":3284903},{"$f":"Cen!K151","v":0},4,0,{"$f":"HFw!$J$131","v":0},{"$f":"HFwa!$J$131","v":0},{"$f":"HFw_wa!$J$131","v":0},{"$f":"HFwa_w!$J$131","v":0},{"$f":"HFna!$J$131","v":0},{"$f":"HFw_na!$J$131","v":0},{"$f":"HFna_w!$J$131","v":0},null,{"$f":"HSw!$J$131","v":0},{"$f":"HSwa!$J$131","v":0},{"$f":"HSna!$J$131","v":0},null,{"$f":"HLw!$J$131","v":0},{"$f":"HLwa!$J$131","v":0},{"$f":"HLna!$J$131","v":0},null,{"$f":"HKw!$J$139","v":4},{"$f":"HKwa!$J$139","v":0},{"$f":"HKna!$J$139","v":0},null,{"$f":"HKSw!$J$127","v":0},{"$f":"HKSwa!$J$127","v":0},{"$f":"HKSna!$J$127","v":0},null,{"$f":"HKXSw!$J$133","v":0},{"$f":"HKXSwa!$J$133","v":0}]
[null,{"$f":"Cen!A152","v":"CLIP top krytka raménka Nikl"},{"$f":"Cen!E152","v":"70.1563"},{"$f":"Cen!G152","v":"NI"},0,{"$f":"Cen!H152","v":0},{"$f":"Cen!I152","v":0},0,null,{"$f":"Cen!J152","v":3444793},{"$f":"Cen!K152","v":0},0,0,null,null,null,null,null,null,null,null,null,null,null,null,null,null,null,null,null,null,null,null,null,null,null,null,null,null,{"$f":"HKXSna!$J$136","v":0}]
[null,{"$f":"Cen!A153","v":0},{"$f":"Cen!E153","v":0},{"$f":"Cen!G153","v":0},0,{"$f":"Cen!H153","v":0},{"$f":"Cen!I153","v":0},0,null,{"$f":"Cen!J153","v":0},{"$f":"Cen!K153","v":0},0,0]
[null,{"$f":"Cen!A154","v":"Sada čel.kování pro úzké alu HK-S"},{"$f":"Cen!E154","v":"175H3G00A"},{"$f":"Cen!G154","v":"NI"},0,{"$f":"Cen!H154","v":0},{"$f":"Cen!I154","v":0},0,null,{"$f":"Cen!J154","v":4318256},{"$f":"Cen!K154","v":0},0,0,null,null,null,null,null,null,null,null,null,null,null,null,null,null,null,null,null,null,null,null,null,null,null,null,null,null,null,null,{"$f":"Acs!J29","v":0}]
[null,{"$f":"Cen!A155","v":0},{"$f":"Cen!E155","v":0},{"$f":"Cen!G155","v":0},{"$f":"IF(I145>0,I145,SUM(N145:AP145))","v":0},{"$f":"Cen!H155","v":0},{"$f":"Cen!I155","v":0},{"$f":"M145","v":0},null,{"$f":"Cen!J155","v":0},{"$f":"Cen!K155","v":0},{"$f":"IF(I145=\"x\",0,IF(I145>0,I145,E145))","v":0},{"$f":"PRODUCT(L145,G145)","v":0}]
[null,{"$f":"Cen!A156","v":"AVENTOS HK-XS"},{"$f":"Cen!E156","v":0},{"$f":"Cen!G156","v":0},0,{"$f":"Cen!H156","v":0},{"$f":"Cen!I156","v":0},0,null,{"$f":"Cen!J156","v":0},{"$f":"Cen!K156","v":0},0,0]
[null,{"$f":"Cen!A157","v":"Symetrický zdvihací mechanizmus"},{"$f":"Cen!E157","v":"20K1101"},{"$f":"Cen!G157","v":"NI"},0,{"$f":"Cen!H157","v":0},{"$f":"Cen!I157","v":0},0,null,{"$f":"Cen!J157","v":8572348},{"$f":"Cen!K157","v":0},0,0,null,null,null,null,null,null,null,null,null,null,null,null,null,null,null,null,null,null,null,null,null,null,null,null,{"$f":"HKXSw!J102","v":0},{"$f":"HKXSwa!J102","v":0},{"$f":"HKXSna!J102","v":0}]
[null,{"$f":"Cen!A158","v":"Symetrický zdvihací mechanizmus"},{"$f":"Cen!E158","v":"20K1301"},{"$f":"Cen!G158","v":"NI"},0,{"$f":"Cen!H158","v":0},{"$f":"Cen!I158","v":0},0,null,{"$f":"Cen!J158","v":9330897},{"$f":"Cen!K158","v":0},0,0,null,null,null,null,null,null,null,null,null,null,null,null,null,null,null,null,null,null,null,null,null,null,null,null,{"$f":"HKXSw!J103","v":0},{"$f":"HKXSwa!J103","v":0},{"$f":"HKXSna!J103","v":0}]
[null,{"$f":"Cen!A159","v":"Symetrický zdvihací mechanizmus"},{"$f":"Cen!E159","v":"20K1501"},{"$f":"Cen!G159","v":"NI"},0,{"$f":"Cen!H159","v":0},{"$f":"Cen!I159","v":0},0,null,{"$f":"Cen!J159","v":1615152},{"$f":"Cen!K159","v":0},0,0,null,null,null,null,null,null,null,null,null,null,null,null,null,null,null,null,null,null,null,null,null,null,null,null,{"$f":"HKXSw!J104","v":0},{"$f":"HKXSwa!J104","v":0},{"$f":"HKXSna!J104","v":0}]
[null,{"$f":"Cen!A160","v":0},{"$f":"Cen!E160","v":0},{"$f":"Cen!G160","v":0},0,{"$f":"Cen!H160","v":0},{"$f":"Cen!I160","v":0},0,null,{"$f":"Cen!J160","v":0},{"$f":"Cen!K160","v":0},0,0]
[null,{"$f":"Cen!A161","v":"Sym. zdvihací mechanizmus, TIP-ON"},{"$f":"Cen!E161","v":"20K1101T"},{"$f":"Cen!G161","v":"NI"},0,{"$f":"Cen!H161","v":0},{"$f":"Cen!I161","v":0},0,null,{"$f":"Cen!J161","v":4857465},{"$f":"Cen!K161","v":0},0,0,null,null,null,null,null,null,null,null,null,null,null,null,null,null,null,null,null,null,null,null,null,null,null,null,{"$f":"HKXSw!J106","v":0},{"$f":"HKXSwa!J106","v":0},{"$f":"HKXSna!J106","v":0}]
[null,{"$f":"Cen!A162","v":"Sym. zdvihací mechanizmus, TIP-ON"},{"$f":"Cen!E162","v":"20K1301T"},{"$f":"Cen!G162","v":"NI"},0,{"$f":"Cen!H162","v":0},{"$f":"Cen!I162","v":0},0,null,{"$f":"Cen!J162","v":9519259},{"$f":"Cen!K162","v":0},0,0,null,null,null,null,null,null,null,null,null,null,null,null,null,null,null,null,null,null,null,null,null,null,null,null,{"$f":"HKXSw!J107","v":0},{"$f":"HKXSwa!J107","v":0},{"$f":"HKXSna!J107","v":0}]
[null,{"$f":"Cen!A163","v":"Sym. zdvihací mechanizmus, TIP-ON"},{"$f":"Cen!E163","v":"20K1501T"},{"$f":"Cen!G163","v":"NI"},0,{"$f":"Cen!H163","v":0},{"$f":"Cen!I163","v":0},0,null,{"$f":"Cen!J163","v":8041284},{"$f":"Cen!K163","v":0},0,0,null,null,null,null,null,null,null,null,null,null,null,null,null,null,null,null,null,null,null,null,null,null,null,null,{"$f":"HKXSw!J108","v":0},{"$f":"HKXSwa!J108","v":0},{"$f":"HKXSna!J108","v":0}]
[null,{"$f":"Cen!A164","v":0},{"$f":"Cen!E164","v":0},{"$f":"Cen!G164","v":0},0,{"$f":"Cen!H164","v":0},{"$f":"Cen!I164","v":0},0,null,{"$f":"Cen!J164","v":0},{"$f":"Cen!K164","v":0},0,0]
[null,{"$f":"Cen!A165","v":"Boční čep na korpus"},{"$f":"Cen!E165","v":"20K5101"},{"$f":"Cen!G165","v":"NI"},0,{"$f":"Cen!H165","v":0},{"$f":"Cen!I165","v":0},0,null,{"$f":"Cen!J165","v":1409446},{"$f":"Cen!K165","v":0},0,0,null,null,null,null,null,null,null,null,null,null,null,null,null,null,null,null,null,null,null,null,null,null,null,null,{"$f":"HKXSw!J110","v":0},{"$f":"HKXSwa!J110","v":0},{"$f":"HKXSna!J110","v":0}]
[null,{"$f":"Cen!A166","v":"Boční čep na korpus, EXPANDO"},{"$f":"Cen!E166","v":"20K51E1"},{"$f":"Cen!G166","v":"NI"},0,{"$f":"Cen!H166","v":0},{"$f":"Cen!I166","v":0},0,null,{"$f":"Cen!J166","v":5296642},{"$f":"Cen!K166","v":0},0,0,null,null,null,null,null,null,null,null,null,null,null,null,null,null,null,null,null,null,null,null,null,null,null,null,{"$f":"HKXSw!J111","v":0},{"$f":"HKXSwa!J111","v":0},{"$f":"HKXSna!J111","v":0}]
[null,{"$f":"Cen!A167","v":0},{"$f":"Cen!E167","v":0},{"$f":"Cen!G167","v":0},0,{"$f":"Cen!H167","v":0},{"$f":"Cen!I167","v":0},0,null,{"$f":"Cen!J167","v":0},{"$f":"Cen!K167","v":0},0,0]
[null,{"$f":"Cen!A168","v":"Čelní kování"},{"$f":"Cen!E168","v":"20K4101"},{"$f":"Cen!G168","v":"NI"},0,{"$f":"Cen!H168","v":0},{"$f":"Cen!I168","v":0},0,null,{"$f":"Cen!J168","v":8910604},{"$f":"Cen!K168","v":0},0,0,null,null,null,null,null,null,null,null,null,null,null,null,null,null,null,null,null,null,null,null,null,null,null,null,{"$f":"HKXSw!J113","v":0},{"$f":"HKXSwa!J113","v":0}]
[null,{"$f":"Cen!A169","v":"Čelní kování, EXPANDO"},{"$f":"Cen!E169","v":"20K41E1"},{"$f":"Cen!G169","v":"NI"},0,{"$f":"Cen!H169","v":0},{"$f":"Cen!I169","v":0},0,null,{"$f":"Cen!J169","v":5697170},{"$f":"Cen!K169","v":0},0,0,null,null,null,null,null,null,null,null,null,null,null,null,null,null,null,null,null,null,null,null,null,null,null,null,{"$f":"HKXSw!J114","v":0}]
[null,{"$f":"Cen!A170","v":"Čelní kování pro úzké alurámečky"},{"$f":"Cen!E170","v":"20K4101A"},{"$f":"Cen!G170","v":"NI"},0,{"$f":"Cen!H170","v":0},{"$f":"Cen!I170","v":0},0,null,{"$f":"Cen!J170","v":1452554},{"$f":"Cen!K170","v":0},0,0,null,null,null,null,null,null,null,null,null,null,null,null,null,null,null,null,null,null,null,null,null,null,null,null,null,null,{"$f":"HKXSna!J115","v":0}]
[null,{"$f":"Cen!A171","v":0},{"$f":"Cen!E171","v":0},{"$f":"Cen!G171","v":0},0,{"$f":"Cen!H171","v":0},{"$f":"Cen!I171","v":0},0,null,{"$f":"Cen!J171","v":0},{"$f":"Cen!K171","v":0},0,0]
[null,{"$f":"Cen!A172","v":"Závěs CLIP-TOP BLUMOTION 110°"},{"$f":"Cen!E172","v":"71B3550"},{"$f":"Cen!G172","v":"NI"},0,{"$f":"Cen!H172","v":0},{"$f":"Cen!I172","v":0},0,null,{"$f":"Cen!J172","v":8884623},{"$f":"Cen!K172","v":0},0,0,null,null,null,null,null,null,null,null,null,null,null,null,null,null,null,null,null,null,null,null,null,null,null,null,{"$f":"HKXSw!J117","v":0},{"$f":"HKXSwa!J117","v":0}]
[null,{"$f":"Cen!A173","v":"Závěs CLIP-TOP BLUMOTION, EXPANDO"},{"$f":"Cen!E173","v":"71B358E"},{"$f":"Cen!G173","v":"NI"},0,{"$f":"Cen!H173","v":0},{"$f":"Cen!I173","v":0},0,null,{"$f":"Cen!J173","v":8885233},{"$f":"Cen!K173","v":0},0,0,null,null,null,null,null,null,null,null,null,null,null,null,null,null,null,null,null,null,null,null,null,null,null,null,{"$f":"HKXSw!J118","v":0}]
[null,{"$f":"Cen!A174","v":0},{"$f":"Cen!E174","v":0},{"$f":"Cen!G174","v":0},0,{"$f":"Cen!H174","v":0},{"$f":"Cen!I174","v":0},0,null,{"$f":"Cen!J174","v":0},{"$f":"Cen!K174","v":0},0,0]
[null,{"$f":"Cen!A175","v":"Závěs CLIP-TOP 110°"},{"$f":"Cen!E175","v":"70T3550.TL"},{"$f":"Cen!G175","v":"NI"},0,{"$f":"Cen!H175","v":0},{"$f":"Cen!I175","v":0},0,null,{"$f":"Cen!J175","v":9001883},{"$f":"Cen!K175","v":0},0,0,null,null,null,null,null,null,null,null,null,null,null,null,null,null,null,null,null,null,null,null,null,null,null,null,{"$f":"HKXSw!J120","v":0},{"$f":"HKXSwa!J120","v":0}]
[null,{"$f":"Cen!A176","v":"Závěs CLIP-TOP 110°, EXPANDO"},{"$f":"Cen!E176","v":"70T358E.TL"},{"$f":"Cen!G176","v":"NI"},0,{"$f":"Cen!H176","v":0},{"$f":"Cen!I176","v":0},0,null,{"$f":"Cen!J176","v":9295093},{"$f":"Cen!K176","v":0},0,0,null,null,null,null,null,null,null,null,null,null,null,null,null,null,null,null,null,null,null,null,null,null,null,null,{"$f":"HKXSw!J121","v":0}]
[null,{"$f":"Cen!A177","v":0},{"$f":"Cen!E177","v":0},{"$f":"Cen!G177","v":0},0,{"$f":"Cen!H177","v":0},{"$f":"Cen!I177","v":0},0,null,{"$f":"Cen!J177","v":0},{"$f":"Cen!K177","v":0},0,0]
[null,{"$f":"Cen!A178","v":"Omezovač úhlu otevření (86°)"},{"$f":"Cen!E178","v":"70T3553"},{"$f":"Cen!G178","v":"S"},0,{"$f":"Cen!H178","v":0},{"$f":"Cen!I178","v":0},0,null,{"$f":"Cen!J178","v":9048274},{"$f":"Cen!K178","v":0},0,0,null,null,null,null,null,null,null,null,null,null,null,null,null,null,null,null,null,null,null,null,null,null,null,null,null,null,null,null,{"$f":"Acs!$J$21","v":0}]
[null,{"$f":"Cen!A179","v":0},{"$f":"Cen!E179","v":0},{"$f":"Cen!G179","v":0},0,{"$f":"Cen!H179","v":0},{"$f":"Cen!I179","v":0},0,null,{"$f":"Cen!J179","v":0},{"$f":"Cen!K179","v":0},0,0]
[null,{"$f":"Cen!A180","v":"TIP-ON, zkrácená délka, šedý"},{"$f":"Cen!E180","v":"956.1004"},{"$f":"Cen!G180","v":"PG"},0,{"$f":"Cen!H180","v":0},{"$f":"Cen!I180","v":0},0,null,{"$f":"Cen!J180","v":7696336},{"$f":"Cen!K180","v":0},0,0,null,null,null,null,null,null,null,null,null,null,null,null,null,null,null,null,{"$f":"HKw!$J$131","v":0},{"$f":"HKwa!$J$131","v":0},{"$f":"HKna!$J$131","v":0},null,{"$f":"HKSw!$J$137","v":0},{"$f":"HKSwa!$J$137","v":0},{"$f":"HKSna!$J$137","v":0},null,{"$f":"HKXSw!J125","v":0},{"$f":"HKXSwa!J125","v":0},{"$f":"HKXSna!J125","v":0},null,{"$f":"Acs!$J$43","v":0}]
[null,{"$f":"Cen!A181","v":"TIP-ON, zkrácená délka, hedv.bílý"},{"$f":"Cen!E181","v":"956.1004"},{"$f":"Cen!G181","v":"SW"},0,{"$f":"Cen!H181","v":0},{"$f":"Cen!I181","v":0},0,null,{"$f":"Cen!J181","v":4683908},{"$f":"Cen!K181","v":0},0,0,null,null,null,null,null,null,null,null,null,null,null,null,null,null,null,null,{"$f":"HKw!$J$132","v":0},{"$f":"HKwa!$J$132","v":0},{"$f":"HKna!$J$132","v":0},null,{"$f":"HKSw!$J$138","v":0},{"$f":"HKSwa!$J$138","v":0},{"$f":"HKSna!$J$138","v":0},null,{"$f":"HKXSw!J126","v":0},{"$f":"HKXSwa!J126","v":0},{"$f":"HKXSna!J126","v":0},null,{"$f":"Acs!$J$44","v":0}]
[null,{"$f":"Cen!A182","v":"TIP-ON, zkrácená délka, Terra černý"},{"$f":"Cen!E182","v":"956.1004"},{"$f":"Cen!G182","v":"TS"},0,{"$f":"Cen!H182","v":"!"},{"$f":"Cen!I182","v":0},0,null,{"$f":"Cen!J182","v":"6914265"},{"$f":"Cen!K182","v":0},0,0,null,null,null,null,null,null,null,null,null,null,null,null,null,null,null,null,null,null,null,null,null,null,null,null,null,null,null,null,{"$f":"Acs!$J$45","v":0}]
[null,{"$f":"Cen!A183","v":"TIP-ON, prodloužená délka, šedý"},{"$f":"Cen!E183","v":"956A1004"},{"$f":"Cen!G183","v":"PG"},0,{"$f":"Cen!H183","v":0},{"$f":"Cen!I183","v":0},0,null,{"$f":"Cen!J183","v":6484096},{"$f":"Cen!K183","v":0},0,0,null,null,null,null,null,null,null,null,null,null,null,null,null,null,null,null,{"$f":"HKw!$J$133","v":0},{"$f":"HKwa!$J$133","v":0},{"$f":"HKna!$J$133","v":0},null,null,null,null,null,null,null,null,null,{"$f":"Acs!$J$46","v":0}]
[null,{"$f":"Cen!A184","v":"TIP-ON, prodloužená délka, hedv.bílý"},{"$f":"Cen!E184","v":"956A1004"},{"$f":"Cen!G184","v":"SW"},0,{"$f":"Cen!H184","v":0},{"$f":"Cen!I184","v":0},0,null,{"$f":"Cen!J184","v":6856758},{"$f":"Cen!K184","v":0},0,0,null,null,null,null,null,null,null,null,null,null,null,null,null,null,null,null,{"$f":"HKw!$J$134","v":0},{"$f":"HKwa!$J$134","v":0},{"$f":"HKna!$J$134","v":0},null,null,null,null,null,null,null,null,null,{"$f":"Acs!$J$47","v":0}]
[null,{"$f":"Cen!A185","v":"TIP-ON, prodloužená délka, Terra černý"},{"$f":"Cen!E185","v":"956A1004"},{"$f":"Cen!G185","v":"TS"},0,{"$f":"Cen!H185","v":"!"},{"$f":"Cen!I185","v":0},0,null,{"$f":"Cen!J185","v":"2019241"},{"$f":"Cen!K185","v":0},0,0,null,null,null,null,null,null,null,null,null,null,null,null,null,null,null,null,null,null,null,null,null,null,null,null,null,null,null,null,{"$f":"Acs!$J$48","v":0}]
[null,{"$f":"Cen!A186","v":0},{"$f":"Cen!E186","v":0},{"$f":"Cen!G186","v":0},0,{"$f":"Cen!H186","v":0},{"$f":"Cen!I186","v":0},0,null,{"$f":"Cen!J186","v":0},{"$f":"Cen!K186","v":0},0,0]
[null,{"$f":"Cen!A187","v":"Přímý adaptér, zkrácená délka, šedý"},{"$f":"Cen!E187","v":"956.1201"},{"$f":"Cen!G187","v":"PG"},0,{"$f":"Cen!H187","v":0},{"$f":"Cen!I187","v":0},0,null,{"$f":"Cen!J187","v":7690421},{"$f":"Cen!K187","v":0},0,0,null,null,null,null,null,null,null,null,null,null,null,null,null,null,null,null,null,null,null,null,null,null,null,null,null,null,null,null,{"$f":"Acs!$J$49","v":0}]
[null,{"$f":"Cen!A188","v":"Přímý adaptér, zkrácená délka, hedv.bílý"},{"$f":"Cen!E188","v":"956.1201"},{"$f":"Cen!G188","v":"SW"},0,{"$f":"Cen!H188","v":0},{"$f":"Cen!I188","v":0},0,null,{"$f":"Cen!J188","v":8264548},{"$f":"Cen!K188","v":0},0,0,null,null,null,null,null,null,null,null,null,null,null,null,null,null,null,null,null,null,null,null,null,null,null,null,null,null,null,null,{"$f":"Acs!$J$50","v":0}]
[null,{"$f":"Cen!A189","v":"Přímý adaptér, zkrácená délka, Terra černý"},{"$f":"Cen!E189","v":"956.1201"},{"$f":"Cen!G189","v":"TS"},0,{"$f":"Cen!H189","v":"!"},{"$f":"Cen!I189","v":0},0,null,{"$f":"Cen!J189","v":"6154324"},{"$f":"Cen!K189","v":0},0,0,null,null,null,null,null,null,null,null,null,null,null,null,null,null,null,null,null,null,null,null,null,null,null,null,null,null,null,null,{"$f":"Acs!$J$51","v":0}]
[null,{"$f":"Cen!A190","v":"Přímý adaptér, prodl.délka, šedý"},{"$f":"Cen!E190","v":"956A1201"},{"$f":"Cen!G190","v":"PG"},0,{"$f":"Cen!H190","v":0},{"$f":"Cen!I190","v":0},0,null,{"$f":"Cen!J190","v":8849808},{"$f":"Cen!K190","v":0},0,0,null,null,null,null,null,null,null,null,null,null,null,null,null,null,null,null,null,null,null,null,null,null,null,null,null,null,null,null,{"$f":"Acs!$J$52","v":0}]
[null,{"$f":"Cen!A191","v":"Přímý adaptér, prodl.délka, hedv.bílý"},{"$f":"Cen!E191","v":"956A1201"},{"$f":"Cen!G191","v":"SW"},0,{"$f":"Cen!H191","v":0},{"$f":"Cen!I191","v":0},0,null,{"$f":"Cen!J191","v":4619688},{"$f":"Cen!K191","v":0},0,0,null,null,null,null,null,null,null,null,null,null,null,null,null,null,null,null,null,null,null,null,null,null,null,null,null,null,null,null,{"$f":"Acs!$J$53","v":0}]
[null,{"$f":"Cen!A192","v":"Přímý adaptér, prodl.délka, Terra černý"},{"$f":"Cen!E192","v":"956A1201"},{"$f":"Cen!G192","v":"TS"},0,{"$f":"Cen!H192","v":"!"},{"$f":"Cen!I192","v":0},0,null,{"$f":"Cen!J192","v":"5730134"},{"$f":"Cen!K192","v":0},0,0,null,null,null,null,null,null,null,null,null,null,null,null,null,null,null,null,null,null,null,null,null,null,null,null,null,null,null,null,{"$f":"Acs!$J$54","v":0}]
[]
[null,{"$f":"Cen!A194","v":"Závěs CLIP top BLUMTION po alurám."},{"$f":"Cen!E194","v":"71B950A"},{"$f":"Cen!G194","v":"NI"},0,{"$f":"Cen!H194","v":0},{"$f":"Cen!I194","v":0},0,null,{"$f":"Cen!J194","v":9350813},{"$f":"Cen!K194","v":0},0,0,null,null,null,null,null,null,null,null,null,null,null,null,null,null,null,null,null,null,null,null,null,null,null,null,null,null,{"$f":"HKXSna!J134","v":0}]
[null,{"$f":"Cen!A195","v":"Samořezný vrut do alurámečků"},{"$f":"Cen!E195","v":"660.0950"},{"$f":"Cen!G195","v":"NI"},0,{"$f":"Cen!H195","v":0},{"$f":"Cen!I195","v":0},0,null,{"$f":"Cen!J195","v":8385455},{"$f":"Cen!K195","v":0},0,0,null,{"$f":"HFwa!$J132","v":0},{"$f":"HFw_wa!J132","v":0},{"$f":"HFwa_w!J132","v":0},null,null,null,null,null,{"$f":"HSwa!J132","v":0},null,null,null,{"$f":"HLwa!J132","v":0},null,null,null,{"$f":"HKwa!J140","v":0},null,null,null,{"$f":"HKSwa!J133","v":0},null,null,null,{"$f":"HKXSwa!J134","v":0},null,null,{"$f":"Acs!$J$181","v":0}]
[null,{"$f":"Cen!A196","v":0},{"$f":"Cen!E196","v":0},{"$f":"Cen!G196","v":0},0,{"$f":"Cen!H196","v":0},{"$f":"Cen!I196","v":0},0,null,{"$f":"Cen!J196","v":0},{"$f":"Cen!K196","v":0},0,0]
[null,{"$f":"Cen!A197","v":0},{"$f":"Cen!E197","v":0},{"$f":"Cen!G197","v":0},0,{"$f":"Cen!H197","v":0},{"$f":"Cen!I197","v":0},0,null,{"$f":"Cen!J197","v":0},{"$f":"Cen!K197","v":0},0,0]
[null,{"$f":"Cen!A198","v":"SERVO-DRIVE"},{"$f":"Cen!E198","v":0},{"$f":"Cen!G198","v":0},{"$f":"IF(I188>0,I188,SUM(N188:AP188))","v":0},{"$f":"Cen!H198","v":0},{"$f":"Cen!I198","v":0},{"$f":"M188","v":0},null,{"$f":"Cen!J198","v":0},{"$f":"Cen!K198","v":0},0,0]
[null,{"$f":"Cen!A199","v":"SERVO-DRIVE jednotka (sada)"},{"$f":"Cen!E199","v":"21FA000"},{"$f":"Cen!G199","v":"HGR"},0,{"$f":"Cen!H199","v":0},{"$f":"Cen!I199","v":0},0,null,{"$f":"Cen!J199","v":9026180},{"$f":"Cen!K199","v":0},0,0,{"$f":"HFw!$J134","v":0},{"$f":"HFwa!$J134","v":0},{"$f":"HFw_wa!$J134","v":0},{"$f":"HFwa_w!$J134","v":0},{"$f":"HFna!$J134","v":0},{"$f":"HFw_na!$J134","v":0},{"$f":"HFna_w!$J134","v":0},null,{"$f":"HSw!$J134","v":0},{"$f":"HSwa!$J134","v":0},{"$f":"HSna!$J134","v":0},null,{"$f":"HLw!$J134","v":0},{"$f":"HLwa!$J134","v":0},{"$f":"HLna!$J134","v":0},null,{"$f":"HKw!$J142","v":0},{"$f":"HKwa!$J142","v":0},{"$f":"HKna!$J142","v":0},null,null,null,null,null,null,null,null,null,{"$f":"Acs!$J60","v":0}]
[null,{"$f":"Cen!A200","v":"SERVO-DRIVE jednotka (sada) pro HK top"},{"$f":"Cen!E200","v":"23KA000"},{"$f":"Cen!G200","v":"HGR"},2,{"$f":"Cen!H200","v":0},{"$f":"Cen!I200","v":0},0,null,{"$f":"Cen!J200","v":9961208},{"$f":"Cen!K200","v":0},2,0,{"$f":"HFw!J135","v":0},{"$f":"HFwa!J135","v":0},{"$f":"HFw_wa!J135","v":0},{"$f":"HFwa_w!$J135","v":0},{"$f":"HFna!J135","v":0},{"$f":"HFw_na!$J135","v":0},{"$f":"HFna_w!$J135","v":0},null,{"$f":"HSw!J135","v":0},{"$f":"HSwa!$J135","v":0},{"$f":"HSna!$J135","v":0},null,{"$f":"HLw!J135","v":0},{"$f":"HLwa!$J135","v":0},{"$f":"HLna!$J135","v":0},null,{"$f":"HKw!$J143","v":2},{"$f":"HKwa!$J143","v":0},{"$f":"HKna!$J143","v":0},null,null,null,null,null,null,null,null,null,{"$f":"Acs!$J61","v":0}]
[null,{"$f":"Cen!A201","v":"SERVO-DRIVE napájecí zdroj 24W"},{"$f":"Cen!E201","v":"Z10NE030E"},{"$f":"Cen!G201","v":"S"},{"$f":"IF(I191>0,I191,SUM(N191:AQ191))","v":1},{"$f":"Cen!H201","v":0},{"$f":"Cen!I201","v":0},0,null,{"$f":"Cen!J201","v":5082891},{"$f":"Cen!K201","v":0},1,0,null,null,null,null,null,null,null,null,null,null,null,null,null,null,null,null,null,null,null,null,null,null,null,null,null,null,null,null,{"$f":"Acs!$J62","v":0},{"$f":"IF($AQ$8=1, 1, 0)","v":1}]
[null,{"$f":"Cen!A202","v":"SERVO-DRIVE napájecí kabel EU"},{"$f":"Cen!E202","v":"Z10M200E"},{"$f":"Cen!G202","v":"S"},{"$f":"IF(I192>0,I192,SUM(N192:AQ192))","v":1},{"$f":"Cen!H202","v":0},{"$f":"Cen!I202","v":0},0,null,{"$f":"Cen!J202","v":7205784},{"$f":"Cen!K202","v":0},1,0,null,null,null,null,null,null,null,null,null,null,null,null,null,null,null,null,null,null,null,null,null,null,null,null,null,null,null,null,{"$f":"Acs!$J63","v":0},{"$f":"IF($AQ$8=1, 1, 0)","v":1}]
[null,{"$f":"Cen!A203","v":"SERVO-DRIVE držák zdroje"},{"$f":"Cen!E203","v":"Z10NG120"},{"$f":"Cen!G203","v":"R737"},{"$f":"IF(I193>0,I193,SUM(N193:AQ193))","v":1},{"$f":"Cen!H203","v":0},{"$f":"Cen!I203","v":0},0,null,{"$f":"Cen!J203","v":9327076},{"$f":"Cen!K203","v":0},1,0,null,null,null,null,null,null,null,null,null,null,null,null,null,null,null,null,null,null,null,null,null,null,null,null,null,null,null,null,{"$f":"Acs!$J64","v":0},{"$f":"IF($AQ$8=1, 1, 0)","v":1}]
[null,{"$f":"Cen!A204","v":"SERVO-DRIVE elektrokabel, 8m"},{"$f":"Cen!E204","v":"Z10K800AE"},{"$f":"Cen!G204","v":"S"},0,{"$f":"Cen!H204","v":0},{"$f":"Cen!I204","v":0},0,null,{"$f":"Cen!J204","v":7550294},{"$f":"Cen!K204","v":0},0,0,{"$f":"HFw!J136","v":0},{"$f":"HFwa!J136","v":0},{"$f":"HFw_wa!J136","v":0},{"$f":"HFwa_w!$J136","v":0},{"$f":"HFna!J136","v":0},{"$f":"HFw_na!$J136","v":0},{"$f":"HFna_w!$J136","v":0},null,{"$f":"HSw!J136","v":0},{"$f":"HSwa!$J136","v":0},{"$f":"HSna!$J136","v":0},null,{"$f":"HLw!J136","v":0},{"$f":"HLwa!$J136","v":0},{"$f":"HLna!$J136","v":0},null,{"$f":"HKw!$J144","v":0},{"$f":"HKwa!$J144","v":0},{"$f":"HKna!$J144","v":0},null,null,null,null,null,null,null,null,null,{"$f":"Acs!$J69","v":0}]
[null,{"$f":"Cen!A205","v":"SERVO-DRIVE svorka + krytka"},{"$f":"Cen!E205","v":"Z10V100E.01"},{"$f":"Cen!G205","v":"S"},0,{"$f":"Cen!H205","v":0},{"$f":"Cen!I205","v":0},0,null,{"$f":"Cen!J205","v":8820285},{"$f":"Cen!K205","v":0},0,0,{"$f":"HFw!J137","v":0},{"$f":"HFwa!J137","v":0},{"$f":"HFw_wa!J137","v":0},{"$f":"HFwa_w!$J137","v":0},{"$f":"HFna!J137","v":0},{"$f":"HFw_na!$J137","v":0},{"$f":"HFna_w!$J137","v":0},null,{"$f":"HSw!J137","v":0},{"$f":"HSwa!$J137","v":0},{"$f":"HSna!$J137","v":0},null,{"$f":"HLw!J137","v":0},{"$f":"HLwa!$J137","v":0},{"$f":"HLna!$J137","v":0},null,{"$f":"HKw!$J145","v":0},{"$f":"HKwa!$J145","v":0},{"$f":"HKna!$J145","v":0},null,null,null,null,null,null,null,null,null,{"$f":"Acs!$J70","v":0}]
[null,{"$f":"Cen!A206","v":"SERVO-DRIVE držák kabelu"},{"$f":"Cen!E206","v":"Z10K0009"},{"$f":"Cen!G206","v":"NA"},0,{"$f":"Cen!H206","v":0},{"$f":"Cen!I206","v":0},0,null,{"$f":"Cen!J206","v":7283231},{"$f":"Cen!K206","v":0},0,0,{"$f":"HFw!J138","v":0},{"$f":"HFwa!J138","v":0},{"$f":"HFw_wa!J138","v":0},{"$f":"HFwa_w!$J138","v":0},{"$f":"HFna!J138","v":0},{"$f":"HFw_na!$J138","v":0},{"$f":"HFna_w!$J138","v":0},null,{"$f":"HSw!J138","v":0},{"$f":"HSwa!$J138","v":0},{"$f":"HSna!$J138","v":0},null,{"$f":"HLw!J138","v":0},{"$f":"HLwa!$J138","v":0},{"$f":"HLna!$J138","v":0},null,{"$f":"HKw!$J146","v":0},{"$f":"HKwa!$J146","v":0},{"$f":"HKna!$J146","v":0},null,null,null,null,null,null,null,null,null,{"$f":"Acs!$J71","v":0}]
[null,{"$f":"Cen!A207","v":"Distanční doraz 5mm"},{"$f":"Cen!E207","v":"993.0530"},{"$f":"Cen!G207","v":"R737"},0,{"$f":"Cen!H207","v":0},{"$f":"Cen!I207","v":0},0,null,{"$f":"Cen!J207","v":7834990},{"$f":"Cen!K207","v":0},0,0,{"$f":"HFw!J139","v":0},{"$f":"HFwa!J139","v":0},{"$f":"HFw_wa!J139","v":0},{"$f":"HFwa_w!$J139","v":0},{"$f":"HFna!J139","v":0},{"$f":"HFw_na!$J139","v":0},{"$f":"HFna_w!$J139","v":0},null,{"$f":"HSw!J139","v":0},{"$f":"HSwa!$J139","v":0},{"$f":"HSna!$J139","v":0},null,{"$f":"HLw!J139","v":0},{"$f":"HLwa!$J139","v":0},{"$f":"HLna!$J139","v":0},null,{"$f":"HKw!$J147","v":0},{"$f":"HKwa!$J147","v":0},{"$f":"HKna!$J147","v":0},null,null,null,null,null,null,null,null,null,{"$f":"Acs!$J72","v":0}]
[null,{"$f":"Cen!A208","v":"Distanční doraz 8mm"},{"$f":"Cen!E208","v":"993.0830.01"},{"$f":"Cen!G208","v":"R737"},0,{"$f":"Cen!H208","v":0},{"$f":"Cen!I208","v":0},0,null,{"$f":"Cen!J208","v":7402930},{"$f":"Cen!K208","v":0},0,0,{"$f":"HFw!J140","v":0},{"$f":"HFwa!J140","v":0},{"$f":"HFw_wa!J140","v":0},{"$f":"HFwa_w!$J140","v":0},{"$f":"HFna!J140","v":0},{"$f":"HFw_na!$J140","v":0},{"$f":"HFna_w!$J140","v":0},null,{"$f":"HSw!J140","v":0},{"$f":"HSwa!$J140","v":0},{"$f":"HSna!$J140","v":0},null,{"$f":"HLw!J140","v":0},{"$f":"HLwa!$J140","v":0},{"$f":"HLna!$J140","v":0},null,{"$f":"HKw!$J148","v":0},{"$f":"HKwa!$J148","v":0},{"$f":"HKna!$J148","v":0},null,null,null,null,null,null,null,null,null,{"$f":"Acs!$J73","v":0}]
[null,{"$f":"Cen!A209","v":0},{"$f":"Cen!E209","v":0},{"$f":"Cen!G209","v":0},0,{"$f":"Cen!H209","v":0},{"$f":"Cen!I209","v":0},0,null,{"$f":"Cen!J209","v":0},{"$f":"Cen!K209","v":0},0,0]
[null,{"$f":"Cen!A210","v":0},{"$f":"Cen!E210","v":0},{"$f":"Cen!G210","v":0},0,{"$f":"Cen!H210","v":0},{"$f":"Cen!I210","v":0},0,null,{"$f":"Cen!J210","v":0},{"$f":"Cen!K210","v":0},0,0]
[null,{"$f":"Cen!A211","v":"Podložka CLIP top přímá"},{"$f":"Cen!E211","v":"175H5400"},{"$f":"Cen!G211","v":"NI"},0,{"$f":"Cen!H211","v":0},{"$f":"Cen!I211","v":0},0,null,{"$f":"Cen!J211","v":8002803},{"$f":"Cen!K211","v":0},0,0,null,null,null,null,null,null,null,null,null,null,null,null,null,null,null,null,null,null,null,null,null,null,null,null,null,null,null,null,{"$f":"Acs!$J37","v":0}]
[null,{"$f":"Cen!A212","v":"Podložka CLIP top přímá EXPANDO"},{"$f":"Cen!E212","v":"177H5400E"},{"$f":"Cen!G212","v":"NI"},0,{"$f":"Cen!H212","v":0},{"$f":"Cen!I212","v":0},0,null,{"$f":"Cen!J212","v":8003033},{"$f":"Cen!K212","v":0},0,0,null,null,null,null,null,null,null,null,null,null,null,null,null,null,null,null,null,null,null,null,null,null,null,null,null,null,null,null,{"$f":"Acs!$J38","v":0}]
[null,{"$f":"Cen!A213","v":0},{"$f":"Cen!E213","v":0},{"$f":"Cen!G213","v":0},0,{"$f":"Cen!H213","v":0},{"$f":"Cen!I213","v":0},0,null,{"$f":"Cen!J213","v":0},{"$f":"Cen!K213","v":0},0,0]
[null,null,null,null,null,null,null,null,null,null,null,0,0]
[null,{"$f":"Cen!A215","v":0},{"$f":"Cen!E215","v":0},{"$f":"Cen!G215","v":0},null,{"$f":"Cen!H215","v":0},{"$f":"Cen!I215","v":0},{"$f":"M205","v":0},null,{"$f":"Cen!J215","v":0},{"$f":"Cen!K215","v":0},0,0]
[null,{"$f":"Cen!A216","v":0},{"$f":"Cen!E216","v":0},{"$f":"Cen!G216","v":0},null,{"$f":"Cen!H216","v":0},{"$f":"Cen!I216","v":0},0,null,{"$f":"Cen!J216","v":0},{"$f":"Cen!K216","v":0},0,0]
[null,{"$f":"Cen!A217","v":0},{"$f":"Cen!E217","v":0},{"$f":"Cen!G217","v":0},null,{"$f":"Cen!H217","v":0},{"$f":"Cen!I217","v":0},0,null,{"$f":"Cen!J217","v":0},{"$f":"Cen!K217","v":0},0,0]
[null,{"$f":"Cen!A218","v":0},{"$f":"Cen!E218","v":0},{"$f":"Cen!G218","v":0},null,{"$f":"Cen!H218","v":0},{"$f":"Cen!I218","v":0},0,null,{"$f":"Cen!J218","v":0},{"$f":"Cen!K218","v":0},0,0]
[null,{"$f":"Cen!A219","v":0},{"$f":"Cen!E219","v":0},{"$f":"Cen!G219","v":0},null,{"$f":"Cen!H219","v":0},{"$f":"Cen!I219","v":0},0,null,{"$f":"Cen!J219","v":0},{"$f":"Cen!K219","v":0},0,0]
[null,{"$f":"Cen!A220","v":0},{"$f":"Cen!E220","v":0},{"$f":"Cen!G220","v":0},null,{"$f":"Cen!H220","v":0},{"$f":"Cen!I220","v":0},0,null,{"$f":"Cen!J220","v":0},{"$f":"Cen!K220","v":0},0,0]
[null,{"$f":"Cen!A221","v":0},{"$f":"Cen!E221","v":0},{"$f":"Cen!G221","v":0},null,{"$f":"Cen!H221","v":0},{"$f":"Cen!I221","v":0},0,null,{"$f":"Cen!J221","v":0},{"$f":"Cen!K221","v":0},0,0]
[null,{"$f":"Cen!A222","v":0},{"$f":"Cen!E222","v":0},{"$f":"Cen!G222","v":0},null,{"$f":"Cen!H222","v":0},{"$f":"Cen!I222","v":0},0,null,{"$f":"Cen!J222","v":0},{"$f":"Cen!K222","v":0},0,0]
[null,{"$f":"Cen!A223","v":0},{"$f":"Cen!E223","v":0},{"$f":"Cen!G223","v":0},null,{"$f":"Cen!H223","v":0},{"$f":"Cen!I223","v":0},0,null,{"$f":"Cen!J223","v":0},{"$f":"Cen!K223","v":0},0,0]
[null,{"$f":"Cen!A224","v":0},{"$f":"Cen!E224","v":0},{"$f":"Cen!G224","v":0},null,{"$f":"Cen!H224","v":0},{"$f":"Cen!I224","v":0},0,null,{"$f":"Cen!J224","v":0},{"$f":"Cen!K224","v":0},0,0]
[null,null,null,null,null,null,null,0,null,null,null,0,0]
[null,null,null,null,null,null,null,0,null,null,null,0,0]
[null,null,null,null,null,null,null,0,null,null,null,0,0]
[null,null,null,null,null,null,null,0,null,null,null,0,0]
[null,null,null,null,null,null,null,0,null,null,null,0,0]
[null,null,null,null,null,null,null,0,null,null,null,0,0]
[null,null,null,null,null,null,null,0,null,null,null,0,0]
[null,null,null,null,null,null,null,0,null,null,null,0,0]
[null,null,null,null,null,null,null,0,null,null,null,0,0]
[null,{"$f":"IF(SUM(Form!$J$202,Form!$J$203,Form!$J$204,Form!$J$209,Form!$J$210,Form!$J$211,Form!$J$214,Form!$J$215,Form!$J$216)>0,List!$C$387,\" \")","v":" "}]
[null,null,null,null,null,null,null,null,null,null,null,null,{"$f":"SUM($M$12:$M$223)","v":0}]
[null,null,null,null,{"$f":"List!$C$59&\" \"","v":"Cena celkem bez DPH "},null,{"$f":"List!C60&\"   \"&TEXT(M225,\"# ##0,00\")&\"   \"","v":"Kč    0,00   "}]
[null,{"$f":"List!$C$245&\":\"","v":"Poznámka:"}]
[]
[]
[]
[]
[]
[]
[]
[]
[null,{"$f":"\"       \"&List!$C$348","v":"       Po úpravě objenávky odfiltrujte pomocí filtru ve sloupci \"Ks\" prázné řádky."}]
[null,{"$f":"List!$C$350&\" '\"&List!$C$247&\"'\"","v":"Chcete-li objednávku uložit nebo odeslat jako přílohu, vytvořte nový soubor kliknutím na odkaz 'Vytvořit objednávku'"}]
[null,null,null,null,null,null,null,null,null,{"$f":"List!$C$247","v":"Vytvořit objednávku"}]
[]
[]
[]
[]
[]
[]
[]
[]
[]
[]
[]
[]
[]
[]
[]
[]
[]
[]
[]
[]
[]
[]
[]
[]
[]
[]
[]
[]
[]
[]
[]
[]
[]
[]
[]
[]
[]
[]
[]
[]
[]
[]
[]
[]
[]
[]
[]
[]
[]
[]
[]
[]
[]
[]
[]
[]
[]
[]
[]
[]
[]
[]
[]
[]
[]
[]
[]
[]
[]
[]
[]
[]
[]
[]
[]
[]
[]
[]
[]
[]
[]
[]
[]
[]
[]
[]
[]
[]
[]
[]
[]
[]
[]
[]
[]
[]
[]
[]
[]
[]
[]
[]
[]
[]
[]
[]
[]
[]
[]
[]
[]
[]
[]
[]
[]
[]
[]
[]
[]
[]
[]
[]
[]
[]
[]
[]
[]
[]
[]
[]
[]
[]
[]
[]
[]
[]
[]
[]
[]
[]
[]
[]
[]
[]
[]
[]
[]
[]
[]
[]
[]
[]
[]
[]
[]
[]
[]
[]
[]
[]
[]
[]
[]
[]
[]
[]
[]
[]
[]
[]
[]
[]
[]
[]
[]
[]
[]
[]
[]
[]
[]
[]
[]
[]
[]
[]
[]
[]
[]
[null,{"$f":"\"      \"&List!$C$140","v":"      Objednávka"}]
[]
[null,{"$f":"List!C339","v":"Můžete doplnit číslo objednávky a označení zakázky."}]
[null,{"$f":"List!C340","v":"Údaje o odběrateli se načítají z  \"Formuláře\"."}]
[null,{"$f":"List!C341","v":"Chcete-li údaje doplnit nebo změnit, jděte na \"Úvod\" a klikněte na \"Formulář \""}]
[null,{"$f":"List!C342","v":"Ceny v objednávce se zobrazují v cenové hladině nastavené na úvodní straně."}]
[null,{"$f":"List!C343","v":0}]
[null,{"$f":"List!C344","v":"V objednávce můžete měnit počty kusů. "}]
[null,{"$f":"List!C345","v":"Pokud chcete určitou položku vynulovat, zadejte do políčka ve sloupci \"Změna\" hodnotu \"x\""}]
[null,{"$f":"List!C346","v":"Pro doplnění artiklů, které nejsou v objednávce můžete použít prázdné řádky."}]
[null,{"$f":"List!C347","v":0}]
[null,{"$f":"List!C348","v":"Po úpravě objenávky odfiltrujte pomocí filtru ve sloupci \"Ks\" prázné řádky."}]
[null,{"$f":"List!C349","v":0}]
[null,{"$f":"List!C350","v":"Chcete-li objednávku uložit nebo odeslat jako přílohu, vytvořte nový soubor kliknutím na odkaz"}]
[null,{"$f":"\"'\"&List!$C$247&\"'\"","v":"'Vytvořit objednávku'"}]
[]
[]
[null,null,null,null,null,null,null,null,null,{"$f":"List!$C$149","v":"Zpět"}]

{"sheet":"Acs","index":31,"n_rows":438,"n_cols":16,"rows_kept":438,"cut":false,"hidden":false,"merged":[[427,0,466,0],[139,0,206,0],[58,1,58,11],[66,1,66,5],[34,6,34,7],[40,6,40,7],[5,0,52,0],[34,1,34,5],[55,0,88,0],[21,1,22,11],[26,6,26,7],[26,1,26,5],[66,6,66,7],[35,1,35,11],[57,6,57,7],[24,1,24,11],[5,1,5,11],[11,10,12,10],[11,1,12,5],[11,8,12,8],[16,1,16,11],[13,1,13,11],[11,9,12,9],[11,6,12,7],[55,1,55,11],[11,11,12,11],[27,1,27,11],[31,1,31,11],[57,1,57,5],[40,1,40,5],[19,1,19,11]]}
[]
[]
[null,{"$f":"\" \"&List!$C$141","v":" Doplňky"},null,null,null,null,null,null,null,null,null,null,null,null,null,{"$f":"List!$C$135","v":"Jdi na"}]
[]
[]
[null,{"$f":"\" \"&List!$C$232","v":" Omezovač úhlu otevření"},null,null,null,null,null,null,null,null,null,null,null,null,null,{"$f":"\" \"&List!$C$136","v":" Úvod plánování"}]
[null,null,null,null,null,null,null,null,null,null,null,null,null,null,null,{"$f":"List!$C$137","v":"Nápověda"}]
[]
[null,null,null,null,null,null,null,null,null,null,null,null,null,null,null," AVENTOS HF"]
[null,null,null,null,null,null,null,null,null,null,null,null,null,null,null," AVENTOS HS"]
[null,null,"HF",null,null,null,null,"HK-S",null,null,null,"HK-XS *",null,null,null," AVENTOS HL"]
[null,{"$f":"\" \"&List!$C$50","v":" Název"},null,null,null,null," Art.Nr.",null,{"$f":"List!$C$52","v":"Barva"},{"$f":"List!$C$53","v":"Počet"},{"$f":"List!$C$56","v":"Jednotková cena"},{"$f":"List!$C$57","v":"Celkem"},null,null,null," AVENTOS HK top"]
[null,null,null,null,null,null,null,null,null,null,null,null,null,null,null," AVENTOS HK-S"]
[null,"AVENTOS HF",null,null,null,null,null,null,null,null,null,null,null,null,null," AVENTOS HK-XS"]
[null,{"$f":"Cen!A27","v":"Omezovač úhlu otevření na 83° "},null,null,null,null,{"$f":"Cen!E27","v":"20F7011"},null,{"$f":"Cen!G27","v":"TGR"},null,{"$f":"Cen!I27","v":0},{"$f":"J15*K15","v":0}]
[null,{"$f":"Cen!A28","v":"Omezovač úhlu otevření na 104° "},null,null,null,null,{"$f":"Cen!E28","v":"20F7051"},null,{"$f":"Cen!G28","v":"TGR"},null,{"$f":"Cen!I28","v":0},{"$f":"J16*K16","v":0},null,null,null,{"$f":"\" \"&List!$C$139","v":" Přehled korpusů"}]
[null,"AVENTOS HK-S",null,null,null,null,null,null,null,null,null,null,null,null,null,{"$f":"\" \"&List!$C$140","v":" Objednávka"}]
[null,{"$f":"Cen!A149","v":"Omezovač úhlu otevření na 75° "},null,null,null,null,{"$f":"Cen!E149","v":"20K7A11"},null,{"$f":"Cen!G149","v":"TGR"},null,{"$f":"Cen!I149","v":0},{"$f":"J18*K18","v":0}]
[null,{"$f":"Cen!A150","v":"Omezovač úhlu otevření na 100° "},null,null,null,null,{"$f":"Cen!E150","v":"20K7A41"},null,{"$f":"Cen!G150","v":"TGR"},null,{"$f":"Cen!I150","v":0},{"$f":"J19*K19","v":0}]
[null,"AVENTOS HK-XS"]
[null,{"$f":"Cen!A178","v":"Omezovač úhlu otevření (86°)"},null,null,null,null,{"$f":"Cen!E178","v":"70T3553"},null,{"$f":"Cen!G178","v":"S"},null,{"$f":"Cen!I178","v":0},{"$f":"J21*K21","v":0}]
[null,{"$f":"\"* \"&List!$C$389&\". \"&List!$C$390&\"!\"","v":"* Omezovač pouze pro závěsy CLIP top BLUMOTION a CLIP top 110°. Nelze pro úzké alurámečky!"}]
[]
[]
[null,{"$f":"\" \"&List!$C$353","v":" Sada kování pro úzké alurámečky bez frézování"}]
[null,null,null,null,"a",null,null,null,null,"b"]
[null,{"$f":"\" \"&List!$C$50","v":" Název"},null,null,null,null," Art.Nr.",null,{"$f":"List!$C$52","v":"Barva"},{"$f":"List!$C$53","v":"Počet"},{"$f":"List!$C$56","v":"Jednotková cena"},{"$f":"List!$C$57","v":"Celkem"}]
[]
[null,{"$f":"$E$26&\" - \"&Cen!A154","v":"a - Sada čel.kování pro úzké alu HK-S"},null,null,null,null,{"$f":"Cen!E154","v":"175H3G00A"},null,{"$f":"Cen!G154","v":"NI"},null,{"$f":"Cen!I154","v":0},{"$f":"J29*K29","v":0}]
[null,{"$f":"$J$26&\" - \"&Cen!A195","v":"b - Samořezný vrut do alurámečků"},null,null,null,null,{"$f":"Cen!E195","v":"660.0950"},null,{"$f":"Cen!G195","v":"NI"},null,{"$f":"Cen!I195","v":0},{"$f":"J30*K30","v":0}]
[]
[null,{"$f":"\" \"&List!$C$355","v":" Montážní podložky  / Čelní kování"}]
[null,{"$f":"\" \"&List!$C$386","v":" Jako čelní kování pro HK-S umožňuje realizovat výklopy až do 600mm."}]
[null,null,null,"a",null,null,"b"]
[null,{"$f":"\" \"&List!$C$50","v":" Název"},null,null,null,null," Art.Nr.",null,{"$f":"List!$C$52","v":"Barva"},{"$f":"List!$C$53","v":"Počet"},{"$f":"List!$C$56","v":"Jednotková cena"},{"$f":"List!$C$57","v":"Celkem"}]
[]
[null,{"$f":"$D$34&\" - \"&Cen!A211","v":"a - Podložka CLIP top přímá"},null,null,null,null,{"$f":"Cen!E211","v":"175H5400"},null,{"$f":"Cen!G211","v":"NI"},null,{"$f":"Cen!I211","v":0},{"$f":"J37*K37","v":0}]
[null,{"$f":"$G$34&\" - \"&Cen!A212","v":"b - Podložka CLIP top přímá EXPANDO"},null,null,null,null,{"$f":"Cen!E212","v":"177H5400E"},null,{"$f":"Cen!G212","v":"NI"},null,{"$f":"Cen!I212","v":0},{"$f":"J38*K38","v":0}]
[]
[null,null,"k",null,null,"l",null,null,"m",null,null,"n"]
[null,{"$f":"\" \"&List!$C$50","v":" Název"},null,null,null,null," Art.Nr.",null,{"$f":"List!$C$52","v":"Barva"},{"$f":"List!$C$53","v":"Počet"},{"$f":"List!$C$56","v":"Jednotková cena"},{"$f":"List!$C$57","v":"Celkem"}]
[]
[null,{"$f":"C40&\" - \"&Cen!A180","v":"k - TIP-ON, zkrácená délka, šedý"},null,null,null,null,{"$f":"Cen!E180","v":"956.1004"},null,{"$f":"Cen!G180","v":"PG"},null,{"$f":"Cen!I180","v":0},{"$f":"J43*K43","v":0}]
[null,{"$f":"C40&\" - \"&Cen!A181","v":"k - TIP-ON, zkrácená délka, hedv.bílý"},null,null,null,null,{"$f":"Cen!E181","v":"956.1004"},null,{"$f":"Cen!G181","v":"SW"},null,{"$f":"Cen!I181","v":0},0]
[null,{"$f":"C40&\" - \"&Cen!A182","v":"k - TIP-ON, zkrácená délka, Terra černý"},null,null,null,null,{"$f":"Cen!E182","v":"956.1004"},null,{"$f":"Cen!G182","v":"TS"},null,{"$f":"Cen!I182","v":0},{"$f":"J45*K45","v":0}]
[null,{"$f":"F40&\" - \"&Cen!A183","v":"l - TIP-ON, prodloužená délka, šedý"},null,null,null,null,{"$f":"Cen!E183","v":"956A1004"},null,{"$f":"Cen!G183","v":"PG"},null,{"$f":"Cen!I183","v":0},0]
[null,{"$f":"F40&\" - \"&Cen!A184","v":"l - TIP-ON, prodloužená délka, hedv.bílý"},null,null,null,null,{"$f":"Cen!E184","v":"956A1004"},null,{"$f":"Cen!G184","v":"SW"},null,{"$f":"Cen!I184","v":0},0]
[null,{"$f":"F40&\" - \"&Cen!A185","v":"l - TIP-ON, prodloužená délka, Terra černý"},null,null,null,null,{"$f":"Cen!E185","v":"956A1004"},null,{"$f":"Cen!G185","v":"TS"},null,{"$f":"Cen!I185","v":0},{"$f":"J48*K48","v":0}]
[null,{"$f":"I40&\" - \"&Cen!A187","v":"m - Přímý adaptér, zkrácená délka, šedý"},null,null,null,null,{"$f":"Cen!E187","v":"956.1201"},null,{"$f":"Cen!G187","v":"PG"},null,{"$f":"Cen!I187","v":0},0]
[null,{"$f":"I40&\" - \"&Cen!A188","v":"m - Přímý adaptér, zkrácená délka, hedv.bílý"},null,null,null,null,{"$f":"Cen!E188","v":"956.1201"},null,{"$f":"Cen!G188","v":"SW"},null,{"$f":"Cen!I188","v":0},0]
[null,{"$f":"I40&\" - \"&Cen!A189","v":"m - Přímý adaptér, zkrácená délka, Terra černý"},null,null,null,null,{"$f":"Cen!E189","v":"956.1201"},null,{"$f":"Cen!G189","v":"TS"},null,{"$f":"Cen!I189","v":0},{"$f":"J51*K51","v":0}]
[null,{"$f":"L40&\" - \"&Cen!A190","v":"n - Přímý adaptér, prodl.délka, šedý"},null,null,null,null,{"$f":"Cen!E190","v":"956A1201"},null,{"$f":"Cen!G190","v":"PG"},null,{"$f":"Cen!I190","v":0},0]
[null,{"$f":"L40&\" - \"&Cen!A191","v":"n - Přímý adaptér, prodl.délka, hedv.bílý"},null,null,null,null,{"$f":"Cen!E191","v":"956A1201"},null,{"$f":"Cen!G191","v":"SW"},null,{"$f":"Cen!I191","v":0},0]
[null,{"$f":"L40&\" - \"&Cen!A192","v":"n - Přímý adaptér, prodl.délka, Terra černý"},null,null,null,null,{"$f":"Cen!E192","v":"956A1201"},null,{"$f":"Cen!G192","v":"TS"},null,{"$f":"Cen!I192","v":0},{"$f":"J54*K54","v":0}]
[]
[null," SERVO-DRIVE"]
[null,null,null,"a",null,null,"b",null,null,"c",null,"d "]
[null,{"$f":"\" \"&List!$C$50","v":" Název"},null,null,null,null," Art.Nr.",null,{"$f":"List!$C$52","v":"Barva"},{"$f":"List!$C$53","v":"Počet"},{"$f":"List!$C$56","v":"Jednotková cena"},{"$f":"List!$C$57","v":"Celkem"}]
[]
[null,{"$f":"$D$57&\" - \"&Cen!A199","v":"a - SERVO-DRIVE jednotka (sada)"},null,null,null,null,{"$f":"Cen!E199","v":"21FA000"},null,{"$f":"Cen!G199","v":"HGR"},null,{"$f":"Cen!I199","v":0},{"$f":"J60*K60","v":0}]
[null,{"$f":"$D$57&\" - \"&Cen!A200","v":"a - SERVO-DRIVE jednotka (sada) pro HK top"},null,null,null,null,{"$f":"Cen!E200","v":"23KA000"},null,{"$f":"Cen!G200","v":"HGR"},null,{"$f":"Cen!I200","v":0},{"$f":"J61*K61","v":0}]
[null,{"$f":"$G57&\" - \"&Cen!A201","v":"b - SERVO-DRIVE napájecí zdroj 24W"},null,null,null,null,{"$f":"Cen!E201","v":"Z10NE030E"},null,{"$f":"Cen!G201","v":"S"},null,{"$f":"Cen!I201","v":0},{"$f":"J62*K62","v":0}]
[null,{"$f":"$J57&\" - \"&Cen!A202","v":"c - SERVO-DRIVE napájecí kabel EU"},null,null,null,null,{"$f":"Cen!E202","v":"Z10M200E"},null,{"$f":"Cen!G202","v":"S"},null,{"$f":"Cen!I202","v":0},{"$f":"J63*K63","v":0}]
[null,{"$f":"$L57&\"- \"&Cen!A203","v":"d - SERVO-DRIVE držák zdroje"},null,null,null,null,{"$f":"Cen!E203","v":"Z10NG120"},null,{"$f":"Cen!G203","v":"R737"},null,{"$f":"Cen!I203","v":0},{"$f":"J64*K64","v":0}]
[]
[null,null,null,"e",null,null,"f",null,null,"g",null,"h "]
[null,{"$f":"\" \"&List!$C$50","v":" Název"},null,null,null,null," Art.Nr.",null,{"$f":"List!$C$52","v":"Barva"},{"$f":"List!$C$53","v":"Počet"},{"$f":"List!$C$56","v":"Jednotková cena"},{"$f":"List!$C$57","v":"Celkem"}]
[]
[null,{"$f":"$D66&\" - \"&Cen!A204","v":"e - SERVO-DRIVE elektrokabel, 8m"},null,null,null,null,{"$f":"Cen!E204","v":"Z10K800AE"},null,{"$f":"Cen!G204","v":"S"},null,{"$f":"Cen!I204","v":0},{"$f":"J69*K69","v":0}]
[null,{"$f":"$G66&\"  - \"&Cen!A205","v":"f  - SERVO-DRIVE svorka + krytka"},null,null,null,null,{"$f":"Cen!E205","v":"Z10V100E.01"},null,{"$f":"Cen!G205","v":"S"},null,{"$f":"Cen!I205","v":0},{"$f":"J70*K70","v":0}]
[null,{"$f":"$J66&\" - \"&Cen!A206","v":"g - SERVO-DRIVE držák kabelu"},null,null,null,null,{"$f":"Cen!E206","v":"Z10K0009"},null,{"$f":"Cen!G206","v":"NA"},null,{"$f":"Cen!I206","v":0},{"$f":"J71*K71","v":0}]
[null,{"$f":"$L66&\"- \"&Cen!A207","v":"h - Distanční doraz 5mm"},null,null,null,null,{"$f":"Cen!E207","v":"993.0530"},null,{"$f":"Cen!G207","v":"R737"},null,{"$f":"Cen!I207","v":0},{"$f":"J72*K72","v":0}]
[null,{"$f":"$L66&\"- \"&Cen!A208","v":"h - Distanční doraz 8mm"},null,null,null,null,{"$f":"Cen!E208","v":"993.0830.01"},null,{"$f":"Cen!G208","v":"R737"},null,{"$f":"Cen!I208","v":0},{"$f":"J73*K73","v":0}]
[]
[]
[]
[]
[]
[]
[]
[]
[]
[]
[]
[]
[]
[]
[]
[]
[]
[]
[]
[]
[]
[]
[]
[]
[]
[]
[]
[]
[]
[]
[]
[]
[]
[]
[]
[]
[]
[]
[]
[]
[]
[]
[]
[]
[]
[]
[]
[]
[]
[]
[]
[]
[]
[]
[]
[]
[]
[]
[]
[]
[]
[]
[]
[]
[]
[]
[null,{"$f":"List!C142","v":"Soupis kování"}]
[]
[null,{"$f":"B3","v":" Doplňky"}]
[null,{"$f":"List!C50","v":"Název"},null,null,null,null,"Art.Nr.",null,{"$f":"List!C52","v":"Barva"},{"$f":"List!C53","v":"Počet"},{"$f":"List!C56","v":"Jednotková cena"},{"$f":"List!C57","v":"Celkem"},"Filtr"]
[null,{"$f":"Cen!A27","v":"Omezovač úhlu otevření na 83° "},null,null,null,null,{"$f":"Cen!E27","v":"20F7011"},null,{"$f":"Cen!G27","v":"TGR"},{"$f":"J15","v":0},{"$f":"Cen!I27","v":0},{"$f":"J144*K144","v":0},"x"]
[null,{"$f":"Cen!A28","v":"Omezovač úhlu otevření na 104° "},null,null,null,null,{"$f":"Cen!E28","v":"20F7051"},null,{"$f":"Cen!G28","v":"TGR"},{"$f":"J16","v":0},{"$f":"Cen!I28","v":0},0,"x"]
[null,{"$f":"Cen!A106","v":"SERVO-DRIVE top, sada pro HK top"},null,null,null,null,{"$f":"Cen!E106","v":"23KA000"},null,{"$f":"Cen!G106","v":"TGR"},{"$f":"#REF!","v":{"$error":"#REF!"}},{"$f":"Cen!I106","v":0},{"$error":"#REF!"},"x"]
[null,{"$f":"Cen!A107","v":"Orážecí šablona pro čela HK top"},null,null,null,null,{"$f":"Cen!E107","v":"ZML.2200"},null,{"$f":"Cen!G107","v":"OR"},{"$f":"#REF!","v":{"$error":"#REF!"}},{"$f":"Cen!I107","v":0},{"$error":"#REF!"},"x"]
[null,{"$f":"Cen!A149","v":"Omezovač úhlu otevření na 75° "},null,null,null,null,{"$f":"Cen!E149","v":"20K7A11"},null,{"$f":"Cen!G149","v":"TGR"},{"$f":"J18","v":0},{"$f":"Cen!I149","v":0},0,"x"]
[null,{"$f":"Cen!A150","v":"Omezovač úhlu otevření na 100° "},null,null,null,null,{"$f":"Cen!E150","v":"20K7A41"},null,{"$f":"Cen!G150","v":"TGR"},{"$f":"J19","v":0},{"$f":"Cen!I150","v":0},0,"x"]
[null,{"$f":"Cen!A178","v":"Omezovač úhlu otevření (86°)"},null,null,null,null,{"$f":"Cen!E178","v":"70T3553"},null,{"$f":"Cen!G178","v":"S"},{"$f":"J21","v":0},{"$f":"Cen!I178","v":0},{"$f":"J150*K150","v":0},"x"]
[null,{"$f":"Cen!A153","v":0},null,null,null,null,{"$f":"Cen!E153","v":0},null,{"$f":"Cen!G153","v":0},{"$f":"Cen!I153","v":0},{"$f":"Cen!I153","v":0},{"$f":"J151*K151","v":0}]
[null,{"$f":"Cen!A154","v":"Sada čel.kování pro úzké alu HK-S"},null,null,null,null,{"$f":"Cen!E154","v":"175H3G00A"},null,{"$f":"Cen!G154","v":"NI"},{"$f":"J29","v":0},{"$f":"Cen!I154","v":0},{"$f":"J152*K152","v":0},"x"]
[]
[null,{"$f":"Cen!A199","v":"SERVO-DRIVE jednotka (sada)"},null,null,null,null,{"$f":"Cen!E199","v":"21FA000"},null,{"$f":"Cen!G199","v":"HGR"},{"$f":"J60","v":0},{"$f":"Cen!I199","v":0},{"$f":"J154*K154","v":0},"x"]
[null,{"$f":"Cen!A200","v":"SERVO-DRIVE jednotka (sada) pro HK top"},null,null,null,null,{"$f":"Cen!E200","v":"23KA000"},null,{"$f":"Cen!G200","v":"HGR"},{"$f":"J61","v":0},{"$f":"Cen!I200","v":0},{"$f":"J155*K155","v":0},"x"]
[null,{"$f":"Cen!A201","v":"SERVO-DRIVE napájecí zdroj 24W"},null,null,null,null,{"$f":"Cen!E201","v":"Z10NE030E"},null,{"$f":"Cen!G201","v":"S"},{"$f":"J62","v":0},{"$f":"Cen!I201","v":0},0,"x"]
[null,{"$f":"Cen!A202","v":"SERVO-DRIVE napájecí kabel EU"},null,null,null,null,{"$f":"Cen!E202","v":"Z10M200E"},null,{"$f":"Cen!G202","v":"S"},{"$f":"J63","v":0},{"$f":"Cen!I202","v":0},0,"x"]
[null,{"$f":"Cen!A203","v":"SERVO-DRIVE držák zdroje"},null,null,null,null,{"$f":"Cen!E203","v":"Z10NG120"},null,{"$f":"Cen!G203","v":"R737"},{"$f":"J64","v":0},{"$f":"Cen!I203","v":0},0,"x"]
[null,{"$f":"Cen!A204","v":"SERVO-DRIVE elektrokabel, 8m"},null,null,null,null,{"$f":"Cen!E204","v":"Z10K800AE"},null,{"$f":"Cen!G204","v":"S"},{"$f":"J69","v":0},{"$f":"Cen!I204","v":0},0,"x"]
[null,{"$f":"Cen!A205","v":"SERVO-DRIVE svorka + krytka"},null,null,null,null,{"$f":"Cen!E205","v":"Z10V100E.01"},null,{"$f":"Cen!G205","v":"S"},{"$f":"J70","v":0},{"$f":"Cen!I205","v":0},0,"x"]
[null,{"$f":"Cen!A206","v":"SERVO-DRIVE držák kabelu"},null,null,null,null,{"$f":"Cen!E206","v":"Z10K0009"},null,{"$f":"Cen!G206","v":"NA"},{"$f":"J71","v":0},{"$f":"Cen!I206","v":0},0,"x"]
[null,{"$f":"Cen!A207","v":"Distanční doraz 5mm"},null,null,null,null,{"$f":"Cen!E207","v":"993.0530"},null,{"$f":"Cen!G207","v":"R737"},{"$f":"J72","v":0},{"$f":"Cen!I207","v":0},0,"x"]
[null,{"$f":"Cen!A208","v":"Distanční doraz 8mm"},null,null,null,null,{"$f":"Cen!E208","v":"993.0830.01"},null,{"$f":"Cen!G208","v":"R737"},{"$f":"J73","v":0},{"$f":"Cen!I208","v":0},{"$f":"J163*K163","v":0},"x"]
[]
[null,{"$f":"Cen!A180","v":"TIP-ON, zkrácená délka, šedý"},null,null,null,null,{"$f":"Cen!E180","v":"956.1004"},null,{"$f":"Cen!G180","v":"PG"},{"$f":"J43","v":0},{"$f":"Cen!I180","v":0},{"$f":"J165*K165","v":0},"x"]
[null,{"$f":"Cen!A181","v":"TIP-ON, zkrácená délka, hedv.bílý"},null,null,null,null,{"$f":"Cen!E181","v":"956.1004"},null,{"$f":"Cen!G181","v":"SW"},0,{"$f":"Cen!I181","v":0},0,"x"]
[null,{"$f":"Cen!A182","v":"TIP-ON, zkrácená délka, Terra černý"},null,null,null,null,{"$f":"Cen!E182","v":"956.1004"},null,{"$f":"Cen!G182","v":"TS"},0,{"$f":"Cen!I182","v":0},{"$f":"J167*K167","v":0},"x"]
[null,{"$f":"Cen!A183","v":"TIP-ON, prodloužená délka, šedý"},null,null,null,null,{"$f":"Cen!E183","v":"956A1004"},null,{"$f":"Cen!G183","v":"PG"},0,{"$f":"Cen!I183","v":0},0,"x"]
[null,{"$f":"Cen!A184","v":"TIP-ON, prodloužená délka, hedv.bílý"},null,null,null,null,{"$f":"Cen!E184","v":"956A1004"},null,{"$f":"Cen!G184","v":"SW"},0,{"$f":"Cen!I184","v":0},0,"x"]
[null,{"$f":"Cen!A185","v":"TIP-ON, prodloužená délka, Terra černý"},null,null,null,null,{"$f":"Cen!E185","v":"956A1004"},null,{"$f":"Cen!G185","v":"TS"},0,{"$f":"Cen!I185","v":0},{"$f":"J170*K170","v":0},"x"]
[null,{"$f":"Cen!A187","v":"Přímý adaptér, zkrácená délka, šedý"},null,null,null,null,{"$f":"Cen!E187","v":"956.1201"},null,{"$f":"Cen!G187","v":"PG"},0,{"$f":"Cen!I187","v":0},0,"x"]
[null,{"$f":"Cen!A188","v":"Přímý adaptér, zkrácená délka, hedv.bílý"},null,null,null,null,{"$f":"Cen!E188","v":"956.1201"},null,{"$f":"Cen!G188","v":"SW"},0,{"$f":"Cen!I188","v":0},0,"x"]
[null,{"$f":"Cen!A189","v":"Přímý adaptér, zkrácená délka, Terra černý"},null,null,null,null,{"$f":"Cen!E189","v":"956.1201"},null,{"$f":"Cen!G189","v":"TS"},0,{"$f":"Cen!I189","v":0},{"$f":"J173*K173","v":0},"x"]
[null,{"$f":"Cen!A190","v":"Přímý adaptér, prodl.délka, šedý"},null,null,null,null,{"$f":"Cen!E190","v":"956A1201"},null,{"$f":"Cen!G190","v":"PG"},0,{"$f":"Cen!I190","v":0},0,"x"]
[null,{"$f":"Cen!A191","v":"Přímý adaptér, prodl.délka, hedv.bílý"},null,null,null,null,{"$f":"Cen!E191","v":"956A1201"},null,{"$f":"Cen!G191","v":"SW"},0,{"$f":"Cen!I191","v":0},0,"x"]
[null,{"$f":"Cen!A192","v":"Přímý adaptér, prodl.délka, Terra černý"},null,null,null,null,{"$f":"Cen!E192","v":"956A1201"},null,{"$f":"Cen!G192","v":"TS"},0,{"$f":"Cen!I192","v":0},{"$f":"J176*K176","v":0},"x"]
[]
[null,{"$f":"Cen!A211","v":"Podložka CLIP top přímá"},null,null,null,null,{"$f":"Cen!E211","v":"175H5400"},null,{"$f":"Cen!G211","v":"NI"},{"$f":"J37","v":0},{"$f":"Cen!I211","v":0},{"$f":"J178*K178","v":0},"x"]
[null,{"$f":"Cen!A212","v":"Podložka CLIP top přímá EXPANDO"},null,null,null,null,{"$f":"Cen!E212","v":"177H5400E"},null,{"$f":"Cen!G212","v":"NI"},{"$f":"J38","v":0},{"$f":"Cen!I212","v":0},{"$f":"J179*K179","v":0},"x"]
[]
[null,{"$f":"Cen!A195","v":"Samořezný vrut do alurámečků"},null,null,null,null,{"$f":"Cen!E195","v":"660.0950"},null,{"$f":"Cen!G195","v":"NI"},{"$f":"J30","v":0},{"$f":"Cen!I195","v":0},{"$f":"J181*K181","v":0},"x"]
[]
[]
[]
[]
[]
[]
[]
[]
[]
[]
[null,null,null,null,null,null,null,null,null,null,{"$f":"List!$C$59&\" \"","v":"Cena celkem bez DPH "},{"$f":"SUM(L144:L190)","v":{"$error":"#REF!"}}]
[]
[null,null,null,null,null,null,null,null,null,null,null,{"$f":"List!$C$149","v":"Zpět"}]
[]
[]
[]
[]
[]
[]
[]
[]
[]
[]
[]
[]
[]
[]
[]
[]
[]
[]
[]
[]
[]
[]
[]
[]
[]
[]
[]
[]
[]
[]
[]
[]
[]
[]
[]
[]
[]
[]
[]
[]
[]
[]
[]
[]
[]
[]
[]
[]
[]
[]
[]
[]
[]
[]
[]
[]
[]
[]
[]
[]
[]
[]
[]
[]
[]
[]
[]
[]
[]
[]
[]
[]
[]
[]
[]
[]
[]
[]
[]
[]
[]
[]
[]
[]
[]
[]
[]
[]
[]
[]
[]
[]
[]
[]
[]
[]
[]
[]
[]
[]
[]
[]
[]
[]
[]
[]
[]
[]
[]
[]
[]
[]
[]
[]
[]
[]
[]
[]
[]
[]
[]
[]
[]
[]
[]
[]
[]
[]
[]
[]
[]
[]
[]
[]
[]
[]
[]
[]
[]
[]
[]
[]
[]
[]
[]
[]
[]
[]
[]
[]
[]
[]
[]
[]
[]
[]
[]
[]
[]
[]
[]
[]
[]
[]
[]
[]
[]
[]
[]
[]
[]
[]
[]
[]
[]
[]
[]
[]
[]
[]
[]
[]
[]
[]
[]
[]
[]
[]
[]
[]
[]
[]
[]
[]
[]
[]
[]
[]
[]
[]
[]
[]
[]
[]
[]
[]
[]
[]
[]
[]
[]
[]
[]
[]
[]
[]
[]
[]
[]
[]
[]
[]
[]
[]
[]
[]
[]
[]
[]
[]
[]
[]
[]
[]
[null,{"$f":"\"      \"&List!$C$141","v":"      Doplňky"}]
[]
[null,{"$f":"List!$C$326","v":"Položky SERVO-DRIVE a - d se do objednávky načítají z jednotlivých korpusů."}]
[null,{"$f":"List!$C$327","v":"Zde slouží jen k doobjednání jednotlivých kusů. "}]
[]
[]
[]
[]
[]
[null,null,null,null,null,null,null,null,null,null,{"$f":"List!$C$149","v":"Zpět"}]

{"sheet":"Cab","index":32,"n_rows":425,"n_cols":28,"rows_kept":425,"cut":false,"hidden":false,"merged":[[10,1,10,5],[424,15,424,16],[15,21,15,25],[25,14,25,18],[30,21,30,25],[20,14,20,18],[15,14,15,18],[35,1,37,5],[35,7,35,11],[35,14,35,18],[40,21,40,23],[9,14,9,18],[10,14,10,18],[9,21,9,25],[10,21,10,25],[35,21,35,25],[13,27,14,27],[25,1,27,5],[30,1,32,5],[15,1,17,5],[20,1,22,5],[25,7,25,11],[20,21,20,25],[20,7,20,11],[15,7,15,11],[30,14,30,18],[5,14,5,18],[10,7,10,11],[5,21,5,25],[406,0,445,0],[30,7,30,11],[5,1,7,5],[5,7,5,11],[9,1,9,5],[9,7,9,11],[25,21,25,25],[40,24,40,25],[40,1,40,5],[40,10,40,11],[40,7,40,9],[40,14,40,16],[40,17,40,18]]}
[]
[]
[null,{"$f":"\" \"&List!$C$139","v":" Přehled korpusů"},null,null,null,null,null,null,null,null,null,null,null,null,null,null,null,null,null,null,null,null,null,null,null,null,null,{"$f":"List!$C$135","v":"Jdi na"}]
[]
[]
[null,"AVENTOS HF",null,null,null,null,null,{"$f":"List!$C$15","v":"Dřevěné čelo"},null,null,null,null,null,null,{"$f":"List!$C$17","v":"Široké alurámečky"},null,null,null,null,null,null,{"$f":"List!$C$19","v":"Úzké alurámečky"},null,null,null,null,null,{"$f":"\" \"&List!$C$136","v":" Úvod plánování"}]
[null,null,null,null,null,null,null,"A",{"$f":"HFw!$H$10","v":0},{"$f":"HFw!$H$11","v":0},{"$f":"IF(L7>0,IF(HFw!$S$9=1,\"SD\",0),0)","v":0},{"$f":"HFw!$M$15","v":0},null,null,"A",{"$f":"HFwa!$H$10","v":0},{"$f":"HFwa!$H$11","v":0},{"$f":"IF(S7>0,IF(HFwa!$S$9=1,\"SD\",0),0)","v":0},{"$f":"HFwa!$M$15","v":0},null,null,"A",{"$f":"HFna!$H$10","v":0},{"$f":"HFna!$H$11","v":0},{"$f":"IF(Z7>0,IF(HFna!$S$9=1,\"SD\",0),0)","v":0},{"$f":"HFna!$M$15","v":0},null,{"$f":"List!$C$137","v":"Nápověda"}]
[null,null,null,null,null,null,null,"B",{"$f":"HFw!$H$19","v":0},{"$f":"HFw!$H$20","v":0},{"$f":"IF(L8>0,IF(HFw!$S$18=1,\"SD\",0),0)","v":0},{"$f":"HFw!$M$24","v":0},null,null,"B",{"$f":"HFwa!$H$19","v":0},{"$f":"HFwa!$H$20","v":0},{"$f":"IF(S8>0,IF(HFwa!$S$18=1,\"SD\",0),0)","v":0},{"$f":"HFwa!$M$24","v":0},null,null,"B",{"$f":"HFna!$H$19","v":0},{"$f":"HFna!$H$20","v":0},{"$f":"IF(Z8>0,IF(HFna!$S$18=1,\"SD\",0),0)","v":0},{"$f":"HFna!$M$24","v":0}]
[]
[null,{"$f":"List!$C$15","v":"Dřevěné čelo"},null,null,null,null,null,{"$f":"List!$C$18","v":"Široký alurámeček"},null,null,null,null,null,null,{"$f":"List!$C$15","v":"Dřevěné čelo"},null,null,null,null,null,null,{"$f":"List!$C$20","v":"Úzký alurámeček"},null,null,null,null,null," AVENTOS HF"]
[null,{"$f":"List!$C$18","v":"Široký alurámeček"},null,null,null,null,null,{"$f":"List!$C$15","v":"Dřevěné čelo"},null,null,null,null,null,null,{"$f":"List!$C$20","v":"Úzký alurámeček"},null,null,null,null,null,null,{"$f":"List!$C$15","v":"Dřevěné čelo"},null,null,null,null,null," AVENTOS HS"]
[null,"A",{"$f":"HFw_wa!$H$10","v":0},{"$f":"HFw_wa!$H$11","v":0},{"$f":"IF(F12>0,IF(HFw_wa!$S$9=1,\"SD\",0),0)","v":0},{"$f":"HFw_wa!$M$15","v":0},null,"A",{"$f":"HFwa_w!$H$10","v":0},{"$f":"HFwa_w!$H$11","v":0},{"$f":"IF(L12>0,IF(HFwa_w!$S$9=1,\"SD\",0),0)","v":0},{"$f":"HFwa_w!$M$15","v":0},null,null,"A",{"$f":"HFw_na!$H$10","v":0},{"$f":"HFw_na!$H$11","v":0},{"$f":"IF(S12>0,IF(HFw_na!$S$9=1,\"SD\",0),0)","v":0},{"$f":"HFw_na!$M$15","v":0},null,null,"A",{"$f":"HFna_w!$H$10","v":0},{"$f":"HFna_w!$H$11","v":0},{"$f":"IF(Z12>0,IF(HFna_w!$S$9=1,\"SD\",0),0)","v":0},{"$f":"HFna_w!$M$15","v":0},null," AVENTOS HL"]
[null,"B",{"$f":"HFw_wa!$H$19","v":0},{"$f":"HFw_wa!$H$20","v":0},{"$f":"IF(F13>0,IF(HFw_wa!$S$18=1,\"SD\",0),0)","v":0},{"$f":"HFw_wa!$M$24","v":0},null,"B",{"$f":"HFwa_w!$H$19","v":0},{"$f":"HFwa_w!$H$20","v":0},{"$f":"IF(L13>0,IF(HFwa_w!$S$18=1,\"SD\",0),0)","v":0},{"$f":"HFwa_w!$M$24","v":0},null,null,"B",{"$f":"HFw_na!$H$19","v":0},{"$f":"HFw_na!$H$20","v":0},{"$f":"IF(S13>0,IF(HFw_na!$S$18=1,\"SD\",0),0)","v":0},{"$f":"HFw_na!$M$24","v":0},null,null,"B",{"$f":"HFna_w!$H$19","v":0},{"$f":"HFna_w!$H$20","v":0},{"$f":"IF(Z13>0,IF(HFna_w!$S$18=1,\"SD\",0),0)","v":0},{"$f":"HFna_w!$M$24","v":0},null," AVENTOS HK top"]
[null,null,null,null,null,null,null,null,null,null,null,null,null,null,null,null,null,null,null,null,null,null,null,null,null,null,null," AVENTOS HK-S"]
[]
[null,"AVENTOS HS",null,null,null,null,null,{"$f":"List!$C$15","v":"Dřevěné čelo"},null,null,null,null,null,null,{"$f":"List!$C$18","v":"Široký alurámeček"},null,null,null,null,null,null,{"$f":"List!$C$20","v":"Úzký alurámeček"},null,null,null,null,null," AVENTOS HK-XS"]
[null,null,null,null,null,null,null,"A",{"$f":"HSw!$H$10","v":0},{"$f":"HSw!$H$11","v":0},{"$f":"IF(L17>0,IF(HSw!$Q$14=1,\"SD\",0),0)","v":0},{"$f":"HSw!$M$15","v":0},null,null,"A",{"$f":"HSwa!$H$10","v":0},{"$f":"HSwa!$H$11","v":0},{"$f":"IF(S17>0,IF(HSwa!$Q$14=1,\"SD\",0),0)","v":0},{"$f":"HSwa!$M$15","v":0},null,null,"A",{"$f":"HSna!$H$10","v":0},{"$f":"HSna!$H$11","v":0},{"$f":"IF(Z17>0,IF(HSna!$Q$14=1,\"SD\",0),0)","v":0},{"$f":"HSna!$M$15","v":0}]
[null,null,null,null,null,null,null,"B",{"$f":"HSw!$H$19","v":0},{"$f":"HSw!$H$20","v":0},{"$f":"IF(L18>0,IF(HSw!$Q$23=1,\"SD\",0),0)","v":0},{"$f":"HSw!$M$24","v":0},null,null,"B",{"$f":"HSwa!$H$19","v":0},{"$f":"HSwa!$H$20","v":0},{"$f":"IF(S18>0,IF(HSwa!$Q$23=1,\"SD\",0),0)","v":0},{"$f":"HSwa!$M$24","v":0},null,null,"B",{"$f":"HSna!$H$19","v":0},{"$f":"HSna!$H$20","v":0},{"$f":"IF(Z18>0,IF(HSna!$Q$14=1,\"SD\",0),0)","v":0},{"$f":"HSna!$M$24","v":0},null,{"$f":"\" \"&List!$C$141","v":" Doplňky"}]
[]
[]
[null,"AVENTOS HL",null,null,null,null,null,{"$f":"List!$C$15","v":"Dřevěné čelo"},null,null,null,null,null,null,{"$f":"List!$C$18","v":"Široký alurámeček"},null,null,null,null,null,null,{"$f":"List!$C$20","v":"Úzký alurámeček"},null,null,null,null,null,{"$f":"\" \"&List!$C$140","v":" Objednávka"}]
[null,null,null,null,null,null,null,"A",{"$f":"HLw!$H$10","v":0},{"$f":"HLw!$H$11","v":0},{"$f":"IF(L22>0,IF(HLw!$Q$14=1,\"SD\",0),0)","v":0},{"$f":"HLw!$M$15","v":0},null,null,"A",{"$f":"HLwa!$H$10","v":0},{"$f":"HLwa!$H$11","v":0},{"$f":"IF(S22>0,IF(HLwa!$Q$14=1,\"SD\",0),0)","v":0},{"$f":"HLwa!$M$15","v":0},null,null,"A",{"$f":"HLna!$H$10","v":0},{"$f":"HLna!$H$11","v":0},{"$f":"IF(Z22>0,IF(HLna!$Q$14=1,\"SD\",0),0)","v":0},{"$f":"HLna!$M$15","v":0}]
[null,null,null,null,null,null,null,"B",{"$f":"HLw!$H$19","v":0},{"$f":"HLw!$H$20","v":0},{"$f":"IF(L23>0,IF(HLw!$Q$23=1,\"SD\",0),0)","v":0},{"$f":"HLw!$M$24","v":0},null,null,"B",{"$f":"HLwa!$H$19","v":0},{"$f":"HLwa!$H$20","v":0},{"$f":"IF(S23>0,IF(HLwa!$Q$23=1,\"SD\",0),0)","v":0},{"$f":"HLwa!$M$24","v":0},null,null,"B",{"$f":"HLna!$H$19","v":0},{"$f":"HLna!$H$20","v":0},{"$f":"IF(Z23>0,IF(HLna!$Q$23=1,\"SD\",0),0)","v":0},{"$f":"HLna!$M$24","v":0}]
[]
[]
[null,"AVENTOS HK top",null,null,null,null,null,{"$f":"List!$C$15","v":"Dřevěné čelo"},null,null,null,null,null,null,{"$f":"List!$C$18","v":"Široký alurámeček"},null,null,null,null,null,null,{"$f":"List!$C$20","v":"Úzký alurámeček"}]
[null,null,null,null,null,null,null,"A",{"$f":"HKw!$H$10","v":1400},{"$f":"HKw!$H$11","v":450},{"$f":"IF(L27>0,IF(HKw!$U$14=1,0,IF(HKw!$U$14=2,\"SD\",IF(HKw!$U$14=3,\"T\",0))),0)","v":"SD"},{"$f":"HKw!$M$15","v":2},null,null,"A",{"$f":"HKwa!$H$10","v":0},{"$f":"HKwa!$H$11","v":0},{"$f":"IF(S27>0,IF(HKwa!$U$14=1,0,IF(HKwa!$U$14=2,\"SD\",IF(HKwa!$U$14=3,\"T\",0))),0)","v":0},{"$f":"HKwa!$M$15","v":0},null,null,"A",{"$f":"HKna!$H$10","v":0},{"$f":"HKna!$H$11","v":0},{"$f":"IF(Z27>0,IF(HKna!$U$14=1,0,IF(HKna!$U$14=2,\"SD\",IF(HKna!$U$14=3,\"T\",0))),0)","v":0},{"$f":"HKna!$M$15","v":0}]
[null,null,null,null,null,null,null,"B",{"$f":"HKw!$H$19","v":0},{"$f":"HKw!$H$20","v":0},{"$f":"IF(L28>0,IF(HKw!$U$23=1,0,IF(HKw!$U$23=2,\"SD\",IF(HKw!$U$14=3,\"T\",0))),0)","v":0},{"$f":"HKw!$M$24","v":0},null,null,"B",{"$f":"HKwa!$H$19","v":0},{"$f":"HKwa!$H$20","v":0},{"$f":"IF(S28>0,IF(HKwa!$U$23=1,0,IF(HKwa!$U$23=2,\"SD\",IF(HKwa!$U$23=3,\"T\",0))),0)","v":0},{"$f":"HKwa!$M$24","v":0},null,null,"B",{"$f":"HKna!$H$19","v":0},{"$f":"HKna!$H$20","v":0},{"$f":"IF(Z28>0,IF(HKna!$U$23=1,0,IF(HKna!$U$23=2,\"SD\",IF(HKna!$U$23=3,\"T\",0))),0)","v":0},{"$f":"HKna!$M$24","v":0}]
[]
[]
[null,"AVENTOS HK-S",null,null,null,null,null,{"$f":"List!$C$15","v":"Dřevěné čelo"},null,null,null,null,null,null,{"$f":"List!$C$18","v":"Široký alurámeček"},null,null,null,null,null,null,{"$f":"List!$C$20","v":"Úzký alurámeček"}]
[null,null,null,null,null,null,null,"A",{"$f":"HKSw!$H$10","v":0},{"$f":"HKSw!$H$11","v":0},{"$f":"IF(L32>0, IF(HKSw!$U$14=2, \"T\", 0),0)","v":0},{"$f":"HKSw!$M$15","v":0},null,null,"A",{"$f":"HKSwa!$H$10","v":0},{"$f":"HKSwa!$H$11","v":0},{"$f":"IF(S32>0, IF(HKSwa!$U$14=2, \"T\", 0),0)","v":0},{"$f":"HKSwa!$M$15","v":0},null,null,"A",{"$f":"HKSna!$H$10","v":0},{"$f":"HKSna!$H$11","v":0},{"$f":"IF(Z32>0, IF(HKSna!$U$14=2, \"T\", 0),0)","v":0},{"$f":"HKSna!$M$15","v":0}]
[null,null,null,null,null,null,null,"B",{"$f":"HKSw!$H$19","v":0},{"$f":"HKSw!$H$20","v":0},{"$f":"IF(L33>0, IF(HKSw!$U$23=2, \"T\", 0),0)","v":0},{"$f":"HKSw!$M$24","v":0},null,null,"B",{"$f":"HKSwa!$H$19","v":0},{"$f":"HKSwa!$H$20","v":0},{"$f":"IF(S33>0, IF(HKSwa!$U$23=2, \"T\", 0),0)","v":0},{"$f":"HKSwa!$M$24","v":0},null,null,"B",{"$f":"HKSna!$H$19","v":0},{"$f":"HKSna!$H$20","v":0},{"$f":"IF(Z33>0, IF(HKSna!$U$23=2, \"T\", 0),0)","v":0},{"$f":"HKSna!$M$24","v":0}]
[]
[]
[null,"AVENTOS HK-XS",null,null,null,null,null,{"$f":"List!$C$15","v":"Dřevěné čelo"},null,null,null,null,null,null,{"$f":"List!$C$18","v":"Široký alurámeček"},null,null,null,null,null,null,{"$f":"List!$C$20","v":"Úzký alurámeček"}]
[null,null,null,null,null,null,null,"A",{"$f":"HKXSw!$I$10","v":900},{"$f":"HKXSw!$I$11","v":600},{"$f":"IF(L37>0,IF(HKXSw!$U$14=1,0,IF(HKXSw!$U$14=2,\"T\",0)),0)","v":0},{"$f":"HKXSw!$M$15","v":0},null,null,"A",{"$f":"HKXSwa!$I$10","v":0},{"$f":"HKXSwa!$I$11","v":0},{"$f":"IF(S37>0,IF(HKXSwa!$U$14=1,0,IF(HKXSwa!$U$14=2,\"T\",0)),0)","v":0},{"$f":"HKXSwa!$M$15","v":0},null,null,"A",{"$f":"HKXSna!$I$10","v":0},{"$f":"HKXSna!$I$11","v":0},{"$f":"IF(Z37>0,IF(HKXSna!$U$14=1,0,IF(HKXSna!$U$14=2,\"T\",0)),0)","v":0},{"$f":"HKXSna!$M$15","v":0}]
[null,null,null,null,null,null,null,"B",{"$f":"HKXSw!$I$19","v":0},{"$f":"HKXSw!$I$20","v":0},{"$f":"IF(L38>0,IF(HKXSw!$U$23=1,0,IF(HKXSw!$U$23=2,\"T\",0)),0)","v":0},{"$f":"HKXSw!$M$24","v":0},null,null,"B",{"$f":"HKXSwa!$I$19","v":0},{"$f":"HKXSwa!$I$20","v":0},{"$f":"IF(S38>0,IF(HKXSwa!$U$23=1,0,IF(HKXSwa!$U$23=2,\"T\",0)),0)","v":0},{"$f":"HKXSwa!$M$24","v":0},null,null,"B",{"$f":"HKXSna!$I$19","v":0},{"$f":"HKXSna!$I$20","v":0},{"$f":"IF(Z38>0,IF(HKXSna!$U$23=1,0,IF(HKXSna!$U$23=2,\"T\",0)),0)","v":0},{"$f":"HKXSna!$M$24","v":0}]
[]
[]
[null,{"$f":"\" \"&List!$C$141","v":" Doplňky"},null,null,null,null,null,"TIP-ON",null,null,{"$f":"SUM(Acs!J43:J53)","v":0},null,null,null,"SERVO-DRIVE",null,null,{"$f":"SUM(Acs!J60:J64,Acs!J69:J73)","v":0},null,null,null,{"$f":"List!C29","v":"Ostatní"},null,null,{"$f":"SUM(Acs!J15:J16,Acs!J18:J19,Acs!J21,Acs!J29:J30,Acs!J37:J38)","v":0}]
[]
[]
[null,null,null,null,null,{"$f":"List!$C$270&\":\"","v":"Legenda:"},null,1,2,3,4,5]
[null,null,null,null,null,null,null,"A",900,600,"S",1]
[]
[null,null,null,null,null,1,null,{"$f":"List!$C$62&\" A / B\"","v":"Korpus A / B"}]
[null,null,null,null,null,2,null,{"$f":"List!$C$72&\" [mm]\"","v":"Šířka korpusu [mm]"}]
[null,null,null,null,null,3,null,{"$f":"List!$C$73&\" [mm]\"","v":"Výška korpusu [mm]"}]
[null,null,null,null,null,4,null,{"$f":"List!$C$203&\": [   ] = Standard     SD = SERVO-DRIVE     T = TIP-ON\"","v":"Provedení: [   ] = Standard     SD = SERVO-DRIVE     T = TIP-ON"}]
[null,null,null,null,null,5,null,{"$f":"List!$C$53","v":"Počet"}]
[]
[]
[]
[]
[]
[]
[]
[]
[]
[]
[]
[]
[]
[]
[]
[]
[]
[]
[]
[]
[]
[]
[]
[]
[]
[]
[]
[]
[]
[]
[]
[]
[]
[]
[]
[]
[]
[]
[]
[]
[]
[]
[]
[]
[]
[]
[]
[]
[]
[]
[]
[]
[]
[]
[]
[]
[]
[]
[]
[]
[]
[]
[]
[]
[]
[]
[]
[]
[]
[]
[]
[]
[]
[]
[]
[]
[]
[]
[]
[]
[]
[]
[]
[]
[]
[]
[]
[]
[]
[]
[]
[]
[]
[]
[]
[]
[]
[]
[]
[]
[]
[]
[]
[]
[]
[]
[]
[]
[]
[]
[]
[]
[]
[]
[]
[]
[]
[]
[]
[]
[]
[]
[]
[]
[]
[]
[]
[]
[]
[]
[]
[]
[]
[]
[]
[]
[]
[]
[]
[]
[]
[]
[]
[]
[]
[]
[]
[]
[]
[]
[]
[]
[]
[]
[]
[]
[]
[]
[]
[]
[]
[]
[]
[]
[]
[]
[]
[]
[]
[]
[]
[]
[]
[]
[]
[]
[]
[]
[]
[]
[]
[]
[]
[]
[]
[]
[]
[]
[]
[]
[]
[]
[]
[]
[]
[]
[]
[]
[]
[]
[]
[]
[]
[]
[]
[]
[]
[]
[]
[]
[]
[]
[]
[]
[]
[]
[]
[]
[]
[]
[]
[]
[]
[]
[]
[]
[]
[]
[]
[]
[]
[]
[]
[]
[]
[]
[]
[]
[]
[]
[]
[]
[]
[]
[]
[]
[]
[]
[]
[]
[]
[]
[]
[]
[]
[]
[]
[]
[]
[]
[]
[]
[]
[]
[]
[]
[]
[]
[]
[]
[]
[]
[]
[]
[]
[]
[]
[]
[]
[]
[]
[]
[]
[]
[]
[]
[]
[]
[]
[]
[]
[]
[]
[]
[]
[]
[]
[]
[]
[]
[]
[]
[]
[]
[]
[]
[]
[]
[]
[]
[]
[]
[]
[]
[]
[]
[]
[]
[]
[]
[]
[]
[]
[]
[]
[]
[]
[]
[]
[]
[]
[]
[]
[]
[]
[]
[]
[]
[]
[]
[]
[]
[]
[]
[]
[]
[]
[]
[]
[]
[]
[]
[]
[]
[]
[]
[null,null,{"$f":"\"      \"&List!$C$139","v":"      Přehled korpusů"}]
[]
[null,null,{"$f":"List!$C$330","v":"V přehledu se zobrazují rozměry korpusů, volba SERVO-DRIVE a počet kusů."}]
[null,null,{"$f":"List!$C$331","v":"Pokud se u korpusu zobrazí pouze rozměry, může to znamenat:"}]
[null,null,{"$f":"\" - \"&List!$C$332","v":" - není zadán počet kusů"}]
[null,null,{"$f":"\" - \"&List!$C$333","v":" - nejsou doplněny všechny povinné parametry"}]
[null,null,{"$f":"\" - \"&List!$C$334","v":" - jsou překročeny hodnoty povinných parametrů (např. max. výška)"}]
[null,null,{"$f":"List!$C$335","v":"V tom případě se korpus nenačte do objednávky."}]
[null,null,{"$f":"List!$C$336","v":"Kliknutím na název korpusu přejděte na stránku zdvihače a údaje doplňte nebo opravte."}]
[null,null,{"$f":"List!C337","v":0}]
[]
[]
[]
[]
[]
[]
[]
[null,null,null,null,null,null,null,null,null,null,null,null,null,null,null,{"$f":"List!$C$149","v":"Zpět"}]

{"sheet":"List","index":33,"n_rows":394,"n_cols":5,"rows_kept":394,"cut":false,"hidden":false,"merged":[[317,0,318,0],[372,4,373,7],[374,4,375,7]]}
[null,null,{"$f":"$C$150","v":"Zpět na úvod"}]
[]
[null,null,"systém výklopů","systém výklopů"]
[null,null,"pro skládací výklopy","pro skládací výklopy"]
[null,null,"pro výkyvné výklopy","pro výkyvné výklopy"]
[null,null,"pro zdvihací výklopy","pro zdvihací výklopy"]
[null,null,"pro výklopy","pro výklopy"]
[null,null,"pro malé výklopy","pro malé výklopy"]
[]
[null,null,"Tato aplikace slouží k snadnějšímu objednávání kování AVENTOS.","Tato aplikace slouží k snadnějšímu objednávání kování AVENTOS."]
[null,null,"Výsledky nemusí být přesné, zvláště při použití výpočtu hmotnosti.","Výsledky nemusí být přesné, zvláště při použití výpočtu hmotnosti."]
[]
[]
[null,null,"Dřevěná čela","Dřevěná čela"]
[null,null,"Dřevěné čelo","Dřevěné čelo"]
[null,null,"Dřevěná čela a široké alurámečky","Dřevěná čela a široké alurámečky"]
[null,null,"Široké alurámečky","Široké alurámečky"]
[null,null,"Široký alurámeček","Široký alurámeček"]
[null,null,"Úzké alurámečky","Úzké alurámečky"]
[null,null,"Úzký alurámeček","Úzký alurámeček"]
[null,null,"Tenké materiály","Tenké materiály"]
[null,null,"hmotnost alurámečků","hmotnost alurámečků"]
[null,null,"materiály tloušťky od 8 do 14 mm","materiály tloušťky od 8 do 14 mm"]
[]
[]
[]
[null,null,"Počet mezistěn","Počet mezistěn"]
[null,null,"Krytky","Krytky"]
[null,null,"Ostatní","Ostatní"]
[]
[]
[]
[null,null,"horní čelo","horní čelo"]
[null,null,"dolní čelo","dolní čelo"]
[]
[]
[]
[]
[null,null,"Cena za korpus","Cena za korpus"]
[null,null,"Cenová hladina","Cenová hladina"]
[null,null,"Základní ceny","Základní ceny"]
[null,null,"Nákupní ceny","Nákupní ceny"]
[null,null,"Se slevou","Se slevou"]
[null,null,"Zadejte výši slevy","Zadejte výši slevy"]
[null,null,"Ceny s volitelnou slevou","Ceny s volitelnou slevou"]
[null,null,"Ceny se slevou od prodejce","Ceny se slevou od prodejce"]
[null,null,"Nastavit","Nastavit"]
[]
[null,null,"Cena kování","Cena kování"]
[null,null,"Název","Název"]
[null,null,"Číslo artiklu","Číslo artiklu"]
[null,null,"Barva","Barva"]
[null,null,"Počet","Počet"]
[null,null,"Ks","Ks"]
[null,null,"Dostupnost","Dostupnost"]
[null,null,"Jednotková cena","Jednotková cena"]
[null,null,"Celkem","Celkem"]
[null,null,"Změna","Změna"]
[null,null,"Cena celkem bez DPH","Cena celkem bez DPH"]
[null,null,"Kč","Kč"]
[]
[null,null,"Korpus","Korpus"]
[null,null,"Parametry korpusu","Parametry korpusu"]
[null,null,"Vypočtené","Vypočtené"]
[null,null,"Zadané","Zadané"]
[]
[null,null,"Hmotnost čel","Hmotnost čel"]
[]
[null,null,"Počet skříněk","Počet skříněk"]
[]
[null,null,"Výpočet hmotnosti čel","Výpočet hmotnosti čel"]
[null,null,"Šířka korpusu","Šířka korpusu"]
[null,null,"Výška korpusu","Výška korpusu"]
[null,null,"Hmotnost čela včetně úchytky","Hmotnost čela včetně úchytky"]
[null,null,"Hmotnost čela vč. 2x hmotnost úchytky","Hmotnost čela vč. 2x hmotnost úchytky"]
[null,null,"Vypočtená hmotnost čela","Vypočtená hmotnost čela"]
[null,null,"Síla čela","Síla čela"]
[null,null,"Hmotnost úchytky","Hmotnost úchytky"]
[null,null,"Zdvihací mechanizmus","Zdvihací mechanizmus"]
[null,null,"Ukazatel výkonnosti","Ukazatel výkonnosti"]
[null,null,"Třetí zdvihač","Třetí zdvihač"]
[null,null,"Druhý zdvihač","Druhý zdvihač"]
[null,null,"hustota","hustota"]
[null,null,"MDF","MDF"]
[null,null,"Dřevotříska","Dřevotříska"]
[null,null,"Jiné - volitelná hustota","Jiné - volitelná hustota"]
[null,null,"Alurámečky s 4mm sklem","Alurámečky s 4mm sklem"]
[null,null,"Alurámečky s 5mm sklem","Alurámečky s 5mm sklem"]
[null,null,"Alurámečky s jiným sklem","Alurámečky s jiným sklem"]
[null,null,"Kompakt","Kompakt"]
[null,null,"Kompozit","Kompozit"]
[null,null,"Kámen","Kámen"]
[null,null,"Keramika","Keramika"]
[]
[null,null,"Není započtena hmotnost úchytky","Není započtena hmotnost úchytky"]
[null,null,"Opravdu máte úchytku na TIP-ON?","Opravdu máte úchytku na TIP-ON?"]
[null,null,"Jestli ne, smažte hmotnost úchytky.","Jestli ne, smažte hmotnost úchytky."]
[null,null,"Pro přesné hodnoty se obraťte na dodavatele materiálu","Pro přesné hodnoty se obraťte na dodavatele materiálu"]
[]
[null,null,"hodnota bude použita pro výpočet LF","hodnota bude použita pro výpočet LF"]
[null,null,"hodnota bude použita pro výběr zdvihače","hodnota bude použita pro výběr zdvihače"]
[null,null,"Použijte \"Výpočet hmotnosti\"","Použijte \"Výpočet hmotnosti\""]
[null,null,"Doplňte nebo použijte \"Výpočet hmotnosti\" ","Doplňte nebo použijte \"Výpočet hmotnosti\" "]
[null,null,"Přídavný třetí zdvihač","Přídavný třetí zdvihač"]
[null,null,"Upravte hmotnost nebo výšku","Upravte hmotnost nebo výšku"]
[null,null,"nebo přidejte třetí zdvihač","nebo přidejte třetí zdvihač"]
[null,null,"Překročena maximální hmotnost","Překročena maximální hmotnost"]
[null,null,"Druhá pohonná jednotka","Druhá pohonná jednotka"]
[null,null,"Použijte pouze jeden zdvihač","Použijte pouze jeden zdvihač"]
[null,null,"Doplňte hodnoty","Doplňte hodnoty"]
[null,null,"Povinná hodnota","Povinná hodnota"]
[null,null,"Doporučená hodnota","Doporučená hodnota"]
[null,null,"Jednostranný zvihač","Jednostranný zvihač"]
[null,null,"Přidejte druhý zdvihač","Přidejte druhý zdvihač"]
[null,null,"Horní závěsy","Horní závěsy"]
[null,null,"Expando","Expando"]
[null,null,"na vruty","na vruty"]
[null,null,"Středové závěsy","Středové závěsy"]
[null,null,"Expando","Expando"]
[null,null,"na vruty","na vruty"]
[null,null,"Montážní podložky","Montážní podložky"]
[null,null,"Expando","Expando"]
[null,null,"na vruty","na vruty"]
[null,null,"Čelní kování","Čelní kování"]
[null,null,"Expando","Expando"]
[null,null,"na vruty","na vruty"]
[null,null,"Barva krytek","Barva krytek"]
[null,null,"Světle šedá (HG/T)","Světle šedá (HG/T)"]
[null,null,"Tmavě šedá (TGR)","Tmavě šedá (TGR)"]
[null,null,"Hedvábně bílá (SW/T)","Hedvábně bílá (SW/T)"]
[]
[null,null,"Omezovač úhlu otevření","Omezovač úhlu otevření"]
[null,null,"Boční čep","Boční čep"]
[]
[null,null,"Jdi na","Jdi na"]
[null,null,"Úvod plánování","Úvod plánování"]
[null,null,"Nápověda","Nápověda"]
[null,null,"Odkazy","Odkazy"]
[null,null,"Přehled korpusů","Přehled korpusů"]
[null,null,"Objednávka","Objednávka"]
[null,null,"Doplňky","Doplňky"]
[null,null,"Soupis kování","Soupis kování"]
[null,null,"Symetrická čela","Symetrická čela"]
[null,null,"Asymetrická čela","Asymetrická čela"]
[null,null,"Základní údaje","Základní údaje"]
[]
[null,null,"Ano","Ano"]
[null,null,"Ne","Ne"]
[null,null,"Zpět","Zpět"]
[null,null,"Zpět na úvod","Zpět na úvod"]
[null,null,"Zpět na plánování","Zpět na plánování"]
[null,null,"do","do"]
[null,null,"ks","ks"]
[]
[null,null,"Sada napájecího zdroje","Sada napájecího zdroje"]
[null,null,"Složení: napájecí zdroj Blum 24W, napájecí kabel a držák napájecího zdroje - montáž na stěnu","Složení: napájecí zdroj Blum 24W, napájecí kabel a držák napájecího zdroje - montáž na stěnu"]
[null,null,"Pokud u jakéhokoli výklopu zvolíte SERVO-DRIVE, bude do objednávky, bez ohledu na celkový počet výklopů, přidán 1x zdroj Blum 24W, 1x napájecí kabel a 1x držák zdroje. Případnou změnu množsví upravte v objednávce.","Pokud u jakéhokoli výklopu zvolíte SERVO-DRIVE, bude do objednávky, bez ohledu na celkový počet výklopů, přidán 1x zdroj Blum 24W, 1x napájecí kabel a 1x držák zdroje. Případnou změnu množsví upravte v objednávce."]
[null,null,"Cena bez napájecího zdroje!","Cena bez napájecího zdroje!"]
[]
[null,null,"váha úchytky","váha úchytky"]
[null,null,"Provedení čel","Provedení čel"]
[]
[null,null,"Přídavný třetí zdvihač může být použit pouze s plným spodním čelem!","Přídavný třetí zdvihač může být použit pouze s plným spodním čelem!"]
[null,null,"Přídavný třetí zdvihač může být použit pouze s plným čelem!","Přídavný třetí zdvihač může být použit pouze s plným čelem!"]
[null,null,"Pouze pro asymetrická čela: zadejte teoretickou výšku TKH.","Pouze pro asymetrická čela: zadejte teoretickou výšku TKH."]
[null,null,"TKH = dvojnásobná výška horního čela včetně mezer","TKH = dvojnásobná výška horního čela včetně mezer"]
[]
[null,null,"Pokud znáte hmotnost a nechcete využít výpočtu hmotnosti","Pokud znáte hmotnost a nechcete využít výpočtu hmotnosti"]
[null,null,"Pro určení typu zdvihače bude použita zadaná hmotnost","Pro určení typu zdvihače bude použita zadaná hmotnost"]
[null,null,"Pro určení typu zdvihače bude použita vypočtená hmotnost","Pro určení typu zdvihače bude použita vypočtená hmotnost"]
[null,null,"Chcete-li použít vypočtenou hmotnost, smažte zadanou hodnotu","Chcete-li použít vypočtenou hmotnost, smažte zadanou hodnotu"]
[null,null,"Chcete-li použít zadanou hmotnost, zadejte ji do políčka","Chcete-li použít zadanou hmotnost, zadejte ji do políčka"]
[]
[null,null,"Pro výběr teleskopů bude použita teoretická výška TKH","Pro výběr teleskopů bude použita teoretická výška TKH"]
[null,null,"Teoretická výška TKH nesmí být menší než KH","Teoretická výška TKH nesmí být menší než KH"]
[null,null,"Výpočet asymetrických čel","Výpočet asymetrických čel"]
[null,null,"Výpočet hmotnosti","Výpočet hmotnosti"]
[]
[null,null,"Parametry korpusu","Parametry korpusu"]
[null,null,"Změnit","Změnit"]
[null,null,"Výpočet","Výpočet"]
[null,null,"Mezera nahoře","Mezera nahoře"]
[null,null,"Mezera mezi čely","Mezera mezi čely"]
[null,null,"Mezera dole","Mezera dole"]
[null,null,"Síla dna korpusu","Síla dna korpusu"]
[]
[null,null,"Výsledky plánování","Výsledky plánování"]
[null,null,"Možné výšky čel","Možné výšky čel"]
[null,null,"Vrchní čelo (FHo) v rozmezí","Vrchní čelo (FHo) v rozmezí"]
[null,null,"Spodní čelo (FHu) v rozmezí","Spodní čelo (FHu) v rozmezí"]
[null,null,"od","od"]
[null,null,"do","do"]
[null,null,"nelze","nelze"]
[null,null,"Není k dispozici","Není k dispozici"]
[]
[null,null,"Výška vrchního čela","Výška vrchního čela"]
[null,null,"Výška spodního čela","Výška spodního čela"]
[null,null,"Pozice zdvihače","Pozice zdvihače"]
[null,null,"Pozice mont. podložky pro teleskopy","Pozice mont. podložky pro teleskopy"]
[null,null,"Teoretická výška korpusu","Teoretická výška korpusu"]
[]
[null,null,"Tuto výšku zadejte do tabulky pro plánování výklopů","Tuto výšku zadejte do tabulky pro plánování výklopů"]
[null,null,"Provedení","Provedení"]
[null,null,"Verze","Verze"]
[null,null,"Platnost ceníku od","Platnost ceníku od"]
[null,null,"Sleva","Sleva"]
[null,null,"Prodejce","Prodejce"]
[null,null,"Sleva od prodejce","Sleva od prodejce"]
[null,null,"Ceník","Ceník"]
[]
[null,null,"Z ergonomického hlediska doporučujeme maximální výšku korpusu 600mm. Dodržíte-li však hranici faktoru výkonnosti, můžete realizovat i vyšší výklopy.","Z ergonomického hlediska doporučujeme maximální výšku korpusu 600mm. Dodržíte-li však hranici faktoru výkonnosti, můžete realizovat i vyšší výklopy."]
[null,null,"U širokých korpusů doporučujeme nainstalovat třetí zdvihač na střed korpusu. Důvodem je prohýbání čela v otevřené pozici.","U širokých korpusů doporučujeme nainstalovat třetí zdvihač na střed korpusu. Důvodem je prohýbání čela v otevřené pozici."]
[null,null,"Také faktor výkonnosti LF a váha dveří mohou být o 50% navýšeny.","Také faktor výkonnosti LF a váha dveří mohou být o 50% navýšeny."]
[null,null,"Vše záleží na hodnotě faktoru výkonnosti","Vše záleží na hodnotě faktoru výkonnosti"]
[null,null,"Zadejte počet mezistěn v korpusu. ","Zadejte počet mezistěn v korpusu."]
[null,null,"Nutná mezistěna","Nutná mezistěna"]
[null,null,"Upozornění: Vypočtené hodnoty jsou pouze orientační. ","Upozornění: Vypočtené hodnoty jsou pouze orientační. "]
[null,null,"Firma Blum ani prodejci neručí za jejich správnost.","Firma Blum ani prodejci neručí za jejich správnost."]
[]
[]
[null,null,"Hodnota platí jen pro volbu","Hodnota platí jen pro volbu"]
[null,null,"Objemová hmotnost materiálu","Objemová hmotnost materiálu"]
[null,null,"Hustota materiálu","Hustota materiálu"]
[null,null,"Změnit objemovou hmotnost ","Změnit objemovou hmotnost "]
[null,null,"Zadejte objemovou hmotnost ","Zadejte objemovou hmotnost "]
[null,null,"Zadejte sílu skla","Zadejte sílu skla"]
[]
[null,null,"Napájecí zdroj, napájecí kabel a držák napájecího zdroje","Napájecí zdroj, napájecí kabel a držák napájecího zdroje"]
[null,null,"Chcete-li přidat další komponenty, přejděte na stránku \"Doplňky\"","Chcete-li přidat další komponenty, přejděte na stránku \"Doplňky\""]
[]
[]
[null,null,"Omezovač úhlu otevření","Omezovač úhlu otevření"]
[]
[null,null,"Formulář pro identifikační údaje","Formulář pro identifikační údaje"]
[null,null,"Odběratel","Odběratel"]
[null,null,"Adresa","Adresa"]
[null,null,"Dodací adresa","Dodací adresa"]
[null,null,"IČO, DIČ","IČO, DIČ"]
[null,null,"Telefon, fax, e-mail","Telefon, fax, e-mail"]
[null,null,"Číslo objednávky","Číslo objednávky"]
[null,null,"Zakázka","Zakázka"]
[]
[]
[]
[null,null,"Poznámka","Poznámka"]
[]
[null,null,"Vytvořit objednávku","Vytvořit objednávku"]
[]
[]
[null,null,"Zde můžete vložit vlastní položky (následujících 10 řádků, zobrazí se v objednávce)","Zde můžete vložit vlastní položky (následujících 10 řádků, zobrazí se v objednávce)"]
[]
[]
[]
[null,null,"Vítejte v aplikaci AVENTPLAN","Vítejte v aplikaci AVENTPLAN"]
[null,null,"Před prvním spuštěním","Před prvním spuštěním"]
[null,null,"Přejděte na ","Přejděte na "]
[null,null,"Vyplňte identifikační údaje a výši slevy od prodejce.","Vyplňte identifikační údaje a výši slevy od prodejce."]
[null,null,"Po vyplnění se vraťte na úvod a subor uložte nebo zavřete s potvrzením změn.","Po vyplnění se vraťte na úvod a subor uložte nebo zavřete s potvrzením změn."]
[null,null,"Identifikační údaje se budou zobrazovat v objednávkách","Identifikační údaje se budou zobrazovat v objednávkách"]
[]
[null,null,"Na úvodní obrazovce vyberte, jaké ceny se budou zobrazovat:","Na úvodní obrazovce vyberte, jaké ceny se budou zobrazovat:"]
[null,null,"Základní (ceníkové) ceny bez slevy","Základní (ceníkové) ceny bez slevy"]
[null,null,"Zadáte-li slevu s mínusovým znamínkem, zobrazí se ceny o tuto hodnotu vyšší. ","Zadáte-li slevu s mínusovým znamínkem, zobrazí se ceny o tuto hodnotu vyšší. "]
[]
[null,null,"Proveďte volbu barvy krytek","Proveďte volbu barvy krytek"]
[null,null,"Volba ovlivní barvu krytek u všech vybraných zdvihačů.","Volba ovlivní barvu krytek u všech vybraných zdvihačů."]
[]
[null,null,"Kliknutím na obrázek nebo popis přejděte na požadovaný typ zdvihače.","Kliknutím na obrázek nebo popis přejděte na požadovaný typ zdvihače."]
[]
[null,null,"Legenda","Legenda"]
[null,null,"Změna zobrazovaných hodnot","Změna zobrazovaných hodnot"]
[null,null,"Výpočet hmotnosti","Výpočet hmotnosti"]
[null,null,"Upozornění","Upozornění"]
[null,null,"Informace a vysvětlivky","Informace a vysvětlivky"]
[null,null,"Tip","Tip"]
[null,null,"Nápověda","Nápověda"]
[null,null,"Odkazy na brožury, montážní návody a instrukážní videa","Odkazy na brožury, montážní návody a instrukážní videa"]
[null,null,"Soubory PDF","Soubory PDF"]
[]
["HF",null,"Vyberte požadovanou montážní techniku pro závěsy a podložky","Vyberte požadovanou montážní techniku pro závěsy a podložky"]
[null,null,"Potřebný zdvihač se určí pomocí ukazatele výkonnosti.","Potřebný zdvihač se určí pomocí ukazatele výkonnosti."]
[null,null,"Ukazatel výkonnosti závisí na hmotnosti dolního i horního čílka, a rovněž na výšce korpusu.","Ukazatel výkonnosti závisí na hmotnosti dolního i horního čílka, a rovněž na výšce korpusu."]
[]
[null,null,"Chcete-li změnit barvu krytek, přejděte na \"Úvod\"","Chcete-li změnit barvu krytek, přejděte na \"Úvod\""]
[]
[null,null,"Je-li ukazatel výkonnosti větší než 17.250, přidá se třetí zdvihač.","Je-li ukazatel výkonnosti větší než 17.250, přidá se třetí zdvihač."]
[null,null,"Pokud je zvolen SERVO-DRIVE, přidá se rovněž druhá pohonná jednotka.","Pokud je zvolen SERVO-DRIVE, přidá se rovněž druhá pohonná jednotka."]
[]
[null,null,"Pokud znáte hmotnost čela, můžete ji zadat, jinak použijte \"Výpočet hmotnosti\".","Pokud znáte hmotnost čela, můžete ji zadat, jinak použijte \"Výpočet hmotnosti\"."]
[null,null,"V tabulce má přednost zadaná hodnota. Chcete-li použít vypočtenou hmotnost, smažte zadanou hodnotu.","V tabulce má přednost zadaná hodnota. Chcete-li použít vypočtenou hmotnost, smažte zadanou hodnotu."]
[]
[]
[null,null,"U asymetrických čel musí být větší čelo nahoře!","U asymetrických čel musí být větší čelo nahoře!"]
[]
[null,null,"Tak se to dělá:","Tak se to dělá:"]
[]
[]
[null,null,"výška korpusu KH [mm] x hmotnost obou čel včetně úchytky","výška korpusu KH [mm] x hmotnost obou čel včetně úchytky"]
[null,null,"Teoretická výška korpusu (TKH) = výška horního čela (FHo) x 2 (včetně mezer)","Teoretická výška korpusu (TKH) = výška horního čela (FHo) x 2 (včetně mezer)"]
[]
[null,null,"Délka teleskopů závisí na výšce korpusu KH","Délka teleskopů závisí na výšce korpusu KH"]
[null,null,"U asymetrických čel se použije teoretická výška TKH","U asymetrických čel se použije teoretická výška TKH"]
[]
[null,null,"Pokud zadáte hodnotu TKH, použije se pro určení délky teleskopů","Pokud zadáte hodnotu TKH, použije se pro určení délky teleskopů"]
[null,null,"Nemáte-li asymetrická čela, nechte políčko prázdné.","Nemáte-li asymetrická čela, nechte políčko prázdné."]
[null,null,"Pro výpočet TKH můžete použít","Pro výpočet TKH můžete použít"]
[]
[]
[]
["HS",null,"Vyberte požadovanou montážní techniku pro čelní kování","Vyberte požadovanou montážní techniku pro čelní kování"]
[null,null,"Pro výběr správného zdvihače potřebujete znát výšku korpusu a hmotnost čela.","Pro výběr správného zdvihače potřebujete znát výšku korpusu a hmotnost čela."]
[]
[null,null,"Výška korpusu KH = 602 mm zaokrouhlit na KH = 600 mm","Výška korpusu KH = 602 mm zaokrouhlit na KH = 600 mm"]
[null,null,"Výška korpusu KH = 603 mm zaokrouhlit na KH = 605 mm","Výška korpusu KH = 603 mm zaokrouhlit na KH = 605 mm"]
[]
[]
[]
["HK HK-S",null,"Ukazatel výkonnosti závisí na hmotnosti čela (včetně dvojnásobné hmotnosti úchytky) a na výšce korpusu.","Ukazatel výkonnosti závisí na hmotnosti čela (včetně dvojnásobné hmotnosti úchytky) a na výšce korpusu."]
[null,null,"výška korpusu (KH) [mm] x hmotnost čela včetně dvojnásobné hmotnosti úchytky","výška korpusu (KH) [mm] x hmotnost čela včetně dvojnásobné hmotnosti úchytky"]
[]
[null,null,"V případě použití po obou stranách se faktor výkonnosti zdvojnásobí.","V případě použití zdvihače po obou stranách se faktor výkonnosti zdvojnásobí."]
[null,null,"V případě využití třetího zdvihače můžete zvýšit ukazatel výkonnosti a tudíž hmotnost čílka o 50%.","V případě využití třetího zdvihače můžete zvýšit ukazatel výkonnosti a tudíž hmotnost čílka o 50%."]
[null,null,"Platí jen pro zdvihač 20K2E00","Platí jen pro zdvihač 20K2E00"]
[]
[]
[null,null,"Položky SERVO-DRIVE a - d se do objednávky načítají z jednotlivých korpusů.","Položky SERVO-DRIVE a - d se do objednávky načítají z jednotlivých korpusů."]
[null,null,"Zde slouží jen k doobjednání jednotlivých kusů. ","Zde slouží jen k doobjednání jednotlivých kusů. "]
[]
[]
[null,null,"V přehledu se zobrazují rozměry korpusů, volba SERVO-DRIVE a počet kusů.","V přehledu se zobrazují rozměry korpusů, volba SERVO-DRIVE a počet kusů."]
[null,null,"Pokud se u korpusu zobrazí pouze rozměry, může to znamenat:","Pokud se u korpusu zobrazí pouze rozměry, může to znamenat:"]
[null,null,"není zadán počet kusů","není zadán počet kusů"]
[null,null,"nejsou doplněny všechny povinné parametry","nejsou doplněny všechny povinné parametry"]
[null,null,"jsou překročeny hodnoty povinných parametrů (např. max. výška)","jsou překročeny hodnoty povinných parametrů (např. max. výška)"]
[null,null,"V tom případě se korpus nenačte do objednávky.","V tom případě se korpus nenačte do objednávky."]
[null,null,"Kliknutím na název korpusu přejděte na stránku zdvihače a údaje doplňte nebo opravte.","Kliknutím na název korpusu přejděte na stránku zdvihače a údaje doplňte nebo opravte."]
[]
[]
[null,null,"Můžete doplnit číslo objednávky a označení zakázky.","Můžete doplnit číslo objednávky a označení zakázky."]
[null,null,"Údaje o odběrateli se načítají z  \"Formuláře\".","Údaje o odběrateli se načítají z  \"Formuláře\"."]
[null,null,"Chcete-li údaje doplnit nebo změnit, jděte na \"Úvod\" a klikněte na \"Formulář \"","Chcete-li údaje doplnit nebo změnit, jděte na \"Úvod\" a klikněte na \"Formulář \""]
[null,null,"Ceny v objednávce se zobrazují v cenové hladině nastavené na úvodní straně.","Ceny v objednávce se zobrazují v cenové hladině nastavené na úvodní straně."]
[]
[null,null,"V objednávce můžete měnit počty kusů. ","V objednávce můžete měnit počty kusů. "]
[null,null,"Pokud chcete určitou položku vynulovat, zadejte do políčka ve sloupci \"Změna\" hodnotu \"x\"","Pokud chcete určitou položku vynulovat, zadejte do políčka ve sloupci \"Změna\" hodnotu \"x\""]
[null,null,"Pro doplnění artiklů, které nejsou v objednávce můžete použít prázdné řádky.","Pro doplnění artiklů, které nejsou v objednávce můžete použít prázdné řádky."]
[]
[null,null,"Po úpravě objenávky odfiltrujte pomocí filtru ve sloupci \"Ks\" prázné řádky.","Po úpravě objenávky odfiltrujte pomocí filtru ve sloupci \"Ks\" prázné řádky."]
[]
[null,null,"Chcete-li objednávku uložit nebo odeslat jako přílohu, vytvořte nový soubor kliknutím na odkaz","Chcete-li objednávku uložit nebo odeslat jako přílohu, vytvořte nový soubor kliknutím na odkaz"]
[null,null,"Než soubor vytisknete nebo odešlete, odfiltrujte prázdné řádky.","Než soubor vytisknete nebo odešlete, odfiltrujte prázdné řádky."]
[]
[null,null,"Sada kování pro úzké alurámečky bez frézování","Sada kování pro úzké alurámečky bez frézování"]
[null,null,"Sada ramen","Sada ramen"]
[null,null,"Montážní podložky  / Čelní kování","Montážní podložky  / Čelní kování"]
[null,null,"Odstup čela","Odstup čela"]
[]
[null,null,"Sada krytek pro AVENTOS","Sada krytek pro AVENTOS"]
[null,null,"Sada krytek pro AVENTOS se SERVO-DRIVE","Sada krytek pro AVENTOS se SERVO-DRIVE"]
[null,null,"Krytky v provedení Nikl (NI-L) můžete přidat v oddílu \"Doplňky\"","Krytky v provedení Nikl (NI-L) můžete přidat v oddílu \"Doplňky\""]
[null,null,"Ověření síly zdvihače","Ověření síly zdvihače"]
[null,null,"Odstup čela od korpusu","Odstup čela od korpusu"]
[null,null,"Sklo","Sklo"]
[null,null,"Před prvním použitím doporučujeme zadat identifikační údaje pro objednávky a nastavit hmotnosti materiálů ","Před prvním použitím doporučujeme zadat identifikační údaje pro objednávky a nastavit hmotnosti materiálů "]
[null,null,"Údaje pro objednávku, zadání slevy od prodejce","Údaje pro objednávku, zadání slevy od prodejce"]
[null,null,"Hmotnosti materiálů, skla a alurámečků","Hmotnosti materiálů, skla a alurámečků"]
[null,null,"Přednastavená","Přednastavená"]
[null,null,"Podle Úvodu","Podle Úvodu"]
[null,null,"Vlastní","Vlastní"]
[null,null,"Tabulka hmotností","Tabulka hmotností"]
[null,null,"Vyberte typ alurámečku!","Vyberte typ alurámečku!"]
[null,null,"Více informací k výběru alurámečků v Nápovědě","Více informací k výběru alurámečků v Nápovědě"]
[null,null,"S vloženým sklem","S vloženým sklem","Pojmenování širokých alurámečků *"]
[null,null,"S naloženým nebo nalepeným sklem","S naloženým nebo nalepeným sklem"]
[null,null,"S vloženým sklem","S vloženým sklem","Pojmenování úzkých alurámečků *"]
[null,null,"S naloženým nebo nalepeným sklem","S naloženým nebo nalepeným sklem"]
[null,null,"Hmotnost spojovacího materiálu","Hmotnost spojovacího materiálu"]
[null,null,"Rohové spojky, šrouby, těsnění pro jeden rámeček","Rohové spojky, šrouby, těsnění pro jeden rámeček"]
[null,null,"Můžete nastavit hodnoty pro všechny výklopy nebo můžete měnit nastavení až při plánování jednotlivých výklopů.","Můžete nastavit hodnoty pro všechny výklopy nebo můžete měnit nastavení až při plánování jednotlivých výklopů."]
[null,null,"Chcete-li změny zachovat i pro příští použití, vraťte se na úvod a soubor uložte.","Chcete-li změny zachovat i pro příští použití, vraťte se na úvod a soubor uložte."]
[null,null,"Přejít k plánování výklopů","Přejít k plánování výklopů"]
[null,null,"Změnit hodnoty můžete v Úvodu plánování","Změnit hodnoty můžete v Úvodu plánování"]
[null,null,"Věnujte pozornost výběru alurámečků.","Věnujte pozornost výběru alurámečků."]
[null,null,"Vyberte, který typ lépe odpovídá tvaru použitého alurámečku.","Vyberte, který typ lépe odpovídá tvaru použitého alurámečku."]
[null,null,"Způsob osazení skla do rámečku výrazně ovlivňuje plochu skla a tím i hmotnost!","Způsob osazení skla do rámečku výrazně ovlivňuje plochu skla a tím i hmotnost!"]
[null,null,"Jako čelní kování pro HK-S umožňuje realizovat výklopy až do 600mm.","Jako čelní kování pro HK-S umožňuje realizovat výklopy až do 600mm."]
[null,null,"Hodnoty hmotností byly změněny uživatelem.","Hodnoty hmotností byly změněny uživatelem."]
[null,null,"Výběr barvy ovlivní i barvu pístů, popř. adaptérů TIP-ON","Výběr barvy ovlivní i barvu pístů, popř. adaptérů TIP-ON"]
[null,null,"Omezovač pouze pro závěsy CLIP top BLUMOTION a CLIP top 110°","Omezovač pouze pro závěsy CLIP top BLUMOTION a CLIP top 110°"]
[null,null,"Nelze pro úzké alurámečky","Nelze pro úzké alurámečky"]
[]
[null,null,null," * maximálně 40 znaků včetně mezer!"]
[]
[null,null,{"$f":"$C$150","v":"Zpět na úvod"}]

{"sheet":"Cen","index":34,"n_rows":273,"n_cols":16,"rows_kept":273,"cut":false,"hidden":true,"merged":[[2,12,2,14],[3,12,3,14],[4,12,4,14],[5,12,5,14],[7,12,7,14],[6,12,6,14],[258,3,258,4],[258,5,258,6],[258,8,258,9],[258,11,258,12],[258,13,258,14]]}
[null,null,null,null,null,null,null,null,"sleva",{"$f":"Menu!$F$27","v":0},{"$f":"Form!$E$118","v":0},"« Form",{"$f":"Price!I4","v":0},null,{"$f":"Menu!$S$27","v":1},"« Ceny"]
[{"$f":"Price!A2","v":"Sada zdvihačů HF"},null,null,null,{"$f":"Price!B2","v":"20F2200.05"},null,{"$f":"Price!C2","v":"ZN"},{"$f":"Price!D2","v":0},{"$f":"Price!E2*(100-$J$1)/100","v":0},{"$f":"Price!F2","v":9007682},{"$f":"Price!G2","v":0}]
[{"$f":"Price!A3","v":"Sada zdvihačů HF"},null,null,null,{"$f":"Price!B3","v":"20F2500.05"},null,{"$f":"Price!C3","v":"ZN"},{"$f":"Price!D3","v":0},{"$f":"Price!E3*(100-$J$1)/100","v":0},{"$f":"Price!F3","v":9007752},{"$f":"Price!G3","v":0},null,{"$f":"Price!I7","v":0}]
[{"$f":"Price!A4","v":"Sada zdvihačů HF"},null,null,null,{"$f":"Price!B4","v":"20F2800.05"},null,{"$f":"Price!C4","v":"ZN"},{"$f":"Price!D4","v":0},{"$f":"Price!E4*(100-$J$1)/100","v":0},{"$f":"Price!F4","v":9007822},{"$f":"Price!G4","v":0},null,{"$f":"Price!I8","v":0}]
[{"$f":"Price!A5","v":"Sada teleskopů (480-570mm)"},null,null,null,{"$f":"Price!B5","v":"20F3200.01"},null,{"$f":"Price!C5","v":"NI"},{"$f":"Price!D5","v":0},{"$f":"Price!E5*(100-$J$1)/100","v":0},{"$f":"Price!F5","v":5397438},{"$f":"Price!G5","v":0},null,{"$f":"Price!I9","v":0}]
[{"$f":"Price!A6","v":"Sada teleskopů (560-710mm)"},null,null,null,{"$f":"Price!B6","v":"20F3500.01"},null,{"$f":"Price!C6","v":"NI"},{"$f":"Price!D6","v":0},{"$f":"Price!E6*(100-$J$1)/100","v":0},{"$f":"Price!F6","v":4031701},{"$f":"Price!G6","v":0},null,{"$f":"Price!I10","v":0}]
[{"$f":"Price!A7","v":"Sada teleskopů (700-900mm)"},null,null,null,{"$f":"Price!B7","v":"20F3800.01"},null,{"$f":"Price!C7","v":"NI"},{"$f":"Price!D7","v":0},{"$f":"Price!E7*(100-$J$1)/100","v":0},{"$f":"Price!F7","v":6675488},{"$f":"Price!G7","v":0},null,{"$f":"Price!I11","v":0}]
[{"$f":"Price!A8","v":"Sada teleskopů (760-1040mm)"},null,null,null,{"$f":"Price!B8","v":"20F3900.01"},null,{"$f":"Price!C8","v":"NI"},{"$f":"Price!D8","v":0},{"$f":"Price!E8*(100-$J$1)/100","v":0},{"$f":"Price!F8","v":3841114},{"$f":"Price!G8","v":0},null,{"$f":"Price!I12","v":0}]
[{"$f":"Price!A9","v":"Sada krytek HF SERVO-DRIVE, sv.šedá"},null,null,null,{"$f":"Price!B9","v":"21F8000"},null,{"$f":"Price!C9","v":"HG/T"},{"$f":"Price!D9","v":0},{"$f":"Price!E9*(100-$J$1)/100","v":0},{"$f":"Price!F9","v":9025718},{"$f":"Price!G9","v":0}]
[{"$f":"Price!A10","v":"Sada krytek HF SERVO-DRIVE, tm.šedá"},null,null,null,{"$f":"Price!B10","v":"21F8000"},null,{"$f":"Price!C10","v":"TGR"},{"$f":"Price!D10","v":0},{"$f":"Price!E10*(100-$J$1)/100","v":0},{"$f":"Price!F10","v":8945782},{"$f":"Price!G10","v":0}]
[{"$f":"Price!A11","v":"Sada krytek HF SERVO-DRIVE, bílá"},null,null,null,{"$f":"Price!B11","v":"21F8000"},null,{"$f":"Price!C11","v":"SW/T"},{"$f":"Price!D11","v":0},{"$f":"Price!E11*(100-$J$1)/100","v":0},{"$f":"Price!F11","v":9025712},{"$f":"Price!G11","v":0}]
[{"$f":"Price!A12","v":"Sada krytek HF, světle šedá"},null,null,null,{"$f":"Price!B12","v":"20F8000"},null,{"$f":"Price!C12","v":"HG/T"},{"$f":"Price!D12","v":0},{"$f":"Price!E12*(100-$J$1)/100","v":0},{"$f":"Price!F12","v":8817398},{"$f":"Price!G12","v":0}]
[{"$f":"Price!A13","v":"Sada krytek HF, tmavě šedá"},null,null,null,{"$f":"Price!B13","v":"20F8000"},null,{"$f":"Price!C13","v":"TGR"},{"$f":"Price!D13","v":0},{"$f":"Price!E13*(100-$J$1)/100","v":0},{"$f":"Price!F13","v":2320125},{"$f":"Price!G13","v":0}]
[{"$f":"Price!A14","v":"Sada krytek HF, bílá"},null,null,null,{"$f":"Price!B14","v":"20F8000"},null,{"$f":"Price!C14","v":"SW/T"},{"$f":"Price!D14","v":0},{"$f":"Price!E14*(100-$J$1)/100","v":0},{"$f":"Price!F14","v":8817391},{"$f":"Price!G14","v":0}]
[{"$f":"Price!A15","v":"Závěs CLIP top 120° "},null,null,null,{"$f":"Price!B15","v":"70T5550.TL"},null,{"$f":"Price!C15","v":"NI"},{"$f":"Price!D15","v":0},{"$f":"Price!E15*(100-$J$1)/100","v":0},{"$f":"Price!F15","v":6510533},{"$f":"Price!G15","v":0}]
[{"$f":"Price!A16","v":"Závěs CLIP top 120° EXPANDO"},null,null,null,{"$f":"Price!B16","v":"70T558E"},null,{"$f":"Price!C16","v":"NI"},{"$f":"Price!D16","v":0},{"$f":"Price!E16*(100-$J$1)/100","v":0},{"$f":"Price!F16","v":7606263},{"$f":"Price!G16","v":0}]
[{"$f":"Price!A17","v":"Středový závěs CLIP top "},null,null,null,{"$f":"Price!B17","v":"78Z5500T"},null,{"$f":"Price!C17","v":"NI"},{"$f":"Price!D17","v":0},{"$f":"Price!E17*(100-$J$1)/100","v":0},{"$f":"Price!F17","v":6796673},{"$f":"Price!G17","v":0}]
[{"$f":"Price!A18","v":"Středový závěs CLIP top EXPANDO"},null,null,null,{"$f":"Price!B18","v":"78Z553ET"},null,{"$f":"Price!C18","v":"NI"},{"$f":"Price!D18","v":0},{"$f":"Price!E18*(100-$J$1)/100","v":0},{"$f":"Price!F18","v":6797133},{"$f":"Price!G18","v":0}]
[{"$f":"Price!A19","v":"Závěs CLIP top pro alurámečky"},null,null,null,{"$f":"Price!B19","v":"72T550A.TL"},null,{"$f":"Price!C19","v":"NI"},{"$f":"Price!D19","v":0},{"$f":"Price!E19*(100-$J$1)/100","v":0},{"$f":"Price!F19","v":7655633},{"$f":"Price!G19","v":0}]
[{"$f":"Price!A20","v":"Střed. závěs CLIP top pro alurámečky"},null,null,null,{"$f":"Price!B20","v":"78Z550AT"},null,{"$f":"Price!C20","v":"NI"},{"$f":"Price!D20","v":0},{"$f":"Price!E20*(100-$J$1)/100","v":0},{"$f":"Price!F20","v":6797303},{"$f":"Price!G20","v":0}]
[{"$f":"Price!A21","v":"Přímá montážní podložka"},null,null,null,{"$f":"Price!B21","v":"175H3100"},null,{"$f":"Price!C21","v":"NI"},{"$f":"Price!D21","v":0},{"$f":"Price!E21*(100-$J$1)/100","v":0},{"$f":"Price!F21","v":1037431},{"$f":"Price!G21","v":0}]
[{"$f":"Price!A22","v":"Přímá montážní podložka, EXPANDO"},null,null,null,{"$f":"Price!B22","v":"177H3100E"},null,{"$f":"Price!C22","v":"NI"},{"$f":"Price!D22","v":0},{"$f":"Price!E22*(100-$J$1)/100","v":0},{"$f":"Price!F22","v":3120329},{"$f":"Price!G22","v":0}]
[{"$f":"Price!A23","v":"Podložka CLIP excentrická"},null,null,null,{"$f":"Price!B23","v":"173H7100"},null,{"$f":"Price!C23","v":"NI"},{"$f":"Price!D23","v":0},{"$f":"Price!E23*(100-$J$1)/100","v":0},{"$f":"Price!F23","v":2364043},{"$f":"Price!G23","v":0}]
[{"$f":"Price!A24","v":"Adaptér CLIP k teleskopům P"},null,null,null,{"$f":"Price!B24","v":"175H5B00   R"},null,{"$f":"Price!C24","v":"NI"},{"$f":"Price!D24","v":0},{"$f":"Price!E24*(100-$J$1)/100","v":0},{"$f":"Price!F24","v":6796243},{"$f":"Price!G24","v":0}]
[{"$f":"Price!A25","v":"Adaptér CLIP k teleskopům L"},null,null,null,{"$f":"Price!B25","v":"175H5B00   L"},null,{"$f":"Price!C25","v":"NI"},{"$f":"Price!D25","v":0},{"$f":"Price!E25*(100-$J$1)/100","v":0},{"$f":"Price!F25","v":6796593},{"$f":"Price!G25","v":0}]
[{"$f":"Price!A26","v":"Adaptér CLIP ke středovým závěsům"},null,null,null,{"$f":"Price!B26","v":"175H5A00"},null,{"$f":"Price!C26","v":"NI"},{"$f":"Price!D26","v":0},{"$f":"Price!E26*(100-$J$1)/100","v":0},{"$f":"Price!F26","v":6796303},{"$f":"Price!G26","v":0}]
[{"$f":"Price!A27","v":"Omezovač úhlu otevření na 83° "},null,null,null,{"$f":"Price!B27","v":"20F7011"},null,{"$f":"Price!C27","v":"TGR"},{"$f":"Price!D27","v":0},{"$f":"Price!E27*(100-$J$1)/100","v":0},{"$f":"Price!F27","v":7285440},{"$f":"Price!G27","v":0}]
[{"$f":"Price!A28","v":"Omezovač úhlu otevření na 104° "},null,null,null,{"$f":"Price!B28","v":"20F7051"},null,{"$f":"Price!C28","v":"TGR"},{"$f":"Price!D28","v":0},{"$f":"Price!E28*(100-$J$1)/100","v":0},{"$f":"Price!F28","v":7160400},{"$f":"Price!G28","v":0}]
[{"$f":"Price!A29","v":0},null,null,null,{"$f":"Price!B29","v":0},null,{"$f":"Price!C29","v":0},{"$f":"Price!D29","v":0},{"$f":"Price!E29*(100-$J$1)/100","v":0},{"$f":"Price!F29","v":0},{"$f":"Price!G29","v":0}]
[{"$f":"Price!A30","v":0},null,null,null,{"$f":"Price!B30","v":0},null,{"$f":"Price!C30","v":0},{"$f":"Price!D30","v":0},{"$f":"Price!E30*(100-$J$1)/100","v":0},{"$f":"Price!F30","v":0},{"$f":"Price!G30","v":0}]
[{"$f":"Price!A31","v":0},null,null,null,{"$f":"Price!B31","v":0},null,{"$f":"Price!C31","v":0},{"$f":"Price!D31","v":0},{"$f":"Price!E31*(100-$J$1)/100","v":0},{"$f":"Price!F31","v":0},{"$f":"Price!G31","v":0}]
[{"$f":"Price!A32","v":0},null,null,null,{"$f":"Price!B32","v":0},null,{"$f":"Price!C32","v":0},{"$f":"Price!D32","v":0},{"$f":"Price!E32*(100-$J$1)/100","v":0},{"$f":"Price!F32","v":0},{"$f":"Price!G32","v":0}]
[{"$f":"Price!A33","v":0},null,null,null,{"$f":"Price!B33","v":0},null,{"$f":"Price!C33","v":0},{"$f":"Price!D33","v":0},{"$f":"Price!E33*(100-$J$1)/100","v":0},{"$f":"Price!F33","v":0},{"$f":"Price!G33","v":0}]
[{"$f":"Price!A34","v":0},null,null,null,{"$f":"Price!B34","v":0},null,{"$f":"Price!C34","v":0},{"$f":"Price!D34","v":0},{"$f":"Price!E34*(100-$J$1)/100","v":0},{"$f":"Price!F34","v":0},{"$f":"Price!G34","v":0}]
[{"$f":"Price!A35","v":"AVETOS HS"},null,null,null,{"$f":"Price!B35","v":0},null,{"$f":"Price!C35","v":0},{"$f":"Price!D35","v":0},{"$f":"Price!E35*(100-$J$1)/100","v":0},{"$f":"Price!F35","v":0},{"$f":"Price!G35","v":0}]
[{"$f":"Price!A36","v":"Sada zdvihačů HS"},null,null,null,{"$f":"Price!B36","v":"20S2A00.05"},null,{"$f":"Price!C36","v":"ZN"},{"$f":"Price!D36","v":0},{"$f":"Price!E36*(100-$J$1)/100","v":0},{"$f":"Price!F36","v":9016592},{"$f":"Price!G36","v":0}]
[{"$f":"Price!A37","v":"Sada zdvihačů HS"},null,null,null,{"$f":"Price!B37","v":"20S2B00.05"},null,{"$f":"Price!C37","v":"ZN"},{"$f":"Price!D37","v":0},{"$f":"Price!E37*(100-$J$1)/100","v":0},{"$f":"Price!F37","v":9016662},{"$f":"Price!G37","v":0}]
[{"$f":"Price!A38","v":"Sada zdvihačů HS"},null,null,null,{"$f":"Price!B38","v":"20S2C00.05"},null,{"$f":"Price!C38","v":"ZN"},{"$f":"Price!D38","v":0},{"$f":"Price!E38*(100-$J$1)/100","v":0},{"$f":"Price!F38","v":9016732},{"$f":"Price!G38","v":0}]
[{"$f":"Price!A39","v":"Sada zdvihačů HS"},null,null,null,{"$f":"Price!B39","v":"20S2D00.05"},null,{"$f":"Price!C39","v":"ZN"},{"$f":"Price!D39","v":0},{"$f":"Price!E39*(100-$J$1)/100","v":0},{"$f":"Price!F39","v":9016802},{"$f":"Price!G39","v":0}]
[{"$f":"Price!A40","v":"Sada zdvihačů HS"},null,null,null,{"$f":"Price!B40","v":"20S2E00.05"},null,{"$f":"Price!C40","v":"ZN"},{"$f":"Price!D40","v":0},{"$f":"Price!E40*(100-$J$1)/100","v":0},{"$f":"Price!F40","v":9016972},{"$f":"Price!G40","v":0}]
[{"$f":"Price!A41","v":"Sada zdvihačů HS"},null,null,null,{"$f":"Price!B41","v":"20S2F00.05"},null,{"$f":"Price!C41","v":"ZN"},{"$f":"Price!D41","v":0},{"$f":"Price!E41*(100-$J$1)/100","v":0},{"$f":"Price!F41","v":9017032},{"$f":"Price!G41","v":0}]
[{"$f":"Price!A42","v":"Sada zdvihačů HS"},null,null,null,{"$f":"Price!B42","v":"20S2G00.05"},null,{"$f":"Price!C42","v":"ZN"},{"$f":"Price!D42","v":0},{"$f":"Price!E42*(100-$J$1)/100","v":0},{"$f":"Price!F42","v":9017102},{"$f":"Price!G42","v":0}]
[{"$f":"Price!A43","v":"Sada zdvihačů HS"},null,null,null,{"$f":"Price!B43","v":"20S2H00.05"},null,{"$f":"Price!C43","v":"ZN"},{"$f":"Price!D43","v":0},{"$f":"Price!E43*(100-$J$1)/100","v":0},{"$f":"Price!F43","v":9017272},{"$f":"Price!G43","v":0}]
[{"$f":"Price!A44","v":"Sada zdvihačů HS"},null,null,null,{"$f":"Price!B44","v":"20S2I00.05"},null,{"$f":"Price!C44","v":"ZN"},{"$f":"Price!D44","v":0},{"$f":"Price!E44*(100-$J$1)/100","v":0},{"$f":"Price!F44","v":9017342},{"$f":"Price!G44","v":0}]
[{"$f":"Price!A45","v":"Sada soustav ramen SERVO-DRIVE"},null,null,null,{"$f":"Price!B45","v":"21S3500.01"},null,{"$f":"Price!C45","v":"ZN"},{"$f":"Price!D45","v":0},{"$f":"Price!E45*(100-$J$1)/100","v":0},{"$f":"Price!F45","v":1268137},{"$f":"Price!G45","v":0}]
[{"$f":"Price!A46","v":"Sada ramen HS"},null,null,null,{"$f":"Price!B46","v":"20S3500.06"},null,{"$f":"Price!C46","v":"ZN"},{"$f":"Price!D46","v":0},{"$f":"Price!E46*(100-$J$1)/100","v":0},{"$f":"Price!F46","v":2808088},{"$f":"Price!G46","v":0}]
[{"$f":"Price!A47","v":"Sada krytek HS SERVO-DRIVE, sv.šedá"},null,null,null,{"$f":"Price!B47","v":"21S8000"},null,{"$f":"Price!C47","v":"HG/T"},{"$f":"Price!D47","v":0},{"$f":"Price!E47*(100-$J$1)/100","v":0},{"$f":"Price!F47","v":9025958},{"$f":"Price!G47","v":0}]
[{"$f":"Price!A48","v":"Sada krytek HS SERVO-DRIVE, tm.šedá"},null,null,null,{"$f":"Price!B48","v":"21S8000"},null,{"$f":"Price!C48","v":"TGR"},{"$f":"Price!D48","v":0},{"$f":"Price!E48*(100-$J$1)/100","v":0},{"$f":"Price!F48","v":3035756},{"$f":"Price!G48","v":0}]
[{"$f":"Price!A49","v":"Sada krytek HS SERVO-DRIVE, bílá"},null,null,null,{"$f":"Price!B49","v":"21S8000"},null,{"$f":"Price!C49","v":"SW/T"},{"$f":"Price!D49","v":0},{"$f":"Price!E49*(100-$J$1)/100","v":0},{"$f":"Price!F49","v":9025952},{"$f":"Price!G49","v":0}]
[{"$f":"Price!A50","v":"Sada krytek HS, světle šedá"},null,null,null,{"$f":"Price!B50","v":"20S8000"},null,{"$f":"Price!C50","v":"HG/T"},{"$f":"Price!D50","v":0},{"$f":"Price!E50*(100-$J$1)/100","v":0},{"$f":"Price!F50","v":8817468},{"$f":"Price!G50","v":0}]
[{"$f":"Price!A51","v":"Sada krytek HS, tmavě šedá"},null,null,null,{"$f":"Price!B51","v":"20S8000"},null,{"$f":"Price!C51","v":"TGR"},{"$f":"Price!D51","v":0},{"$f":"Price!E51*(100-$J$1)/100","v":0},{"$f":"Price!F51","v":8896076},{"$f":"Price!G51","v":0}]
[{"$f":"Price!A52","v":"Sada krytek HS, bílá"},null,null,null,{"$f":"Price!B52","v":"20S8000"},null,{"$f":"Price!C52","v":"SW/T"},{"$f":"Price!D52","v":0},{"$f":"Price!E52*(100-$J$1)/100","v":0},{"$f":"Price!F52","v":8817461},{"$f":"Price!G52","v":0}]
[{"$f":"Price!A53","v":"Tyč příčné stabilizace ke zkrác."},null,null,null,{"$f":"Price!B53","v":"20Q1061UN"},null,{"$f":"Price!C53","v":"EV"},{"$f":"Price!D53","v":0},{"$f":"Price!E53*(100-$J$1)/100","v":0},{"$f":"Price!F53","v":3626183},{"$f":"Price!G53","v":0}]
[{"$f":"Price!A54","v":"Spojovací díl příčné stabilizace"},null,null,null,{"$f":"Price!B54","v":"20Q153ZN"},null,{"$f":"Price!C54","v":"EV"},{"$f":"Price!D54","v":0},{"$f":"Price!E54*(100-$J$1)/100","v":0},{"$f":"Price!F54","v":4767297},{"$f":"Price!G54","v":0}]
[{"$f":"Price!A55","v":0},null,null,null,{"$f":"Price!B55","v":0},null,{"$f":"Price!C55","v":0},{"$f":"Price!D55","v":0},{"$f":"Price!E55*(100-$J$1)/100","v":0},{"$f":"Price!F55","v":0},{"$f":"Price!G55","v":0}]
[{"$f":"Price!A56","v":0},null,null,null,{"$f":"Price!B56","v":0},null,{"$f":"Price!C56","v":0},{"$f":"Price!D56","v":0},{"$f":"Price!E56*(100-$J$1)/100","v":0},{"$f":"Price!F56","v":0},{"$f":"Price!G56","v":0}]
[{"$f":"Price!A57","v":0},null,null,null,{"$f":"Price!B57","v":0},null,{"$f":"Price!C57","v":0},{"$f":"Price!D57","v":0},{"$f":"Price!E57*(100-$J$1)/100","v":0},{"$f":"Price!F57","v":0},{"$f":"Price!G57","v":0}]
[{"$f":"Price!A58","v":0},null,null,null,{"$f":"Price!B58","v":0},null,{"$f":"Price!C58","v":0},{"$f":"Price!D58","v":0},{"$f":"Price!E58*(100-$J$1)/100","v":0},{"$f":"Price!F58","v":0},{"$f":"Price!G58","v":0}]
[{"$f":"Price!A59","v":0},null,null,null,{"$f":"Price!B59","v":0},null,{"$f":"Price!C59","v":0},{"$f":"Price!D59","v":0},{"$f":"Price!E59*(100-$J$1)/100","v":0},{"$f":"Price!F59","v":0},{"$f":"Price!G59","v":0}]
[{"$f":"Price!A60","v":0},null,null,null,{"$f":"Price!B60","v":0},null,{"$f":"Price!C60","v":0},{"$f":"Price!D60","v":0},{"$f":"Price!E60*(100-$J$1)/100","v":0},{"$f":"Price!F60","v":0},{"$f":"Price!G60","v":0}]
[{"$f":"Price!A61","v":0},null,null,null,{"$f":"Price!B61","v":0},null,{"$f":"Price!C61","v":0},{"$f":"Price!D61","v":0},{"$f":"Price!E61*(100-$J$1)/100","v":0},{"$f":"Price!F61","v":0},{"$f":"Price!G61","v":0}]
[{"$f":"Price!A62","v":0},null,null,null,{"$f":"Price!B62","v":0},null,{"$f":"Price!C62","v":0},{"$f":"Price!D62","v":0},{"$f":"Price!E62*(100-$J$1)/100","v":0},{"$f":"Price!F62","v":0},{"$f":"Price!G62","v":0}]
[{"$f":"Price!A63","v":"AVETOS HL"},null,null,null,{"$f":"Price!B63","v":0},null,{"$f":"Price!C63","v":0},{"$f":"Price!D63","v":0},{"$f":"Price!E63*(100-$J$1)/100","v":0},{"$f":"Price!F63","v":0},{"$f":"Price!G63","v":0}]
[{"$f":"Price!A64","v":"Sada zdvihačů HL"},null,null,null,{"$f":"Price!B64","v":"20L2100.05"},null,{"$f":"Price!C64","v":"ZN"},{"$f":"Price!D64","v":0},{"$f":"Price!E64*(100-$J$1)/100","v":0},{"$f":"Price!F64","v":9007992},{"$f":"Price!G64","v":0}]
[{"$f":"Price!A65","v":"Sada zdvihačů HL"},null,null,null,{"$f":"Price!B65","v":"20L2300.05"},null,{"$f":"Price!C65","v":"ZN"},{"$f":"Price!D65","v":0},{"$f":"Price!E65*(100-$J$1)/100","v":0},{"$f":"Price!F65","v":9008052},{"$f":"Price!G65","v":0}]
[{"$f":"Price!A66","v":"Sada zdvihačů HL"},null,null,null,{"$f":"Price!B66","v":"20L2500.05"},null,{"$f":"Price!C66","v":"ZN"},{"$f":"Price!D66","v":0},{"$f":"Price!E66*(100-$J$1)/100","v":0},{"$f":"Price!F66","v":9008122},{"$f":"Price!G66","v":0}]
[{"$f":"Price!A67","v":"Sada zdvihačů HL"},null,null,null,{"$f":"Price!B67","v":"20L2700.05"},null,{"$f":"Price!C67","v":"ZN"},{"$f":"Price!D67","v":0},{"$f":"Price!E67*(100-$J$1)/100","v":0},{"$f":"Price!F67","v":9008292},{"$f":"Price!G67","v":0}]
[{"$f":"Price!A68","v":"Sada zdvihačů HL"},null,null,null,{"$f":"Price!B68","v":"20L2900.05"},null,{"$f":"Price!C68","v":"ZN"},{"$f":"Price!D68","v":0},{"$f":"Price!E68*(100-$J$1)/100","v":0},{"$f":"Price!F68","v":9015362},{"$f":"Price!G68","v":0}]
[{"$f":"Price!A69","v":"Sada soustav ramen SERVO-DRIVE"},null,null,null,{"$f":"Price!B69","v":"21L3200.01"},null,{"$f":"Price!C69","v":"NI"},{"$f":"Price!D69","v":0},{"$f":"Price!E69*(100-$J$1)/100","v":0},{"$f":"Price!F69","v":7773321},{"$f":"Price!G69","v":0}]
[{"$f":"Price!A70","v":"Sada soustav ramen SERVO-DRIVE"},null,null,null,{"$f":"Price!B70","v":"21L3500.01"},null,{"$f":"Price!C70","v":"NI"},{"$f":"Price!D70","v":0},{"$f":"Price!E70*(100-$J$1)/100","v":0},{"$f":"Price!F70","v":7380852},{"$f":"Price!G70","v":0}]
[{"$f":"Price!A71","v":"Sada soustav ramen SERVO-DRIVE"},null,null,null,{"$f":"Price!B71","v":"21L3800.01"},null,{"$f":"Price!C71","v":"NI"},{"$f":"Price!D71","v":0},{"$f":"Price!E71*(100-$J$1)/100","v":0},{"$f":"Price!F71","v":6505500},{"$f":"Price!G71","v":0}]
[{"$f":"Price!A72","v":"Sada soustav ramen SERVO-DRIVE"},null,null,null,{"$f":"Price!B72","v":"21L3900.01"},null,{"$f":"Price!C72","v":"NI"},{"$f":"Price!D72","v":0},{"$f":"Price!E72*(100-$J$1)/100","v":0},{"$f":"Price!F72","v":6781239},{"$f":"Price!G72","v":0}]
[{"$f":"Price!A73","v":"Sada ramen HL"},null,null,null,{"$f":"Price!B73","v":"20L3200.06"},null,{"$f":"Price!C73","v":"NI"},{"$f":"Price!D73","v":0},{"$f":"Price!E73*(100-$J$1)/100","v":0},{"$f":"Price!F73","v":5059530},{"$f":"Price!G73","v":0}]
[{"$f":"Price!A74","v":"Sada ramen HL"},null,null,null,{"$f":"Price!B74","v":"20L3500.06"},null,{"$f":"Price!C74","v":"NI"},{"$f":"Price!D74","v":0},{"$f":"Price!E74*(100-$J$1)/100","v":0},{"$f":"Price!F74","v":9709704},{"$f":"Price!G74","v":0}]
[{"$f":"Price!A75","v":"Sada ramen HL"},null,null,null,{"$f":"Price!B75","v":"20L3800.06"},null,{"$f":"Price!C75","v":"NI"},{"$f":"Price!D75","v":0},{"$f":"Price!E75*(100-$J$1)/100","v":0},{"$f":"Price!F75","v":2255924},{"$f":"Price!G75","v":0}]
[{"$f":"Price!A76","v":"Sada ramen HL"},null,null,null,{"$f":"Price!B76","v":"20L3900.06"},null,{"$f":"Price!C76","v":"NI"},{"$f":"Price!D76","v":0},{"$f":"Price!E76*(100-$J$1)/100","v":0},{"$f":"Price!F76","v":6109280},{"$f":"Price!G76","v":0}]
[{"$f":"Price!A77","v":"Sada krytek HL SERVO-DRIVE, sv.šedá"},null,null,null,{"$f":"Price!B77","v":"21L8000"},null,{"$f":"Price!C77","v":"HG/T"},{"$f":"Price!D77","v":0},{"$f":"Price!E77*(100-$J$1)/100","v":0},{"$f":"Price!F77","v":9025888},{"$f":"Price!G77","v":0}]
[{"$f":"Price!A78","v":"Sada krytek HL SERVO-DRIVE, tm.šedá"},null,null,null,{"$f":"Price!B78","v":"21L8000"},null,{"$f":"Price!C78","v":"TGR"},{"$f":"Price!D78","v":0},{"$f":"Price!E78*(100-$J$1)/100","v":0},{"$f":"Price!F78","v":7277909},{"$f":"Price!G78","v":0}]
[{"$f":"Price!A79","v":"Sada krytek HL SERVO-DRIVE, bílá"},null,null,null,{"$f":"Price!B79","v":"21L8000"},null,{"$f":"Price!C79","v":"SW/T"},{"$f":"Price!D79","v":0},{"$f":"Price!E79*(100-$J$1)/100","v":0},{"$f":"Price!F79","v":9025882},{"$f":"Price!G79","v":0}]
[{"$f":"Price!A80","v":"Sada krytek HL, světle šedá"},null,null,null,{"$f":"Price!B80","v":"20L8000.01"},null,{"$f":"Price!C80","v":"HG/T"},{"$f":"Price!D80","v":0},{"$f":"Price!E80*(100-$J$1)/100","v":0},{"$f":"Price!F80","v":8817538},{"$f":"Price!G80","v":0}]
[{"$f":"Price!A81","v":"Sada krytek HL, tmavě šedá"},null,null,null,{"$f":"Price!B81","v":"20L8000.01"},null,{"$f":"Price!C81","v":"TGR"},{"$f":"Price!D81","v":0},{"$f":"Price!E81*(100-$J$1)/100","v":0},{"$f":"Price!F81","v":7438136},{"$f":"Price!G81","v":0}]
[{"$f":"Price!A82","v":"Sada krytek HL, bílá"},null,null,null,{"$f":"Price!B82","v":"20L8000.01"},null,{"$f":"Price!C82","v":"SW/T"},{"$f":"Price!D82","v":0},{"$f":"Price!E82*(100-$J$1)/100","v":0},{"$f":"Price!F82","v":8817531},{"$f":"Price!G82","v":0}]
[{"$f":"Price!A83","v":"Tyč příč.stabizace - oválná"},null,null,null,{"$f":"Price!B83","v":"20Q1061UA"},null,{"$f":"Price!C83","v":"EV"},{"$f":"Price!D83","v":0},{"$f":"Price!E83*(100-$J$1)/100","v":0},{"$f":"Price!F83","v":7799390},{"$f":"Price!G83","v":0}]
[{"$f":"Price!A84","v":"Spojovací díl příčné stabilizace"},null,null,null,{"$f":"Price!B84","v":"20Q153ZA"},null,{"$f":"Price!C84","v":"EV"},{"$f":"Price!D84","v":0},{"$f":"Price!E84*(100-$J$1)/100","v":0},{"$f":"Price!F84","v":5989274},{"$f":"Price!G84","v":0}]
[{"$f":"Price!A85","v":0},null,null,null,{"$f":"Price!B85","v":0},null,{"$f":"Price!C85","v":0},{"$f":"Price!D85","v":0},{"$f":"Price!E85*(100-$J$1)/100","v":0},{"$f":"Price!F85","v":0},{"$f":"Price!G85","v":0}]
[{"$f":"Price!A86","v":0},null,null,null,{"$f":"Price!B86","v":0},null,{"$f":"Price!C86","v":0},{"$f":"Price!D86","v":0},{"$f":"Price!E86*(100-$J$1)/100","v":0},{"$f":"Price!F86","v":0},{"$f":"Price!G86","v":0}]
[{"$f":"Price!A87","v":0},null,null,null,{"$f":"Price!B87","v":0},null,{"$f":"Price!C87","v":0},{"$f":"Price!D87","v":0},{"$f":"Price!E87*(100-$J$1)/100","v":0},{"$f":"Price!F87","v":0},{"$f":"Price!G87","v":0}]
[{"$f":"Price!A88","v":0},null,null,null,{"$f":"Price!B88","v":0},null,{"$f":"Price!C88","v":0},{"$f":"Price!D88","v":0},{"$f":"Price!E88*(100-$J$1)/100","v":0},{"$f":"Price!F88","v":0},{"$f":"Price!G88","v":0}]
[{"$f":"Price!A89","v":0},null,null,null,{"$f":"Price!B89","v":0},null,{"$f":"Price!C89","v":0},{"$f":"Price!D89","v":0},{"$f":"Price!E89*(100-$J$1)/100","v":0},{"$f":"Price!F89","v":0},{"$f":"Price!G89","v":0}]
[{"$f":"Price!A90","v":0},null,null,null,{"$f":"Price!B90","v":0},null,{"$f":"Price!C90","v":0},{"$f":"Price!D90","v":0},{"$f":"Price!E90*(100-$J$1)/100","v":0},{"$f":"Price!F90","v":0},{"$f":"Price!G90","v":0}]
[{"$f":"Price!A91","v":"AVETOS HK top"},null,null,null,{"$f":"Price!B91","v":0},null,{"$f":"Price!C91","v":0},{"$f":"Price!D91","v":0},{"$f":"Price!E91*(100-$J$1)/100","v":0},{"$f":"Price!F91","v":0},{"$f":"Price!G91","v":0}]
[{"$f":"Price!A92","v":"Sada zdvihačů HK top, na vruty"},null,null,null,{"$f":"Price!B92","v":"22K2300"},null,{"$f":"Price!C92","v":"ZN"},{"$f":"Price!D92","v":0},{"$f":"Price!E92*(100-$J$1)/100","v":0},{"$f":"Price!F92","v":7628604},{"$f":"Price!G92","v":0}]
[{"$f":"Price!A93","v":"Sada zdvihačů HK top, na vruty"},null,null,null,{"$f":"Price!B93","v":"22K2500"},null,{"$f":"Price!C93","v":"ZN"},{"$f":"Price!D93","v":0},{"$f":"Price!E93*(100-$J$1)/100","v":0},{"$f":"Price!F93","v":1069731},{"$f":"Price!G93","v":0}]
[{"$f":"Price!A94","v":"Sada zdvihačů HK top, na vruty"},null,null,null,{"$f":"Price!B94","v":"22K2700"},null,{"$f":"Price!C94","v":"ZN"},{"$f":"Price!D94","v":0},{"$f":"Price!E94*(100-$J$1)/100","v":0},{"$f":"Price!F94","v":8762537},{"$f":"Price!G94","v":0}]
[{"$f":"Price!A95","v":"Sada zdvihačů HK top, na vruty"},null,null,null,{"$f":"Price!B95","v":"22K2900"},null,{"$f":"Price!C95","v":"ZN"},{"$f":"Price!D95","v":0},{"$f":"Price!E95*(100-$J$1)/100","v":0},{"$f":"Price!F95","v":6635469},{"$f":"Price!G95","v":0}]
[{"$f":"Price!A96","v":"Sada zdvihačů HK top, se šrouby"},null,null,null,{"$f":"Price!B96","v":"22K2310"},null,{"$f":"Price!C96","v":"ZN"},{"$f":"Price!D96","v":0},{"$f":"Price!E96*(100-$J$1)/100","v":0},{"$f":"Price!F96","v":8508486},{"$f":"Price!G96","v":0}]
[{"$f":"Price!A97","v":"Sada zdvihačů HK top, se šrouby"},null,null,null,{"$f":"Price!B97","v":"22K2510"},null,{"$f":"Price!C97","v":"ZN"},{"$f":"Price!D97","v":0},{"$f":"Price!E97*(100-$J$1)/100","v":0},{"$f":"Price!F97","v":7690323},{"$f":"Price!G97","v":0}]
[{"$f":"Price!A98","v":"Sada zdvihačů HK top, se šrouby"},null,null,null,{"$f":"Price!B98","v":"22K2710"},null,{"$f":"Price!C98","v":"ZN"},{"$f":"Price!D98","v":0},{"$f":"Price!E98*(100-$J$1)/100","v":0},{"$f":"Price!F98","v":1388111},{"$f":"Price!G98","v":0}]
[{"$f":"Price!A99","v":"Sada zdvihačů HK top, se šrouby"},null,null,null,{"$f":"Price!B99","v":"22K2910"},null,{"$f":"Price!C99","v":"ZN"},{"$f":"Price!D99","v":0},{"$f":"Price!E99*(100-$J$1)/100","v":0},{"$f":"Price!F99","v":5482270},{"$f":"Price!G99","v":0}]
[{"$f":"Price!A100","v":"Sada krytek HK top, SERVO-DRIVE, sv.šedá"},null,null,null,{"$f":"Price!B100","v":"23K8000"},null,{"$f":"Price!C100","v":"HG "},{"$f":"Price!D100","v":0},{"$f":"Price!E100*(100-$J$1)/100","v":0},{"$f":"Price!F100","v":2111215},{"$f":"Price!G100","v":0}]
[{"$f":"Price!A101","v":"Sada krytek HK top, SERVO-DRIVE, tm.šedá"},null,null,null,{"$f":"Price!B101","v":"23K8000"},null,{"$f":"Price!C101","v":"TGR"},{"$f":"Price!D101","v":0},{"$f":"Price!E101*(100-$J$1)/100","v":0},{"$f":"Price!F101","v":8732964},{"$f":"Price!G101","v":0}]
[{"$f":"Price!A102","v":"Sada krytek HK top, SERVO-DRIVE, bílá"},null,null,null,{"$f":"Price!B102","v":"23K8000"},null,{"$f":"Price!C102","v":"SW "},{"$f":"Price!D102","v":0},{"$f":"Price!E102*(100-$J$1)/100","v":0},{"$f":"Price!F102","v":1065531},{"$f":"Price!G102","v":0}]
[{"$f":"Price!A103","v":"Sada krytek HK top, světle šedá"},null,null,null,{"$f":"Price!B103","v":"22K8000"},null,{"$f":"Price!C103","v":"HG "},{"$f":"Price!D103","v":0},{"$f":"Price!E103*(100-$J$1)/100","v":0},{"$f":"Price!F103","v":7985876},{"$f":"Price!G103","v":0}]
[{"$f":"Price!A104","v":"Sada krytek HK top, tmavě šedá"},null,null,null,{"$f":"Price!B104","v":"22K8000"},null,{"$f":"Price!C104","v":"TGR"},{"$f":"Price!D104","v":0},{"$f":"Price!E104*(100-$J$1)/100","v":0},{"$f":"Price!F104","v":7926396},{"$f":"Price!G104","v":0}]
[{"$f":"Price!A105","v":"Sada krytek HK top, bílá"},null,null,null,{"$f":"Price!B105","v":"22K8000"},null,{"$f":"Price!C105","v":"SW "},{"$f":"Price!D105","v":0},{"$f":"Price!E105*(100-$J$1)/100","v":0},{"$f":"Price!F105","v":4824637},{"$f":"Price!G105","v":0}]
[{"$f":"Price!A106","v":"SERVO-DRIVE top, sada pro HK top"},null,null,null,{"$f":"Price!B106","v":"23KA000"},null,{"$f":"Price!C106","v":"TGR"},{"$f":"Price!D106","v":0},{"$f":"Price!E106*(100-$J$1)/100","v":0},{"$f":"Price!F106","v":9961208},{"$f":"Price!G106","v":0}]
[{"$f":"Price!A107","v":"Orážecí šablona pro čela HK top"},null,null,null,{"$f":"Price!B107","v":"ZML.2200"},null,{"$f":"Price!C107","v":"OR"},{"$f":"Price!D107","v":0},{"$f":"Price!E107*(100-$J$1)/100","v":0},{"$f":"Price!F107","v":4719614},{"$f":"Price!G107","v":0}]
[{"$f":"Price!A108","v":0},null,null,null,{"$f":"Price!B108","v":0},null,{"$f":"Price!C108","v":0},{"$f":"Price!D108","v":0},{"$f":"Price!E108*(100-$J$1)/100","v":0},{"$f":"Price!F108","v":0},{"$f":"Price!G108","v":0}]
[{"$f":"Price!A109","v":0},null,null,null,{"$f":"Price!B109","v":0},null,{"$f":"Price!C109","v":0},{"$f":"Price!D109","v":0},{"$f":"Price!E109*(100-$J$1)/100","v":0},{"$f":"Price!F109","v":0},{"$f":"Price!G109","v":0}]
[{"$f":"Price!A110","v":"AVETOS HK top TIP-ON"},null,null,null,{"$f":"Price!B110","v":0},null,{"$f":"Price!C110","v":0},{"$f":"Price!D110","v":0},{"$f":"Price!E110*(100-$J$1)/100","v":0},{"$f":"Price!F110","v":0},{"$f":"Price!G110","v":0}]
[{"$f":"Price!A111","v":"Sada zdvihačů HK top, TIP-ON, na vruty"},null,null,null,{"$f":"Price!B111","v":"22K2300T"},null,{"$f":"Price!C111","v":"ZN"},{"$f":"Price!D111","v":0},{"$f":"Price!E111*(100-$J$1)/100","v":0},{"$f":"Price!F111","v":4205572},{"$f":"Price!G111","v":0}]
[{"$f":"Price!A112","v":"Sada zdvihačů HK top, TIP-ON, na vruty"},null,null,null,{"$f":"Price!B112","v":"22K2500T"},null,{"$f":"Price!C112","v":"ZN"},{"$f":"Price!D112","v":0},{"$f":"Price!E112*(100-$J$1)/100","v":0},{"$f":"Price!F112","v":2753075},{"$f":"Price!G112","v":0}]
[{"$f":"Price!A113","v":"Sada zdvihačů HK top, TIP-ON, na vruty"},null,null,null,{"$f":"Price!B113","v":"22K2700T"},null,{"$f":"Price!C113","v":"ZN"},{"$f":"Price!D113","v":0},{"$f":"Price!E113*(100-$J$1)/100","v":0},{"$f":"Price!F113","v":2855682},{"$f":"Price!G113","v":0}]
[{"$f":"Price!A114","v":"Sada zdvihačů HK top, TIP-ON, na vruty"},null,null,null,{"$f":"Price!B114","v":"22K2900T"},null,{"$f":"Price!C114","v":"ZN"},{"$f":"Price!D114","v":0},{"$f":"Price!E114*(100-$J$1)/100","v":0},{"$f":"Price!F114","v":8220095},{"$f":"Price!G114","v":0}]
[{"$f":"Price!A115","v":"Sada zdvihačů HK top, TIP-ON, se šrouby"},null,null,null,{"$f":"Price!B115","v":"22K2310T"},null,{"$f":"Price!C115","v":"ZN"},{"$f":"Price!D115","v":0},{"$f":"Price!E115*(100-$J$1)/100","v":0},{"$f":"Price!F115","v":9708169},{"$f":"Price!G115","v":0}]
[{"$f":"Price!A116","v":"Sada zdvihačů HK top, TIP-ON, se šrouby"},null,null,null,{"$f":"Price!B116","v":"22K2510T"},null,{"$f":"Price!C116","v":"ZN"},{"$f":"Price!D116","v":0},{"$f":"Price!E116*(100-$J$1)/100","v":0},{"$f":"Price!F116","v":2414504},{"$f":"Price!G116","v":0}]
[{"$f":"Price!A117","v":"Sada zdvihačů HK top, TIP-ON, se šrouby"},null,null,null,{"$f":"Price!B117","v":"22K2710T"},null,{"$f":"Price!C117","v":"ZN"},{"$f":"Price!D117","v":0},{"$f":"Price!E117*(100-$J$1)/100","v":0},{"$f":"Price!F117","v":1422889},{"$f":"Price!G117","v":0}]
[{"$f":"Price!A118","v":"Sada zdvihačů HK top, TIP-ON, se šrouby"},null,null,null,{"$f":"Price!B118","v":"22K2910T"},null,{"$f":"Price!C118","v":"ZN"},{"$f":"Price!D118","v":0},{"$f":"Price!E118*(100-$J$1)/100","v":0},{"$f":"Price!F118","v":7716804},{"$f":"Price!G118","v":0}]
[{"$f":"Price!A119","v":0},null,null,null,{"$f":"Price!B119","v":0},null,{"$f":"Price!C119","v":0},{"$f":"Price!D119","v":0},{"$f":"Price!E119*(100-$J$1)/100","v":0},{"$f":"Price!F119","v":0},{"$f":"Price!G119","v":0}]
[{"$f":"Price!A120","v":"Sada čel.kování pro dřev. čela"},null,null,null,{"$f":"Price!B120","v":"20S4200"},null,{"$f":"Price!C120","v":"NI"},{"$f":"Price!D120","v":0},{"$f":"Price!E120*(100-$J$1)/100","v":0},{"$f":"Price!F120","v":7241746},{"$f":"Price!G120","v":0}]
[{"$f":"Price!A121","v":"Čelní.kování pro dřev. čela EXPANDO"},null,null,null,{"$f":"Price!B121","v":"20S42E1"},null,{"$f":"Price!C121","v":"NI"},{"$f":"Price!D121","v":0},{"$f":"Price!E121*(100-$J$1)/100","v":0},{"$f":"Price!F121","v":8860933},{"$f":"Price!G121","v":0}]
[{"$f":"Price!A122","v":"Sada čel.kování pro úzké alurámečky"},null,null,null,{"$f":"Price!B122","v":"20S4200A"},null,{"$f":"Price!C122","v":"NI"},{"$f":"Price!D122","v":0},{"$f":"Price!E122*(100-$J$1)/100","v":0},{"$f":"Price!F122","v":7484703},{"$f":"Price!G122","v":0}]
[{"$f":"Price!A123","v":0},null,null,null,{"$f":"Price!B123","v":0},null,{"$f":"Price!C123","v":0},{"$f":"Price!D123","v":0},{"$f":"Price!E123*(100-$J$1)/100","v":0},{"$f":"Price!F123","v":0},{"$f":"Price!G123","v":0}]
[{"$f":"Price!A124","v":0},null,null,null,{"$f":"Price!B124","v":0},null,{"$f":"Price!C124","v":0},{"$f":"Price!D124","v":0},{"$f":"Price!E124*(100-$J$1)/100","v":0},{"$f":"Price!F124","v":0},{"$f":"Price!G124","v":0}]
[{"$f":"Price!A125","v":"AVETOS HK-S"},null,null,null,{"$f":"Price!B125","v":0},null,{"$f":"Price!C125","v":0},{"$f":"Price!D125","v":0},{"$f":"Price!E125*(100-$J$1)/100","v":0},{"$f":"Price!F125","v":0},{"$f":"Price!G125","v":0}]
[{"$f":"Price!A126","v":"Sada zdvihačů, světle šedé krytky"},null,null,null,{"$f":"Price!B126","v":"20K2B00.06"},null,{"$f":"Price!C126","v":"HGIG"},{"$f":"Price!D126","v":0},{"$f":"Price!E126*(100-$J$1)/100","v":0},{"$f":"Price!F126","v":7793681},{"$f":"Price!G126","v":0}]
[{"$f":"Price!A127","v":"Sada zdvihačů, tmavě šedé krytky"},null,null,null,{"$f":"Price!B127","v":"20K2B00.06"},null,{"$f":"Price!C127","v":"TGIG"},{"$f":"Price!D127","v":0},{"$f":"Price!E127*(100-$J$1)/100","v":0},{"$f":"Price!F127","v":1314203},{"$f":"Price!G127","v":0}]
[{"$f":"Price!A128","v":"Sada zdvihačů, bílé krytky"},null,null,null,{"$f":"Price!B128","v":"20K2B00.06"},null,{"$f":"Price!C128","v":"SWIG"},{"$f":"Price!D128","v":0},{"$f":"Price!E128*(100-$J$1)/100","v":0},{"$f":"Price!F128","v":8195173},{"$f":"Price!G128","v":0}]
[{"$f":"Price!A129","v":"Sada zdvihačů, světle šedé krytky"},null,null,null,{"$f":"Price!B129","v":"20K2C00.06"},null,{"$f":"Price!C129","v":"HGIG"},{"$f":"Price!D129","v":0},{"$f":"Price!E129*(100-$J$1)/100","v":0},{"$f":"Price!F129","v":3472109},{"$f":"Price!G129","v":0}]
[{"$f":"Price!A130","v":"Sada zdvihačů, tmavě šedé krytky"},null,null,null,{"$f":"Price!B130","v":"20K2C00.06"},null,{"$f":"Price!C130","v":"TGIG"},{"$f":"Price!D130","v":0},{"$f":"Price!E130*(100-$J$1)/100","v":0},{"$f":"Price!F130","v":1834965},{"$f":"Price!G130","v":0}]
[{"$f":"Price!A131","v":"Sada zdvihačů, bílé krytky"},null,null,null,{"$f":"Price!B131","v":"20K2C00.06"},null,{"$f":"Price!C131","v":"SWIG"},{"$f":"Price!D131","v":0},{"$f":"Price!E131*(100-$J$1)/100","v":0},{"$f":"Price!F131","v":6816509},{"$f":"Price!G131","v":0}]
[{"$f":"Price!A132","v":"Sada zdvihačů, světle šedé krytky"},null,null,null,{"$f":"Price!B132","v":"20K2E00.06"},null,{"$f":"Price!C132","v":"HGIG"},{"$f":"Price!D132","v":0},{"$f":"Price!E132*(100-$J$1)/100","v":0},{"$f":"Price!F132","v":9851106},{"$f":"Price!G132","v":0}]
[{"$f":"Price!A133","v":"Sada zdvihačů, tmavě šedé krytky"},null,null,null,{"$f":"Price!B133","v":"20K2E00.06"},null,{"$f":"Price!C133","v":"TGIG"},{"$f":"Price!D133","v":0},{"$f":"Price!E133*(100-$J$1)/100","v":0},{"$f":"Price!F133","v":9248128},{"$f":"Price!G133","v":0}]
[{"$f":"Price!A134","v":"Sada zdvihačů, bílé krytky"},null,null,null,{"$f":"Price!B134","v":"20K2E00.06"},null,{"$f":"Price!C134","v":"SWIG"},{"$f":"Price!D134","v":0},{"$f":"Price!E134*(100-$J$1)/100","v":0},{"$f":"Price!F134","v":3420861},{"$f":"Price!G134","v":0}]
[{"$f":"Price!A135","v":0},null,null,null,{"$f":"Price!B135","v":0},null,{"$f":"Price!C135","v":0},{"$f":"Price!D135","v":0},{"$f":"Price!E135*(100-$J$1)/100","v":0},{"$f":"Price!F135","v":0},{"$f":"Price!G135","v":0}]
[{"$f":"Price!A136","v":"Sada zdvihačů TIP-ON, světle šedé krytky"},null,null,null,{"$f":"Price!B136","v":"20K2B00T06"},null,{"$f":"Price!C136","v":"HGIG"},{"$f":"Price!D136","v":0},{"$f":"Price!E136*(100-$J$1)/100","v":0},{"$f":"Price!F136","v":2133123},{"$f":"Price!G136","v":0}]
[{"$f":"Price!A137","v":"Sada zdvihačů TIP-ON, tmavě šedé krytky"},null,null,null,{"$f":"Price!B137","v":"20K2B00T06"},null,{"$f":"Price!C137","v":"TGIG"},{"$f":"Price!D137","v":0},{"$f":"Price!E137*(100-$J$1)/100","v":0},{"$f":"Price!F137","v":9870309},{"$f":"Price!G137","v":0}]
[{"$f":"Price!A138","v":"Sada zdvihačů TIP-ON, bílé krytky"},null,null,null,{"$f":"Price!B138","v":"20K2B00T06"},null,{"$f":"Price!C138","v":"SWIG"},{"$f":"Price!D138","v":0},{"$f":"Price!E138*(100-$J$1)/100","v":0},{"$f":"Price!F138","v":1449278},{"$f":"Price!G138","v":0}]
[{"$f":"Price!A139","v":"Sada zdvihačů TIP-ON, světle šedé krytky"},null,null,null,{"$f":"Price!B139","v":"20K2C00T06"},null,{"$f":"Price!C139","v":"HGIG"},{"$f":"Price!D139","v":0},{"$f":"Price!E139*(100-$J$1)/100","v":0},{"$f":"Price!F139","v":6990853},{"$f":"Price!G139","v":0}]
[{"$f":"Price!A140","v":"Sada zdvihačů TIP-ON, tmavě šedé krytky"},null,null,null,{"$f":"Price!B140","v":"20K2C00T06"},null,{"$f":"Price!C140","v":"TGIG"},{"$f":"Price!D140","v":0},{"$f":"Price!E140*(100-$J$1)/100","v":0},{"$f":"Price!F140","v":3405617},{"$f":"Price!G140","v":0}]
[{"$f":"Price!A141","v":"Sada zdvihačů TIP-ON, bílé krytky"},null,null,null,{"$f":"Price!B141","v":"20K2C00T06"},null,{"$f":"Price!C141","v":"SWIG"},{"$f":"Price!D141","v":0},{"$f":"Price!E141*(100-$J$1)/100","v":0},{"$f":"Price!F141","v":7769517},{"$f":"Price!G141","v":0}]
[{"$f":"Price!A142","v":"Sada zdvihačů TIP-ON, světle šedé krytky"},null,null,null,{"$f":"Price!B142","v":"20K2E00T06"},null,{"$f":"Price!C142","v":"HGIG"},{"$f":"Price!D142","v":0},{"$f":"Price!E142*(100-$J$1)/100","v":0},{"$f":"Price!F142","v":5494621},{"$f":"Price!G142","v":0}]
[{"$f":"Price!A143","v":"Sada zdvihačů TIP-ON, tmavě šedé krytky"},null,null,null,{"$f":"Price!B143","v":"20K2E00T06"},null,{"$f":"Price!C143","v":"TGIG"},{"$f":"Price!D143","v":0},{"$f":"Price!E143*(100-$J$1)/100","v":0},{"$f":"Price!F143","v":9373568},{"$f":"Price!G143","v":0}]
[{"$f":"Price!A144","v":"Sada zdvihačů TIP-ON, bílé krytky"},null,null,null,{"$f":"Price!B144","v":"20K2E00T06"},null,{"$f":"Price!C144","v":"SWIG"},{"$f":"Price!D144","v":0},{"$f":"Price!E144*(100-$J$1)/100","v":0},{"$f":"Price!F144","v":7935712},{"$f":"Price!G144","v":0}]
[{"$f":"Price!A145","v":0},null,null,null,{"$f":"Price!B145","v":0},null,{"$f":"Price!C145","v":0},{"$f":"Price!D145","v":0},{"$f":"Price!E145*(100-$J$1)/100","v":0},{"$f":"Price!F145","v":0},{"$f":"Price!G145","v":0}]
[{"$f":"Price!A21","v":"Přímá montážní podložka"},null,null,null,{"$f":"Price!B21","v":"175H3100"},null,{"$f":"Price!C21","v":"NI"},{"$f":"Price!D21","v":0},{"$f":"Price!E21*(100-$J$1)/100","v":0},{"$f":"Price!F21","v":1037431},{"$f":"Price!G21","v":0}]
[{"$f":"Price!A22","v":"Přímá montážní podložka, EXPANDO"},null,null,null,{"$f":"Price!B22","v":"177H3100E"},null,{"$f":"Price!C22","v":"NI"},{"$f":"Price!D21","v":0},{"$f":"Price!E22*(100-$J$1)/100","v":0},{"$f":"Price!F22","v":3120329},{"$f":"Price!G22","v":0}]
[{"$f":"Price!A148","v":"Sada čel.kování pro úzké alurámečky"},null,null,null,{"$f":"Price!B148","v":"20K4A00A.01"},null,{"$f":"Price!C148","v":"NI"},{"$f":"Price!D148","v":0},{"$f":"Price!E148*(100-$J$1)/100","v":0},{"$f":"Price!F148","v":7303280},{"$f":"Price!G148","v":0}]
[{"$f":"Price!A149","v":"Omezovač úhlu otevření na 75° "},null,null,null,{"$f":"Price!B149","v":"20K7A11"},null,{"$f":"Price!C149","v":"TGR"},{"$f":"Price!D149","v":0},{"$f":"Price!E149*(100-$J$1)/100","v":0},{"$f":"Price!F149","v":8671840},{"$f":"Price!G149","v":0}]
[{"$f":"Price!A150","v":"Omezovač úhlu otevření na 100° "},null,null,null,{"$f":"Price!B150","v":"20K7A41"},null,{"$f":"Price!C150","v":"TGR"},{"$f":"Price!D150","v":0},{"$f":"Price!E150*(100-$J$1)/100","v":0},{"$f":"Price!F150","v":8671910},{"$f":"Price!G150","v":0}]
[{"$f":"Price!A151","v":"CLIP top krytka raménka Nikl"},null,null,null,{"$f":"Price!B151","v":"70.1503"},null,{"$f":"Price!C151","v":"NI"},{"$f":"Price!D151","v":0},{"$f":"Price!E151*(100-$J$1)/100","v":0},{"$f":"Price!F151","v":3284903},{"$f":"Price!G151","v":0}]
[{"$f":"Price!A152","v":"CLIP top krytka raménka Nikl"},null,null,null,{"$f":"Price!B152","v":"70.1563"},null,{"$f":"Price!C152","v":"NI"},{"$f":"Price!D152","v":0},{"$f":"Price!E152*(100-$J$1)/100","v":0},{"$f":"Price!F152","v":3444793},{"$f":"Price!G152","v":0}]
[{"$f":"Price!A153","v":0},null,null,null,{"$f":"Price!B153","v":0},null,{"$f":"Price!C153","v":0},{"$f":"Price!D153","v":0},{"$f":"Price!E153*(100-$J$1)/100","v":0},{"$f":"Price!F153","v":0},{"$f":"Price!G153","v":0}]
[{"$f":"Price!A154","v":"Sada čel.kování pro úzké alu HK-S"},null,null,null,{"$f":"Price!B154","v":"175H3G00A"},null,{"$f":"Price!C154","v":"NI"},{"$f":"Price!D154","v":0},{"$f":"Price!E154*(100-$J$1)/100","v":0},{"$f":"Price!F154","v":4318256},{"$f":"Price!G154","v":0}]
[{"$f":"Price!A155","v":0},null,null,null,{"$f":"Price!B155","v":0},null,{"$f":"Price!C155","v":0},{"$f":"Price!D155","v":0},{"$f":"Price!E155*(100-$J$1)/100","v":0},{"$f":"Price!F155","v":0},{"$f":"Price!G155","v":0}]
[{"$f":"Price!A156","v":"AVENTOS HK-XS"},null,null,null,{"$f":"Price!B156","v":0},null,{"$f":"Price!C156","v":0},{"$f":"Price!D156","v":0},{"$f":"Price!E156*(100-$J$1)/100","v":0},{"$f":"Price!F156","v":0},{"$f":"Price!G156","v":0}]
[{"$f":"Price!A157","v":"Symetrický zdvihací mechanizmus"},null,null,null,{"$f":"Price!B157","v":"20K1101"},null,{"$f":"Price!C157","v":"NI"},{"$f":"Price!D157","v":0},{"$f":"Price!E157*(100-$J$1)/100","v":0},{"$f":"Price!F157","v":8572348},{"$f":"Price!G157","v":0}]
[{"$f":"Price!A158","v":"Symetrický zdvihací mechanizmus"},null,null,null,{"$f":"Price!B158","v":"20K1301"},null,{"$f":"Price!C158","v":"NI"},{"$f":"Price!D158","v":0},{"$f":"Price!E158*(100-$J$1)/100","v":0},{"$f":"Price!F158","v":9330897},{"$f":"Price!G158","v":0}]
[{"$f":"Price!A159","v":"Symetrický zdvihací mechanizmus"},null,null,null,{"$f":"Price!B159","v":"20K1501"},null,{"$f":"Price!C159","v":"NI"},{"$f":"Price!D159","v":0},{"$f":"Price!E159*(100-$J$1)/100","v":0},{"$f":"Price!F159","v":1615152},{"$f":"Price!G159","v":0}]
[{"$f":"Price!A160","v":0},null,null,null,{"$f":"Price!B160","v":0},null,{"$f":"Price!C160","v":0},{"$f":"Price!D160","v":0},{"$f":"Price!E160*(100-$J$1)/100","v":0},{"$f":"Price!F160","v":0},{"$f":"Price!G160","v":0}]
[{"$f":"Price!A161","v":"Sym. zdvihací mechanizmus, TIP-ON"},null,null,null,{"$f":"Price!B161","v":"20K1101T"},null,{"$f":"Price!C161","v":"NI"},{"$f":"Price!D161","v":0},{"$f":"Price!E161*(100-$J$1)/100","v":0},{"$f":"Price!F161","v":4857465},{"$f":"Price!G161","v":0}]
[{"$f":"Price!A162","v":"Sym. zdvihací mechanizmus, TIP-ON"},null,null,null,{"$f":"Price!B162","v":"20K1301T"},null,{"$f":"Price!C162","v":"NI"},{"$f":"Price!D162","v":0},{"$f":"Price!E162*(100-$J$1)/100","v":0},{"$f":"Price!F162","v":9519259},{"$f":"Price!G162","v":0}]
[{"$f":"Price!A163","v":"Sym. zdvihací mechanizmus, TIP-ON"},null,null,null,{"$f":"Price!B163","v":"20K1501T"},null,{"$f":"Price!C163","v":"NI"},{"$f":"Price!D163","v":0},{"$f":"Price!E163*(100-$J$1)/100","v":0},{"$f":"Price!F163","v":8041284},{"$f":"Price!G163","v":0}]
[{"$f":"Price!A164","v":0},null,null,null,{"$f":"Price!B164","v":0},null,{"$f":"Price!C164","v":0},{"$f":"Price!D164","v":0},{"$f":"Price!E164*(100-$J$1)/100","v":0},{"$f":"Price!F164","v":0},{"$f":"Price!G164","v":0}]
[{"$f":"Price!A165","v":"Boční čep na korpus"},null,null,null,{"$f":"Price!B165","v":"20K5101"},null,{"$f":"Price!C165","v":"NI"},{"$f":"Price!D165","v":0},{"$f":"Price!E165*(100-$J$1)/100","v":0},{"$f":"Price!F165","v":1409446},{"$f":"Price!G165","v":0}]
[{"$f":"Price!A166","v":"Boční čep na korpus, EXPANDO"},null,null,null,{"$f":"Price!B166","v":"20K51E1"},null,{"$f":"Price!C166","v":"NI"},{"$f":"Price!D166","v":0},{"$f":"Price!E166*(100-$J$1)/100","v":0},{"$f":"Price!F166","v":5296642},{"$f":"Price!G166","v":0}]
[{"$f":"Price!A167","v":0},null,null,null,{"$f":"Price!B167","v":0},null,{"$f":"Price!C167","v":0},{"$f":"Price!D167","v":0},{"$f":"Price!E167*(100-$J$1)/100","v":0},{"$f":"Price!F167","v":0},{"$f":"Price!G167","v":0}]
[{"$f":"Price!A168","v":"Čelní kování"},null,null,null,{"$f":"Price!B168","v":"20K4101"},null,{"$f":"Price!C168","v":"NI"},{"$f":"Price!D168","v":0},{"$f":"Price!E168*(100-$J$1)/100","v":0},{"$f":"Price!F168","v":8910604},{"$f":"Price!G168","v":0}]
[{"$f":"Price!A169","v":"Čelní kování, EXPANDO"},null,null,null,{"$f":"Price!B169","v":"20K41E1"},null,{"$f":"Price!C169","v":"NI"},{"$f":"Price!D169","v":0},{"$f":"Price!E169*(100-$J$1)/100","v":0},{"$f":"Price!F169","v":5697170},{"$f":"Price!G169","v":0}]
[{"$f":"Price!A170","v":"Čelní kování pro úzké alurámečky"},null,null,null,{"$f":"Price!B170","v":"20K4101A"},null,{"$f":"Price!C170","v":"NI"},{"$f":"Price!D170","v":0},{"$f":"Price!E170*(100-$J$1)/100","v":0},{"$f":"Price!F170","v":1452554},{"$f":"Price!G170","v":0}]
[{"$f":"Price!A171","v":0},null,null,null,{"$f":"Price!B171","v":0},null,{"$f":"Price!C171","v":0},{"$f":"Price!D171","v":0},{"$f":"Price!E171*(100-$J$1)/100","v":0},{"$f":"Price!F171","v":0},{"$f":"Price!G171","v":0}]
[{"$f":"Price!A172","v":"Závěs CLIP-TOP BLUMOTION 110°"},null,null,null,{"$f":"Price!B172","v":"71B3550"},null,{"$f":"Price!C172","v":"NI"},{"$f":"Price!D172","v":0},{"$f":"Price!E172*(100-$J$1)/100","v":0},{"$f":"Price!F172","v":8884623},{"$f":"Price!G172","v":0}]
[{"$f":"Price!A173","v":"Závěs CLIP-TOP BLUMOTION, EXPANDO"},null,null,null,{"$f":"Price!B173","v":"71B358E"},null,{"$f":"Price!C173","v":"NI"},{"$f":"Price!D173","v":0},{"$f":"Price!E173*(100-$J$1)/100","v":0},{"$f":"Price!F173","v":8885233},{"$f":"Price!G173","v":0}]
[{"$f":"Price!A174","v":0},null,null,null,{"$f":"Price!B174","v":0},null,{"$f":"Price!C174","v":0},{"$f":"Price!D174","v":0},{"$f":"Price!E174*(100-$J$1)/100","v":0},{"$f":"Price!F174","v":0},{"$f":"Price!G174","v":0}]
[{"$f":"Price!A175","v":"Závěs CLIP-TOP 110°"},null,null,null,{"$f":"Price!B175","v":"70T3550.TL"},null,{"$f":"Price!C175","v":"NI"},{"$f":"Price!D175","v":0},{"$f":"Price!E175*(100-$J$1)/100","v":0},{"$f":"Price!F175","v":9001883},{"$f":"Price!G175","v":0}]
[{"$f":"Price!A176","v":"Závěs CLIP-TOP 110°, EXPANDO"},null,null,null,{"$f":"Price!B176","v":"70T358E.TL"},null,{"$f":"Price!C176","v":"NI"},{"$f":"Price!D176","v":0},{"$f":"Price!E176*(100-$J$1)/100","v":0},{"$f":"Price!F176","v":9295093},{"$f":"Price!G176","v":0}]
[{"$f":"Price!A177","v":0},null,null,null,{"$f":"Price!B177","v":0},null,{"$f":"Price!C177","v":0},{"$f":"Price!D177","v":0},{"$f":"Price!E177*(100-$J$1)/100","v":0},{"$f":"Price!F177","v":0},{"$f":"Price!G177","v":0}]
[{"$f":"Price!A178","v":"Omezovač úhlu otevření (86°)"},null,null,null,{"$f":"Price!B178","v":"70T3553"},null,{"$f":"Price!C178","v":"S"},{"$f":"Price!D178","v":0},{"$f":"Price!E178*(100-$J$1)/100","v":0},{"$f":"Price!F178","v":9048274},{"$f":"Price!G178","v":0}]
[{"$f":"Price!A179","v":0},null,null,null,{"$f":"Price!B179","v":0},null,{"$f":"Price!C179","v":0},{"$f":"Price!D179","v":0},{"$f":"Price!E179*(100-$J$1)/100","v":0},{"$f":"Price!F179","v":0},{"$f":"Price!G179","v":0}]
[{"$f":"Price!A180","v":"TIP-ON, zkrácená délka, šedý"},null,null,null,{"$f":"Price!B180","v":"956.1004"},null,{"$f":"Price!C180","v":"PG"},{"$f":"Price!D180","v":0},{"$f":"Price!E180*(100-$J$1)/100","v":0},{"$f":"Price!F180","v":7696336},{"$f":"Price!G180","v":0}]
[{"$f":"Price!A181","v":"TIP-ON, zkrácená délka, hedv.bílý"},null,null,null,{"$f":"Price!B181","v":"956.1004"},null,{"$f":"Price!C181","v":"SW"},{"$f":"Price!D181","v":0},{"$f":"Price!E181*(100-$J$1)/100","v":0},{"$f":"Price!F181","v":4683908},{"$f":"Price!G181","v":0}]
[{"$f":"Price!A182","v":"TIP-ON, zkrácená délka, Terra černý"},null,null,null,{"$f":"Price!B182","v":"956.1004"},null,{"$f":"Price!C182","v":"TS"},{"$f":"Price!D182","v":"!"},{"$f":"Price!E182*(100-$J$1)/100","v":0},{"$f":"Price!F182","v":"6914265"},{"$f":"Price!G182","v":0}]
[{"$f":"Price!A183","v":"TIP-ON, prodloužená délka, šedý"},null,null,null,{"$f":"Price!B183","v":"956A1004"},null,{"$f":"Price!C183","v":"PG"},{"$f":"Price!D183","v":0},{"$f":"Price!E183*(100-$J$1)/100","v":0},{"$f":"Price!F183","v":6484096},{"$f":"Price!G183","v":0}]
[{"$f":"Price!A184","v":"TIP-ON, prodloužená délka, hedv.bílý"},null,null,null,{"$f":"Price!B184","v":"956A1004"},null,{"$f":"Price!C184","v":"SW"},{"$f":"Price!D184","v":0},{"$f":"Price!E184*(100-$J$1)/100","v":0},{"$f":"Price!F184","v":6856758},{"$f":"Price!G184","v":0}]
[{"$f":"Price!A185","v":"TIP-ON, prodloužená délka, Terra černý"},null,null,null,{"$f":"Price!B185","v":"956A1004"},null,{"$f":"Price!C185","v":"TS"},{"$f":"Price!D185","v":"!"},{"$f":"Price!E185*(100-$J$1)/100","v":0},{"$f":"Price!F185","v":"2019241"},{"$f":"Price!G185","v":0}]
[{"$f":"Price!A186","v":0},null,null,null,{"$f":"Price!B186","v":0},null,{"$f":"Price!C186","v":0},{"$f":"Price!D186","v":0},{"$f":"Price!E186*(100-$J$1)/100","v":0},{"$f":"Price!F186","v":0},{"$f":"Price!G186","v":0}]
[{"$f":"Price!A187","v":"Přímý adaptér, zkrácená délka, šedý"},null,null,null,{"$f":"Price!B187","v":"956.1201"},null,{"$f":"Price!C187","v":"PG"},{"$f":"Price!D187","v":0},{"$f":"Price!E187*(100-$J$1)/100","v":0},{"$f":"Price!F187","v":7690421},{"$f":"Price!G187","v":0}]
[{"$f":"Price!A188","v":"Přímý adaptér, zkrácená délka, hedv.bílý"},null,null,null,{"$f":"Price!B188","v":"956.1201"},null,{"$f":"Price!C188","v":"SW"},{"$f":"Price!D188","v":0},{"$f":"Price!E188*(100-$J$1)/100","v":0},{"$f":"Price!F188","v":8264548},{"$f":"Price!G188","v":0}]
[{"$f":"Price!A189","v":"Přímý adaptér, zkrácená délka, Terra černý"},null,null,null,{"$f":"Price!B189","v":"956.1201"},null,{"$f":"Price!C189","v":"TS"},{"$f":"Price!D189","v":"!"},{"$f":"Price!E189*(100-$J$1)/100","v":0},{"$f":"Price!F189","v":"6154324"},{"$f":"Price!G189","v":0}]
[{"$f":"Price!A190","v":"Přímý adaptér, prodl.délka, šedý"},null,null,null,{"$f":"Price!B190","v":"956A1201"},null,{"$f":"Price!C190","v":"PG"},{"$f":"Price!D190","v":0},{"$f":"Price!E190*(100-$J$1)/100","v":0},{"$f":"Price!F190","v":8849808},{"$f":"Price!G190","v":0}]
[{"$f":"Price!A191","v":"Přímý adaptér, prodl.délka, hedv.bílý"},null,null,null,{"$f":"Price!B191","v":"956A1201"},null,{"$f":"Price!C191","v":"SW"},{"$f":"Price!D191","v":0},{"$f":"Price!E191*(100-$J$1)/100","v":0},{"$f":"Price!F191","v":4619688},{"$f":"Price!G191","v":0}]
[{"$f":"Price!A192","v":"Přímý adaptér, prodl.délka, Terra černý"},null,null,null,{"$f":"Price!B192","v":"956A1201"},null,{"$f":"Price!C192","v":"TS"},{"$f":"Price!D192","v":"!"},{"$f":"Price!E192*(100-$J$1)/100","v":0},{"$f":"Price!F192","v":"5730134"},{"$f":"Price!G192","v":0}]
[]
[{"$f":"Price!A194","v":"Závěs CLIP top BLUMTION po alurám."},null,null,null,{"$f":"Price!B194","v":"71B950A"},null,{"$f":"Price!C194","v":"NI"},{"$f":"Price!D194","v":0},{"$f":"Price!E194*(100-$J$1)/100","v":0},{"$f":"Price!F194","v":9350813},{"$f":"Price!G194","v":0}]
[{"$f":"Price!A195","v":"Samořezný vrut do alurámečků"},null,null,null,{"$f":"Price!B195","v":"660.0950"},null,{"$f":"Price!C195","v":"NI"},{"$f":"Price!D195","v":0},{"$f":"Price!E195*(100-$J$1)/100","v":0},{"$f":"Price!F195","v":8385455},{"$f":"Price!G195","v":0}]
[{"$f":"Price!A196","v":0},null,null,null,{"$f":"Price!B196","v":0},null,{"$f":"Price!C196","v":0},{"$f":"Price!D196","v":0},{"$f":"Price!E196*(100-$J$1)/100","v":0},{"$f":"Price!F196","v":0},{"$f":"Price!G196","v":0}]
[{"$f":"Price!A197","v":0},null,null,null,{"$f":"Price!B197","v":0},null,{"$f":"Price!C197","v":0},{"$f":"Price!D197","v":0},{"$f":"Price!E197*(100-$J$1)/100","v":0},{"$f":"Price!F197","v":0},{"$f":"Price!G197","v":0}]
[{"$f":"Price!A198","v":"SERVO-DRIVE"},null,null,null,{"$f":"Price!B198","v":0},null,{"$f":"Price!C198","v":0},{"$f":"Price!D198","v":0},{"$f":"Price!E198*(100-$J$1)/100","v":0},{"$f":"Price!F198","v":0},{"$f":"Price!G198","v":0}]
[{"$f":"Price!A199","v":"SERVO-DRIVE jednotka (sada)"},null,null,null,{"$f":"Price!B199","v":"21FA000"},null,{"$f":"Price!C199","v":"HGR"},{"$f":"Price!D199","v":0},{"$f":"Price!E199*(100-$J$1)/100","v":0},{"$f":"Price!F199","v":9026180},{"$f":"Price!G199","v":0}]
[{"$f":"Price!A200","v":"SERVO-DRIVE jednotka (sada) pro HK top"},null,null,null,{"$f":"Price!B200","v":"23KA000"},null,{"$f":"Price!C200","v":"HGR"},{"$f":"Price!D200","v":0},{"$f":"Price!E200*(100-$J$1)/100","v":0},{"$f":"Price!F200","v":9961208},{"$f":"Price!G200","v":0}]
[{"$f":"Price!A201","v":"SERVO-DRIVE napájecí zdroj 24W"},null,null,null,{"$f":"Price!B201","v":"Z10NE030E"},null,{"$f":"Price!C201","v":"S"},{"$f":"Price!D201","v":0},{"$f":"Price!E201*(100-$J$1)/100","v":0},{"$f":"Price!F201","v":5082891},{"$f":"Price!G201","v":0}]
[{"$f":"Price!A202","v":"SERVO-DRIVE napájecí kabel EU"},null,null,null,{"$f":"Price!B202","v":"Z10M200E"},null,{"$f":"Price!C202","v":"S"},{"$f":"Price!D202","v":0},{"$f":"Price!E202*(100-$J$1)/100","v":0},{"$f":"Price!F202","v":7205784},{"$f":"Price!G202","v":0}]
[{"$f":"Price!A203","v":"SERVO-DRIVE držák zdroje"},null,null,null,{"$f":"Price!B203","v":"Z10NG120"},null,{"$f":"Price!C203","v":"R737"},{"$f":"Price!D203","v":0},{"$f":"Price!E203*(100-$J$1)/100","v":0},{"$f":"Price!F203","v":9327076},{"$f":"Price!G203","v":0}]
[{"$f":"Price!A204","v":"SERVO-DRIVE elektrokabel, 8m"},null,null,null,{"$f":"Price!B204","v":"Z10K800AE"},null,{"$f":"Price!C204","v":"S"},{"$f":"Price!D204","v":0},{"$f":"Price!E204*(100-$J$1)/100","v":0},{"$f":"Price!F204","v":7550294},{"$f":"Price!G204","v":0}]
[{"$f":"Price!A205","v":"SERVO-DRIVE svorka + krytka"},null,null,null,{"$f":"Price!B205","v":"Z10V100E.01"},null,{"$f":"Price!C205","v":"S"},{"$f":"Price!D205","v":0},{"$f":"Price!E205*(100-$J$1)/100","v":0},{"$f":"Price!F205","v":8820285},{"$f":"Price!G205","v":0}]
[{"$f":"Price!A206","v":"SERVO-DRIVE držák kabelu"},null,null,null,{"$f":"Price!B206","v":"Z10K0009"},null,{"$f":"Price!C206","v":"NA"},{"$f":"Price!D206","v":0},{"$f":"Price!E206*(100-$J$1)/100","v":0},{"$f":"Price!F206","v":7283231},{"$f":"Price!G206","v":0}]
[{"$f":"Price!A207","v":"Distanční doraz 5mm"},null,null,null,{"$f":"Price!B207","v":"993.0530"},null,{"$f":"Price!C207","v":"R737"},{"$f":"Price!D207","v":0},{"$f":"Price!E207*(100-$J$1)/100","v":0},{"$f":"Price!F207","v":7834990},{"$f":"Price!G207","v":0}]
[{"$f":"Price!A208","v":"Distanční doraz 8mm"},null,null,null,{"$f":"Price!B208","v":"993.0830.01"},null,{"$f":"Price!C208","v":"R737"},{"$f":"Price!D208","v":0},{"$f":"Price!E208*(100-$J$1)/100","v":0},{"$f":"Price!F208","v":7402930},{"$f":"Price!G208","v":0}]
[{"$f":"Price!A209","v":0},null,null,null,{"$f":"Price!B209","v":0},null,{"$f":"Price!C209","v":0},{"$f":"Price!D209","v":0},{"$f":"Price!E209*(100-$J$1)/100","v":0},{"$f":"Price!F209","v":0},{"$f":"Price!G209","v":0}]
[{"$f":"Price!A210","v":0},null,null,null,{"$f":"Price!B210","v":0},null,{"$f":"Price!C210","v":0},{"$f":"Price!D210","v":0},{"$f":"Price!E210*(100-$J$1)/100","v":0},{"$f":"Price!F210","v":0},{"$f":"Price!G210","v":0}]
[{"$f":"Price!A211","v":"Podložka CLIP top přímá"},null,null,null,{"$f":"Price!B211","v":"175H5400"},null,{"$f":"Price!C211","v":"NI"},{"$f":"Price!D211","v":0},{"$f":"Price!E211*(100-$J$1)/100","v":0},{"$f":"Price!F211","v":8002803},{"$f":"Price!G211","v":0}]
[{"$f":"Price!A212","v":"Podložka CLIP top přímá EXPANDO"},null,null,null,{"$f":"Price!B212","v":"177H5400E"},null,{"$f":"Price!C212","v":"NI"},{"$f":"Price!D212","v":0},{"$f":"Price!E212*(100-$J$1)/100","v":0},{"$f":"Price!F212","v":8003033},{"$f":"Price!G212","v":0}]
[{"$f":"Price!A213","v":0},null,null,null,{"$f":"Price!B213","v":0},null,{"$f":"Price!C213","v":0},{"$f":"Price!D213","v":0},{"$f":"Price!E213*(100-$J$1)/100","v":0},{"$f":"Price!F213","v":0},{"$f":"Price!G213","v":0}]
[{"$f":"Price!A214","v":"Zde můžete vložit vlastní položky (následujících 10 řádků, zobrazí se v objednávce)"},null,null,null,{"$f":"Price!B214","v":0},null,{"$f":"Price!C214","v":0},{"$f":"Price!D214","v":0},{"$f":"Price!E214*(100-$J$1)/100","v":0},{"$f":"Price!F214","v":0},{"$f":"Price!G214","v":0}]
[{"$f":"Price!A215","v":0},null,null,null,{"$f":"Price!B215","v":0},null,{"$f":"Price!C215","v":0},{"$f":"Price!D215","v":0},{"$f":"Price!E215*(100-$J$1)/100","v":0},{"$f":"Price!F215","v":0},{"$f":"Price!G215","v":0}]
[{"$f":"Price!A216","v":0},null,null,null,{"$f":"Price!B216","v":0},null,{"$f":"Price!C216","v":0},{"$f":"Price!D216","v":0},{"$f":"Price!E216*(100-$J$1)/100","v":0},{"$f":"Price!F216","v":0},{"$f":"Price!G216","v":0}]
[{"$f":"Price!A217","v":0},null,null,null,{"$f":"Price!B217","v":0},null,{"$f":"Price!C217","v":0},{"$f":"Price!D217","v":0},{"$f":"Price!E217*(100-$J$1)/100","v":0},{"$f":"Price!F217","v":0},{"$f":"Price!G217","v":0}]
[{"$f":"Price!A218","v":0},null,null,null,{"$f":"Price!B218","v":0},null,{"$f":"Price!C218","v":0},{"$f":"Price!D218","v":0},{"$f":"Price!E218*(100-$J$1)/100","v":0},{"$f":"Price!F218","v":0},{"$f":"Price!G218","v":0}]
[{"$f":"Price!A219","v":0},null,null,null,{"$f":"Price!B219","v":0},null,{"$f":"Price!C219","v":0},{"$f":"Price!D219","v":0},{"$f":"Price!E219*(100-$J$1)/100","v":0},{"$f":"Price!F219","v":0},{"$f":"Price!G219","v":0}]
[{"$f":"Price!A220","v":0},null,null,null,{"$f":"Price!B220","v":0},null,{"$f":"Price!C220","v":0},{"$f":"Price!D220","v":0},{"$f":"Price!E220*(100-$J$1)/100","v":0},{"$f":"Price!F220","v":0},{"$f":"Price!G220","v":0}]
[{"$f":"Price!A221","v":0},null,null,null,{"$f":"Price!B221","v":0},null,{"$f":"Price!C221","v":0},{"$f":"Price!D221","v":0},{"$f":"Price!E221*(100-$J$1)/100","v":0},{"$f":"Price!F221","v":0},{"$f":"Price!G221","v":0}]
[{"$f":"Price!A222","v":0},null,null,null,{"$f":"Price!B222","v":0},null,{"$f":"Price!C222","v":0},{"$f":"Price!D222","v":0},{"$f":"Price!E222*(100-$J$1)/100","v":0},{"$f":"Price!F222","v":0},{"$f":"Price!G222","v":0}]
[{"$f":"Price!A223","v":0},null,null,null,{"$f":"Price!B223","v":0},null,{"$f":"Price!C223","v":0},{"$f":"Price!D223","v":0},{"$f":"Price!E223*(100-$J$1)/100","v":0},{"$f":"Price!F223","v":0},{"$f":"Price!G223","v":0}]
[{"$f":"Price!A224","v":0},null,null,null,{"$f":"Price!B224","v":0},null,{"$f":"Price!C224","v":0},{"$f":"Price!D224","v":0},{"$f":"Price!E224*(100-$J$1)/100","v":0},{"$f":"Price!F224","v":0},{"$f":"Price!G224","v":0}]
[]
[]
[]
[]
[]
[]
[]
[]
[]
[]
[]
[]
[null,null,"Parametry HF"]
[]
[null,null,"Zdvihač","ks","min","max","alu max."]
[null,null,"20F2200",0.5,960,{"$f":"E241","v":2630}]
[null,null,"20F2200",1,2630,{"$f":"E242","v":5400}]
[null,null,"20F2500",1,5400,{"$f":"E243","v":9850}]
[null,null,"20F2800",1,9850,{"$f":"E244+1","v":17201},17251]
[null,null,"20F2800",1.5,17200,25900]
[]
[]
[null,null,"Teleskop",null,"min","max"]
[null,null,"20F3200",null,480,{"$f":"E249+1","v":565}]
[null,null,"20F3500",null,564,{"$f":"E250+1","v":705}]
[null,null,"20F3800",null,704,{"$f":"E251+1","v":890}]
[null,null,"20F3900",null,889,1041]
[null,null,null,null,"max.",1040]
[]
[]
[]
[]
[]
[null,null,"Parametry HL"]
[null,null,null,"20L2100",null,"20L2300",null,null,"20L2500",null,null,"20L2800",null,"20L2900"]
[null,null,null,"min","max","min","max",null,"min","max",null,"min","max","min","max"]
[null,null,"20L3200",1.2499,3.8799000000000001,{"$f":"E261+0.0001","v":3.8800000000000003},6.8799000000000001,null,{"$f":"G261+0.0001","v":6.88},11.4999,null,{"$f":"J261+0.0001","v":11.5},20]
[null,null,"20L3500",1.2499,2.1299000000000001,{"$f":"E262+0.0001","v":2.1300000000000003},4.6299000000000001,null,{"$f":"G262+0.0001","v":4.63},8.4999000000000002,null,{"$f":"J262+0.0001","v":8.5},14.129899999999999,{"$f":"M262+0.0001","v":14.129999999999999},20]
[null,null,"20L3800",null,null,1.7499,3.1299000000000001,null,{"$f":"G263+0.0001","v":3.1300000000000003},6.2499000000000002,null,{"$f":"J263+0.0001","v":6.25},11.129899999999999,{"$f":"M263+0.0001","v":11.129999999999999},20]
[null,null,"20L3900",null,null,null,null,null,1.9999,4.7499000000000002,null,{"$f":"J264+0.0001","v":4.75},8.7599,{"$f":"M264+0.0001","v":8.76},16.5]
[]
[]
[]
[null,null,"Teleskop",null,"min","max"]
[null,null,"20L3200",null,300,349]
[null,null,"20L3500",null,350,399]
[null,null,"20L3800",null,400,500]
[null,null,"20L3900",null,501,580]
[null,null,null,null,"max.",580]

{"sheet":"Price","index":35,"n_rows":245,"n_cols":9,"rows_kept":245,"cut":false,"hidden":false,"merged":[[6,8,6,11],[7,8,7,11],[8,8,8,11],[9,8,9,11],[136,7,144,7],[229,7,244,7],[12,8,12,11],[13,8,13,11],[11,8,11,11],[10,8,10,11]]}
[{"$f":"List!$C$50","v":"Název"},{"$f":"List!$C$51","v":"Číslo artiklu"},{"$f":"List!$C$52","v":"Barva"},{"$f":"List!C55","v":"Dostupnost"},{"$f":"List!C56","v":"Jednotková cena"},"IDNr",null,null,{"$f":"List!$C$150","v":"Zpět na úvod"}]
["Sada zdvihačů HF","20F2200.05","ZN",null,null,9007682]
["Sada zdvihačů HF","20F2500.05","ZN",null,null,9007752,null,null,{"$f":"List!$C$205&\":\"","v":"Platnost ceníku od:"}]
["Sada zdvihačů HF","20F2800.05","ZN",null,null,9007822]
["Sada teleskopů (480-570mm)","20F3200.01","NI",null,null,5397438]
["Sada teleskopů (560-710mm)","20F3500.01","NI",null,null,4031701,null,null,{"$f":"List!$C$207&\":\"","v":"Prodejce:"}]
["Sada teleskopů (700-900mm)","20F3800.01","NI",null,null,6675488]
["Sada teleskopů (760-1040mm)","20F3900.01","NI",null,null,3841114]
["Sada krytek HF SERVO-DRIVE, sv.šedá","21F8000","HG/T",null,null,9025718]
["Sada krytek HF SERVO-DRIVE, tm.šedá","21F8000","TGR",null,null,8945782]
["Sada krytek HF SERVO-DRIVE, bílá","21F8000","SW/T",null,null,9025712]
["Sada krytek HF, světle šedá","20F8000","HG/T",null,null,8817398]
["Sada krytek HF, tmavě šedá","20F8000","TGR",null,null,2320125]
["Sada krytek HF, bílá","20F8000","SW/T",null,null,8817391]
["Závěs CLIP top 120° ","70T5550.TL","NI",null,null,6510533]
["Závěs CLIP top 120° EXPANDO","70T558E","NI",null,null,7606263]
["Středový závěs CLIP top ","78Z5500T","NI",null,null,6796673]
["Středový závěs CLIP top EXPANDO","78Z553ET","NI",null,null,6797133]
["Závěs CLIP top pro alurámečky","72T550A.TL","NI",null,null,7655633]
["Střed. závěs CLIP top pro alurámečky","78Z550AT","NI",null,null,6797303]
["Přímá montážní podložka","175H3100","NI",null,null,1037431]
["Přímá montážní podložka, EXPANDO","177H3100E","NI",null,null,3120329]
["Podložka CLIP excentrická","173H7100","NI",null,null,2364043]
["Adaptér CLIP k teleskopům P","175H5B00   R","NI",null,null,6796243]
["Adaptér CLIP k teleskopům L","175H5B00   L","NI",null,null,6796593]
["Adaptér CLIP ke středovým závěsům","175H5A00","NI",null,null,6796303]
["Omezovač úhlu otevření na 83° ","20F7011","TGR",null,null,7285440]
["Omezovač úhlu otevření na 104° ","20F7051","TGR",null,null,7160400]
[]
[]
[]
[]
[]
[]
["AVETOS HS"]
["Sada zdvihačů HS","20S2A00.05","ZN",null,null,9016592]
["Sada zdvihačů HS","20S2B00.05","ZN",null,null,9016662]
["Sada zdvihačů HS","20S2C00.05","ZN",null,null,9016732]
["Sada zdvihačů HS","20S2D00.05","ZN",null,null,9016802]
["Sada zdvihačů HS","20S2E00.05","ZN",null,null,9016972]
["Sada zdvihačů HS","20S2F00.05","ZN",null,null,9017032]
["Sada zdvihačů HS","20S2G00.05","ZN",null,null,9017102]
["Sada zdvihačů HS","20S2H00.05","ZN",null,null,9017272]
["Sada zdvihačů HS","20S2I00.05","ZN",null,null,9017342]
["Sada soustav ramen SERVO-DRIVE","21S3500.01","ZN",null,null,1268137]
["Sada ramen HS","20S3500.06","ZN",null,null,2808088]
["Sada krytek HS SERVO-DRIVE, sv.šedá","21S8000","HG/T",null,null,9025958]
["Sada krytek HS SERVO-DRIVE, tm.šedá","21S8000","TGR",null,null,3035756]
["Sada krytek HS SERVO-DRIVE, bílá","21S8000","SW/T",null,null,9025952]
["Sada krytek HS, světle šedá","20S8000","HG/T",null,null,8817468]
["Sada krytek HS, tmavě šedá","20S8000","TGR",null,null,8896076]
["Sada krytek HS, bílá","20S8000","SW/T",null,null,8817461]
["Tyč příčné stabilizace ke zkrác.","20Q1061UN","EV",null,null,3626183]
["Spojovací díl příčné stabilizace","20Q153ZN","EV",null,null,4767297]
[]
[]
[]
[]
[]
[]
[]
[]
["AVETOS HL"]
["Sada zdvihačů HL","20L2100.05","ZN",null,null,9007992]
["Sada zdvihačů HL","20L2300.05","ZN",null,null,9008052]
["Sada zdvihačů HL","20L2500.05","ZN",null,null,9008122]
["Sada zdvihačů HL","20L2700.05","ZN",null,null,9008292]
["Sada zdvihačů HL","20L2900.05","ZN",null,null,9015362]
["Sada soustav ramen SERVO-DRIVE","21L3200.01","NI",null,null,7773321]
["Sada soustav ramen SERVO-DRIVE","21L3500.01","NI",null,null,7380852]
["Sada soustav ramen SERVO-DRIVE","21L3800.01","NI",null,null,6505500]
["Sada soustav ramen SERVO-DRIVE","21L3900.01","NI",null,null,6781239]
["Sada ramen HL","20L3200.06","NI",null,null,5059530]
["Sada ramen HL","20L3500.06","NI",null,null,9709704]
["Sada ramen HL","20L3800.06","NI",null,null,2255924]
["Sada ramen HL","20L3900.06","NI",null,null,6109280]
["Sada krytek HL SERVO-DRIVE, sv.šedá","21L8000","HG/T",null,null,9025888]
["Sada krytek HL SERVO-DRIVE, tm.šedá","21L8000","TGR",null,null,7277909]
["Sada krytek HL SERVO-DRIVE, bílá","21L8000","SW/T",null,null,9025882]
["Sada krytek HL, světle šedá","20L8000.01","HG/T",null,null,8817538]
["Sada krytek HL, tmavě šedá","20L8000.01","TGR",null,null,7438136]
["Sada krytek HL, bílá","20L8000.01","SW/T",null,null,8817531]
["Tyč příč.stabizace - oválná","20Q1061UA","EV",null,null,7799390]
["Spojovací díl příčné stabilizace","20Q153ZA","EV",null,null,5989274]
[]
[]
[]
[]
[]
[]
["AVETOS HK top"]
["Sada zdvihačů HK top, na vruty","22K2300","ZN",null,null,7628604]
["Sada zdvihačů HK top, na vruty","22K2500","ZN",null,null,1069731]
["Sada zdvihačů HK top, na vruty","22K2700","ZN",null,null,8762537]
["Sada zdvihačů HK top, na vruty","22K2900","ZN",null,null,6635469]
["Sada zdvihačů HK top, se šrouby","22K2310","ZN",null,null,8508486]
["Sada zdvihačů HK top, se šrouby","22K2510","ZN",null,null,7690323]
["Sada zdvihačů HK top, se šrouby","22K2710","ZN",null,null,1388111]
["Sada zdvihačů HK top, se šrouby","22K2910","ZN",null,null,5482270]
["Sada krytek HK top, SERVO-DRIVE, sv.šedá","23K8000","HG ",null,null,2111215]
["Sada krytek HK top, SERVO-DRIVE, tm.šedá","23K8000","TGR",null,null,8732964]
["Sada krytek HK top, SERVO-DRIVE, bílá","23K8000","SW ",null,null,1065531]
["Sada krytek HK top, světle šedá","22K8000","HG ",null,null,7985876]
["Sada krytek HK top, tmavě šedá","22K8000","TGR",null,null,7926396]
["Sada krytek HK top, bílá","22K8000","SW ",null,null,4824637]
["SERVO-DRIVE top, sada pro HK top","23KA000","TGR",null,null,9961208]
["Orážecí šablona pro čela HK top","ZML.2200","OR",null,null,4719614]
[]
[]
["AVETOS HK top TIP-ON"]
["Sada zdvihačů HK top, TIP-ON, na vruty","22K2300T","ZN",null,null,4205572]
["Sada zdvihačů HK top, TIP-ON, na vruty","22K2500T","ZN",null,null,2753075]
["Sada zdvihačů HK top, TIP-ON, na vruty","22K2700T","ZN",null,null,2855682]
["Sada zdvihačů HK top, TIP-ON, na vruty","22K2900T","ZN",null,null,8220095]
["Sada zdvihačů HK top, TIP-ON, se šrouby","22K2310T","ZN",null,null,9708169]
["Sada zdvihačů HK top, TIP-ON, se šrouby","22K2510T","ZN",null,null,2414504]
["Sada zdvihačů HK top, TIP-ON, se šrouby","22K2710T","ZN",null,null,1422889]
["Sada zdvihačů HK top, TIP-ON, se šrouby","22K2910T","ZN",null,null,7716804]
[]
["Sada čel.kování pro dřev. čela","20S4200","NI",null,null,7241746]
["Čelní.kování pro dřev. čela EXPANDO","20S42E1","NI",null,null,8860933]
["Sada čel.kování pro úzké alurámečky","20S4200A","NI",null,null,7484703]
[]
[]
["AVETOS HK-S"]
["Sada zdvihačů, světle šedé krytky","20K2B00.06","HGIG",null,null,7793681]
["Sada zdvihačů, tmavě šedé krytky","20K2B00.06","TGIG",null,null,1314203]
["Sada zdvihačů, bílé krytky","20K2B00.06","SWIG",null,null,8195173]
["Sada zdvihačů, světle šedé krytky","20K2C00.06","HGIG",null,null,3472109]
["Sada zdvihačů, tmavě šedé krytky","20K2C00.06","TGIG",null,null,1834965]
["Sada zdvihačů, bílé krytky","20K2C00.06","SWIG",null,null,6816509]
["Sada zdvihačů, světle šedé krytky","20K2E00.06","HGIG",null,null,9851106]
["Sada zdvihačů, tmavě šedé krytky","20K2E00.06","TGIG",null,null,9248128]
["Sada zdvihačů, bílé krytky","20K2E00.06","SWIG",null,null,3420861]
[null,null,null,null,null,0]
["Sada zdvihačů TIP-ON, světle šedé krytky","20K2B00T06","HGIG",null,null,2133123]
["Sada zdvihačů TIP-ON, tmavě šedé krytky","20K2B00T06","TGIG",null,null,9870309]
["Sada zdvihačů TIP-ON, bílé krytky","20K2B00T06","SWIG",null,null,1449278]
["Sada zdvihačů TIP-ON, světle šedé krytky","20K2C00T06","HGIG",null,null,6990853]
["Sada zdvihačů TIP-ON, tmavě šedé krytky","20K2C00T06","TGIG",null,null,3405617]
["Sada zdvihačů TIP-ON, bílé krytky","20K2C00T06","SWIG",null,null,7769517]
["Sada zdvihačů TIP-ON, světle šedé krytky","20K2E00T06","HGIG",null,null,5494621]
["Sada zdvihačů TIP-ON, tmavě šedé krytky","20K2E00T06","TGIG",null,null,9373568]
["Sada zdvihačů TIP-ON, bílé krytky","20K2E00T06","SWIG",null,null,7935712]
[]
[]
[]
["Sada čel.kování pro úzké alurámečky","20K4A00A.01","NI",null,null,7303280]
["Omezovač úhlu otevření na 75° ","20K7A11","TGR",null,null,8671840]
["Omezovač úhlu otevření na 100° ","20K7A41","TGR",null,null,8671910]
["CLIP top krytka raménka Nikl","70.1503","NI",null,null,3284903]
["CLIP top krytka raménka Nikl","70.1563","NI",null,null,3444793]
[]
["Sada čel.kování pro úzké alu HK-S","175H3G00A","NI",null,null,4318256]
[]
["AVENTOS HK-XS"]
["Symetrický zdvihací mechanizmus","20K1101","NI",null,null,8572348]
["Symetrický zdvihací mechanizmus","20K1301","NI",null,null,9330897]
["Symetrický zdvihací mechanizmus","20K1501","NI",null,null,1615152]
[]
["Sym. zdvihací mechanizmus, TIP-ON","20K1101T","NI",null,null,4857465]
["Sym. zdvihací mechanizmus, TIP-ON","20K1301T","NI",null,null,9519259]
["Sym. zdvihací mechanizmus, TIP-ON","20K1501T","NI",null,null,8041284]
[]
["Boční čep na korpus","20K5101","NI",null,null,1409446]
["Boční čep na korpus, EXPANDO","20K51E1","NI",null,null,5296642]
[]
["Čelní kování","20K4101","NI",null,null,8910604]
["Čelní kování, EXPANDO","20K41E1","NI",null,null,5697170]
["Čelní kování pro úzké alurámečky","20K4101A","NI",null,null,1452554]
[]
["Závěs CLIP-TOP BLUMOTION 110°","71B3550","NI",null,null,8884623]
["Závěs CLIP-TOP BLUMOTION, EXPANDO","71B358E","NI",null,null,8885233]
[]
["Závěs CLIP-TOP 110°","70T3550.TL","NI",null,null,9001883]
["Závěs CLIP-TOP 110°, EXPANDO","70T358E.TL","NI",null,null,9295093]
[]
["Omezovač úhlu otevření (86°)","70T3553","S",null,null,9048274]
[]
["TIP-ON, zkrácená délka, šedý","956.1004","PG",null,null,7696336]
["TIP-ON, zkrácená délka, hedv.bílý","956.1004","SW",null,null,4683908]
["TIP-ON, zkrácená délka, Terra černý","956.1004","TS","!",null,"6914265"]
["TIP-ON, prodloužená délka, šedý","956A1004","PG",null,null,6484096]
["TIP-ON, prodloužená délka, hedv.bílý","956A1004","SW",null,null,6856758]
["TIP-ON, prodloužená délka, Terra černý","956A1004","TS","!",null,"2019241"]
[]
["Přímý adaptér, zkrácená délka, šedý","956.1201","PG",null,null,7690421]
["Přímý adaptér, zkrácená délka, hedv.bílý","956.1201","SW",null,null,8264548]
["Přímý adaptér, zkrácená délka, Terra černý","956.1201","TS","!",null,"6154324"]
["Přímý adaptér, prodl.délka, šedý","956A1201","PG",null,null,8849808]
["Přímý adaptér, prodl.délka, hedv.bílý","956A1201","SW",null,null,4619688]
["Přímý adaptér, prodl.délka, Terra černý","956A1201","TS","!",null,"5730134"]
[]
["Závěs CLIP top BLUMTION po alurám.","71B950A","NI",null,null,9350813]
["Samořezný vrut do alurámečků","660.0950","NI",null,null,8385455]
[]
[]
["SERVO-DRIVE"]
["SERVO-DRIVE jednotka (sada)","21FA000","HGR",null,null,9026180]
["SERVO-DRIVE jednotka (sada) pro HK top","23KA000","HGR",null,null,9961208]
["SERVO-DRIVE napájecí zdroj 24W","Z10NE030E","S",null,null,5082891]
["SERVO-DRIVE napájecí kabel EU","Z10M200E","S",null,null,7205784]
["SERVO-DRIVE držák zdroje","Z10NG120","R737",null,null,9327076]
["SERVO-DRIVE elektrokabel, 8m","Z10K800AE","S",null,null,7550294]
["SERVO-DRIVE svorka + krytka","Z10V100E.01","S",null,null,8820285]
["SERVO-DRIVE držák kabelu","Z10K0009","NA",null,null,7283231]
["Distanční doraz 5mm","993.0530","R737",null,null,7834990]
["Distanční doraz 8mm","993.0830.01","R737",null,null,7402930]
[]
[]
["Podložka CLIP top přímá","175H5400","NI",null,null,8002803]
["Podložka CLIP top přímá EXPANDO","177H5400E","NI",null,null,8003033]
[]
[{"$f":"List!$C$250","v":"Zde můžete vložit vlastní položky (následujících 10 řádků, zobrazí se v objednávce)"}]
[]
[]
[]
[]
[]
[]
[]
[]
[]
[]
[]
[]
[]
[null,null,null,null,null,null,{"$f":"List!$C$222&\" [kg/m3]\"","v":"Objemová hmotnost materiálu [kg/m3]"}]
[null,null,null,null,null,null,{"$f":"List!$C$367","v":"Přednastavená"}]
[null,null,null,null,null,{"$f":"List!$C$84&\" \"","v":"MDF "},760,"Tyto hodnoty se budou zobrazovat jako přednastavené."]
[null,null,null,null,null,{"$f":"List!$C$85&\" \"","v":"Dřevotříska "},680]
[null,null,null,null,null,{"$f":"List!$C$363&\" \"","v":"Sklo "},2500]
[null,null,null,null,null,null,{"$f":"\" \"&List!$C$225&\" [kg/m3]\"","v":" Zadejte objemovou hmotnost  [kg/m3]"}]
[]
[]
[null,null,null,null,null,null,"Hmotnost alurámečků [kg/bm]"]
[null,null,null,null,null,null,{"$f":"List!$C$367","v":"Přednastavená"}]
[null,null,null,null,null,{"$f":"List!$C$373&\"  \"","v":"S vloženým sklem  "},0.62]
[null,null,null,null,null,{"$f":"List!$C$374&\"  \"","v":"S naloženým nebo nalepeným sklem  "},0.63]
[null,null,null,null,null,{"$f":"List!$C$377&\" [kg/set] *  \"","v":"Hmotnost spojovacího materiálu [kg/set] *  "},0.61]
[]
[]
[null,null,null,null,null,{"$f":"List!$C$375&\"  \"","v":"S vloženým sklem  "},0.31]
[null,null,null,null,null,{"$f":"List!$C$376&\"  \"","v":"S naloženým nebo nalepeným sklem  "},0.32]
[null,null,null,null,null,{"$f":"List!$C$377&\" [kg/set] *  \"","v":"Hmotnost spojovacího materiálu [kg/set] *  "},0.46]